{"text_format":"1","workbook":"xlsx","n_sheets":31,"sheets":["weekoverzicht","1-2a","2","3","4","5","6","7","8","9","10","11","12","13","14","15","16","17","18","19","20","21","22","23","24","25","26","27","28","29","30"],"not_rendered":{"charts":0,"images":5,"macros":1,"external_links":0,"defined_names":31,"comments":30,"pivot_tables":0},"unopened":[],"bounds":{"document_bytes":16777216,"sheet_cells":100000,"rows_first":2000,"rows_last":500,"rows_between":2000,"halvings":0,"cell_chars":16384,"cell_head_chars":4096},"cells_cut":0,"cells_raw":0,"read":"whole","date_system":"1900"}

{"sheet":"weekoverzicht","index":0,"n_rows":418,"n_cols":22,"rows_kept":418,"cut":false,"hidden":false,"merged":[[5,4,5,12],[27,17,30,20],[392,1,393,3],[392,4,393,6],[392,7,393,9],[392,10,393,12],[392,13,393,15],[379,1,380,3],[379,4,380,6],[379,7,380,9],[379,10,380,12],[379,13,380,15],[385,1,385,3],[385,4,385,6],[385,7,385,9],[385,10,385,12],[385,13,385,15],[382,13,383,15],[366,10,367,12],[366,13,367,15],[369,13,370,15],[372,1,372,3],[353,1,354,3],[353,4,354,6],[372,4,372,6],[372,7,372,9],[372,10,372,12],[372,13,372,15],[366,1,367,3],[366,4,367,6],[366,7,367,9],[346,1,346,3],[346,4,346,6],[346,7,346,9],[346,10,346,12],[346,13,346,15],[353,7,354,9],[353,10,354,12],[353,13,354,15],[359,1,359,3],[359,4,359,6],[359,7,359,9],[359,10,359,12],[359,13,359,15],[356,13,357,15],[340,1,341,3],[340,4,341,6],[340,7,341,9],[340,10,341,12],[340,13,341,15],[343,13,344,15],[327,1,328,3],[327,4,328,6],[327,7,328,9],[327,10,328,12],[327,13,328,15],[333,1,333,3],[333,4,333,6],[333,7,333,9],[333,10,333,12],[333,13,333,15],[330,13,331,15],[320,1,320,3],[320,4,320,6],[320,7,320,9],[320,10,320,12],[320,13,320,15],[314,1,315,3],[314,4,315,6],[314,7,315,9],[314,10,315,12],[314,13,315,15],[317,13,318,15],[301,1,302,3],[301,4,302,6],[301,7,302,9],[301,10,302,12],[301,13,302,15],[307,1,307,3],[307,4,307,6],[307,7,307,9],[307,10,307,12],[307,13,307,15],[304,13,305,15],[294,1,294,3],[294,4,294,6],[294,7,294,9],[294,10,294,12],[294,13,294,15],[288,1,289,3],[288,4,289,6],[288,7,289,9],[288,10,289,12],[288,13,289,15],[291,13,292,15],[275,1,276,3],[275,4,276,6],[275,7,276,9],[275,10,276,12],[275,13,276,15],[281,1,281,3],[281,4,281,6],[281,7,281,9],[281,10,281,12],[281,13,281,15],[278,13,279,15],[268,1,268,3],[268,4,268,6],[268,7,268,9],[268,10,268,12],[268,13,268,15],[262,1,263,3],[262,4,263,6],[262,7,263,9],[262,10,263,12],[262,13,263,15],[265,13,266,15],[249,1,250,3],[249,4,250,6],[249,7,250,9],[249,10,250,12],[249,13,250,15],[255,1,255,3],[255,4,255,6],[255,7,255,9],[255,10,255,12],[255,13,255,15],[252,13,253,15],[242,1,242,3],[242,4,242,6],[242,7,242,9],[242,10,242,12],[242,13,242,15],[236,1,237,3],[236,4,237,6],[236,7,237,9],[236,10,237,12],[236,13,237,15],[239,13,240,15],[223,1,224,3],[223,4,224,6],[223,7,224,9],[223,10,224,12],[223,13,224,15],[229,1,229,3],[229,4,229,6],[229,7,229,9],[229,10,229,12],[229,13,229,15],[226,13,227,15],[216,1,216,3],[216,4,216,6],[216,7,216,9],[216,10,216,12],[216,13,216,15],[210,1,211,3],[210,4,211,6],[210,7,211,9],[210,10,211,12],[210,13,211,15],[213,13,214,15],[197,1,198,3],[197,4,198,6],[197,7,198,9],[197,10,198,12],[197,13,198,15],[203,1,203,3],[203,4,203,6],[203,7,203,9],[203,10,203,12],[203,13,203,15],[200,13,201,15],[190,1,190,3],[190,4,190,6],[190,7,190,9],[190,10,190,12],[190,13,190,15],[184,1,185,3],[184,4,185,6],[184,7,185,9],[184,10,185,12],[184,13,185,15],[187,13,188,15],[171,1,172,3],[171,4,172,6],[171,7,172,9],[171,10,172,12],[171,13,172,15],[177,1,177,3],[177,4,177,6],[177,7,177,9],[177,10,177,12],[177,13,177,15],[174,13,175,15],[164,1,164,3],[164,4,164,6],[164,7,164,9],[164,10,164,12],[164,13,164,15],[158,1,159,3],[158,4,159,6],[158,7,159,9],[158,10,159,12],[158,13,159,15],[161,13,162,15],[145,1,146,3],[145,4,146,6],[145,7,146,9],[145,10,146,12],[145,13,146,15],[151,1,151,3],[151,4,151,6],[151,7,151,9],[151,10,151,12],[151,13,151,15],[148,13,149,15],[138,1,138,3],[138,4,138,6],[138,7,138,9],[138,10,138,12],[138,13,138,15],[132,1,133,3],[132,4,133,6],[132,7,133,9],[132,10,133,12],[132,13,133,15],[135,13,136,15],[119,1,120,3],[119,4,120,6],[119,7,120,9],[119,10,120,12],[119,13,120,15],[125,1,125,3],[125,4,125,6],[125,7,125,9],[125,10,125,12],[125,13,125,15],[122,13,123,15],[112,1,112,3],[112,4,112,6],[112,7,112,9],[112,10,112,12],[112,13,112,15],[106,1,107,3],[106,4,107,6],[106,7,107,9],[106,10,107,12],[106,13,107,15],[109,13,110,15],[93,1,94,3],[93,4,94,6],[93,7,94,9],[93,10,94,12],[93,13,94,15],[99,1,99,3],[99,4,99,6],[99,7,99,9],[99,10,99,12],[99,13,99,15],[96,13,97,15],[86,1,86,3],[86,4,86,6],[86,7,86,9],[86,10,86,12],[86,13,86,15],[80,1,81,3],[80,4,81,6],[80,7,81,9],[80,10,81,12],[80,13,81,15],[83,13,84,15],[67,1,68,3],[67,4,68,6],[67,7,68,9],[67,10,68,12],[67,13,68,15],[73,1,73,3],[73,4,73,6],[73,7,73,9],[73,10,73,12],[73,13,73,15],[70,13,71,15],[47,1,47,3],[47,4,47,6],[47,7,47,9],[47,10,47,12],[47,13,47,15],[44,13,45,15],[60,1,60,3],[60,4,60,6],[60,7,60,9],[60,10,60,12],[60,13,60,15],[54,1,55,3],[54,4,55,6],[54,7,55,9],[54,10,55,12],[54,13,55,15],[57,13,58,15],[18,13,19,15],[8,1,8,3],[8,4,8,6],[8,7,8,9],[8,10,8,12],[8,13,8,15],[41,1,42,3],[41,4,42,6],[41,7,42,9],[41,10,42,12],[41,13,42,15],[28,7,29,9],[28,10,29,12],[28,13,29,15],[31,13,32,15],[15,1,16,3],[15,4,16,6],[15,7,16,9],[15,10,16,12],[15,13,16,15],[192,0,193,0],[205,0,206,0],[218,0,219,0],[231,0,232,0],[361,0,362,0],[374,0,375,0],[387,0,388,0],[244,0,245,0],[257,0,258,0],[270,0,271,0],[283,0,284,0],[296,0,297,0],[309,0,310,0],[322,0,323,0],[335,0,336,0],[348,0,349,0],[179,0,180,0],[10,0,11,0],[23,0,24,0],[36,0,37,0],[49,0,50,0],[62,0,63,0],[75,0,76,0],[88,0,89,0],[101,0,102,0],[114,0,115,0],[34,17,81,20],[4,1,4,6],[31,17,32,18],[31,19,32,19],[1,9,2,14],[127,0,128,0],[140,0,141,0],[153,0,154,0],[166,0,167,0],[1,1,2,7],[21,1,21,3],[21,4,21,6],[21,7,21,9],[21,10,21,12],[21,13,21,15],[1,15,2,15],[34,1,34,3],[34,4,34,6],[34,7,34,9],[34,10,34,12],[34,13,34,15],[28,1,29,3],[28,4,29,6],[5,13,6,15]]}
[]
[null,{"$f":"'1-2a'!B2:H3","v":"Basisschool De Grote Beer        schooljaar 2020/2021"},null,null,null,null,null,null,null,"overzicht week",null,null,null,null,null,{"$f":"T32","v":1},null,"maandag","weeknr.","maandag","weeknr."]
[null,null,null,null,null,null,null,null,null,null,null,null,null,null,null,null,null,{"$f":"'1-2a'!B6","v":"2020-08-03"},1,{"$f":"'1-2a'!B256","v":"2021-01-25"},29]
[null,null,null,null,null,null,null,null,null,null,null,null,null,null,null,null,null,{"$f":"'1-2a'!B16","v":"2020-08-10"},2,{"$f":"'1-2a'!B266","v":"2021-02-01"},30]
[null,"© Taakberekening-PO.nl",null,null,null,null,null,null,null,null,null,null,null,null,null,null,null,{"$f":"'1-2a'!B26","v":"2020-08-17"},3,{"$f":"'1-2a'!B276","v":"2021-02-08"},31]
[null,null,null,null,"Op dit overzicht kun je geen wijzigingen aanbrengen",null,null,null,null,null,null,null,null,"1-2a",null,null,null,{"$f":"'1-2a'!B36","v":"2020-08-24"},4,{"$f":"'1-2a'!B286","v":"2021-02-15"},32]
[null,null,null,null,null,null,null,null,null,null,null,null,null,null,null,null,null,{"$f":"'1-2a'!B46","v":"2020-08-31"},5,{"$f":"'1-2a'!B296","v":"2021-02-22"},33]
[null,null,null,null,null,null,null,null,null,null,null,"s",null,null,null,null,null,{"$f":"'1-2a'!B56","v":"2020-09-07"},6,{"$f":"'1-2a'!B306","v":"2021-03-01"},34]
[null,"2020-08-03",null,null,"2020-08-04",null,null,"2020-08-05",null,null,"2020-08-06",null,null,"2020-08-07",null,null,null,{"$f":"'1-2a'!B66","v":"2020-09-14"},7,{"$f":"'1-2a'!B316","v":"2021-03-08"},35]
[null,"Jan","o",null,"Jan",null,null,"Jan",null,null,"José",null,null,"José",null,"Wilma",null,{"$f":"'1-2a'!B76","v":"2020-09-21"},8,{"$f":"'1-2a'!B326","v":"2021-03-15"},36]
[{"$f":"P2","v":1},"Jan","m",null,"Jan",null,null,null,null,null,"José",null,null,"José",null,"Wilma",null,{"$f":"'1-2a'!B86","v":"2020-09-28"},9,{"$f":"'1-2a'!B336","v":"2021-03-22"},37]
[null,null,"o",null,null,null,null,"José",null,null,null,null,null,null,null,null,null,{"$f":"'1-2a'!B96","v":"2020-10-05"},10,{"$f":"'1-2a'!B346","v":"2021-03-29"},38]
[null,null,"m",null,null,null,null,null,null,null,null,null,null,null,null,null,null,{"$f":"'1-2a'!B106","v":"2020-10-12"},11,{"$f":"'1-2a'!B356","v":"2021-04-05"},39]
[null,null,"o","Kees","Kees",null,null,null,null,null,"Kees",null,null,null,null,null,null,{"$f":"'1-2a'!B116","v":"2020-10-19"},12,{"$f":"'1-2a'!B366","v":"2021-04-12"},40]
[null,null,"m",null,"Kees",null,null,null,null,null,null,null,null,"Kees",null,null,null,{"$f":"'1-2a'!B126","v":"2020-10-26"},13,{"$f":"'1-2a'!B376","v":"2021-04-19"},41]
[null,"Kees assisteert de ochtend van de eerste schooldag",null,null,null,null,null,"Jan en José hebben de groep op woensdag om de week.",null,null,"studiedag/ll vrij",null,null,"1e cursusdag José (om de vier weken)",null,null,null,{"$f":"'1-2a'!B136","v":"2020-11-02"},14,{"$f":"'1-2a'!B386","v":"2021-04-26"},42]
[null,null,null,null,null,null,null,null,null,null,null,null,null,null,null,null,null,{"$f":"'1-2a'!B146","v":"2020-11-09"},15,{"$f":"'1-2a'!B396","v":"2021-05-03"},43]
[null,null,null,null,null,null,null,null,null,null,null,null,null,null,null,null,null,{"$f":"'1-2a'!B156","v":"2020-11-16"},16,{"$f":"'1-2a'!B406","v":"2021-05-10"},44]
[null,null,null,null,null,null,null,null,null,null,null,null,null,"2",null,null,null,{"$f":"'1-2a'!B166","v":"2020-11-23"},17,{"$f":"'1-2a'!B416","v":"2021-05-17"},45]
[null,null,null,null,null,null,null,null,null,null,null,null,null,null,null,null,null,{"$f":"'1-2a'!B176","v":"2020-11-30"},18,{"$f":"'1-2a'!B426","v":"2021-05-24"},46]
[null,null,0,null,null,0,null,null,0,null,null,"s",null,null,0,null,null,{"$f":"'1-2a'!B186","v":"2020-12-07"},19,{"$f":"'1-2a'!B436","v":"2021-05-31"},47]
[null,"2020-08-03",null,null,"2020-08-04",null,null,"2020-08-05",null,null,"2020-08-06",null,null,"2020-08-07",null,null,null,{"$f":"'1-2a'!B196","v":"2020-12-14"},20,{"$f":"'1-2a'!B446","v":"2021-06-07"},48]
[null,null,null,null,null,null,null,null,null,null,null,null,null,null,null,null,null,{"$f":"'1-2a'!B206","v":"2020-12-21"},21,{"$f":"'1-2a'!B456","v":"2021-06-14"},49]
[{"$f":"P2","v":1},null,null,null,null,null,null,null,null,null,null,null,null,null,null,null,null,{"$f":"'1-2a'!B216","v":"2020-12-28"},22,{"$f":"'1-2a'!B466","v":"2021-06-21"},50]
[null,null,null,null,null,null,null,null,null,null,null,null,null,null,null,null,null,{"$f":"'1-2a'!B226","v":"2021-01-04"},23,{"$f":"'1-2a'!B476","v":"2021-06-28"}]
[null,null,null,null,null,null,null,null,null,null,null,null,null,null,null,null,null,{"$f":"'1-2a'!B236","v":"2021-01-11"},24,{"$f":"'1-2a'!B486","v":"2021-07-05"}]
[null,null,null,null,null,null,null,null,null,null,null,null,null,null,null,null,null,{"$f":"'1-2a'!B246","v":"2021-01-18"},25,{"$f":"'1-2a'!B496","v":"2021-07-12"}]
[null,null,null,null,null,null,null,null,null,null,null,null,null,null,null,null,null,"Wijzigingen op een groepswerkblad worden pas zichtbaar als hierboven (opnieuw) het weeknummer is gekozen.\n"]
[]
[]
[]
[null,null,null,null,null,null,null,null,null,null,null,null,null,"3",null,null,null,"gekozen weeknummer",null,1]
[]
[null,null,0,null,null,0,null,null,0,null,null,"s",null,null,0]
[null,"2020-08-03",null,null,"2020-08-04",null,null,"2020-08-05",null,null,"2020-08-06",null,null,"2020-08-07",null,null,null,"       TOELICHTING WEEKOVERZICHT\n\nKlik hierboven op het weeknummer van de week die je wilt bekijken.\n\nNAVIGATIE\nKlik op de blauwe pijl naast de groepsnaam om naar het betreffende groepsoverzicht te gaan. Door te rechtsklikken ga je terug naar dit weekoverzicht.\n\nALLEEN RAADPLEGEN\nDit weekoverzicht is alleen om te raadplegen; er kunnen op dit overzicht geen gegevens worden ingevoerd of gewijzigd.\n\nNIET KNIPPEN EN PLAKKEN!\nKnippen en plakken beschadigen de planner en moeten daarom niet gebruikt worden.\n\nKLEURENPALET\nHet palet met de kleurbetekenissen kun je met de muisaanwijzer op de bovenrand en ingedrukte linkermuisknop verplaatsen. Wanneer het palet gesloten is kun je het weer oproepen door op de afbeelding op het eerste groepsoverzicht te klikken. Je kunt de kleurbetekenissen naar eigen voorkeur aanpassen.\n\nBEELDINSTELLING\nKies rechtsonder in het scherm met de zoomknop een prettige afbeeldingsgrootte, bijv. 170%. Zorg dat van de drie vakjes naast deze zoomknop het linkervakje (met het rooster) geselecteerd is.\n\nMeer schermruimte krijg je door het grijze lint te verbergen door met ingedrukte Ctrl-toets op de F1-toets te drukken.\n\nMeer informatie vind je op het eerste groepsblad. Klik op de icoon voor een uitgebreidere gebruiksaanwijzing op de website.\n\n\n\n\ngroepsplanner-PO versie 2.2"]
[]
[{"$f":"P2","v":1}]
[]
[]
[]
[]
[]
[]
[]
[null,null,null,null,null,null,null,null,null,null,null,null,null,"4"]
[]
[null,null,0,null,null,0,null,null,0,null,null,"s",null,null,0]
[null,"2020-08-03",null,null,"2020-08-04",null,null,"2020-08-05",null,null,"2020-08-06",null,null,"2020-08-07"]
[]
[{"$f":"P2","v":1}]
[]
[]
[]
[]
[]
[]
[]
[null,null,null,null,null,null,null,null,null,null,null,null,null,"5"]
[]
[null,null,0,null,null,0,null,null,0,null,null,"s",null,null,0]
[null,"2020-08-03",null,null,"2020-08-04",null,null,"2020-08-05",null,null,"2020-08-06",null,null,"2020-08-07"]
[]
[{"$f":"P2","v":1}]
[]
[]
[]
[]
[]
[]
[]
[null,null,null,null,null,null,null,null,null,null,null,null,null,"6"]
[]
[null,null,0,null,null,0,null,null,0,null,null,"s",null,null,0]
[null,"2020-08-03",null,null,"2020-08-04",null,null,"2020-08-05",null,null,"2020-08-06",null,null,"2020-08-07"]
[]
[{"$f":"P2","v":1}]
[]
[]
[]
[]
[]
[]
[]
[null,null,null,null,null,null,null,null,null,null,null,null,null,"7"]
[]
[null,null,0,null,null,0,null,null,0,null,null,"s",null,null,0]
[null,"2020-08-03",null,null,"2020-08-04",null,null,"2020-08-05",null,null,"2020-08-06",null,null,"2020-08-07"]
[]
[{"$f":"P2","v":1}]
[]
[]
[]
[]
[]
[]
[]
[null,null,null,null,null,null,null,null,null,null,null,null,null,"8"]
[]
[null,null,0,null,null,0,null,null,0,null,null,"s",null,null,0]
[null,"2020-08-03",null,null,"2020-08-04",null,null,"2020-08-05",null,null,"2020-08-06",null,null,"2020-08-07"]
[]
[{"$f":"P2","v":1}]
[]
[]
[]
[]
[]
[]
[]
[null,null,null,null,null,null,null,null,null,null,null,null,null,"9"]
[]
[null,null,0,null,null,0,null,null,0,null,null,"s",null,null,0]
[null,"2020-08-03",null,null,"2020-08-04",null,null,"2020-08-05",null,null,"2020-08-06",null,null,"2020-08-07"]
[]
[{"$f":"P2","v":1}]
[]
[]
[]
[]
[]
[]
[]
[null,null,null,null,null,null,null,null,null,null,null,null,null,"10"]
[]
[null,null,0,null,null,0,null,null,0,null,null,"s",null,null,0]
[null,"2020-08-03",null,null,"2020-08-04",null,null,"2020-08-05",null,null,"2020-08-06",null,null,"2020-08-07"]
[null,null,null,null,null,null,null,"henk"]
[{"$f":"P2","v":1}]
[]
[]
[]
[]
[]
[]
[]
[null,null,null,null,null,null,null,null,null,null,null,null,null,"11"]
[]
[null,null,0,null,null,0,null,null,0,null,null,"s",null,null,0]
[null,"2020-08-03",null,null,"2020-08-04",null,null,"2020-08-05",null,null,"2020-08-06",null,null,"2020-08-07"]
[]
[{"$f":"P2","v":1}]
[]
[]
[]
[]
[]
[]
[]
[null,null,null,null,null,null,null,null,null,null,null,null,null,"12"]
[]
[null,null,0,null,null,0,null,null,0,null,null,"s",null,null,0]
[null,"2020-08-03",null,null,"2020-08-04",null,null,"2020-08-05",null,null,"2020-08-06",null,null,"2020-08-07"]
[]
[{"$f":"P2","v":1}]
[]
[]
[]
[]
[]
[]
[]
[null,null,null,null,null,null,null,null,null,null,null,null,null,"13"]
[]
[null,null,0,null,null,0,null,null,0,null,null,"s",null,null,0]
[null,"2020-08-03",null,null,"2020-08-04",null,null,"2020-08-05",null,null,"2020-08-06",null,null,"2020-08-07"]
[]
[{"$f":"P2","v":1}]
[]
[]
[]
[]
[]
[]
[]
[null,null,null,null,null,null,null,null,null,null,null,null,null,"14"]
[]
[null,null,0,null,null,0,null,null,0,null,null,"s",null,null,0]
[null,"2020-08-03",null,null,"2020-08-04",null,null,"2020-08-05",null,null,"2020-08-06",null,null,"2020-08-07"]
[]
[{"$f":"P2","v":1}]
[]
[]
[]
[]
[]
[]
[]
[null,null,null,null,null,null,null,null,null,null,null,null,null,"15"]
[]
[null,null,0,null,null,0,null,null,0,null,null,"s",null,null,0]
[null,"2020-08-03",null,null,"2020-08-04",null,null,"2020-08-05",null,null,"2020-08-06",null,null,"2020-08-07"]
[]
[{"$f":"P2","v":1}]
[]
[]
[]
[]
[]
[]
[]
[null,null,null,null,null,null,null,null,null,null,null,null,null,"16"]
[]
[null,null,0,null,null,0,null,null,0,null,null,"s",null,null,0]
[null,"2020-08-03",null,null,"2020-08-04",null,null,"2020-08-05",null,null,"2020-08-06",null,null,"2020-08-07"]
[]
[{"$f":"P2","v":1}]
[]
[]
[]
[]
[]
[]
[]
[null,null,null,null,null,null,null,null,null,null,null,null,null,"17"]
[]
[null,null,0,null,null,0,null,null,0,null,null,"s",null,null,0]
[null,"2020-08-03",null,null,"2020-08-04",null,null,"2020-08-05",null,null,"2020-08-06",null,null,"2020-08-07"]
[]
[{"$f":"P2","v":1}]
[]
[]
[]
[]
[]
[]
[]
[null,null,null,null,null,null,null,null,null,null,null,null,null,"18"]
[]
[null,null,0,null,null,0,null,null,0,null,null,"s",null,null,0]
[null,"2020-08-03",null,null,"2020-08-04",null,null,"2020-08-05",null,null,"2020-08-06",null,null,"2020-08-07"]
[]
[{"$f":"P2","v":1}]
[]
[]
[]
[]
[]
[]
[]
[null,null,null,null,null,null,null,null,null,null,null,null,null,"19"]
[]
[null,null,0,null,null,0,null,null,0,null,null,"s",null,null,0]
[null,"2020-08-03",null,null,"2020-08-04",null,null,"2020-08-05",null,null,"2020-08-06",null,null,"2020-08-07"]
[]
[{"$f":"P2","v":1}]
[]
[]
[]
[]
[]
[]
[]
[null,null,null,null,null,null,null,null,null,null,null,null,null,"20"]
[]
[null,null,0,null,null,0,null,null,0,null,null,"s",null,null,0]
[null,"2020-08-03",null,null,"2020-08-04",null,null,"2020-08-05",null,null,"2020-08-06",null,null,"2020-08-07"]
[]
[{"$f":"P2","v":1}]
[]
[]
[]
[]
[]
[]
[]
[null,null,null,null,null,null,null,null,null,null,null,null,null,"21"]
[]
[null,null,0,null,null,0,null,null,0,null,null,"s",null,null,0]
[null,"2020-08-03",null,null,"2020-08-04",null,null,"2020-08-05",null,null,"2020-08-06",null,null,"2020-08-07"]
[]
[{"$f":"P2","v":1}]
[]
[]
[]
[]
[]
[]
[]
[null,null,null,null,null,null,null,null,null,null,null,null,null,"22"]
[]
[null,null,0,null,null,0,null,null,0,null,null,"s",null,null,0]
[null,"2020-08-03",null,null,"2020-08-04",null,null,"2020-08-05",null,null,"2020-08-06",null,null,"2020-08-07"]
[]
[{"$f":"P2","v":1}]
[]
[]
[]
[]
[]
[]
[]
[null,null,null,null,null,null,null,null,null,null,null,null,null,"23"]
[]
[null,null,0,null,null,0,null,null,0,null,null,"s",null,null,0]
[null,"2020-08-03",null,null,"2020-08-04",null,null,"2020-08-05",null,null,"2020-08-06",null,null,"2020-08-07"]
[]
[{"$f":"P2","v":1}]
[]
[]
[]
[]
[]
[]
[]
[null,null,null,null,null,null,null,null,null,null,null,null,null,"24"]
[]
[null,null,0,null,null,0,null,null,0,null,null,"s",null,null,0]
[null,"2020-08-03",null,null,"2020-08-04",null,null,"2020-08-05",null,null,"2020-08-06",null,null,"2020-08-07"]
[null,null,null,null,null,null,null,null,null,null,null,null,null,"Jan"]
[{"$f":"P2","v":1}]
[]
[]
[]
[]
[]
[]
[]
[null,null,null,null,null,null,null,null,null,null,null,null,null,"25"]
[]
[null,null,0,null,null,0,null,null,0,null,null,"s",null,null,0]
[null,"2020-08-03",null,null,"2020-08-04",null,null,"2020-08-05",null,null,"2020-08-06",null,null,"2020-08-07"]
[]
[{"$f":"P2","v":1}]
[]
[]
[]
[]
[]
[]
[]
[null,null,null,null,null,null,null,null,null,null,null,null,null,"26"]
[]
[null,null,0,null,null,0,null,null,0,null,null,"s",null,null,0]
[null,"2020-08-03",null,null,"2020-08-04",null,null,"2020-08-05",null,null,"2020-08-06",null,null,"2020-08-07"]
[]
[{"$f":"P2","v":1}]
[]
[]
[]
[]
[]
[]
[]
[null,null,null,null,null,null,null,null,null,null,null,null,null,"27"]
[]
[null,null,0,null,null,0,null,null,0,null,null,"s",null,null,0]
[null,"2020-08-03",null,null,"2020-08-04",null,null,"2020-08-05",null,null,"2020-08-06",null,null,"2020-08-07"]
[]
[{"$f":"P2","v":1}]
[]
[]
[]
[]
[]
[]
[]
[null,null,null,null,null,null,null,null,null,null,null,null,null,"28"]
[]
[null,null,0,null,null,0,null,null,0,null,null,"s",null,null,0]
[null,"2020-08-03",null,null,"2020-08-04",null,null,"2020-08-05",null,null,"2020-08-06",null,null,"2020-08-07"]
[]
[{"$f":"P2","v":1}]
[]
[]
[]
[]
[]
[]
[]
[null,null,null,null,null,null,null,null,null,null,null,null,null,"29"]
[null,null,null,null,null,null,null,null,null,null,null,null,null,null,null,null,null,null,null,null,null,"let op!"]
[null,null,0,null,null,0,null,null,0,null,null,"s",null,null,0,null,null,null,null,null,null,"afwezig door ziekte"]
[null,"2020-08-03",null,null,"2020-08-04",null,null,"2020-08-05",null,null,"2020-08-06",null,null,"2020-08-07",null,null,null,null,null,null,null,"afwezig i.v.m. ander verlof"]
[null,null,null,null,null,null,null,null,null,null,null,null,null,null,null,null,null,null,null,null,null,"afwezig ivm uitgeroosterde (les)uren"]
[{"$f":"P2","v":1},null,null,null,null,null,null,null,null,null,null,null,null,null,null,null,null,null,null,null,null,"vervanging uit vervangingsfonds"]
[null,null,null,null,null,null,null,null,null,null,null,null,null,null,null,null,null,null,null,null,null,"vervanging uit eigen middelen"]
[null,null,null,null,null,null,null,null,null,null,null,null,null,null,null,null,null,null,null,null,null,"vervanging binnen reguliere formatie"]
[null,null,null,null,null,null,null,null,null,null,null,null,null,null,null,null,null,null,null,null,null,"geen vervanging"]
[null,null,null,null,null,null,null,null,null,null,null,null,null,null,null,null,null,null,null,null,null,"incidentele extra inzet"]
[null,null,null,null,null,null,null,null,null,null,null,null,null,null,null,null,null,null,null,null,null,"incidentele extra inzet binnen formatie"]
[null,null,null,null,null,null,null,null,null,null,null,null,null,null,null,null,null,null,null,null,null,"studiedag"]
[null,null,null,null,null,null,null,null,null,null,null,null,null,null,null,null,null,null,null,null,null,"roulerende werkdag"]
[null,null,null,null,null,null,null,null,null,null,null,null,null,"30"]
[]
[null,null,0,null,null,0,null,null,0,null,null,"s",null,null,0]
[null,"2020-08-03",null,null,"2020-08-04",null,null,"2020-08-05",null,null,"2020-08-06",null,null,"2020-08-07"]
[]
[{"$f":"P2","v":1}]
[]
[]
[]
[]
[]
[]
[]
[]
[]
[]
[]
[]
[]
[]
[]
[]
[]
[]
[]
[]
[]
[]
[]
[]
[]
[]
[]
[]
[null,{"$f":"B404","v":0},null,null,{"$f":"E404","v":0},null,null,{"$f":"H404","v":0},null,null,{"$f":"K404","v":0},null,null,{"$f":"N404","v":0}]
[null,{"$f":"B405","v":0},null,null,{"$f":"E405","v":0},null,null,{"$f":"H405","v":0},null,null,{"$f":"K405","v":0},null,null,{"$f":"N405","v":0}]

{"sheet":"1-2a","index":1,"n_rows":502,"n_cols":18,"rows_kept":502,"cut":false,"hidden":false,"merged":[[1,13,2,15],[485,13,485,15],[482,13,483,15],[45,13,45,15],[42,13,43,15],[35,13,35,15],[3,1,3,3],[25,4,25,6],[25,7,25,9],[25,10,25,12],[25,13,25,15],[5,1,5,3],[485,7,485,9],[485,10,485,12],[55,13,55,15],[52,1,53,3],[52,4,53,6],[52,13,53,15],[12,13,13,15],[22,1,23,3],[22,4,23,6],[22,7,23,9],[22,10,23,12],[22,13,23,15],[502,13,503,15],[497,0,498,0],[502,1,503,3],[502,4,503,6],[502,7,503,9],[502,10,503,12],[5,4,5,6],[3,4,3,6],[3,7,3,9],[3,10,3,12],[3,13,3,15],[492,13,493,15],[495,1,495,3],[495,4,495,6],[495,7,495,9],[495,10,495,12],[495,13,495,15],[487,0,488,0],[492,1,493,3],[492,4,493,6],[492,7,493,9],[492,10,493,12],[485,1,485,3],[485,4,485,6],[477,0,478,0],[482,1,483,3],[482,4,483,6],[482,7,483,9],[482,10,483,12],[472,13,473,15],[475,1,475,3],[475,4,475,6],[475,7,475,9],[475,10,475,12],[475,13,475,15],[467,0,468,0],[472,1,473,3],[472,4,473,6],[472,7,473,9],[472,10,473,12],[462,13,463,15],[465,1,465,3],[465,4,465,6],[465,7,465,9],[465,10,465,12],[465,13,465,15],[457,0,458,0],[462,1,463,3],[462,4,463,6],[462,7,463,9],[462,10,463,12],[452,13,453,15],[455,1,455,3],[455,4,455,6],[455,7,455,9],[455,10,455,12],[455,13,455,15],[447,0,448,0],[452,1,453,3],[452,4,453,6],[452,7,453,9],[452,10,453,12],[442,13,443,15],[445,1,445,3],[445,4,445,6],[445,7,445,9],[445,10,445,12],[445,13,445,15],[437,0,438,0],[442,1,443,3],[442,4,443,6],[442,7,443,9],[442,10,443,12],[432,13,433,15],[435,1,435,3],[435,4,435,6],[435,7,435,9],[435,10,435,12],[435,13,435,15],[427,0,428,0],[432,1,433,3],[432,4,433,6],[432,7,433,9],[432,10,433,12],[422,13,423,15],[425,1,425,3],[425,4,425,6],[425,7,425,9],[425,10,425,12],[425,13,425,15],[417,0,418,0],[422,1,423,3],[422,4,423,6],[422,7,423,9],[422,10,423,12],[412,13,413,15],[415,1,415,3],[415,4,415,6],[415,7,415,9],[415,10,415,12],[415,13,415,15],[407,0,408,0],[412,1,413,3],[412,4,413,6],[412,7,413,9],[412,10,413,12],[402,13,403,15],[405,1,405,3],[405,4,405,6],[405,7,405,9],[405,10,405,12],[405,13,405,15],[397,0,398,0],[402,1,403,3],[402,4,403,6],[402,7,403,9],[402,10,403,12],[392,13,393,15],[395,1,395,3],[395,4,395,6],[395,7,395,9],[395,10,395,12],[395,13,395,15],[387,0,388,0],[392,1,393,3],[392,4,393,6],[392,7,393,9],[392,10,393,12],[382,13,383,15],[385,1,385,3],[385,4,385,6],[385,7,385,9],[385,10,385,12],[385,13,385,15],[377,0,378,0],[382,1,383,3],[382,4,383,6],[382,7,383,9],[382,10,383,12],[372,13,373,15],[375,1,375,3],[375,4,375,6],[375,7,375,9],[375,10,375,12],[375,13,375,15],[367,0,368,0],[372,1,373,3],[372,4,373,6],[372,7,373,9],[372,10,373,12],[362,13,363,15],[365,1,365,3],[365,4,365,6],[365,7,365,9],[365,10,365,12],[365,13,365,15],[357,0,358,0],[362,1,363,3],[362,4,363,6],[362,7,363,9],[362,10,363,12],[352,13,353,15],[355,1,355,3],[355,4,355,6],[355,7,355,9],[355,10,355,12],[355,13,355,15],[347,0,348,0],[352,1,353,3],[352,4,353,6],[352,7,353,9],[352,10,353,12],[342,13,343,15],[345,1,345,3],[345,4,345,6],[345,7,345,9],[345,10,345,12],[345,13,345,15],[337,0,338,0],[342,1,343,3],[342,4,343,6],[342,7,343,9],[342,10,343,12],[332,13,333,15],[335,1,335,3],[335,4,335,6],[335,7,335,9],[335,10,335,12],[335,13,335,15],[327,0,328,0],[332,1,333,3],[332,4,333,6],[332,7,333,9],[332,10,333,12],[322,13,323,15],[325,1,325,3],[325,4,325,6],[325,7,325,9],[325,10,325,12],[325,13,325,15],[317,0,318,0],[322,1,323,3],[322,4,323,6],[322,7,323,9],[322,10,323,12],[312,13,313,15],[315,1,315,3],[315,4,315,6],[315,7,315,9],[315,10,315,12],[315,13,315,15],[307,0,308,0],[312,1,313,3],[312,4,313,6],[312,7,313,9],[312,10,313,12],[302,13,303,15],[305,1,305,3],[305,4,305,6],[305,7,305,9],[305,10,305,12],[305,13,305,15],[297,0,298,0],[302,1,303,3],[302,4,303,6],[302,7,303,9],[302,10,303,12],[292,13,293,15],[295,1,295,3],[295,4,295,6],[295,7,295,9],[295,10,295,12],[295,13,295,15],[287,0,288,0],[292,1,293,3],[292,4,293,6],[292,7,293,9],[292,10,293,12],[282,13,283,15],[285,1,285,3],[285,4,285,6],[285,7,285,9],[285,10,285,12],[285,13,285,15],[277,0,278,0],[282,1,283,3],[282,4,283,6],[282,7,283,9],[282,10,283,12],[272,13,273,15],[275,1,275,3],[275,4,275,6],[275,7,275,9],[275,10,275,12],[275,13,275,15],[267,0,268,0],[272,1,273,3],[272,4,273,6],[272,7,273,9],[272,10,273,12],[262,13,263,15],[265,1,265,3],[265,4,265,6],[265,7,265,9],[265,10,265,12],[265,13,265,15],[257,0,258,0],[262,1,263,3],[262,4,263,6],[262,7,263,9],[262,10,263,12],[252,13,253,15],[255,1,255,3],[255,4,255,6],[255,7,255,9],[255,10,255,12],[255,13,255,15],[247,0,248,0],[252,1,253,3],[252,4,253,6],[252,7,253,9],[252,10,253,12],[242,13,243,15],[245,1,245,3],[245,4,245,6],[245,7,245,9],[245,10,245,12],[245,13,245,15],[237,0,238,0],[242,1,243,3],[242,4,243,6],[242,7,243,9],[242,10,243,12],[232,13,233,15],[235,1,235,3],[235,4,235,6],[235,7,235,9],[235,10,235,12],[235,13,235,15],[227,0,228,0],[232,1,233,3],[232,4,233,6],[232,7,233,9],[232,10,233,12],[222,13,223,15],[225,1,225,3],[225,4,225,6],[225,7,225,9],[225,10,225,12],[225,13,225,15],[217,0,218,0],[222,1,223,3],[222,4,223,6],[222,7,223,9],[222,10,223,12],[212,13,213,15],[215,1,215,3],[215,4,215,6],[215,7,215,9],[215,10,215,12],[215,13,215,15],[207,0,208,0],[212,1,213,3],[212,4,213,6],[212,7,213,9],[212,10,213,12],[202,13,203,15],[205,1,205,3],[205,4,205,6],[205,7,205,9],[205,10,205,12],[205,13,205,15],[197,0,198,0],[202,1,203,3],[202,4,203,6],[202,7,203,9],[202,10,203,12],[192,13,193,15],[195,1,195,3],[195,4,195,6],[195,7,195,9],[195,10,195,12],[195,13,195,15],[187,0,188,0],[192,1,193,3],[192,4,193,6],[192,7,193,9],[192,10,193,12],[182,13,183,15],[185,1,185,3],[185,4,185,6],[185,7,185,9],[185,10,185,12],[185,13,185,15],[177,0,178,0],[182,1,183,3],[182,4,183,6],[182,7,183,9],[182,10,183,12],[172,13,173,15],[175,1,175,3],[175,4,175,6],[175,7,175,9],[175,10,175,12],[175,13,175,15],[167,0,168,0],[172,1,173,3],[172,4,173,6],[172,7,173,9],[172,10,173,12],[162,13,163,15],[165,1,165,3],[165,4,165,6],[165,7,165,9],[165,10,165,12],[165,13,165,15],[157,0,158,0],[162,1,163,3],[162,4,163,6],[162,7,163,9],[162,10,163,12],[152,13,153,15],[155,1,155,3],[155,4,155,6],[155,7,155,9],[155,10,155,12],[155,13,155,15],[147,0,148,0],[152,1,153,3],[152,4,153,6],[152,7,153,9],[152,10,153,12],[142,13,143,15],[145,1,145,3],[145,4,145,6],[145,7,145,9],[145,10,145,12],[145,13,145,15],[137,0,138,0],[142,1,143,3],[142,4,143,6],[142,7,143,9],[142,10,143,12],[132,13,133,15],[135,1,135,3],[135,4,135,6],[135,7,135,9],[135,10,135,12],[135,13,135,15],[127,0,128,0],[132,1,133,3],[132,4,133,6],[132,7,133,9],[132,10,133,12],[122,13,123,15],[125,1,125,3],[125,4,125,6],[125,7,125,9],[125,10,125,12],[125,13,125,15],[117,0,118,0],[122,1,123,3],[122,4,123,6],[122,7,123,9],[122,10,123,12],[112,13,113,15],[115,1,115,3],[115,4,115,6],[115,7,115,9],[115,10,115,12],[115,13,115,15],[107,0,108,0],[112,1,113,3],[112,4,113,6],[112,7,113,9],[112,10,113,12],[102,13,103,15],[105,1,105,3],[105,4,105,6],[105,7,105,9],[105,10,105,12],[105,13,105,15],[97,0,98,0],[102,1,103,3],[102,4,103,6],[102,7,103,9],[102,10,103,12],[92,13,93,15],[95,1,95,3],[95,4,95,6],[95,7,95,9],[95,10,95,12],[95,13,95,15],[87,0,88,0],[92,1,93,3],[92,4,93,6],[92,7,93,9],[92,10,93,12],[82,13,83,15],[85,1,85,3],[85,4,85,6],[85,7,85,9],[85,10,85,12],[85,13,85,15],[77,0,78,0],[82,1,83,3],[82,4,83,6],[82,7,83,9],[82,10,83,12],[72,13,73,15],[75,1,75,3],[75,4,75,6],[75,7,75,9],[75,10,75,12],[75,13,75,15],[72,1,73,3],[72,4,73,6],[72,7,73,9],[72,10,73,12],[5,13,5,15],[15,1,15,3],[15,4,15,6],[47,0,48,0],[55,1,55,3],[55,4,55,6],[55,7,55,9],[55,10,55,12],[67,0,68,0],[62,13,63,15],[65,1,65,3],[65,4,65,6],[65,7,65,9],[65,10,65,12],[65,13,65,15],[62,1,63,3],[62,4,63,6],[62,7,63,9],[62,10,63,12],[1,9,2,12],[17,0,18,0],[7,0,8,0],[27,0,28,0],[12,1,13,3],[12,4,13,6],[12,7,13,9],[12,10,13,12],[52,7,53,9],[52,10,53,12],[1,1,2,7],[25,1,25,3],[5,7,5,9],[5,10,5,12],[1,17,55,17],[56,17,98,17],[32,13,33,15],[15,13,15,15],[37,0,38,0],[15,10,15,12],[32,1,33,3],[32,4,33,6],[32,7,33,9],[32,10,33,12],[15,7,15,9],[35,1,35,3],[35,4,35,6],[35,7,35,9],[35,10,35,12],[45,1,45,3],[45,4,45,6],[45,7,45,9],[45,10,45,12],[57,0,58,0],[42,1,43,3],[42,4,43,6],[42,7,43,9],[42,10,43,12]]}
[]
[null,"Basisschool De Grote Beer        schooljaar 2020/2021",null,null,null,null,null,null,null,"Groepsplanner van groep:",null,null,null,"1-2a",null,null,null,"                    TOELICHTING GROEPSBLAD\n\nOp dit eerste groepsblad vul je de naam en begindatum in.\nRechtsklik om terug naar het weekoverzicht te gaan.\n\nINSTELLINGEN GEHELE PLANNER\nVul in het vak linksboven de schoolnaam en het schooljaar in en in het eerste datumvak de datum van de maandag van de eerste schoolweek.\n\nGROEPSNUMMERS EN TABS\nVul in elk in gebruik genomen groepsblad rechtsboven het groepsnummer of de groepsnaam (evt. afgekort) in en klik op de blauwe pijltjes ernaast om de naam ook op de tab van het groepsblad te plaatsen.\n\nVAKANTIES EN STUDIEDAGEN\nZet in de vakjes boven elke datum een v voor een vakantiedag of een s voor een studiedag. Dit wordt automatisch overgenomen op alle groepsbladen.\n\nDATUMVAKKEN\nElk datumvak heeft 3 kolommen:\n\n* de linkerkolom is bestemd voor de vaste bezetting. Het is verdeeld in onder elkaar 3 naamvakken van elk 2 regels voor de ochtend en de middag. De hier ingevulde namen worden automatisch doorgevoerd in de onderstaande weken. Wanneer een mutatie plaatsvindt vul je in de ingangsweek de nieuwe naam in. Doe dit in deze kolom dus nooit zomaar, want hiermee wordt de doorvoer van de namen eronder onderbroken!\n\n*de smalle middenkolom is bedoeld voor een kleuraanduiding.\n\n*de rechterkolom is bedoeld voor de incidentele inzet als vervanging en extra inzet van een leerkracht/assistent. Bij vervanging vul je de naam van de vervanger in achter die van de vervangen leerkracht.\n\nHET KLEURENPALET\nBij het openen van de planner wordt het kleurenpalet automatisch geladen. Je kunt het palet door op de blauwe balk aan de bovenkant te klikken verslepen. Klik op de afbeelding hiernaast als het palet niet meer zichtbaar is.\n\nKNOPPEN\nIeder toegankelijke cel op het groepsblad kun je een kleur geven door de cel(len) te selecteren en vervolgens op de gewenste kleur van het palet te klikken. \n\nAfhankelijk van de gekozen achtergrondkleur kun je voor de leesbaarheid de tekstkleur van de geselecteerde cel met de twee knoppen wijzigen in wit of donkerblauw. Met de middelste knop 'Achtergrondkleur wissen' wordt de cel weer wit.\n\nDe kleurbetekenissen kun je zelf wijzigen. Je legt deze wijzigingen vast door op de rechterknop te klikken."]
[]
[null,"maandag 1e schoolweek",null,null,"dinsdag",null,null,"woensdag",null,null,"donderdag",null,null,"vrijdag"]
[null,null,null,null,null,null,null,null,null,null,null,"s"]
[{"$f":"(B6-WEEKDAY(B6-1)+4-(TRUNC(DATE(YEAR(B6-WEEKDAY(B6-1)+4),1,2)/7)*7-2))/7","v":32},"2020-08-03",null,null,{"$f":"B6+1","v":"2020-08-04"},null,null,{"$f":"E6+1","v":"2020-08-05"},null,null,{"$f":"H6+1","v":"2020-08-06"},null,null,{"$f":"K6+1","v":"2020-08-07"}]
[null,"Jan","o",null,"Jan",null,null,"Jan",null,null,"José",null,null,"José",null,"Wilma"]
[1,"Jan","m",null,"Jan",null,null,null,null,null,"José",null,null,"José",null,"Wilma"]
[null,null,"o",null,null,null,null,"José"]
[null,null,"m"]
[null,null,"o","Kees","Kees",null,null,null,null,null,"Kees"]
[null,null,"m",null,"Kees",null,null,null,null,null,null,null,null,"Kees"]
[null,"Kees assisteert de ochtend van de eerste schooldag",null,null,null,null,null,"Jan en José hebben de groep op woensdag om de week.",null,null,"studiedag/ll vrij",null,null,"1e cursusdag José (om de vier weken)"]
[]
[]
[{"$f":"IF(A6=52,1,A6+1)","v":33},{"$f":"N6+3","v":"2020-08-10"},null,null,{"$f":"B16+1","v":"2020-08-11"},null,null,{"$f":"E16+1","v":"2020-08-12"},null,null,{"$f":"H16+1","v":"2020-08-13"},null,null,{"$f":"K16+1","v":"2020-08-14"}]
[null,{"$f":"B7","v":"Jan"},null,null,{"$f":"E7","v":"Jan"},null,null,{"$f":"H7","v":"Jan"},null,null,{"$f":"K7","v":"José"},null,null,{"$f":"N7","v":"José"},null,"Petra"]
[2,{"$f":"B8","v":"Jan"},null,null,"Jan",null,null,0,null,null,"José",null,null,"José",null,"Petra"]
[null,0,null,null,0,null,null,"José",null,null,0,null,null,{"$f":"N9","v":0}]
[null,0,null,null,{"$f":"E10","v":0},null,null,0,null,null,0,null,null,0]
[null,0,null,null,"Kees",null,null,0,null,null,"Kees",null,null,0]
[null,0,null,null,"Kees",null,null,0,null,null,0,null,null,"Kees"]
[null,"leerlingen verdeeld",null,null,"Kees vervangt Jan"]
[]
[]
[{"$f":"IF(A16=52,1,A16+1)","v":34},{"$f":"N16+3","v":"2020-08-17"},null,null,{"$f":"B26+1","v":"2020-08-18"},null,null,{"$f":"E26+1","v":"2020-08-19"},null,null,{"$f":"H26+1","v":"2020-08-20"},null,null,{"$f":"K26+1","v":"2020-08-21"}]
[null,{"$f":"B17","v":"Jan"},null,null,{"$f":"E17","v":"Jan"},null,null,{"$f":"H17","v":"Jan"},null,null,{"$f":"K17","v":"José"},null,null,{"$f":"N17","v":"José"}]
[3,"Jan",null,null,"Jan",null,null,0,null,null,{"$f":"K18","v":"José"},null,null,"José"]
[null,0,null,null,0,null,null,"José",null,null,0,null,null,0]
[null,0,null,null,0,null,null,0,null,null,0,null,null,0]
[null,0,null,null,"Kees",null,null,0,null,null,{"$f":"K21","v":"Kees"},null,null,0]
[null,0,null,null,"Kees",null,null,0,null,null,0,null,null,"Kees"]
[]
[]
[]
[{"$f":"IF(A26=52,1,A26+1)","v":35},{"$f":"N26+3","v":"2020-08-24"},null,null,{"$f":"B36+1","v":"2020-08-25"},null,null,{"$f":"E36+1","v":"2020-08-26"},null,null,{"$f":"H36+1","v":"2020-08-27"},null,null,{"$f":"K36+1","v":"2020-08-28"}]
[null,{"$f":"B27","v":"Jan"},null,null,"piet",null,null,{"$f":"H27","v":"Jan"},null,null,{"$f":"K27","v":"José"},null,null,{"$f":"N27","v":"José"},null,"Wilma"]
[4,"Jan",null,null,{"$f":"E28","v":"Jan"},null,null,0,null,null,"José",null,null,"José",null,"Wilma"]
[null,0,null,null,0,null,null,"José",null,null,0,null,null,0]
[null,0,null,null,0,null,null,0,null,null,0,null,null,0]
[null,0,null,null,"Kees",null,null,0,null,null,{"$f":"K31","v":"Kees"},null,null,0]
[null,0,null,null,"Kees",null,null,0,null,null,0,null,null,"Kees"]
[]
[]
[]
[{"$f":"IF(A36=52,1,A36+1)","v":36},{"$f":"N36+3","v":"2020-08-31"},null,null,{"$f":"B46+1","v":"2020-09-01"},null,null,{"$f":"E46+1","v":"2020-09-02"},null,null,{"$f":"H46+1","v":"2020-09-03"},null,null,{"$f":"K46+1","v":"2020-09-04"}]
[null,{"$f":"B37","v":"Jan"},null,null,{"$f":"E37","v":"piet"},null,null,{"$f":"H37","v":"Jan"},null,null,{"$f":"K37","v":"José"},null,null,{"$f":"N37","v":"José"}]
[5,"Jan",null,null,"Jan",null,null,0,null,null,"José",null,null,"José"]
[null,0,null,null,0,null,null,"José",null,null,0,null,null,0]
[null,0,null,null,0,null,null,0,null,null,0,null,null,0]
[null,0,null,null,"Kees",null,null,0,null,null,{"$f":"K41","v":"Kees"},null,null,0]
[null,0,null,null,"Kees",null,null,0,null,null,0,null,null,"Kees"]
[]
[]
[]
[{"$f":"IF(A46=52,1,A46+1)","v":37},{"$f":"N46+3","v":"2020-09-07"},null,null,{"$f":"B56+1","v":"2020-09-08"},null,null,{"$f":"E56+1","v":"2020-09-09"},null,null,{"$f":"H56+1","v":"2020-09-10"},null,null,{"$f":"K56+1","v":"2020-09-11"}]
[null,{"$f":"B47","v":"Jan"},null,null,{"$f":"E47","v":"piet"},null,null,{"$f":"H47","v":"Jan"},null,null,{"$f":"K47","v":"José"},null,null,{"$f":"N47","v":"José"},null,null,null,"NIET KOPIËREN, KNIPPEN OF PLAKKEN OF DOORVOEREN!\nHiermee kan het werkblad onherstelbaar beschadigd en onbruikbaar worden. Niet gebruiken dus!\n\nMEERDERE CELLEN TEGELIJK KLEUREN OF WISSEN\nJe kunt vanuit een geselecteerde cel met een ingedrukte muisknop meerdere aaneengesloten cellen selecteren en een kleur geven, of de kleur (Achtergrondkleur wissen)of inhoud (deleteknop op toetsenbord) wissen.\n\nNiet aaneengesloten cellen selecteer je één voor één met ingedrukte Ctrl-knop.\n\nMEERDERE GROEPSBLADEN TEGELIJK INVULLEN\nSelecteer meerdere aaneengesloten groepsbladen door de eerste betreffende tab te selecteren en met ingedrukte Shift-toets de betreffende laatste tab. Niet aaneengesloten tabs selecteer je weer één voor één met ingedrukte Ctrl-toets.\n\nAlles wat je vervolgens invult aan tekst of kleur wordt nu op alle geselecteerde groepsbladen overgenomen. Dit heeft uiteraard alleen zin bij het vakje boven elke datum of het brede opmerkingenvak onderin elk datumvak.\n\nOPMERKINGENVAK\nIn het brede opmerkingenvak in elk datumvak kan meer worden ingevuld dan erin past. De teveel ingevoerde tekst wordt weer zichtbaar door het vak te selecteren, maar alleen het zichtbare gedeelte wordt afgedrukt.\n\nAFDRUKKEN\nDe werkbladen kunnen op papier of als PDF worden afgedrukt. Door meerdere werkbladen de selecteren (zie hierboven) kun je ook meerdere werkbladen tegelijk afdrukken. Meer informatie hierover vind je op de website (Vragen-Handig invullen en afdrukken)."]
[6,"Jan",null,null,"Jan",null,null,0,null,null,"José",null,null,"José"]
[null,0,null,null,0,null,null,"José",null,null,0,null,null,0]
[null,0,null,null,0,null,null,0,null,null,0,null,null,0]
[null,0,null,null,"Kees",null,null,0,null,null,{"$f":"K51","v":"Kees"},null,null,0]
[null,0,null,null,"Kees",null,null,0,null,null,0,null,null,"Kees"]
[]
[]
[]
[{"$f":"IF(A56=52,1,A56+1)","v":38},{"$f":"N56+3","v":"2020-09-14"},null,null,{"$f":"B66+1","v":"2020-09-15"},null,null,{"$f":"E66+1","v":"2020-09-16"},null,null,{"$f":"H66+1","v":"2020-09-17"},null,null,{"$f":"K66+1","v":"2020-09-18"}]
[null,{"$f":"B57","v":"Jan"},null,null,{"$f":"E57","v":"piet"},null,null,{"$f":"H57","v":"Jan"},null,null,{"$f":"K57","v":"José"},null,null,{"$f":"N57","v":"José"}]
[7,"Jan",null,null,"Jan",null,null,0,null,null,"José",null,null,"José"]
[null,0,null,null,0,null,null,"José",null,null,0,null,null,0]
[null,0,null,null,0,null,null,0,null,null,0,null,null,0]
[null,0,null,null,"Kees",null,null,0,null,null,{"$f":"K61","v":"Kees"},null,null,0]
[null,0,null,null,"Kees",null,null,0,null,null,{"$f":"K62","v":0},null,null,"Kees"]
[]
[]
[]
[{"$f":"IF(A66=52,1,A66+1)","v":39},{"$f":"N66+3","v":"2020-09-21"},null,null,{"$f":"B76+1","v":"2020-09-22"},null,null,{"$f":"E76+1","v":"2020-09-23"},null,null,{"$f":"H76+1","v":"2020-09-24"},null,null,{"$f":"K76+1","v":"2020-09-25"}]
[null,{"$f":"B67","v":"Jan"},null,null,{"$f":"E67","v":"piet"},null,null,{"$f":"H67","v":"Jan"},null,null,{"$f":"K67","v":"José"},null,null,{"$f":"N67","v":"José"}]
[8,"Jan",null,null,"Jan",null,null,0,null,null,"José",null,null,"José"]
[null,0,null,null,0,null,null,"José",null,null,0,null,null,0]
[null,0,null,null,0,null,null,0,null,null,0,null,null,0]
[null,0,null,null,"Kees",null,null,0,null,null,{"$f":"K71","v":"Kees"},null,null,0]
[null,0,null,null,"Kees",null,null,0,null,null,0,null,null,"Kees"]
[]
[]
[]
[{"$f":"IF(A76=52,1,A76+1)","v":40},{"$f":"N76+3","v":"2020-09-28"},null,null,{"$f":"B86+1","v":"2020-09-29"},null,null,{"$f":"E86+1","v":"2020-09-30"},null,null,{"$f":"H86+1","v":"2020-10-01"},null,null,{"$f":"K86+1","v":"2020-10-02"}]
[null,{"$f":"B77","v":"Jan"},null,null,{"$f":"E77","v":"piet"},null,null,{"$f":"H77","v":"Jan"},null,null,{"$f":"K77","v":"José"},null,null,{"$f":"N77","v":"José"}]
[9,"Jan",null,null,"Jan",null,null,0,null,null,"José",null,null,"José"]
[null,0,null,null,0,null,null,"José",null,null,0,null,null,0]
[null,0,null,null,0,null,null,0,null,null,0,null,null,0]
[null,0,null,null,"Kees",null,null,0,null,null,"Kees",null,null,0]
[null,0,null,null,"Kees",null,null,0,null,null,0,null,null,"Kees"]
[]
[]
[]
[{"$f":"IF(A86=52,1,A86+1)","v":41},{"$f":"N86+3","v":"2020-10-05"},null,null,{"$f":"B96+1","v":"2020-10-06"},null,null,{"$f":"E96+1","v":"2020-10-07"},null,null,{"$f":"H96+1","v":"2020-10-08"},null,null,{"$f":"K96+1","v":"2020-10-09"}]
[null,{"$f":"B87","v":"Jan"},null,null,{"$f":"E87","v":"piet"},null,null,{"$f":"H87","v":"Jan"},null,null,{"$f":"K87","v":"José"},null,null,{"$f":"N87","v":"José"}]
[10,"Jan",null,null,"Jan",null,null,0,null,null,"José",null,null,"José"]
[null,0,null,null,0,null,null,"José",null,null,0,null,null,0]
[null,0,null,null,0,null,null,0,null,null,0,null,null,0]
[null,0,null,null,"Kees",null,null,0,null,null,{"$f":"K91","v":"Kees"},null,null,0]
[null,0,null,null,"Kees",null,null,0,null,null,0,null,null,"Kees"]
[]
[]
[]
[{"$f":"IF(A96=52,1,A96+1)","v":42},{"$f":"N96+3","v":"2020-10-12"},null,null,{"$f":"B106+1","v":"2020-10-13"},null,null,{"$f":"E106+1","v":"2020-10-14"},null,null,{"$f":"H106+1","v":"2020-10-15"},null,null,{"$f":"K106+1","v":"2020-10-16"}]
[null,{"$f":"B97","v":"Jan"},null,null,{"$f":"E97","v":"piet"},null,null,{"$f":"H97","v":"Jan"},null,null,{"$f":"K97","v":"José"},null,null,{"$f":"N97","v":"José"}]
[11,"Jan",null,null,"Jan",null,null,0,null,null,"José",null,null,"José"]
[null,0,null,null,0,null,null,"José",null,null,0,null,null,0]
[null,0,null,null,0,null,null,0,null,null,0,null,null,0]
[null,0,null,null,"Kees",null,null,0,null,null,{"$f":"K101","v":"Kees"},null,null,0]
[null,0,null,null,"Kees",null,null,0,null,null,0,null,null,"Kees"]
[]
[]
[]
[{"$f":"IF(A106=52,1,A106+1)","v":43},{"$f":"N106+3","v":"2020-10-19"},null,null,{"$f":"B116+1","v":"2020-10-20"},null,null,{"$f":"E116+1","v":"2020-10-21"},null,null,{"$f":"H116+1","v":"2020-10-22"},null,null,{"$f":"K116+1","v":"2020-10-23"}]
[null,{"$f":"B107","v":"Jan"},null,null,{"$f":"E107","v":"piet"},null,null,{"$f":"H107","v":"Jan"},null,null,{"$f":"K107","v":"José"},null,null,{"$f":"N107","v":"José"}]
[12,"Jan",null,null,"Jan",null,null,0,null,null,"José",null,null,"José"]
[null,0,null,null,0,null,null,"José",null,null,0,null,null,0]
[null,0,null,null,0,null,null,0,null,null,0,null,null,0]
[null,0,null,null,"Kees",null,null,0,null,null,{"$f":"K111","v":"Kees"},null,null,0]
[null,0,null,null,"Kees",null,null,0,null,null,0,null,null,"Kees"]
[]
[]
[]
[{"$f":"IF(A116=52,1,A116+1)","v":44},{"$f":"N116+3","v":"2020-10-26"},null,null,{"$f":"B126+1","v":"2020-10-27"},null,null,{"$f":"E126+1","v":"2020-10-28"},null,null,{"$f":"H126+1","v":"2020-10-29"},null,null,{"$f":"K126+1","v":"2020-10-30"}]
[null,{"$f":"B117","v":"Jan"},null,null,{"$f":"E117","v":"piet"},null,null,{"$f":"H117","v":"Jan"},null,null,{"$f":"K117","v":"José"},null,null,{"$f":"N117","v":"José"}]
[13,"Jan",null,null,"Jan",null,null,0,null,null,"José",null,null,"José"]
[null,0,null,null,0,null,null,"José",null,null,0,null,null,0]
[null,0,null,null,0,null,null,0,null,null,0,null,null,0]
[null,0,null,null,"Kees",null,null,0,null,null,{"$f":"K121","v":"Kees"},null,null,0]
[null,0,null,null,"Kees",null,null,0,null,null,0,null,null,"Kees"]
[]
[]
[]
[{"$f":"IF(A126=52,1,A126+1)","v":45},{"$f":"N126+3","v":"2020-11-02"},null,null,{"$f":"B136+1","v":"2020-11-03"},null,null,{"$f":"E136+1","v":"2020-11-04"},null,null,{"$f":"H136+1","v":"2020-11-05"},null,null,{"$f":"K136+1","v":"2020-11-06"}]
[null,{"$f":"B127","v":"Jan"},null,null,{"$f":"E127","v":"piet"},null,null,{"$f":"H127","v":"Jan"},null,null,{"$f":"K127","v":"José"},null,null,{"$f":"N127","v":"José"}]
[14,"Jan",null,null,"Jan",null,null,0,null,null,"José",null,null,"José"]
[null,0,null,null,0,null,null,"José",null,null,0,null,null,0]
[null,0,null,null,0,null,null,0,null,null,0,null,null,0]
[null,0,null,null,"Kees",null,null,0,null,null,{"$f":"K131","v":"Kees"},null,null,0]
[null,0,null,null,"Kees",null,null,0,null,null,0,null,null,"Kees"]
[]
[]
[]
[{"$f":"IF(A136=52,1,A136+1)","v":46},{"$f":"N136+3","v":"2020-11-09"},null,null,{"$f":"B146+1","v":"2020-11-10"},null,null,{"$f":"E146+1","v":"2020-11-11"},null,null,{"$f":"H146+1","v":"2020-11-12"},null,null,{"$f":"K146+1","v":"2020-11-13"}]
[null,{"$f":"B137","v":"Jan"},null,null,{"$f":"E137","v":"piet"},null,null,{"$f":"H137","v":"Jan"},null,null,{"$f":"K137","v":"José"},null,null,{"$f":"N137","v":"José"}]
[15,"Jan",null,null,"Jan",null,null,0,null,null,"José",null,null,"José"]
[null,0,null,null,0,null,null,"José",null,null,0,null,null,0]
[null,0,null,null,0,null,null,0,null,null,0,null,null,0]
[null,0,null,null,"Kees",null,null,0,null,null,{"$f":"K141","v":"Kees"},null,null,0]
[null,0,null,null,"Kees",null,null,0,null,null,0,null,null,"Kees"]
[]
[]
[]
[{"$f":"IF(A146=52,1,A146+1)","v":47},{"$f":"N146+3","v":"2020-11-16"},null,null,{"$f":"B156+1","v":"2020-11-17"},null,null,{"$f":"E156+1","v":"2020-11-18"},null,null,{"$f":"H156+1","v":"2020-11-19"},null,null,{"$f":"K156+1","v":"2020-11-20"}]
[null,{"$f":"B147","v":"Jan"},null,null,{"$f":"E147","v":"piet"},null,null,{"$f":"H147","v":"Jan"},null,null,{"$f":"K147","v":"José"},null,null,{"$f":"N147","v":"José"}]
[16,"Jan",null,null,"Jan",null,null,0,null,null,"José",null,null,"José"]
[null,0,null,null,0,null,null,"José",null,null,0,null,null,0]
[null,0,null,null,0,null,null,0,null,null,0,null,null,0]
[null,0,null,null,"Kees",null,null,0,null,null,{"$f":"K151","v":"Kees"},null,null,0]
[null,0,null,null,"Kees",null,null,0,null,null,0,null,null,"Kees"]
[]
[]
[]
[{"$f":"IF(A156=52,1,A156+1)","v":48},{"$f":"N156+3","v":"2020-11-23"},null,null,{"$f":"B166+1","v":"2020-11-24"},null,null,{"$f":"E166+1","v":"2020-11-25"},null,null,{"$f":"H166+1","v":"2020-11-26"},null,null,{"$f":"K166+1","v":"2020-11-27"}]
[null,{"$f":"B157","v":"Jan"},null,null,{"$f":"E157","v":"piet"},null,null,{"$f":"H157","v":"Jan"},null,null,{"$f":"K157","v":"José"},null,null,{"$f":"N157","v":"José"}]
[17,"Jan",null,null,"Jan",null,null,0,null,null,"José",null,null,"José"]
[null,0,null,null,0,null,null,"José",null,null,0,null,null,0]
[null,0,null,null,0,null,null,0,null,null,0,null,null,0]
[null,0,null,null,"Kees",null,null,0,null,null,"Kees",null,null,0]
[null,0,null,null,"Kees",null,null,0,null,null,0,null,null,"Kees"]
[]
[]
[]
[{"$f":"IF(A166=52,1,A166+1)","v":49},{"$f":"N166+3","v":"2020-11-30"},null,null,{"$f":"B176+1","v":"2020-12-01"},null,null,{"$f":"E176+1","v":"2020-12-02"},null,null,{"$f":"H176+1","v":"2020-12-03"},null,null,{"$f":"K176+1","v":"2020-12-04"}]
[null,{"$f":"B167","v":"Jan"},null,null,{"$f":"E167","v":"piet"},null,null,{"$f":"H167","v":"Jan"},null,null,{"$f":"K167","v":"José"},null,null,{"$f":"N167","v":"José"}]
[18,"Jan",null,null,"Jan",null,null,0,null,null,"José",null,null,"José"]
[null,0,null,null,0,null,null,"José",null,null,0,null,null,0]
[null,0,null,null,0,null,null,0,null,null,0,null,null,0]
[null,0,null,null,"Kees",null,null,0,null,null,{"$f":"K171","v":"Kees"},null,null,0]
[null,0,null,null,"Kees",null,null,0,null,null,0,null,null,"Kees"]
[]
[]
[]
[{"$f":"IF(A176=52,1,A176+1)","v":50},{"$f":"N176+3","v":"2020-12-07"},null,null,{"$f":"B186+1","v":"2020-12-08"},null,null,{"$f":"E186+1","v":"2020-12-09"},null,null,{"$f":"H186+1","v":"2020-12-10"},null,null,{"$f":"K186+1","v":"2020-12-11"}]
[null,{"$f":"B177","v":"Jan"},null,null,{"$f":"E177","v":"piet"},null,null,{"$f":"H177","v":"Jan"},null,null,{"$f":"K177","v":"José"},null,null,{"$f":"N177","v":"José"}]
[19,"Jan",null,null,"Jan",null,null,0,null,null,"José",null,null,"José"]
[null,0,null,null,0,null,null,"José",null,null,0,null,null,0]
[null,0,null,null,0,null,null,0,null,null,0,null,null,0]
[null,0,null,null,"Kees",null,null,0,null,null,{"$f":"K181","v":"Kees"},null,null,0]
[null,0,null,null,"Kees",null,null,0,null,null,0,null,null,"Kees"]
[]
[]
[]
[{"$f":"IF(A186=52,1,A186+1)","v":51},{"$f":"N186+3","v":"2020-12-14"},null,null,{"$f":"B196+1","v":"2020-12-15"},null,null,{"$f":"E196+1","v":"2020-12-16"},null,null,{"$f":"H196+1","v":"2020-12-17"},null,null,{"$f":"K196+1","v":"2020-12-18"}]
[null,{"$f":"B187","v":"Jan"},null,null,{"$f":"E187","v":"piet"},null,null,{"$f":"H187","v":"Jan"},null,null,{"$f":"K187","v":"José"},null,null,{"$f":"N187","v":"José"}]
[20,"Jan",null,null,"Jan",null,null,0,null,null,"José",null,null,"José"]
[null,0,null,null,0,null,null,"José",null,null,0,null,null,0]
[null,0,null,null,0,null,null,0,null,null,0,null,null,0]
[null,0,null,null,"Kees",null,null,0,null,null,{"$f":"K191","v":"Kees"},null,null,0]
[null,0,null,null,"Kees",null,null,0,null,null,0,null,null,"Kees"]
[]
[]
[]
[{"$f":"IF(A196=52,1,A196+1)","v":52},{"$f":"N196+3","v":"2020-12-21"},null,null,{"$f":"B206+1","v":"2020-12-22"},null,null,{"$f":"E206+1","v":"2020-12-23"},null,null,{"$f":"H206+1","v":"2020-12-24"},null,null,{"$f":"K206+1","v":"2020-12-25"}]
[null,{"$f":"B197","v":"Jan"},null,null,{"$f":"E197","v":"piet"},null,null,{"$f":"H197","v":"Jan"},null,null,{"$f":"K197","v":"José"},null,null,{"$f":"N197","v":"José"}]
[21,"Jan",null,null,"Jan",null,null,0,null,null,"José",null,null,"José"]
[null,0,null,null,0,null,null,"José",null,null,0,null,null,0]
[null,0,null,null,0,null,null,0,null,null,0,null,null,0]
[null,0,null,null,"Kees",null,null,0,null,null,{"$f":"K201","v":"Kees"},null,null,0]
[null,0,null,null,"Kees",null,null,0,null,null,0,null,null,"Kees"]
[]
[]
[]
[{"$f":"IF(A206=52,1,A206+1)","v":1},{"$f":"N206+3","v":"2020-12-28"},null,null,{"$f":"B216+1","v":"2020-12-29"},null,null,{"$f":"E216+1","v":"2020-12-30"},null,null,{"$f":"H216+1","v":"2020-12-31"},null,null,{"$f":"K216+1","v":"2021-01-01"}]
[null,{"$f":"B207","v":"Jan"},null,null,{"$f":"E207","v":"piet"},null,null,{"$f":"H207","v":"Jan"},null,null,{"$f":"K207","v":"José"},null,null,{"$f":"N207","v":"José"}]
[22,"Jan",null,null,"Jan",null,null,0,null,null,"José",null,null,"José"]
[null,0,null,null,0,null,null,"José",null,null,0,null,null,0]
[null,0,null,null,0,null,null,0,null,null,0,null,null,0]
[null,0,null,null,"Kees",null,null,0,null,null,{"$f":"K211","v":"Kees"},null,null,0]
[null,0,null,null,"Kees",null,null,0,null,null,0,null,null,"Kees"]
[]
[]
[]
[{"$f":"IF(A216=52,1,A216+1)","v":2},{"$f":"N216+3","v":"2021-01-04"},null,null,{"$f":"B226+1","v":"2021-01-05"},null,null,{"$f":"E226+1","v":"2021-01-06"},null,null,{"$f":"H226+1","v":"2021-01-07"},null,null,{"$f":"K226+1","v":"2021-01-08"}]
[null,{"$f":"B217","v":"Jan"},null,null,{"$f":"E217","v":"piet"},null,null,{"$f":"H217","v":"Jan"},null,null,{"$f":"K217","v":"José"},null,null,{"$f":"N217","v":"José"}]
[23,"Jan",null,null,"Jan",null,null,0,null,null,"José",null,null,"José"]
[null,0,null,null,0,null,null,"José",null,null,0,null,null,0]
[null,0,null,null,0,null,null,0,null,null,0,null,null,0]
[null,0,null,null,"Kees",null,null,0,null,null,{"$f":"K221","v":"Kees"},null,null,0]
[null,0,null,null,"Kees",null,null,0,null,null,0,null,null,"Kees"]
[]
[]
[]
[{"$f":"IF(A226=52,1,A226+1)","v":3},{"$f":"N226+3","v":"2021-01-11"},null,null,{"$f":"B236+1","v":"2021-01-12"},null,null,{"$f":"E236+1","v":"2021-01-13"},null,null,{"$f":"H236+1","v":"2021-01-14"},null,null,{"$f":"K236+1","v":"2021-01-15"}]
[null,{"$f":"B227","v":"Jan"},null,null,{"$f":"E227","v":"piet"},null,null,{"$f":"H227","v":"Jan"},null,null,{"$f":"K227","v":"José"},null,null,{"$f":"N227","v":"José"}]
[24,"Jan",null,null,"Jan",null,null,0,null,null,"José",null,null,"José"]
[null,0,null,null,0,null,null,"José",null,null,0,null,null,0]
[null,0,null,null,0,null,null,0,null,null,0,null,null,0]
[null,0,null,null,"Kees",null,null,0,null,null,{"$f":"K231","v":"Kees"},null,null,0]
[null,0,null,null,"Kees",null,null,0,null,null,0,null,null,"Kees"]
[]
[]
[]
[{"$f":"IF(A236=52,1,A236+1)","v":4},{"$f":"N236+3","v":"2021-01-18"},null,null,{"$f":"B246+1","v":"2021-01-19"},null,null,{"$f":"E246+1","v":"2021-01-20"},null,null,{"$f":"H246+1","v":"2021-01-21"},null,null,{"$f":"K246+1","v":"2021-01-22"}]
[null,{"$f":"B237","v":"Jan"},null,null,{"$f":"E237","v":"piet"},null,null,{"$f":"H237","v":"Jan"},null,null,{"$f":"K237","v":"José"},null,null,{"$f":"N237","v":"José"}]
[25,"Jan",null,null,"Jan",null,null,0,null,null,"José",null,null,"José"]
[null,0,null,null,0,null,null,"José",null,null,0,null,null,0]
[null,0,null,null,0,null,null,0,null,null,0,null,null,0]
[null,0,null,null,"Kees",null,null,0,null,null,"Kees",null,null,0]
[null,0,null,null,"Kees",null,null,0,null,null,0,null,null,"Kees"]
[]
[]
[]
[{"$f":"IF(A246=52,1,A246+1)","v":5},{"$f":"N246+3","v":"2021-01-25"},null,null,{"$f":"B256+1","v":"2021-01-26"},null,null,{"$f":"E256+1","v":"2021-01-27"},null,null,{"$f":"H256+1","v":"2021-01-28"},null,null,{"$f":"K256+1","v":"2021-01-29"}]
[null,{"$f":"B247","v":"Jan"},null,null,{"$f":"E247","v":"piet"},null,null,{"$f":"H247","v":"Jan"},null,null,{"$f":"K247","v":"José"},null,null,{"$f":"N247","v":"José"}]
[26,"Jan",null,null,"Jan",null,null,0,null,null,"José",null,null,"José"]
[null,0,null,null,0,null,null,"José",null,null,0,null,null,0]
[null,0,null,null,0,null,null,0,null,null,0,null,null,0]
[null,0,null,null,"Kees",null,null,0,null,null,{"$f":"K251","v":"Kees"},null,null,0]
[null,0,null,null,"Kees",null,null,0,null,null,0,null,null,"Kees"]
[]
[]
[]
[{"$f":"IF(A256=52,1,A256+1)","v":6},{"$f":"N256+3","v":"2021-02-01"},null,null,{"$f":"B266+1","v":"2021-02-02"},null,null,{"$f":"E266+1","v":"2021-02-03"},null,null,{"$f":"H266+1","v":"2021-02-04"},null,null,{"$f":"K266+1","v":"2021-02-05"}]
[null,{"$f":"B257","v":"Jan"},null,null,{"$f":"E257","v":"piet"},null,null,{"$f":"H257","v":"Jan"},null,null,{"$f":"K257","v":"José"},null,null,{"$f":"N257","v":"José"}]
[27,"Jan",null,null,"Jan",null,null,0,null,null,"José",null,null,"José"]
[null,0,null,null,0,null,null,"José",null,null,0,null,null,0]
[null,0,null,null,0,null,null,0,null,null,0,null,null,0]
[null,0,null,null,"Kees",null,null,0,null,null,{"$f":"K261","v":"Kees"},null,null,0]
[null,0,null,null,"Kees",null,null,0,null,null,0,null,null,"Kees"]
[]
[]
[]
[{"$f":"IF(A266=52,1,A266+1)","v":7},{"$f":"N266+3","v":"2021-02-08"},null,null,{"$f":"B276+1","v":"2021-02-09"},null,null,{"$f":"E276+1","v":"2021-02-10"},null,null,{"$f":"H276+1","v":"2021-02-11"},null,null,{"$f":"K276+1","v":"2021-02-12"}]
[null,{"$f":"B267","v":"Jan"},null,null,{"$f":"E267","v":"piet"},null,null,{"$f":"H267","v":"Jan"},null,null,{"$f":"K267","v":"José"},null,null,{"$f":"N267","v":"José"}]
[28,"Jan",null,null,"Jan",null,null,0,null,null,"José",null,null,"José"]
[null,0,null,null,0,null,null,"José",null,null,0,null,null,0]
[null,0,null,null,0,null,null,0,null,null,0,null,null,0]
[null,0,null,null,"Kees",null,null,0,null,null,{"$f":"K271","v":"Kees"},null,null,0]
[null,0,null,null,"Kees",null,null,0,null,null,0,null,null,"Kees"]
[]
[]
[]
[{"$f":"IF(A276=52,1,A276+1)","v":8},{"$f":"N276+3","v":"2021-02-15"},null,null,{"$f":"B286+1","v":"2021-02-16"},null,null,{"$f":"E286+1","v":"2021-02-17"},null,null,{"$f":"H286+1","v":"2021-02-18"},null,null,{"$f":"K286+1","v":"2021-02-19"}]
[null,{"$f":"B277","v":"Jan"},null,null,{"$f":"E277","v":"piet"},null,null,{"$f":"H277","v":"Jan"},null,null,{"$f":"K277","v":"José"},null,null,{"$f":"N277","v":"José"}]
[29,"Jan",null,null,"Jan",null,null,0,null,null,"José",null,null,"José"]
[null,0,null,null,0,null,null,"José",null,null,0,null,null,0]
[null,0,null,null,0,null,null,0,null,null,0,null,null,0]
[null,0,null,null,"Kees",null,null,0,null,null,{"$f":"K281","v":"Kees"},null,null,0]
[null,0,null,null,"Kees",null,null,0,null,null,0,null,null,"Kees"]
[]
[]
[]
[{"$f":"IF(A286=52,1,A286+1)","v":9},{"$f":"N286+3","v":"2021-02-22"},null,null,{"$f":"B296+1","v":"2021-02-23"},null,null,{"$f":"E296+1","v":"2021-02-24"},null,null,{"$f":"H296+1","v":"2021-02-25"},null,null,{"$f":"K296+1","v":"2021-02-26"}]
[null,{"$f":"B287","v":"Jan"},null,null,{"$f":"E287","v":"piet"},null,null,{"$f":"H287","v":"Jan"},null,null,{"$f":"K287","v":"José"},null,null,{"$f":"N287","v":"José"}]
[30,"Jan",null,null,"Jan",null,null,0,null,null,"José",null,null,"José"]
[null,0,null,null,0,null,null,"José",null,null,0,null,null,0]
[null,0,null,null,0,null,null,0,null,null,0,null,null,0]
[null,0,null,null,"Kees",null,null,0,null,null,{"$f":"K291","v":"Kees"},null,null,0]
[null,0,null,null,"Kees",null,null,0,null,null,0,null,null,"Kees"]
[]
[]
[]
[{"$f":"IF(A296=52,1,A296+1)","v":10},{"$f":"N296+3","v":"2021-03-01"},null,null,{"$f":"B306+1","v":"2021-03-02"},null,null,{"$f":"E306+1","v":"2021-03-03"},null,null,{"$f":"H306+1","v":"2021-03-04"},null,null,{"$f":"K306+1","v":"2021-03-05"}]
[null,{"$f":"B297","v":"Jan"},null,null,{"$f":"E297","v":"piet"},null,null,{"$f":"H297","v":"Jan"},null,null,{"$f":"K297","v":"José"},null,null,{"$f":"N297","v":"José"}]
[31,"Jan",null,null,"Jan",null,null,0,null,null,"José",null,null,"José"]
[null,0,null,null,0,null,null,"José",null,null,0,null,null,0]
[null,0,null,null,0,null,null,0,null,null,0,null,null,0]
[null,0,null,null,"Kees",null,null,0,null,null,{"$f":"K301","v":"Kees"},null,null,0]
[null,0,null,null,"Kees",null,null,0,null,null,0,null,null,"Kees"]
[]
[]
[]
[{"$f":"IF(A306=52,1,A306+1)","v":11},{"$f":"N306+3","v":"2021-03-08"},null,null,{"$f":"B316+1","v":"2021-03-09"},null,null,{"$f":"E316+1","v":"2021-03-10"},null,null,{"$f":"H316+1","v":"2021-03-11"},null,null,{"$f":"K316+1","v":"2021-03-12"}]
[null,{"$f":"B307","v":"Jan"},null,null,{"$f":"E307","v":"piet"},null,null,{"$f":"H307","v":"Jan"},null,null,{"$f":"K307","v":"José"},null,null,{"$f":"N307","v":"José"}]
[32,"Jan",null,null,"Jan",null,null,0,null,null,"José",null,null,"José"]
[null,0,null,null,0,null,null,"José",null,null,0,null,null,0]
[null,0,null,null,0,null,null,0,null,null,0,null,null,0]
[null,0,null,null,"Kees",null,null,0,null,null,{"$f":"K311","v":"Kees"},null,null,0]
[null,0,null,null,"Kees",null,null,0,null,null,0,null,null,"Kees"]
[]
[]
[]
[{"$f":"IF(A316=52,1,A316+1)","v":12},{"$f":"N316+3","v":"2021-03-15"},null,null,{"$f":"B326+1","v":"2021-03-16"},null,null,{"$f":"E326+1","v":"2021-03-17"},null,null,{"$f":"H326+1","v":"2021-03-18"},null,null,{"$f":"K326+1","v":"2021-03-19"}]
[null,{"$f":"B317","v":"Jan"},null,null,{"$f":"E317","v":"piet"},null,null,{"$f":"H317","v":"Jan"},null,null,{"$f":"K317","v":"José"},null,null,{"$f":"N317","v":"José"}]
[33,"Jan",null,null,"Jan",null,null,0,null,null,"José",null,null,"José"]
[null,0,null,null,0,null,null,"José",null,null,0,null,null,0]
[null,0,null,null,0,null,null,0,null,null,0,null,null,0]
[null,0,null,null,"Kees",null,null,0,null,null,"Kees",null,null,0]
[null,0,null,null,"Kees",null,null,0,null,null,0,null,null,"Kees"]
[]
[]
[]
[{"$f":"IF(A326=52,1,A326+1)","v":13},{"$f":"N326+3","v":"2021-03-22"},null,null,{"$f":"B336+1","v":"2021-03-23"},null,null,{"$f":"E336+1","v":"2021-03-24"},null,null,{"$f":"H336+1","v":"2021-03-25"},null,null,{"$f":"K336+1","v":"2021-03-26"}]
[null,{"$f":"B327","v":"Jan"},null,null,{"$f":"E327","v":"piet"},null,null,{"$f":"H327","v":"Jan"},null,null,{"$f":"K327","v":"José"},null,null,{"$f":"N327","v":"José"}]
[34,"Jan",null,null,"Jan",null,null,0,null,null,"José",null,null,"José"]
[null,0,null,null,0,null,null,"José",null,null,0,null,null,0]
[null,0,null,null,0,null,null,0,null,null,0,null,null,0]
[null,0,null,null,"Kees",null,null,0,null,null,{"$f":"K331","v":"Kees"},null,null,0]
[null,0,null,null,"Kees",null,null,0,null,null,0,null,null,"Kees"]
[]
[]
[]
[{"$f":"IF(A336=52,1,A336+1)","v":14},{"$f":"N336+3","v":"2021-03-29"},null,null,{"$f":"B346+1","v":"2021-03-30"},null,null,{"$f":"E346+1","v":"2021-03-31"},null,null,{"$f":"H346+1","v":"2021-04-01"},null,null,{"$f":"K346+1","v":"2021-04-02"}]
[null,{"$f":"B337","v":"Jan"},null,null,{"$f":"E337","v":"piet"},null,null,{"$f":"H337","v":"Jan"},null,null,{"$f":"K337","v":"José"},null,null,{"$f":"N337","v":"José"}]
[35,"Jan",null,null,"Jan",null,null,0,null,null,"José",null,null,"José"]
[null,0,null,null,0,null,null,"José",null,null,0,null,null,0]
[null,0,null,null,0,null,null,0,null,null,0,null,null,0]
[null,0,null,null,"Kees",null,null,0,null,null,{"$f":"K341","v":"Kees"},null,null,0]
[null,0,null,null,"Kees",null,null,0,null,null,0,null,null,"Kees"]
[]
[]
[]
[{"$f":"IF(A346=52,1,A346+1)","v":15},{"$f":"N346+3","v":"2021-04-05"},null,null,{"$f":"B356+1","v":"2021-04-06"},null,null,{"$f":"E356+1","v":"2021-04-07"},null,null,{"$f":"H356+1","v":"2021-04-08"},null,null,{"$f":"K356+1","v":"2021-04-09"}]
[null,{"$f":"B347","v":"Jan"},null,null,{"$f":"E347","v":"piet"},null,null,{"$f":"H347","v":"Jan"},null,null,{"$f":"K347","v":"José"},null,null,{"$f":"N347","v":"José"}]
[36,"Jan",null,null,"Jan",null,null,0,null,null,"José",null,null,"José"]
[null,0,null,null,0,null,null,"José",null,null,0,null,null,0]
[null,0,null,null,0,null,null,0,null,null,0,null,null,0]
[null,0,null,null,"Kees",null,null,0,null,null,{"$f":"K351","v":"Kees"},null,null,0]
[null,0,null,null,"Kees",null,null,0,null,null,0,null,null,"Kees"]
[]
[]
[]
[{"$f":"IF(A356=52,1,A356+1)","v":16},{"$f":"N356+3","v":"2021-04-12"},null,null,{"$f":"B366+1","v":"2021-04-13"},null,null,{"$f":"E366+1","v":"2021-04-14"},null,null,{"$f":"H366+1","v":"2021-04-15"},null,null,{"$f":"K366+1","v":"2021-04-16"}]
[null,{"$f":"B357","v":"Jan"},null,null,{"$f":"E357","v":"piet"},null,null,{"$f":"H357","v":"Jan"},null,null,{"$f":"K357","v":"José"},null,null,{"$f":"N357","v":"José"}]
[37,"Jan",null,null,"Jan",null,null,0,null,null,"José",null,null,"José"]
[null,0,null,null,0,null,null,"José",null,null,0,null,null,0]
[null,0,null,null,0,null,null,0,null,null,0,null,null,0]
[null,0,null,null,"Kees",null,null,0,null,null,{"$f":"K361","v":"Kees"},null,null,0]
[null,0,null,null,"Kees",null,null,0,null,null,0,null,null,"Kees"]
[]
[]
[]
[{"$f":"IF(A366=52,1,A366+1)","v":17},{"$f":"N366+3","v":"2021-04-19"},null,null,{"$f":"B376+1","v":"2021-04-20"},null,null,{"$f":"E376+1","v":"2021-04-21"},null,null,{"$f":"H376+1","v":"2021-04-22"},null,null,{"$f":"K376+1","v":"2021-04-23"}]
[null,{"$f":"B367","v":"Jan"},null,null,{"$f":"E367","v":"piet"},null,null,{"$f":"H367","v":"Jan"},null,null,{"$f":"K367","v":"José"},null,null,{"$f":"N367","v":"José"}]
[38,"Jan",null,null,"Jan",null,null,0,null,null,"José",null,null,"José"]
[null,0,null,null,0,null,null,"José",null,null,0,null,null,0]
[null,0,null,null,0,null,null,0,null,null,0,null,null,0]
[null,0,null,null,"Kees",null,null,0,null,null,{"$f":"K371","v":"Kees"},null,null,0]
[null,0,null,null,"Kees",null,null,0,null,null,0,null,null,"Kees"]
[]
[]
[]
[{"$f":"IF(A376=52,1,A376+1)","v":18},{"$f":"N376+3","v":"2021-04-26"},null,null,{"$f":"B386+1","v":"2021-04-27"},null,null,{"$f":"E386+1","v":"2021-04-28"},null,null,{"$f":"H386+1","v":"2021-04-29"},null,null,{"$f":"K386+1","v":"2021-04-30"}]
[null,{"$f":"B377","v":"Jan"},null,null,{"$f":"E377","v":"piet"},null,null,{"$f":"H377","v":"Jan"},null,null,{"$f":"K377","v":"José"},null,null,{"$f":"N377","v":"José"}]
[39,"Jan",null,null,"Jan",null,null,0,null,null,"José",null,null,"José"]
[null,0,null,null,0,null,null,"José",null,null,0,null,null,0]
[null,0,null,null,0,null,null,0,null,null,0,null,null,0]
[null,0,null,null,"Kees",null,null,0,null,null,{"$f":"K381","v":"Kees"},null,null,0]
[null,0,null,null,"Kees",null,null,0,null,null,0,null,null,"Kees"]
[]
[]
[]
[{"$f":"IF(A386=52,1,A386+1)","v":19},{"$f":"N386+3","v":"2021-05-03"},null,null,{"$f":"B396+1","v":"2021-05-04"},null,null,{"$f":"E396+1","v":"2021-05-05"},null,null,{"$f":"H396+1","v":"2021-05-06"},null,null,{"$f":"K396+1","v":"2021-05-07"}]
[null,{"$f":"B387","v":"Jan"},null,null,{"$f":"E387","v":"piet"},null,null,{"$f":"H387","v":"Jan"},null,null,{"$f":"K387","v":"José"},null,null,{"$f":"N387","v":"José"}]
[40,"Jan",null,null,"Jan",null,null,0,null,null,"José",null,null,"José"]
[null,0,null,null,0,null,null,"José",null,null,0,null,null,0]
[null,0,null,null,0,null,null,0,null,null,0,null,null,0]
[null,0,null,null,"Kees",null,null,0,null,null,{"$f":"K391","v":"Kees"},null,null,0]
[null,0,null,null,"Kees",null,null,0,null,null,0,null,null,"Kees"]
[]
[]
[]
[{"$f":"IF(A396=52,1,A396+1)","v":20},{"$f":"N396+3","v":"2021-05-10"},null,null,{"$f":"B406+1","v":"2021-05-11"},null,null,{"$f":"E406+1","v":"2021-05-12"},null,null,{"$f":"H406+1","v":"2021-05-13"},null,null,{"$f":"K406+1","v":"2021-05-14"}]
[null,{"$f":"B397","v":"Jan"},null,null,{"$f":"E397","v":"piet"},null,null,{"$f":"H397","v":"Jan"},null,null,{"$f":"K397","v":"José"},null,null,{"$f":"N397","v":"José"}]
[41,"Jan",null,null,"Jan",null,null,0,null,null,"José",null,null,"José"]
[null,0,null,null,0,null,null,"José",null,null,0,null,null,0]
[null,0,null,null,0,null,null,0,null,null,0,null,null,0]
[null,0,null,null,"Kees",null,null,0,null,null,"Kees",null,null,0]
[null,0,null,null,"Kees",null,null,0,null,null,0,null,null,"Kees"]
[]
[]
[]
[{"$f":"IF(A406=52,1,A406+1)","v":21},{"$f":"N406+3","v":"2021-05-17"},null,null,{"$f":"B416+1","v":"2021-05-18"},null,null,{"$f":"E416+1","v":"2021-05-19"},null,null,{"$f":"H416+1","v":"2021-05-20"},null,null,{"$f":"K416+1","v":"2021-05-21"}]
[null,{"$f":"B407","v":"Jan"},null,null,{"$f":"E407","v":"piet"},null,null,{"$f":"H407","v":"Jan"},null,null,{"$f":"K407","v":"José"},null,null,{"$f":"N407","v":"José"}]
[42,"Jan",null,null,"Jan",null,null,0,null,null,"José",null,null,"José"]
[null,0,null,null,0,null,null,"José",null,null,0,null,null,0]
[null,0,null,null,0,null,null,0,null,null,0,null,null,0]
[null,0,null,null,"Kees",null,null,0,null,null,{"$f":"K411","v":"Kees"},null,null,0]
[null,0,null,null,"Kees",null,null,0,null,null,0,null,null,"Kees"]
[]
[]
[]
[{"$f":"IF(A416=52,1,A416+1)","v":22},{"$f":"N416+3","v":"2021-05-24"},null,null,{"$f":"B426+1","v":"2021-05-25"},null,null,{"$f":"E426+1","v":"2021-05-26"},null,null,{"$f":"H426+1","v":"2021-05-27"},null,null,{"$f":"K426+1","v":"2021-05-28"}]
[null,{"$f":"B417","v":"Jan"},null,null,{"$f":"E417","v":"piet"},null,null,{"$f":"H417","v":"Jan"},null,null,{"$f":"K417","v":"José"},null,null,{"$f":"N417","v":"José"}]
[43,"Jan",null,null,"Jan",null,null,0,null,null,"José",null,null,"José"]
[null,0,null,null,0,null,null,"José",null,null,0,null,null,0]
[null,0,null,null,0,null,null,0,null,null,0,null,null,0]
[null,0,null,null,"Kees",null,null,0,null,null,{"$f":"K421","v":"Kees"},null,null,0]
[null,0,null,null,"Kees",null,null,0,null,null,0,null,null,"Kees"]
[]
[]
[]
[{"$f":"IF(A426=52,1,A426+1)","v":23},{"$f":"N426+3","v":"2021-05-31"},null,null,{"$f":"B436+1","v":"2021-06-01"},null,null,{"$f":"E436+1","v":"2021-06-02"},null,null,{"$f":"H436+1","v":"2021-06-03"},null,null,{"$f":"K436+1","v":"2021-06-04"}]
[null,{"$f":"B427","v":"Jan"},null,null,{"$f":"E427","v":"piet"},null,null,{"$f":"H427","v":"Jan"},null,null,{"$f":"K427","v":"José"},null,null,{"$f":"N427","v":"José"}]
[44,"Jan",null,null,"Jan",null,null,0,null,null,"José",null,null,"José"]
[null,0,null,null,0,null,null,"José",null,null,0,null,null,0]
[null,0,null,null,0,null,null,0,null,null,0,null,null,0]
[null,0,null,null,"Kees",null,null,0,null,null,{"$f":"K431","v":"Kees"},null,null,0]
[null,0,null,null,"Kees",null,null,0,null,null,0,null,null,"Kees"]
[]
[]
[]
[{"$f":"IF(A436=52,1,A436+1)","v":24},{"$f":"N436+3","v":"2021-06-07"},null,null,{"$f":"B446+1","v":"2021-06-08"},null,null,{"$f":"E446+1","v":"2021-06-09"},null,null,{"$f":"H446+1","v":"2021-06-10"},null,null,{"$f":"K446+1","v":"2021-06-11"}]
[null,{"$f":"B437","v":"Jan"},null,null,{"$f":"E437","v":"piet"},null,null,{"$f":"H437","v":"Jan"},null,null,{"$f":"K437","v":"José"},null,null,{"$f":"N437","v":"José"}]
[45,"Jan",null,null,"Jan",null,null,0,null,null,"José",null,null,"José"]
[null,0,null,null,0,null,null,"José",null,null,0,null,null,0]
[null,0,null,null,0,null,null,0,null,null,0,null,null,0]
[null,0,null,null,"Kees",null,null,0,null,null,{"$f":"K441","v":"Kees"},null,null,0]
[null,0,null,null,"Kees",null,null,0,null,null,0,null,null,"Kees"]
[]
[]
[]
[{"$f":"IF(A446=52,1,A446+1)","v":25},{"$f":"N446+3","v":"2021-06-14"},null,null,{"$f":"B456+1","v":"2021-06-15"},null,null,{"$f":"E456+1","v":"2021-06-16"},null,null,{"$f":"H456+1","v":"2021-06-17"},null,null,{"$f":"K456+1","v":"2021-06-18"}]
[null,{"$f":"B447","v":"Jan"},null,null,{"$f":"E447","v":"piet"},null,null,{"$f":"H447","v":"Jan"},null,null,{"$f":"K447","v":"José"},null,null,{"$f":"N447","v":"José"}]
[46,"Jan",null,null,"Jan",null,null,0,null,null,"José",null,null,"José"]
[null,0,null,null,0,null,null,"José",null,null,0,null,null,0]
[null,0,null,null,0,null,null,0,null,null,0,null,null,0]
[null,0,null,null,"Kees",null,null,0,null,null,{"$f":"K451","v":"Kees"},null,null,0]
[null,0,null,null,"Kees",null,null,0,null,null,0,null,null,"Kees"]
[]
[]
[]
[{"$f":"IF(A456=52,1,A456+1)","v":26},{"$f":"N456+3","v":"2021-06-21"},null,null,{"$f":"B466+1","v":"2021-06-22"},null,null,{"$f":"E466+1","v":"2021-06-23"},null,null,{"$f":"H466+1","v":"2021-06-24"},null,null,{"$f":"K466+1","v":"2021-06-25"}]
[null,{"$f":"B457","v":"Jan"},null,null,{"$f":"E457","v":"piet"},null,null,{"$f":"H457","v":"Jan"},null,null,{"$f":"K457","v":"José"},null,null,{"$f":"N457","v":"José"}]
[47,"Jan",null,null,"Jan",null,null,0,null,null,"José",null,null,"José"]
[null,0,null,null,0,null,null,"José",null,null,0,null,null,0]
[null,0,null,null,0,null,null,0,null,null,0,null,null,0]
[null,0,null,null,"Kees",null,null,0,null,null,{"$f":"K461","v":"Kees"},null,null,0]
[null,0,null,null,"Kees",null,null,0,null,null,0,null,null,"Kees"]
[]
[]
[]
[{"$f":"IF(A466=52,1,A466+1)","v":27},{"$f":"N466+3","v":"2021-06-28"},null,null,{"$f":"B476+1","v":"2021-06-29"},null,null,{"$f":"E476+1","v":"2021-06-30"},null,null,{"$f":"H476+1","v":"2021-07-01"},null,null,{"$f":"K476+1","v":"2021-07-02"}]
[null,{"$f":"B467","v":"Jan"},null,null,{"$f":"E467","v":"piet"},null,null,{"$f":"H467","v":"Jan"},null,null,{"$f":"K467","v":"José"},null,null,{"$f":"N467","v":"José"}]
[48,"Jan",null,null,"Jan",null,null,0,null,null,"José",null,null,"José"]
[null,0,null,null,0,null,null,"José",null,null,0,null,null,0]
[null,0,null,null,0,null,null,0,null,null,0,null,null,0]
[null,0,null,null,"Kees",null,null,0,null,null,{"$f":"K471","v":"Kees"},null,null,0]
[null,0,null,null,"Kees",null,null,0,null,null,0,null,null,"Kees"]
[]
[]
[]
[{"$f":"IF(A476=52,1,A476+1)","v":28},{"$f":"N476+3","v":"2021-07-05"},null,null,{"$f":"B486+1","v":"2021-07-06"},null,null,{"$f":"E486+1","v":"2021-07-07"},null,null,{"$f":"H486+1","v":"2021-07-08"},null,null,{"$f":"K486+1","v":"2021-07-09"}]
[null,{"$f":"B477","v":"Jan"},null,null,{"$f":"E477","v":"piet"},null,null,{"$f":"H477","v":"Jan"},null,null,{"$f":"K477","v":"José"},null,null,{"$f":"N477","v":"José"}]
[49,"Jan",null,null,"Jan",null,null,0,null,null,"José",null,null,"José"]
[null,0,null,null,0,null,null,"José",null,null,0,null,null,0]
[null,0,null,null,0,null,null,0,null,null,0,null,null,0]
[null,0,null,null,"Kees",null,null,0,null,null,"Kees",null,null,0]
[null,0,null,null,"Kees",null,null,0,null,null,0,null,null,"Kees"]
[]
[]
[]
[{"$f":"IF(A486=52,1,A486+1)","v":29},{"$f":"N486+3","v":"2021-07-12"},null,null,{"$f":"B496+1","v":"2021-07-13"},null,null,{"$f":"E496+1","v":"2021-07-14"},null,null,{"$f":"H496+1","v":"2021-07-15"},null,null,{"$f":"K496+1","v":"2021-07-16"}]
[null,{"$f":"B487","v":"Jan"},null,null,{"$f":"E487","v":"piet"},null,null,{"$f":"H487","v":"Jan"},null,null,{"$f":"K487","v":"José"},null,null,{"$f":"N487","v":"José"}]
[50,"Jan",null,null,"Jan",null,null,0,null,null,"José",null,null,"José"]
[null,0,null,null,0,null,null,"José",null,null,0,null,null,0]
[null,0,null,null,0,null,null,0,null,null,0,null,null,0]
[null,0,null,null,"Kees",null,null,0,null,null,{"$f":"K491","v":"Kees"},null,null,0]
[null,0,null,null,"Kees",null,null,0,null,null,0,null,null,"Kees"]

{"sheet":"2","index":2,"n_rows":502,"n_cols":15,"rows_kept":502,"cut":false,"hidden":false,"merged":[[495,1,495,3],[495,4,495,6],[495,7,495,9],[495,10,495,12],[495,13,495,15],[497,0,498,0],[499,16,500,19],[502,1,503,3],[502,4,503,6],[502,7,503,9],[502,10,503,12],[502,13,503,15],[487,0,488,0],[477,0,478,0],[482,1,483,3],[482,4,483,6],[482,7,483,9],[482,10,483,12],[482,13,483,15],[492,1,493,3],[492,4,493,6],[492,7,493,9],[492,10,493,12],[492,13,493,15],[475,1,475,3],[475,4,475,6],[475,7,475,9],[475,10,475,12],[475,13,475,15],[485,1,485,3],[485,4,485,6],[485,7,485,9],[485,10,485,12],[485,13,485,15],[467,0,468,0],[457,0,458,0],[462,1,463,3],[462,4,463,6],[462,7,463,9],[462,10,463,12],[462,13,463,15],[472,1,473,3],[472,4,473,6],[472,7,473,9],[472,10,473,12],[472,13,473,15],[455,1,455,3],[455,4,455,6],[455,7,455,9],[455,10,455,12],[455,13,455,15],[465,1,465,3],[465,4,465,6],[465,7,465,9],[465,10,465,12],[465,13,465,15],[447,0,448,0],[437,0,438,0],[442,1,443,3],[442,4,443,6],[442,7,443,9],[442,10,443,12],[442,13,443,15],[452,1,453,3],[452,4,453,6],[452,7,453,9],[452,10,453,12],[452,13,453,15],[435,1,435,3],[435,4,435,6],[435,7,435,9],[435,10,435,12],[435,13,435,15],[445,1,445,3],[445,4,445,6],[445,7,445,9],[445,10,445,12],[445,13,445,15],[427,0,428,0],[419,16,420,19],[422,1,423,3],[422,4,423,6],[422,7,423,9],[422,10,423,12],[422,13,423,15],[432,1,433,3],[432,4,433,6],[432,7,433,9],[432,10,433,12],[432,13,433,15],[417,0,418,0],[407,0,408,0],[412,1,413,3],[412,4,413,6],[412,7,413,9],[412,10,413,12],[412,13,413,15],[425,1,425,3],[425,4,425,6],[425,7,425,9],[425,10,425,12],[425,13,425,15],[397,0,398,0],[402,1,403,3],[402,4,403,6],[402,7,403,9],[402,10,403,12],[402,13,403,15],[415,1,415,3],[415,4,415,6],[415,7,415,9],[415,10,415,12],[415,13,415,15],[395,1,395,3],[395,4,395,6],[395,7,395,9],[395,10,395,12],[395,13,395,15],[405,1,405,3],[405,4,405,6],[405,7,405,9],[405,10,405,12],[405,13,405,15],[387,0,388,0],[377,0,378,0],[382,1,383,3],[382,4,383,6],[382,7,383,9],[382,10,383,12],[382,13,383,15],[392,1,393,3],[392,4,393,6],[392,7,393,9],[392,10,393,12],[392,13,393,15],[375,1,375,3],[375,4,375,6],[375,7,375,9],[375,10,375,12],[375,13,375,15],[385,1,385,3],[385,4,385,6],[385,7,385,9],[385,10,385,12],[385,13,385,15],[367,0,368,0],[357,0,358,0],[362,1,363,3],[362,4,363,6],[362,7,363,9],[362,10,363,12],[362,13,363,15],[372,1,373,3],[372,4,373,6],[372,7,373,9],[372,10,373,12],[372,13,373,15],[355,1,355,3],[355,4,355,6],[355,7,355,9],[355,10,355,12],[355,13,355,15],[365,1,365,3],[365,4,365,6],[365,7,365,9],[365,10,365,12],[365,13,365,15],[347,0,348,0],[337,0,338,0],[339,16,340,19],[342,1,343,3],[342,4,343,6],[342,7,343,9],[342,10,343,12],[342,13,343,15],[352,1,353,3],[352,4,353,6],[352,7,353,9],[352,10,353,12],[352,13,353,15],[335,1,335,3],[335,4,335,6],[335,7,335,9],[335,10,335,12],[335,13,335,15],[345,1,345,3],[345,4,345,6],[345,7,345,9],[345,10,345,12],[345,13,345,15],[327,0,328,0],[317,0,318,0],[322,1,323,3],[322,4,323,6],[322,7,323,9],[322,10,323,12],[322,13,323,15],[332,1,333,3],[332,4,333,6],[332,7,333,9],[332,10,333,12],[332,13,333,15],[315,1,315,3],[315,4,315,6],[315,7,315,9],[315,10,315,12],[315,13,315,15],[325,1,325,3],[325,4,325,6],[325,7,325,9],[325,10,325,12],[325,13,325,15],[307,0,308,0],[297,0,298,0],[302,1,303,3],[302,4,303,6],[302,7,303,9],[302,10,303,12],[302,13,303,15],[312,1,313,3],[312,4,313,6],[312,7,313,9],[312,10,313,12],[312,13,313,15],[295,1,295,3],[295,4,295,6],[295,7,295,9],[295,10,295,12],[295,13,295,15],[305,1,305,3],[305,4,305,6],[305,7,305,9],[305,10,305,12],[305,13,305,15],[287,0,288,0],[277,0,278,0],[282,1,283,3],[282,4,283,6],[282,7,283,9],[282,10,283,12],[282,13,283,15],[292,1,293,3],[292,4,293,6],[292,7,293,9],[292,10,293,12],[292,13,293,15],[275,1,275,3],[275,4,275,6],[275,7,275,9],[275,10,275,12],[275,13,275,15],[285,1,285,3],[285,4,285,6],[285,7,285,9],[285,10,285,12],[285,13,285,15],[267,0,268,0],[257,0,258,0],[259,16,260,19],[262,1,263,3],[262,4,263,6],[262,7,263,9],[262,10,263,12],[262,13,263,15],[272,1,273,3],[272,4,273,6],[272,7,273,9],[272,10,273,12],[272,13,273,15],[255,1,255,3],[255,4,255,6],[255,7,255,9],[255,10,255,12],[255,13,255,15],[265,1,265,3],[265,4,265,6],[265,7,265,9],[265,10,265,12],[265,13,265,15],[247,0,248,0],[237,0,238,0],[242,1,243,3],[242,4,243,6],[242,7,243,9],[242,10,243,12],[242,13,243,15],[252,1,253,3],[252,4,253,6],[252,7,253,9],[252,10,253,12],[252,13,253,15],[235,1,235,3],[235,4,235,6],[235,7,235,9],[235,10,235,12],[235,13,235,15],[245,1,245,3],[245,4,245,6],[245,7,245,9],[245,10,245,12],[245,13,245,15],[227,0,228,0],[217,0,218,0],[222,1,223,3],[222,4,223,6],[222,7,223,9],[222,10,223,12],[222,13,223,15],[232,1,233,3],[232,4,233,6],[232,7,233,9],[232,10,233,12],[232,13,233,15],[215,1,215,3],[215,4,215,6],[215,7,215,9],[215,10,215,12],[215,13,215,15],[225,1,225,3],[225,4,225,6],[225,7,225,9],[225,10,225,12],[225,13,225,15],[207,0,208,0],[197,0,198,0],[202,1,203,3],[202,4,203,6],[202,7,203,9],[202,10,203,12],[202,13,203,15],[212,1,213,3],[212,4,213,6],[212,7,213,9],[212,10,213,12],[212,13,213,15],[195,1,195,3],[195,4,195,6],[195,7,195,9],[195,10,195,12],[195,13,195,15],[205,1,205,3],[205,4,205,6],[205,7,205,9],[205,10,205,12],[205,13,205,15],[187,0,188,0],[177,0,178,0],[179,16,180,19],[182,1,183,3],[182,4,183,6],[182,7,183,9],[182,10,183,12],[182,13,183,15],[192,1,193,3],[192,4,193,6],[192,7,193,9],[192,10,193,12],[192,13,193,15],[175,1,175,3],[175,4,175,6],[175,7,175,9],[175,10,175,12],[175,13,175,15],[185,1,185,3],[185,4,185,6],[185,7,185,9],[185,10,185,12],[185,13,185,15],[167,0,168,0],[157,0,158,0],[162,1,163,3],[162,4,163,6],[162,7,163,9],[162,10,163,12],[162,13,163,15],[172,1,173,3],[172,4,173,6],[172,7,173,9],[172,10,173,12],[172,13,173,15],[155,1,155,3],[155,4,155,6],[155,7,155,9],[155,10,155,12],[155,13,155,15],[165,1,165,3],[165,4,165,6],[165,7,165,9],[165,10,165,12],[165,13,165,15],[147,0,148,0],[137,0,138,0],[142,1,143,3],[142,4,143,6],[142,7,143,9],[142,10,143,12],[142,13,143,15],[152,1,153,3],[152,4,153,6],[152,7,153,9],[152,10,153,12],[152,13,153,15],[135,1,135,3],[135,4,135,6],[135,7,135,9],[135,10,135,12],[135,13,135,15],[145,1,145,3],[145,4,145,6],[145,7,145,9],[145,10,145,12],[145,13,145,15],[127,0,128,0],[117,0,118,0],[122,1,123,3],[122,4,123,6],[122,7,123,9],[122,10,123,12],[122,13,123,15],[132,1,133,3],[132,4,133,6],[132,7,133,9],[132,10,133,12],[132,13,133,15],[115,1,115,3],[115,4,115,6],[115,7,115,9],[115,10,115,12],[115,13,115,15],[125,1,125,3],[125,4,125,6],[125,7,125,9],[125,10,125,12],[125,13,125,15],[107,0,108,0],[97,0,98,0],[99,16,100,19],[102,1,103,3],[102,4,103,6],[102,7,103,9],[102,10,103,12],[102,13,103,15],[112,1,113,3],[112,4,113,6],[112,7,113,9],[112,10,113,12],[112,13,113,15],[95,1,95,3],[95,4,95,6],[95,7,95,9],[95,10,95,12],[95,13,95,15],[105,1,105,3],[105,4,105,6],[105,7,105,9],[105,10,105,12],[105,13,105,15],[87,0,88,0],[77,0,78,0],[82,1,83,3],[82,4,83,6],[82,7,83,9],[82,10,83,12],[82,13,83,15],[92,1,93,3],[92,4,93,6],[92,7,93,9],[92,10,93,12],[92,13,93,15],[75,1,75,3],[75,4,75,6],[75,7,75,9],[75,10,75,12],[75,13,75,15],[85,1,85,3],[85,4,85,6],[85,7,85,9],[85,10,85,12],[85,13,85,15],[67,0,68,0],[57,0,58,0],[62,1,63,3],[62,4,63,6],[62,7,63,9],[62,10,63,12],[62,13,63,15],[72,1,73,3],[72,4,73,6],[72,7,73,9],[72,10,73,12],[72,13,73,15],[55,1,55,3],[55,4,55,6],[55,7,55,9],[55,10,55,12],[55,13,55,15],[65,1,65,3],[65,4,65,6],[65,7,65,9],[65,10,65,12],[65,13,65,15],[47,0,48,0],[37,0,38,0],[42,1,43,3],[42,4,43,6],[42,7,43,9],[42,10,43,12],[42,13,43,15],[52,1,53,3],[52,4,53,6],[52,7,53,9],[52,10,53,12],[52,13,53,15],[35,1,35,3],[35,4,35,6],[35,7,35,9],[35,10,35,12],[35,13,35,15],[45,1,45,3],[45,4,45,6],[45,7,45,9],[45,10,45,12],[45,13,45,15],[5,10,5,12],[5,13,5,15],[15,1,15,3],[15,4,15,6],[32,1,33,3],[32,4,33,6],[32,7,33,9],[32,10,33,12],[32,13,33,15],[25,1,25,3],[25,4,25,6],[25,7,25,9],[25,10,25,12],[25,13,25,15],[15,7,15,9],[15,10,15,12],[15,13,15,15],[1,1,2,7],[1,13,2,15],[3,1,3,3],[1,9,2,12],[27,0,28,0],[22,1,23,3],[22,4,23,6],[22,7,23,9],[22,10,23,12],[22,13,23,15],[3,4,3,6],[3,7,3,9],[3,10,3,12],[3,13,3,15],[17,0,18,0],[7,0,8,0],[12,1,13,3],[12,4,13,6],[12,7,13,9],[12,10,13,12],[12,13,13,15],[5,1,5,3],[5,4,5,6],[5,7,5,9]]}
[]
[null,{"$f":"'1-2a'!B2:H3","v":"Basisschool De Grote Beer        schooljaar 2020/2021"},null,null,null,null,null,null,null,"Groepsplanner van groep:",null,null,null,"2"]
[]
[null,"maandag 1e schoolweek",null,null,"dinsdag",null,null,"woensdag",null,null,"donderdag",null,null,"vrijdag"]
[null,null,{"$f":"'1-2a'!C$5","v":0},null,null,{"$f":"'1-2a'!F5","v":0},null,null,{"$f":"'1-2a'!I$5","v":0},null,null,{"$f":"'1-2a'!L$5","v":"s"},null,null,{"$f":"'1-2a'!O$5","v":0}]
[{"$f":"(B6-WEEKDAY(B6-1)+4-(TRUNC(DATE(YEAR(B6-WEEKDAY(B6-1)+4),1,2)/7)*7-2))/7","v":32},{"$f":"'1-2a'!B6:D6","v":"2020-08-03"},null,null,{"$f":"B6+1","v":"2020-08-04"},null,null,{"$f":"E6+1","v":"2020-08-05"},null,null,{"$f":"H6+1","v":"2020-08-06"},null,null,{"$f":"K6+1","v":"2020-08-07"}]
[]
[1]
[]
[]
[]
[]
[]
[]
[null,null,{"$f":"'1-2a'!C$15","v":0},null,null,{"$f":"'1-2a'!F$15","v":0},null,null,{"$f":"'1-2a'!I$15","v":0},null,null,{"$f":"'1-2a'!L$15","v":0},null,null,{"$f":"'1-2a'!O15","v":0}]
[{"$f":"IF(A6=52,1,A6+1)","v":33},{"$f":"N6+3","v":"2020-08-10"},null,null,{"$f":"B16+1","v":"2020-08-11"},null,null,{"$f":"E16+1","v":"2020-08-12"},null,null,{"$f":"H16+1","v":"2020-08-13"},null,null,{"$f":"K16+1","v":"2020-08-14"}]
[null,{"$f":"B7","v":0},null,null,{"$f":"E7","v":0},null,null,{"$f":"H7","v":0},null,null,{"$f":"K7","v":0},null,null,{"$f":"N7","v":0}]
[2,0,null,null,0,null,null,0,null,null,0,null,null,0]
[null,0,null,null,0,null,null,0,null,null,0,null,null,0]
[null,0,null,null,0,null,null,0,null,null,0,null,null,0]
[null,0,null,null,0,null,null,0,null,null,0,null,null,0]
[null,0,null,null,0,null,null,0,null,null,0,null,null,0]
[]
[]
[null,null,{"$f":"'1-2a'!C$25","v":0},null,null,{"$f":"'1-2a'!F$25","v":0},null,null,{"$f":"'1-2a'!I25","v":0},null,null,{"$f":"'1-2a'!L25","v":0},null,null,{"$f":"'1-2a'!O25","v":0}]
[{"$f":"IF(A16=52,1,A16+1)","v":34},{"$f":"N16+3","v":"2020-08-17"},null,null,{"$f":"B26+1","v":"2020-08-18"},null,null,{"$f":"E26+1","v":"2020-08-19"},null,null,{"$f":"H26+1","v":"2020-08-20"},null,null,{"$f":"K26+1","v":"2020-08-21"}]
[null,{"$f":"B17","v":0},null,null,{"$f":"E17","v":0},null,null,{"$f":"H17","v":0},null,null,{"$f":"K17","v":0},null,null,{"$f":"N17","v":0}]
[3,0,null,null,0,null,null,0,null,null,0,null,null,0]
[null,0,null,null,0,null,null,0,null,null,0,null,null,0]
[null,0,null,null,0,null,null,0,null,null,0,null,null,0]
[null,0,null,null,0,null,null,0,null,null,{"$f":"K21","v":0},null,null,0]
[null,0,null,null,0,null,null,0,null,null,0,null,null,0]
[]
[]
[null,null,{"$f":"'1-2a'!$C$35","v":0},null,null,{"$f":"'1-2a'!$F$35","v":0},null,null,{"$f":"'1-2a'!$I$35","v":0},null,null,{"$f":"'1-2a'!$L$35","v":0},null,null,{"$f":"'1-2a'!$O$35","v":0}]
[{"$f":"IF(A26=52,1,A26+1)","v":35},{"$f":"N26+3","v":"2020-08-24"},null,null,{"$f":"B36+1","v":"2020-08-25"},null,null,{"$f":"E36+1","v":"2020-08-26"},null,null,{"$f":"H36+1","v":"2020-08-27"},null,null,{"$f":"K36+1","v":"2020-08-28"}]
[null,{"$f":"B27","v":0},null,null,{"$f":"E27","v":0},null,null,{"$f":"H27","v":0},null,null,{"$f":"K27","v":0},null,null,{"$f":"N27","v":0}]
[4,0,null,null,0,null,null,0,null,null,0,null,null,0]
[null,0,null,null,0,null,null,0,null,null,0,null,null,0]
[null,0,null,null,0,null,null,0,null,null,0,null,null,0]
[null,0,null,null,0,null,null,0,null,null,{"$f":"K31","v":0},null,null,0]
[null,0,null,null,0,null,null,0,null,null,0,null,null,0]
[]
[]
[null,null,{"$f":"'1-2a'!$C$45","v":0},null,null,{"$f":"'1-2a'!$F$45","v":0},null,null,{"$f":"'1-2a'!$I$45","v":0},null,null,{"$f":"'1-2a'!$L$45","v":0},null,null,{"$f":"'1-2a'!$O$45","v":0}]
[{"$f":"IF(A36=52,1,A36+1)","v":36},{"$f":"N36+3","v":"2020-08-31"},null,null,{"$f":"B46+1","v":"2020-09-01"},null,null,{"$f":"E46+1","v":"2020-09-02"},null,null,{"$f":"H46+1","v":"2020-09-03"},null,null,{"$f":"K46+1","v":"2020-09-04"}]
[null,{"$f":"B37","v":0},null,null,{"$f":"E37","v":0},null,null,{"$f":"H37","v":0},null,null,{"$f":"K37","v":0},null,null,{"$f":"N37","v":0}]
[5,0,null,null,0,null,null,0,null,null,0,null,null,0]
[null,0,null,null,0,null,null,0,null,null,0,null,null,0]
[null,0,null,null,0,null,null,0,null,null,0,null,null,0]
[null,0,null,null,0,null,null,0,null,null,{"$f":"K41","v":0},null,null,0]
[null,0,null,null,0,null,null,0,null,null,0,null,null,0]
[]
[]
[null,null,{"$f":"'1-2a'!$C$55","v":0},null,null,{"$f":"'1-2a'!$F$55","v":0},null,null,{"$f":"'1-2a'!$I$55","v":0},null,null,{"$f":"'1-2a'!$L$55","v":0},null,null,{"$f":"'1-2a'!O55","v":0}]
[{"$f":"IF(A46=52,1,A46+1)","v":37},{"$f":"N46+3","v":"2020-09-07"},null,null,{"$f":"B56+1","v":"2020-09-08"},null,null,{"$f":"E56+1","v":"2020-09-09"},null,null,{"$f":"H56+1","v":"2020-09-10"},null,null,{"$f":"K56+1","v":"2020-09-11"}]
[null,{"$f":"B47","v":0},null,null,{"$f":"E47","v":0},null,null,{"$f":"H47","v":0},null,null,{"$f":"K47","v":0},null,null,{"$f":"N47","v":0}]
[6,0,null,null,0,null,null,0,null,null,0,null,null,0]
[null,0,null,null,0,null,null,0,null,null,0,null,null,0]
[null,0,null,null,0,null,null,0,null,null,0,null,null,0]
[null,0,null,null,0,null,null,0,null,null,{"$f":"K51","v":0},null,null,0]
[null,0,null,null,0,null,null,0,null,null,0,null,null,0]
[]
[]
[null,null,{"$f":"'1-2a'!$C$65","v":0},null,null,{"$f":"'1-2a'!$F$65","v":0},null,null,{"$f":"'1-2a'!$I$65","v":0},null,null,{"$f":"'1-2a'!$L$65","v":0},null,null,{"$f":"'1-2a'!$O$65","v":0}]
[{"$f":"IF(A56=52,1,A56+1)","v":38},{"$f":"N56+3","v":"2020-09-14"},null,null,{"$f":"B66+1","v":"2020-09-15"},null,null,{"$f":"E66+1","v":"2020-09-16"},null,null,{"$f":"H66+1","v":"2020-09-17"},null,null,{"$f":"K66+1","v":"2020-09-18"}]
[null,{"$f":"B57","v":0},null,null,{"$f":"E57","v":0},null,null,{"$f":"H57","v":0},null,null,{"$f":"K57","v":0},null,null,{"$f":"N57","v":0}]
[7,0,null,null,0,null,null,0,null,null,0,null,null,0]
[null,0,null,null,0,null,null,0,null,null,0,null,null,0]
[null,0,null,null,0,null,null,0,null,null,0,null,null,0]
[null,0,null,null,0,null,null,0,null,null,{"$f":"K61","v":0},null,null,0]
[null,0,null,null,0,null,null,0,null,null,0,null,null,0]
[]
[]
[null,null,{"$f":"'1-2a'!$C$75","v":0},null,null,{"$f":"'1-2a'!$F$75","v":0},null,null,{"$f":"'1-2a'!$I$75","v":0},null,null,{"$f":"'1-2a'!$L$75","v":0},null,null,{"$f":"'1-2a'!$O$75","v":0}]
[{"$f":"IF(A66=52,1,A66+1)","v":39},{"$f":"N66+3","v":"2020-09-21"},null,null,{"$f":"B76+1","v":"2020-09-22"},null,null,{"$f":"E76+1","v":"2020-09-23"},null,null,{"$f":"H76+1","v":"2020-09-24"},null,null,{"$f":"K76+1","v":"2020-09-25"}]
[null,{"$f":"B67","v":0},null,null,{"$f":"E67","v":0},null,null,{"$f":"H67","v":0},null,null,{"$f":"K67","v":0},null,null,{"$f":"N67","v":0}]
[8,0,null,null,0,null,null,0,null,null,0,null,null,0]
[null,0,null,null,0,null,null,0,null,null,0,null,null,0]
[null,0,null,null,0,null,null,0,null,null,0,null,null,0]
[null,0,null,null,0,null,null,0,null,null,{"$f":"K71","v":0},null,null,0]
[null,0,null,null,0,null,null,0,null,null,0,null,null,0]
[]
[]
[null,null,{"$f":"'1-2a'!$C$85","v":0},null,null,{"$f":"'1-2a'!$F$85","v":0},null,null,{"$f":"'1-2a'!$I$85","v":0},null,null,{"$f":"'1-2a'!$L$85","v":0},null,null,{"$f":"'1-2a'!$O$85","v":0}]
[{"$f":"IF(A76=52,1,A76+1)","v":40},{"$f":"N76+3","v":"2020-09-28"},null,null,{"$f":"B86+1","v":"2020-09-29"},null,null,{"$f":"E86+1","v":"2020-09-30"},null,null,{"$f":"H86+1","v":"2020-10-01"},null,null,{"$f":"K86+1","v":"2020-10-02"}]
[null,{"$f":"B77","v":0},null,null,{"$f":"E77","v":0},null,null,{"$f":"H77","v":0},null,null,{"$f":"K77","v":0},null,null,{"$f":"N77","v":0}]
[9,0,null,null,0,null,null,0,null,null,0,null,null,0]
[null,0,null,null,0,null,null,0,null,null,0,null,null,0]
[null,0,null,null,0,null,null,0,null,null,0,null,null,0]
[null,0,null,null,0,null,null,0,null,null,0,null,null,0]
[null,0,null,null,0,null,null,0,null,null,0,null,null,0]
[]
[]
[null,null,{"$f":"'1-2a'!$C$95","v":0},null,null,{"$f":"'1-2a'!$F$95","v":0},null,null,{"$f":"'1-2a'!$I$95","v":0},null,null,{"$f":"'1-2a'!$L$95","v":0},null,null,{"$f":"'1-2a'!$O$95","v":0}]
[{"$f":"IF(A86=52,1,A86+1)","v":41},{"$f":"N86+3","v":"2020-10-05"},null,null,{"$f":"B96+1","v":"2020-10-06"},null,null,{"$f":"E96+1","v":"2020-10-07"},null,null,{"$f":"H96+1","v":"2020-10-08"},null,null,{"$f":"K96+1","v":"2020-10-09"}]
[null,{"$f":"B87","v":0},null,null,{"$f":"E87","v":0},null,null,{"$f":"H87","v":0},null,null,{"$f":"K87","v":0},null,null,{"$f":"N87","v":0}]
[10,0,null,null,0,null,null,0,null,null,0,null,null,0]
[null,0,null,null,0,null,null,0,null,null,0,null,null,0]
[null,0,null,null,0,null,null,0,null,null,0,null,null,0]
[null,0,null,null,0,null,null,0,null,null,{"$f":"K91","v":0},null,null,0]
[null,0,null,null,0,null,null,0,null,null,0,null,null,0]
[]
[]
[null,null,{"$f":"'1-2a'!$C$105","v":0},null,null,{"$f":"'1-2a'!$F$105","v":0},null,null,{"$f":"'1-2a'!$I$105","v":0},null,null,{"$f":"'1-2a'!$L$105","v":0},null,null,{"$f":"'1-2a'!$O$105","v":0}]
[{"$f":"IF(A96=52,1,A96+1)","v":42},{"$f":"N96+3","v":"2020-10-12"},null,null,{"$f":"B106+1","v":"2020-10-13"},null,null,{"$f":"E106+1","v":"2020-10-14"},null,null,{"$f":"H106+1","v":"2020-10-15"},null,null,{"$f":"K106+1","v":"2020-10-16"}]
[null,{"$f":"B97","v":0},null,null,{"$f":"E97","v":0},null,null,{"$f":"H97","v":0},null,null,{"$f":"K97","v":0},null,null,{"$f":"N97","v":0}]
[11,0,null,null,0,null,null,0,null,null,0,null,null,0]
[null,0,null,null,0,null,null,0,null,null,0,null,null,0]
[null,0,null,null,0,null,null,0,null,null,0,null,null,0]
[null,0,null,null,0,null,null,0,null,null,{"$f":"K101","v":0},null,null,0]
[null,0,null,null,0,null,null,0,null,null,0,null,null,0]
[]
[]
[null,null,{"$f":"'1-2a'!$C$115","v":0},null,null,{"$f":"'1-2a'!$F$115","v":0},null,null,{"$f":"'1-2a'!$I$115","v":0},null,null,{"$f":"'1-2a'!$L$115","v":0},null,null,{"$f":"'1-2a'!$O$115","v":0}]
[{"$f":"IF(A106=52,1,A106+1)","v":43},{"$f":"N106+3","v":"2020-10-19"},null,null,{"$f":"B116+1","v":"2020-10-20"},null,null,{"$f":"E116+1","v":"2020-10-21"},null,null,{"$f":"H116+1","v":"2020-10-22"},null,null,{"$f":"K116+1","v":"2020-10-23"}]
[null,{"$f":"B107","v":0},null,null,{"$f":"E107","v":0},null,null,{"$f":"H107","v":0},null,null,{"$f":"K107","v":0},null,null,{"$f":"N107","v":0}]
[12,0,null,null,0,null,null,0,null,null,0,null,null,0]
[null,0,null,null,0,null,null,0,null,null,0,null,null,0]
[null,0,null,null,0,null,null,0,null,null,0,null,null,0]
[null,0,null,null,0,null,null,0,null,null,{"$f":"K111","v":0},null,null,0]
[null,0,null,null,0,null,null,0,null,null,0,null,null,0]
[]
[]
[null,null,{"$f":"'1-2a'!$C$125","v":0},null,null,{"$f":"'1-2a'!$F$125","v":0},null,null,{"$f":"'1-2a'!$I$125","v":0},null,null,{"$f":"'1-2a'!$L$125","v":0},null,null,{"$f":"'1-2a'!$O$125","v":0}]
[{"$f":"IF(A116=52,1,A116+1)","v":44},{"$f":"N116+3","v":"2020-10-26"},null,null,{"$f":"B126+1","v":"2020-10-27"},null,null,{"$f":"E126+1","v":"2020-10-28"},null,null,{"$f":"H126+1","v":"2020-10-29"},null,null,{"$f":"K126+1","v":"2020-10-30"}]
[null,{"$f":"B117","v":0},null,null,{"$f":"E117","v":0},null,null,{"$f":"H117","v":0},null,null,{"$f":"K117","v":0},null,null,{"$f":"N117","v":0}]
[13,0,null,null,0,null,null,0,null,null,0,null,null,0]
[null,0,null,null,0,null,null,0,null,null,0,null,null,0]
[null,0,null,null,0,null,null,0,null,null,0,null,null,0]
[null,0,null,null,0,null,null,0,null,null,{"$f":"K121","v":0},null,null,0]
[null,0,null,null,0,null,null,0,null,null,0,null,null,0]
[]
[]
[null,null,{"$f":"'1-2a'!$C$135","v":0},null,null,{"$f":"'1-2a'!$F$135","v":0},null,null,{"$f":"'1-2a'!$I$135","v":0},null,null,{"$f":"'1-2a'!$L$135","v":0},null,null,{"$f":"'1-2a'!$O$135","v":0}]
[{"$f":"IF(A126=52,1,A126+1)","v":45},{"$f":"N126+3","v":"2020-11-02"},null,null,{"$f":"B136+1","v":"2020-11-03"},null,null,{"$f":"E136+1","v":"2020-11-04"},null,null,{"$f":"H136+1","v":"2020-11-05"},null,null,{"$f":"K136+1","v":"2020-11-06"}]
[null,{"$f":"B127","v":0},null,null,{"$f":"E127","v":0},null,null,{"$f":"H127","v":0},null,null,{"$f":"K127","v":0},null,null,{"$f":"N127","v":0}]
[14,0,null,null,0,null,null,0,null,null,0,null,null,0]
[null,0,null,null,0,null,null,0,null,null,0,null,null,0]
[null,0,null,null,0,null,null,0,null,null,0,null,null,0]
[null,0,null,null,0,null,null,0,null,null,{"$f":"K131","v":0},null,null,0]
[null,0,null,null,0,null,null,0,null,null,0,null,null,0]
[]
[]
[null,null,{"$f":"'1-2a'!$C$145","v":0},null,null,{"$f":"'1-2a'!$F$145","v":0},null,null,{"$f":"'1-2a'!$I$145","v":0},null,null,{"$f":"'1-2a'!$L$145","v":0},null,null,{"$f":"'1-2a'!$O$145","v":0}]
[{"$f":"IF(A136=52,1,A136+1)","v":46},{"$f":"N136+3","v":"2020-11-09"},null,null,{"$f":"B146+1","v":"2020-11-10"},null,null,{"$f":"E146+1","v":"2020-11-11"},null,null,{"$f":"H146+1","v":"2020-11-12"},null,null,{"$f":"K146+1","v":"2020-11-13"}]
[null,{"$f":"B137","v":0},null,null,{"$f":"E137","v":0},null,null,{"$f":"H137","v":0},null,null,{"$f":"K137","v":0},null,null,{"$f":"N137","v":0}]
[15,0,null,null,0,null,null,0,null,null,0,null,null,0]
[null,0,null,null,0,null,null,0,null,null,0,null,null,0]
[null,0,null,null,0,null,null,0,null,null,0,null,null,0]
[null,0,null,null,0,null,null,0,null,null,{"$f":"K141","v":0},null,null,0]
[null,0,null,null,0,null,null,0,null,null,0,null,null,0]
[]
[]
[null,null,{"$f":"'1-2a'!$C$155","v":0},null,null,{"$f":"'1-2a'!$F$155","v":0},null,null,{"$f":"'1-2a'!$I$155","v":0},null,null,{"$f":"'1-2a'!$L$155","v":0},null,null,{"$f":"'1-2a'!$O$155","v":0}]
[{"$f":"IF(A146=52,1,A146+1)","v":47},{"$f":"N146+3","v":"2020-11-16"},null,null,{"$f":"B156+1","v":"2020-11-17"},null,null,{"$f":"E156+1","v":"2020-11-18"},null,null,{"$f":"H156+1","v":"2020-11-19"},null,null,{"$f":"K156+1","v":"2020-11-20"}]
[null,{"$f":"B147","v":0},null,null,{"$f":"E147","v":0},null,null,{"$f":"H147","v":0},null,null,{"$f":"K147","v":0},null,null,{"$f":"N147","v":0}]
[16,0,null,null,0,null,null,0,null,null,0,null,null,0]
[null,0,null,null,0,null,null,0,null,null,0,null,null,0]
[null,0,null,null,0,null,null,0,null,null,0,null,null,0]
[null,0,null,null,0,null,null,0,null,null,{"$f":"K151","v":0},null,null,0]
[null,0,null,null,0,null,null,0,null,null,0,null,null,0]
[]
[]
[null,null,{"$f":"'1-2a'!$C$165","v":0},null,null,{"$f":"'1-2a'!$F$165","v":0},null,null,{"$f":"'1-2a'!$I$165","v":0},null,null,{"$f":"'1-2a'!$L$165","v":0},null,null,{"$f":"'1-2a'!$O$165","v":0}]
[{"$f":"IF(A156=52,1,A156+1)","v":48},{"$f":"N156+3","v":"2020-11-23"},null,null,{"$f":"B166+1","v":"2020-11-24"},null,null,{"$f":"E166+1","v":"2020-11-25"},null,null,{"$f":"H166+1","v":"2020-11-26"},null,null,{"$f":"K166+1","v":"2020-11-27"}]
[null,{"$f":"B157","v":0},null,null,{"$f":"E157","v":0},null,null,{"$f":"H157","v":0},null,null,{"$f":"K157","v":0},null,null,{"$f":"N157","v":0}]
[17,0,null,null,0,null,null,0,null,null,0,null,null,0]
[null,0,null,null,0,null,null,0,null,null,0,null,null,0]
[null,0,null,null,0,null,null,0,null,null,0,null,null,0]
[null,0,null,null,0,null,null,0,null,null,0,null,null,0]
[null,0,null,null,0,null,null,0,null,null,0,null,null,0]
[]
[]
[null,null,{"$f":"'1-2a'!$C$175","v":0},null,null,{"$f":"'1-2a'!$F$175","v":0},null,null,{"$f":"'1-2a'!$I$175","v":0},null,null,{"$f":"'1-2a'!$L$175","v":0},null,null,{"$f":"'1-2a'!$O$175","v":0}]
[{"$f":"IF(A166=52,1,A166+1)","v":49},{"$f":"N166+3","v":"2020-11-30"},null,null,{"$f":"B176+1","v":"2020-12-01"},null,null,{"$f":"E176+1","v":"2020-12-02"},null,null,{"$f":"H176+1","v":"2020-12-03"},null,null,{"$f":"K176+1","v":"2020-12-04"}]
[null,{"$f":"B167","v":0},null,null,{"$f":"E167","v":0},null,null,{"$f":"H167","v":0},null,null,{"$f":"K167","v":0},null,null,{"$f":"N167","v":0}]
[18,0,null,null,0,null,null,0,null,null,0,null,null,0]
[null,0,null,null,0,null,null,0,null,null,0,null,null,0]
[null,0,null,null,0,null,null,0,null,null,0,null,null,0]
[null,0,null,null,0,null,null,0,null,null,{"$f":"K171","v":0},null,null,0]
[null,0,null,null,0,null,null,0,null,null,0,null,null,0]
[]
[]
[null,null,{"$f":"'1-2a'!$C$185","v":0},null,null,{"$f":"'1-2a'!$F$185","v":0},null,null,{"$f":"'1-2a'!$I$185","v":0},null,null,{"$f":"'1-2a'!$L$185","v":0},null,null,{"$f":"'1-2a'!$O$185","v":0}]
[{"$f":"IF(A176=52,1,A176+1)","v":50},{"$f":"N176+3","v":"2020-12-07"},null,null,{"$f":"B186+1","v":"2020-12-08"},null,null,{"$f":"E186+1","v":"2020-12-09"},null,null,{"$f":"H186+1","v":"2020-12-10"},null,null,{"$f":"K186+1","v":"2020-12-11"}]
[null,{"$f":"B177","v":0},null,null,{"$f":"E177","v":0},null,null,{"$f":"H177","v":0},null,null,{"$f":"K177","v":0},null,null,{"$f":"N177","v":0}]
[19,0,null,null,0,null,null,0,null,null,0,null,null,0]
[null,0,null,null,0,null,null,0,null,null,0,null,null,0]
[null,0,null,null,0,null,null,0,null,null,0,null,null,0]
[null,0,null,null,0,null,null,0,null,null,{"$f":"K181","v":0},null,null,0]
[null,0,null,null,0,null,null,0,null,null,0,null,null,0]
[]
[]
[null,null,{"$f":"'1-2a'!$C$195","v":0},null,null,{"$f":"'1-2a'!$F$195","v":0},null,null,{"$f":"'1-2a'!$I$195","v":0},null,null,{"$f":"'1-2a'!$L$195","v":0},null,null,{"$f":"'1-2a'!$O$195","v":0}]
[{"$f":"IF(A186=52,1,A186+1)","v":51},{"$f":"N186+3","v":"2020-12-14"},null,null,{"$f":"B196+1","v":"2020-12-15"},null,null,{"$f":"E196+1","v":"2020-12-16"},null,null,{"$f":"H196+1","v":"2020-12-17"},null,null,{"$f":"K196+1","v":"2020-12-18"}]
[null,{"$f":"B187","v":0},null,null,{"$f":"E187","v":0},null,null,{"$f":"H187","v":0},null,null,{"$f":"K187","v":0},null,null,{"$f":"N187","v":0}]
[20,0,null,null,0,null,null,0,null,null,0,null,null,0]
[null,0,null,null,0,null,null,0,null,null,0,null,null,0]
[null,0,null,null,0,null,null,0,null,null,0,null,null,0]
[null,0,null,null,0,null,null,0,null,null,{"$f":"K191","v":0},null,null,0]
[null,0,null,null,0,null,null,0,null,null,0,null,null,0]
[]
[]
[null,null,{"$f":"'1-2a'!$C$205","v":0},null,null,{"$f":"'1-2a'!$F$205","v":0},null,null,{"$f":"'1-2a'!$I$205","v":0},null,null,{"$f":"'1-2a'!$L$205","v":0},null,null,{"$f":"'1-2a'!$O$205","v":0}]
[{"$f":"IF(A196=52,1,A196+1)","v":52},{"$f":"N196+3","v":"2020-12-21"},null,null,{"$f":"B206+1","v":"2020-12-22"},null,null,{"$f":"E206+1","v":"2020-12-23"},null,null,{"$f":"H206+1","v":"2020-12-24"},null,null,{"$f":"K206+1","v":"2020-12-25"}]
[null,{"$f":"B197","v":0},null,null,{"$f":"E197","v":0},null,null,{"$f":"H197","v":0},null,null,{"$f":"K197","v":0},null,null,{"$f":"N197","v":0}]
[21,0,null,null,0,null,null,0,null,null,0,null,null,0]
[null,0,null,null,0,null,null,0,null,null,0,null,null,0]
[null,0,null,null,0,null,null,0,null,null,0,null,null,0]
[null,0,null,null,0,null,null,0,null,null,{"$f":"K201","v":0},null,null,0]
[null,0,null,null,0,null,null,0,null,null,0,null,null,0]
[]
[]
[null,null,{"$f":"'1-2a'!$C$215","v":0},null,null,{"$f":"'1-2a'!$F$215","v":0},null,null,{"$f":"'1-2a'!$I$215","v":0},null,null,{"$f":"'1-2a'!$L$215","v":0},null,null,{"$f":"'1-2a'!$O$215","v":0}]
[{"$f":"IF(A206=52,1,A206+1)","v":1},{"$f":"N206+3","v":"2020-12-28"},null,null,{"$f":"B216+1","v":"2020-12-29"},null,null,{"$f":"E216+1","v":"2020-12-30"},null,null,{"$f":"H216+1","v":"2020-12-31"},null,null,{"$f":"K216+1","v":"2021-01-01"}]
[null,{"$f":"B207","v":0},null,null,{"$f":"E207","v":0},null,null,{"$f":"H207","v":0},null,null,{"$f":"K207","v":0},null,null,{"$f":"N207","v":0}]
[22,0,null,null,0,null,null,0,null,null,0,null,null,0]
[null,0,null,null,0,null,null,0,null,null,0,null,null,0]
[null,0,null,null,0,null,null,0,null,null,0,null,null,0]
[null,0,null,null,0,null,null,0,null,null,{"$f":"K211","v":0},null,null,0]
[null,0,null,null,0,null,null,0,null,null,0,null,null,0]
[]
[]
[null,null,{"$f":"'1-2a'!$C$225","v":0},null,null,{"$f":"'1-2a'!$F$225","v":0},null,null,{"$f":"'1-2a'!$I$225","v":0},null,null,{"$f":"'1-2a'!$L$225","v":0},null,null,{"$f":"'1-2a'!$O$225","v":0}]
[{"$f":"IF(A216=52,1,A216+1)","v":2},{"$f":"N216+3","v":"2021-01-04"},null,null,{"$f":"B226+1","v":"2021-01-05"},null,null,{"$f":"E226+1","v":"2021-01-06"},null,null,{"$f":"H226+1","v":"2021-01-07"},null,null,{"$f":"K226+1","v":"2021-01-08"}]
[null,{"$f":"B217","v":0},null,null,{"$f":"E217","v":0},null,null,{"$f":"H217","v":0},null,null,{"$f":"K217","v":0},null,null,{"$f":"N217","v":0}]
[23,0,null,null,0,null,null,0,null,null,0,null,null,0]
[null,0,null,null,0,null,null,0,null,null,0,null,null,0]
[null,0,null,null,0,null,null,0,null,null,0,null,null,0]
[null,0,null,null,0,null,null,0,null,null,{"$f":"K221","v":0},null,null,0]
[null,0,null,null,0,null,null,0,null,null,0,null,null,0]
[]
[]
[null,null,{"$f":"'1-2a'!$C$235","v":0},null,null,{"$f":"'1-2a'!$F$235","v":0},null,null,{"$f":"'1-2a'!$I$235","v":0},null,null,{"$f":"'1-2a'!$L$235","v":0},null,null,{"$f":"'1-2a'!$O$235","v":0}]
[{"$f":"IF(A226=52,1,A226+1)","v":3},{"$f":"N226+3","v":"2021-01-11"},null,null,{"$f":"B236+1","v":"2021-01-12"},null,null,{"$f":"E236+1","v":"2021-01-13"},null,null,{"$f":"H236+1","v":"2021-01-14"},null,null,{"$f":"K236+1","v":"2021-01-15"}]
[null,{"$f":"B227","v":0},null,null,{"$f":"E227","v":0},null,null,{"$f":"H227","v":0},null,null,{"$f":"K227","v":0},null,null,{"$f":"N227","v":0}]
[24,0,null,null,0,null,null,0,null,null,0,null,null,0]
[null,0,null,null,0,null,null,0,null,null,0,null,null,0]
[null,0,null,null,0,null,null,0,null,null,0,null,null,0]
[null,0,null,null,0,null,null,0,null,null,{"$f":"K231","v":0},null,null,0]
[null,0,null,null,0,null,null,0,null,null,0,null,null,0]
[]
[]
[null,null,{"$f":"'1-2a'!$C$245","v":0},null,null,{"$f":"'1-2a'!$F$245","v":0},null,null,{"$f":"'1-2a'!$I$245","v":0},null,null,{"$f":"'1-2a'!$L$245","v":0},null,null,{"$f":"'1-2a'!$O$245","v":0}]
[{"$f":"IF(A236=52,1,A236+1)","v":4},{"$f":"N236+3","v":"2021-01-18"},null,null,{"$f":"B246+1","v":"2021-01-19"},null,null,{"$f":"E246+1","v":"2021-01-20"},null,null,{"$f":"H246+1","v":"2021-01-21"},null,null,{"$f":"K246+1","v":"2021-01-22"}]
[null,{"$f":"B237","v":0},null,null,{"$f":"E237","v":0},null,null,{"$f":"H237","v":0},null,null,{"$f":"K237","v":0},null,null,{"$f":"N237","v":0}]
[25,0,null,null,0,null,null,0,null,null,0,null,null,0]
[null,0,null,null,0,null,null,0,null,null,0,null,null,0]
[null,0,null,null,0,null,null,0,null,null,0,null,null,0]
[null,0,null,null,0,null,null,0,null,null,0,null,null,0]
[null,0,null,null,0,null,null,0,null,null,0,null,null,0]
[]
[]
[null,null,{"$f":"'1-2a'!$C$255","v":0},null,null,{"$f":"'1-2a'!$F$255","v":0},null,null,{"$f":"'1-2a'!$I$255","v":0},null,null,{"$f":"'1-2a'!$L$255","v":0},null,null,{"$f":"'1-2a'!$O$255","v":0}]
[{"$f":"IF(A246=52,1,A246+1)","v":5},{"$f":"N246+3","v":"2021-01-25"},null,null,{"$f":"B256+1","v":"2021-01-26"},null,null,{"$f":"E256+1","v":"2021-01-27"},null,null,{"$f":"H256+1","v":"2021-01-28"},null,null,{"$f":"K256+1","v":"2021-01-29"}]
[null,{"$f":"B247","v":0},null,null,{"$f":"E247","v":0},null,null,{"$f":"H247","v":0},null,null,{"$f":"K247","v":0},null,null,{"$f":"N247","v":0}]
[26,0,null,null,0,null,null,0,null,null,0,null,null,0]
[null,0,null,null,0,null,null,0,null,null,0,null,null,0]
[null,0,null,null,0,null,null,0,null,null,0,null,null,0]
[null,0,null,null,0,null,null,0,null,null,{"$f":"K251","v":0},null,null,0]
[null,0,null,null,0,null,null,0,null,null,0,null,null,0]
[]
[]
[null,null,{"$f":"'1-2a'!$C$265","v":0},null,null,{"$f":"'1-2a'!$F$265","v":0},null,null,{"$f":"'1-2a'!$I$265","v":0},null,null,{"$f":"'1-2a'!$L$265","v":0},null,null,{"$f":"'1-2a'!$O$265","v":0}]
[{"$f":"IF(A256=52,1,A256+1)","v":6},{"$f":"N256+3","v":"2021-02-01"},null,null,{"$f":"B266+1","v":"2021-02-02"},null,null,{"$f":"E266+1","v":"2021-02-03"},null,null,{"$f":"H266+1","v":"2021-02-04"},null,null,{"$f":"K266+1","v":"2021-02-05"}]
[null,{"$f":"B257","v":0},null,null,{"$f":"E257","v":0},null,null,{"$f":"H257","v":0},null,null,{"$f":"K257","v":0},null,null,{"$f":"N257","v":0}]
[27,0,null,null,0,null,null,0,null,null,0,null,null,0]
[null,0,null,null,0,null,null,0,null,null,0,null,null,0]
[null,0,null,null,0,null,null,0,null,null,0,null,null,0]
[null,0,null,null,0,null,null,0,null,null,{"$f":"K261","v":0},null,null,0]
[null,0,null,null,0,null,null,0,null,null,0,null,null,0]
[]
[]
[null,null,{"$f":"'1-2a'!$C$275","v":0},null,null,{"$f":"'1-2a'!$F$275","v":0},null,null,{"$f":"'1-2a'!$I$275","v":0},null,null,{"$f":"'1-2a'!$L$275","v":0},null,null,{"$f":"'1-2a'!$O$275","v":0}]
[{"$f":"IF(A266=52,1,A266+1)","v":7},{"$f":"N266+3","v":"2021-02-08"},null,null,{"$f":"B276+1","v":"2021-02-09"},null,null,{"$f":"E276+1","v":"2021-02-10"},null,null,{"$f":"H276+1","v":"2021-02-11"},null,null,{"$f":"K276+1","v":"2021-02-12"}]
[null,{"$f":"B267","v":0},null,null,{"$f":"E267","v":0},null,null,{"$f":"H267","v":0},null,null,{"$f":"K267","v":0},null,null,{"$f":"N267","v":0}]
[28,0,null,null,0,null,null,0,null,null,0,null,null,0]
[null,0,null,null,0,null,null,0,null,null,0,null,null,0]
[null,0,null,null,0,null,null,0,null,null,0,null,null,0]
[null,0,null,null,0,null,null,0,null,null,{"$f":"K271","v":0},null,null,0]
[null,0,null,null,0,null,null,0,null,null,0,null,null,0]
[]
[]
[null,null,{"$f":"'1-2a'!$C$285","v":0},null,null,{"$f":"'1-2a'!$F$285","v":0},null,null,{"$f":"'1-2a'!$I$285","v":0},null,null,{"$f":"'1-2a'!$L$285","v":0},null,null,{"$f":"'1-2a'!$O$285","v":0}]
[{"$f":"IF(A276=52,1,A276+1)","v":8},{"$f":"N276+3","v":"2021-02-15"},null,null,{"$f":"B286+1","v":"2021-02-16"},null,null,{"$f":"E286+1","v":"2021-02-17"},null,null,{"$f":"H286+1","v":"2021-02-18"},null,null,{"$f":"K286+1","v":"2021-02-19"}]
[null,{"$f":"B277","v":0},null,null,{"$f":"E277","v":0},null,null,{"$f":"H277","v":0},null,null,{"$f":"K277","v":0},null,null,{"$f":"N277","v":0}]
[29,0,null,null,0,null,null,0,null,null,0,null,null,0]
[null,0,null,null,0,null,null,0,null,null,0,null,null,0]
[null,0,null,null,0,null,null,0,null,null,0,null,null,0]
[null,0,null,null,0,null,null,0,null,null,{"$f":"K281","v":0},null,null,0]
[null,0,null,null,0,null,null,0,null,null,0,null,null,0]
[]
[]
[null,null,{"$f":"'1-2a'!$C$295","v":0},null,null,{"$f":"'1-2a'!$F$295","v":0},null,null,{"$f":"'1-2a'!$I$295","v":0},null,null,{"$f":"'1-2a'!$L$295","v":0},null,null,{"$f":"'1-2a'!$O$295","v":0}]
[{"$f":"IF(A286=52,1,A286+1)","v":9},{"$f":"N286+3","v":"2021-02-22"},null,null,{"$f":"B296+1","v":"2021-02-23"},null,null,{"$f":"E296+1","v":"2021-02-24"},null,null,{"$f":"H296+1","v":"2021-02-25"},null,null,{"$f":"K296+1","v":"2021-02-26"}]
[null,{"$f":"B287","v":0},null,null,{"$f":"E287","v":0},null,null,{"$f":"H287","v":0},null,null,{"$f":"K287","v":0},null,null,{"$f":"N287","v":0}]
[30,0,null,null,0,null,null,0,null,null,0,null,null,0]
[null,0,null,null,0,null,null,0,null,null,0,null,null,0]
[null,0,null,null,0,null,null,0,null,null,0,null,null,0]
[null,0,null,null,0,null,null,0,null,null,{"$f":"K291","v":0},null,null,0]
[null,0,null,null,0,null,null,0,null,null,0,null,null,0]
[]
[]
[null,null,{"$f":"'1-2a'!$C$305","v":0},null,null,{"$f":"'1-2a'!$F$305","v":0},null,null,{"$f":"'1-2a'!$I$305","v":0},null,null,{"$f":"'1-2a'!$L$305","v":0},null,null,{"$f":"'1-2a'!$O$305","v":0}]
[{"$f":"IF(A296=52,1,A296+1)","v":10},{"$f":"N296+3","v":"2021-03-01"},null,null,{"$f":"B306+1","v":"2021-03-02"},null,null,{"$f":"E306+1","v":"2021-03-03"},null,null,{"$f":"H306+1","v":"2021-03-04"},null,null,{"$f":"K306+1","v":"2021-03-05"}]
[null,{"$f":"B297","v":0},null,null,{"$f":"E297","v":0},null,null,{"$f":"H297","v":0},null,null,{"$f":"K297","v":0},null,null,{"$f":"N297","v":0}]
[31,0,null,null,0,null,null,0,null,null,0,null,null,0]
[null,0,null,null,0,null,null,0,null,null,0,null,null,0]
[null,0,null,null,0,null,null,0,null,null,0,null,null,0]
[null,0,null,null,0,null,null,0,null,null,{"$f":"K301","v":0},null,null,0]
[null,0,null,null,0,null,null,0,null,null,0,null,null,0]
[]
[]
[null,null,{"$f":"'1-2a'!$C$315","v":0},null,null,{"$f":"'1-2a'!$F$315","v":0},null,null,{"$f":"'1-2a'!$I$315","v":0},null,null,{"$f":"'1-2a'!$L$315","v":0},null,null,{"$f":"'1-2a'!$O$315","v":0}]
[{"$f":"IF(A306=52,1,A306+1)","v":11},{"$f":"N306+3","v":"2021-03-08"},null,null,{"$f":"B316+1","v":"2021-03-09"},null,null,{"$f":"E316+1","v":"2021-03-10"},null,null,{"$f":"H316+1","v":"2021-03-11"},null,null,{"$f":"K316+1","v":"2021-03-12"}]
[null,{"$f":"B307","v":0},null,null,{"$f":"E307","v":0},null,null,{"$f":"H307","v":0},null,null,{"$f":"K307","v":0},null,null,{"$f":"N307","v":0}]
[32,0,null,null,0,null,null,0,null,null,0,null,null,0]
[null,0,null,null,0,null,null,0,null,null,0,null,null,0]
[null,0,null,null,0,null,null,0,null,null,0,null,null,0]
[null,0,null,null,0,null,null,0,null,null,{"$f":"K311","v":0},null,null,0]
[null,0,null,null,0,null,null,0,null,null,0,null,null,0]
[]
[]
[null,null,{"$f":"'1-2a'!$C$325","v":0},null,null,{"$f":"'1-2a'!$F$325","v":0},null,null,{"$f":"'1-2a'!$I$325","v":0},null,null,{"$f":"'1-2a'!$L$325","v":0},null,null,{"$f":"'1-2a'!$O$325","v":0}]
[{"$f":"IF(A316=52,1,A316+1)","v":12},{"$f":"N316+3","v":"2021-03-15"},null,null,{"$f":"B326+1","v":"2021-03-16"},null,null,{"$f":"E326+1","v":"2021-03-17"},null,null,{"$f":"H326+1","v":"2021-03-18"},null,null,{"$f":"K326+1","v":"2021-03-19"}]
[null,{"$f":"B317","v":0},null,null,{"$f":"E317","v":0},null,null,{"$f":"H317","v":0},null,null,{"$f":"K317","v":0},null,null,{"$f":"N317","v":0}]
[33,0,null,null,0,null,null,0,null,null,0,null,null,0]
[null,0,null,null,0,null,null,0,null,null,0,null,null,0]
[null,0,null,null,0,null,null,0,null,null,0,null,null,0]
[null,0,null,null,0,null,null,0,null,null,0,null,null,0]
[null,0,null,null,0,null,null,0,null,null,0,null,null,0]
[]
[]
[null,null,{"$f":"'1-2a'!$C$335","v":0},null,null,{"$f":"'1-2a'!$F$335","v":0},null,null,{"$f":"'1-2a'!$I$335","v":0},null,null,{"$f":"'1-2a'!$L$335","v":0},null,null,{"$f":"'1-2a'!$O$335","v":0}]
[{"$f":"IF(A326=52,1,A326+1)","v":13},{"$f":"N326+3","v":"2021-03-22"},null,null,{"$f":"B336+1","v":"2021-03-23"},null,null,{"$f":"E336+1","v":"2021-03-24"},null,null,{"$f":"H336+1","v":"2021-03-25"},null,null,{"$f":"K336+1","v":"2021-03-26"}]
[null,{"$f":"B327","v":0},null,null,{"$f":"E327","v":0},null,null,{"$f":"H327","v":0},null,null,{"$f":"K327","v":0},null,null,{"$f":"N327","v":0}]
[34,0,null,null,0,null,null,0,null,null,0,null,null,0]
[null,0,null,null,0,null,null,0,null,null,0,null,null,0]
[null,0,null,null,0,null,null,0,null,null,0,null,null,0]
[null,0,null,null,0,null,null,0,null,null,{"$f":"K331","v":0},null,null,0]
[null,0,null,null,0,null,null,0,null,null,0,null,null,0]
[]
[]
[null,null,{"$f":"'1-2a'!$C$345","v":0},null,null,{"$f":"'1-2a'!$F$345","v":0},null,null,{"$f":"'1-2a'!$I$345","v":0},null,null,{"$f":"'1-2a'!$L$345","v":0},null,null,{"$f":"'1-2a'!$O$345","v":0}]
[{"$f":"IF(A336=52,1,A336+1)","v":14},{"$f":"N336+3","v":"2021-03-29"},null,null,{"$f":"B346+1","v":"2021-03-30"},null,null,{"$f":"E346+1","v":"2021-03-31"},null,null,{"$f":"H346+1","v":"2021-04-01"},null,null,{"$f":"K346+1","v":"2021-04-02"}]
[null,{"$f":"B337","v":0},null,null,{"$f":"E337","v":0},null,null,{"$f":"H337","v":0},null,null,{"$f":"K337","v":0},null,null,{"$f":"N337","v":0}]
[35,0,null,null,0,null,null,0,null,null,0,null,null,0]
[null,0,null,null,0,null,null,0,null,null,0,null,null,0]
[null,0,null,null,0,null,null,0,null,null,0,null,null,0]
[null,0,null,null,0,null,null,0,null,null,{"$f":"K341","v":0},null,null,0]
[null,0,null,null,0,null,null,0,null,null,0,null,null,0]
[]
[]
[null,null,{"$f":"'1-2a'!$C$355","v":0},null,null,{"$f":"'1-2a'!$F$355","v":0},null,null,{"$f":"'1-2a'!$I$355","v":0},null,null,{"$f":"'1-2a'!$L$355","v":0},null,null,{"$f":"'1-2a'!$O$355","v":0}]
[{"$f":"IF(A346=52,1,A346+1)","v":15},{"$f":"N346+3","v":"2021-04-05"},null,null,{"$f":"B356+1","v":"2021-04-06"},null,null,{"$f":"E356+1","v":"2021-04-07"},null,null,{"$f":"H356+1","v":"2021-04-08"},null,null,{"$f":"K356+1","v":"2021-04-09"}]
[null,{"$f":"B347","v":0},null,null,{"$f":"E347","v":0},null,null,{"$f":"H347","v":0},null,null,{"$f":"K347","v":0},null,null,{"$f":"N347","v":0}]
[36,0,null,null,0,null,null,0,null,null,0,null,null,0]
[null,0,null,null,0,null,null,0,null,null,0,null,null,0]
[null,0,null,null,0,null,null,0,null,null,0,null,null,0]
[null,0,null,null,0,null,null,0,null,null,{"$f":"K351","v":0},null,null,0]
[null,0,null,null,0,null,null,0,null,null,0,null,null,0]
[]
[]
[null,null,{"$f":"'1-2a'!$C$365","v":0},null,null,{"$f":"'1-2a'!$F$365","v":0},null,null,{"$f":"'1-2a'!$I$365","v":0},null,null,{"$f":"'1-2a'!$L$365","v":0},null,null,{"$f":"'1-2a'!$O$365","v":0}]
[{"$f":"IF(A356=52,1,A356+1)","v":16},{"$f":"N356+3","v":"2021-04-12"},null,null,{"$f":"B366+1","v":"2021-04-13"},null,null,{"$f":"E366+1","v":"2021-04-14"},null,null,{"$f":"H366+1","v":"2021-04-15"},null,null,{"$f":"K366+1","v":"2021-04-16"}]
[null,{"$f":"B357","v":0},null,null,{"$f":"E357","v":0},null,null,{"$f":"H357","v":0},null,null,{"$f":"K357","v":0},null,null,{"$f":"N357","v":0}]
[37,0,null,null,0,null,null,0,null,null,0,null,null,0]
[null,0,null,null,0,null,null,0,null,null,0,null,null,0]
[null,0,null,null,0,null,null,0,null,null,0,null,null,0]
[null,0,null,null,0,null,null,0,null,null,{"$f":"K361","v":0},null,null,0]
[null,0,null,null,0,null,null,0,null,null,0,null,null,0]
[]
[]
[null,null,{"$f":"'1-2a'!$C$375","v":0},null,null,{"$f":"'1-2a'!$F$375","v":0},null,null,{"$f":"'1-2a'!$I$375","v":0},null,null,{"$f":"'1-2a'!$L$375","v":0},null,null,{"$f":"'1-2a'!$O$375","v":0}]
[{"$f":"IF(A366=52,1,A366+1)","v":17},{"$f":"N366+3","v":"2021-04-19"},null,null,{"$f":"B376+1","v":"2021-04-20"},null,null,{"$f":"E376+1","v":"2021-04-21"},null,null,{"$f":"H376+1","v":"2021-04-22"},null,null,{"$f":"K376+1","v":"2021-04-23"}]
[null,{"$f":"B367","v":0},null,null,{"$f":"E367","v":0},null,null,{"$f":"H367","v":0},null,null,{"$f":"K367","v":0},null,null,{"$f":"N367","v":0}]
[38,0,null,null,0,null,null,0,null,null,0,null,null,0]
[null,0,null,null,0,null,null,0,null,null,0,null,null,0]
[null,0,null,null,0,null,null,0,null,null,0,null,null,0]
[null,0,null,null,0,null,null,0,null,null,{"$f":"K371","v":0},null,null,0]
[null,0,null,null,0,null,null,0,null,null,0,null,null,0]
[]
[]
[null,null,{"$f":"'1-2a'!$C$385","v":0},null,null,{"$f":"'1-2a'!$F$385","v":0},null,null,{"$f":"'1-2a'!$I$385","v":0},null,null,{"$f":"'1-2a'!$L$385","v":0},null,null,{"$f":"'1-2a'!$O$385","v":0}]
[{"$f":"IF(A376=52,1,A376+1)","v":18},{"$f":"N376+3","v":"2021-04-26"},null,null,{"$f":"B386+1","v":"2021-04-27"},null,null,{"$f":"E386+1","v":"2021-04-28"},null,null,{"$f":"H386+1","v":"2021-04-29"},null,null,{"$f":"K386+1","v":"2021-04-30"}]
[null,{"$f":"B377","v":0},null,null,{"$f":"E377","v":0},null,null,{"$f":"H377","v":0},null,null,{"$f":"K377","v":0},null,null,{"$f":"N377","v":0}]
[39,0,null,null,0,null,null,0,null,null,0,null,null,0]
[null,0,null,null,0,null,null,0,null,null,0,null,null,0]
[null,0,null,null,0,null,null,0,null,null,0,null,null,0]
[null,0,null,null,0,null,null,0,null,null,{"$f":"K381","v":0},null,null,0]
[null,0,null,null,0,null,null,0,null,null,0,null,null,0]
[]
[]
[null,null,{"$f":"'1-2a'!$C$395","v":0},null,null,{"$f":"'1-2a'!$F$395","v":0},null,null,{"$f":"'1-2a'!$I$395","v":0},null,null,{"$f":"'1-2a'!$L$395","v":0},null,null,{"$f":"'1-2a'!$O$395","v":0}]
[{"$f":"IF(A386=52,1,A386+1)","v":19},{"$f":"N386+3","v":"2021-05-03"},null,null,{"$f":"B396+1","v":"2021-05-04"},null,null,{"$f":"E396+1","v":"2021-05-05"},null,null,{"$f":"H396+1","v":"2021-05-06"},null,null,{"$f":"K396+1","v":"2021-05-07"}]
[null,{"$f":"B387","v":0},null,null,{"$f":"E387","v":0},null,null,{"$f":"H387","v":0},null,null,{"$f":"K387","v":0},null,null,{"$f":"N387","v":0}]
[40,0,null,null,0,null,null,0,null,null,0,null,null,0]
[null,0,null,null,0,null,null,0,null,null,0,null,null,0]
[null,0,null,null,0,null,null,0,null,null,0,null,null,0]
[null,0,null,null,0,null,null,0,null,null,{"$f":"K391","v":0},null,null,0]
[null,0,null,null,0,null,null,0,null,null,0,null,null,0]
[]
[]
[null,null,{"$f":"'1-2a'!$C$405","v":0},null,null,{"$f":"'1-2a'!$F$405","v":0},null,null,{"$f":"'1-2a'!$I$405","v":0},null,null,{"$f":"'1-2a'!$L$405","v":0},null,null,{"$f":"'1-2a'!$O$405","v":0}]
[{"$f":"IF(A396=52,1,A396+1)","v":20},{"$f":"N396+3","v":"2021-05-10"},null,null,{"$f":"B406+1","v":"2021-05-11"},null,null,{"$f":"E406+1","v":"2021-05-12"},null,null,{"$f":"H406+1","v":"2021-05-13"},null,null,{"$f":"K406+1","v":"2021-05-14"}]
[null,{"$f":"B397","v":0},null,null,{"$f":"E397","v":0},null,null,{"$f":"H397","v":0},null,null,{"$f":"K397","v":0},null,null,{"$f":"N397","v":0}]
[41,0,null,null,0,null,null,0,null,null,0,null,null,0]
[null,0,null,null,0,null,null,0,null,null,0,null,null,0]
[null,0,null,null,0,null,null,0,null,null,0,null,null,0]
[null,0,null,null,0,null,null,0,null,null,0,null,null,0]
[null,0,null,null,0,null,null,0,null,null,0,null,null,0]
[]
[]
[null,null,{"$f":"'1-2a'!$C$415","v":0},null,null,{"$f":"'1-2a'!$F$415","v":0},null,null,{"$f":"'1-2a'!$I$415","v":0},null,null,{"$f":"'1-2a'!$L$415","v":0},null,null,{"$f":"'1-2a'!$O$415","v":0}]
[{"$f":"IF(A406=52,1,A406+1)","v":21},{"$f":"N406+3","v":"2021-05-17"},null,null,{"$f":"B416+1","v":"2021-05-18"},null,null,{"$f":"E416+1","v":"2021-05-19"},null,null,{"$f":"H416+1","v":"2021-05-20"},null,null,{"$f":"K416+1","v":"2021-05-21"}]
[null,{"$f":"B407","v":0},null,null,{"$f":"E407","v":0},null,null,{"$f":"H407","v":0},null,null,{"$f":"K407","v":0},null,null,{"$f":"N407","v":0}]
[42,0,null,null,0,null,null,0,null,null,0,null,null,0]
[null,0,null,null,0,null,null,0,null,null,0,null,null,0]
[null,0,null,null,0,null,null,0,null,null,0,null,null,0]
[null,0,null,null,0,null,null,0,null,null,{"$f":"K411","v":0},null,null,0]
[null,0,null,null,0,null,null,0,null,null,0,null,null,0]
[]
[]
[null,null,{"$f":"'1-2a'!$C$425","v":0},null,null,{"$f":"'1-2a'!$F$425","v":0},null,null,{"$f":"'1-2a'!$I$425","v":0},null,null,{"$f":"'1-2a'!$L$425","v":0},null,null,{"$f":"'1-2a'!$O$425","v":0}]
[{"$f":"IF(A416=52,1,A416+1)","v":22},{"$f":"N416+3","v":"2021-05-24"},null,null,{"$f":"B426+1","v":"2021-05-25"},null,null,{"$f":"E426+1","v":"2021-05-26"},null,null,{"$f":"H426+1","v":"2021-05-27"},null,null,{"$f":"K426+1","v":"2021-05-28"}]
[null,{"$f":"B417","v":0},null,null,{"$f":"E417","v":0},null,null,{"$f":"H417","v":0},null,null,{"$f":"K417","v":0},null,null,{"$f":"N417","v":0}]
[43,0,null,null,0,null,null,0,null,null,0,null,null,0]
[null,0,null,null,0,null,null,0,null,null,0,null,null,0]
[null,0,null,null,0,null,null,0,null,null,0,null,null,0]
[null,0,null,null,0,null,null,0,null,null,{"$f":"K421","v":0},null,null,0]
[null,0,null,null,0,null,null,0,null,null,0,null,null,0]
[]
[]
[null,null,{"$f":"'1-2a'!$C$435","v":0},null,null,{"$f":"'1-2a'!$F$435","v":0},null,null,{"$f":"'1-2a'!$I$435","v":0},null,null,{"$f":"'1-2a'!$L$435","v":0},null,null,{"$f":"'1-2a'!$O$435","v":0}]
[{"$f":"IF(A426=52,1,A426+1)","v":23},{"$f":"N426+3","v":"2021-05-31"},null,null,{"$f":"B436+1","v":"2021-06-01"},null,null,{"$f":"E436+1","v":"2021-06-02"},null,null,{"$f":"H436+1","v":"2021-06-03"},null,null,{"$f":"K436+1","v":"2021-06-04"}]
[null,{"$f":"B427","v":0},null,null,{"$f":"E427","v":0},null,null,{"$f":"H427","v":0},null,null,{"$f":"K427","v":0},null,null,{"$f":"N427","v":0}]
[44,0,null,null,0,null,null,0,null,null,0,null,null,0]
[null,0,null,null,0,null,null,0,null,null,0,null,null,0]
[null,0,null,null,0,null,null,0,null,null,0,null,null,0]
[null,0,null,null,0,null,null,0,null,null,{"$f":"K431","v":0},null,null,0]
[null,0,null,null,0,null,null,0,null,null,0,null,null,0]
[]
[]
[null,null,{"$f":"'1-2a'!$C$445","v":0},null,null,{"$f":"'1-2a'!$F$445","v":0},null,null,{"$f":"'1-2a'!$I$445","v":0},null,null,{"$f":"'1-2a'!$L$445","v":0},null,null,{"$f":"'1-2a'!$O$445","v":0}]
[{"$f":"IF(A436=52,1,A436+1)","v":24},{"$f":"N436+3","v":"2021-06-07"},null,null,{"$f":"B446+1","v":"2021-06-08"},null,null,{"$f":"E446+1","v":"2021-06-09"},null,null,{"$f":"H446+1","v":"2021-06-10"},null,null,{"$f":"K446+1","v":"2021-06-11"}]
[null,{"$f":"B437","v":0},null,null,{"$f":"E437","v":0},null,null,{"$f":"H437","v":0},null,null,{"$f":"K437","v":0},null,null,{"$f":"N437","v":0}]
[45,0,null,null,0,null,null,0,null,null,0,null,null,0]
[null,0,null,null,0,null,null,0,null,null,0,null,null,0]
[null,0,null,null,0,null,null,0,null,null,0,null,null,0]
[null,0,null,null,0,null,null,0,null,null,{"$f":"K441","v":0},null,null,0]
[null,0,null,null,0,null,null,0,null,null,0,null,null,0]
[]
[]
[null,null,{"$f":"'1-2a'!$C$455","v":0},null,null,{"$f":"'1-2a'!$F$455","v":0},null,null,{"$f":"'1-2a'!$I$455","v":0},null,null,{"$f":"'1-2a'!$L$455","v":0},null,null,{"$f":"'1-2a'!$O$455","v":0}]
[{"$f":"IF(A446=52,1,A446+1)","v":25},{"$f":"N446+3","v":"2021-06-14"},null,null,{"$f":"B456+1","v":"2021-06-15"},null,null,{"$f":"E456+1","v":"2021-06-16"},null,null,{"$f":"H456+1","v":"2021-06-17"},null,null,{"$f":"K456+1","v":"2021-06-18"}]
[null,{"$f":"B447","v":0},null,null,{"$f":"E447","v":0},null,null,{"$f":"H447","v":0},null,null,{"$f":"K447","v":0},null,null,{"$f":"N447","v":0}]
[46,0,null,null,0,null,null,0,null,null,0,null,null,0]
[null,0,null,null,0,null,null,0,null,null,0,null,null,0]
[null,0,null,null,0,null,null,0,null,null,0,null,null,0]
[null,0,null,null,0,null,null,0,null,null,{"$f":"K451","v":0},null,null,0]
[null,0,null,null,0,null,null,0,null,null,0,null,null,0]
[]
[]
[null,null,{"$f":"'1-2a'!$C$465","v":0},null,null,{"$f":"'1-2a'!$F$465","v":0},null,null,{"$f":"'1-2a'!$I$465","v":0},null,null,{"$f":"'1-2a'!$L$465","v":0},null,null,{"$f":"'1-2a'!$O$465","v":0}]
[{"$f":"IF(A456=52,1,A456+1)","v":26},{"$f":"N456+3","v":"2021-06-21"},null,null,{"$f":"B466+1","v":"2021-06-22"},null,null,{"$f":"E466+1","v":"2021-06-23"},null,null,{"$f":"H466+1","v":"2021-06-24"},null,null,{"$f":"K466+1","v":"2021-06-25"}]
[null,{"$f":"B457","v":0},null,null,{"$f":"E457","v":0},null,null,{"$f":"H457","v":0},null,null,{"$f":"K457","v":0},null,null,{"$f":"N457","v":0}]
[47,0,null,null,0,null,null,0,null,null,0,null,null,0]
[null,0,null,null,0,null,null,0,null,null,0,null,null,0]
[null,0,null,null,0,null,null,0,null,null,0,null,null,0]
[null,0,null,null,0,null,null,0,null,null,{"$f":"K461","v":0},null,null,0]
[null,0,null,null,0,null,null,0,null,null,0,null,null,0]
[]
[]
[null,null,{"$f":"'1-2a'!$C$475","v":0},null,null,{"$f":"'1-2a'!$F$475","v":0},null,null,{"$f":"'1-2a'!$I$475","v":0},null,null,{"$f":"'1-2a'!$L$475","v":0},null,null,{"$f":"'1-2a'!$O$475","v":0}]
[{"$f":"IF(A466=52,1,A466+1)","v":27},{"$f":"N466+3","v":"2021-06-28"},null,null,{"$f":"B476+1","v":"2021-06-29"},null,null,{"$f":"E476+1","v":"2021-06-30"},null,null,{"$f":"H476+1","v":"2021-07-01"},null,null,{"$f":"K476+1","v":"2021-07-02"}]
[null,{"$f":"B467","v":0},null,null,{"$f":"E467","v":0},null,null,{"$f":"H467","v":0},null,null,{"$f":"K467","v":0},null,null,{"$f":"N467","v":0}]
[48,0,null,null,0,null,null,0,null,null,0,null,null,0]
[null,0,null,null,0,null,null,0,null,null,0,null,null,0]
[null,0,null,null,0,null,null,0,null,null,0,null,null,0]
[null,0,null,null,0,null,null,0,null,null,{"$f":"K471","v":0},null,null,0]
[null,0,null,null,0,null,null,0,null,null,0,null,null,0]
[]
[]
[null,null,{"$f":"'1-2a'!$C$485","v":0},null,null,{"$f":"'1-2a'!$F$485","v":0},null,null,{"$f":"'1-2a'!$I$485","v":0},null,null,{"$f":"'1-2a'!$L$485","v":0},null,null,{"$f":"'1-2a'!$O$485","v":0}]
[{"$f":"IF(A476=52,1,A476+1)","v":28},{"$f":"N476+3","v":"2021-07-05"},null,null,{"$f":"B486+1","v":"2021-07-06"},null,null,{"$f":"E486+1","v":"2021-07-07"},null,null,{"$f":"H486+1","v":"2021-07-08"},null,null,{"$f":"K486+1","v":"2021-07-09"}]
[null,{"$f":"B477","v":0},null,null,{"$f":"E477","v":0},null,null,{"$f":"H477","v":0},null,null,{"$f":"K477","v":0},null,null,{"$f":"N477","v":0}]
[49,0,null,null,0,null,null,0,null,null,0,null,null,0]
[null,0,null,null,0,null,null,0,null,null,0,null,null,0]
[null,0,null,null,0,null,null,0,null,null,0,null,null,0]
[null,0,null,null,0,null,null,0,null,null,0,null,null,0]
[null,0,null,null,0,null,null,0,null,null,0,null,null,0]
[]
[]
[null,null,{"$f":"'1-2a'!$C$495","v":0},null,null,{"$f":"'1-2a'!$F$495","v":0},null,null,{"$f":"'1-2a'!$I$495","v":0},null,null,{"$f":"'1-2a'!$L$495","v":0},null,null,{"$f":"'1-2a'!$O$495","v":0}]
[{"$f":"IF(A486=52,1,A486+1)","v":29},{"$f":"N486+3","v":"2021-07-12"},null,null,{"$f":"B496+1","v":"2021-07-13"},null,null,{"$f":"E496+1","v":"2021-07-14"},null,null,{"$f":"H496+1","v":"2021-07-15"},null,null,{"$f":"K496+1","v":"2021-07-16"}]
[null,{"$f":"B487","v":0},null,null,{"$f":"E487","v":0},null,null,{"$f":"H487","v":0},null,null,{"$f":"K487","v":0},null,null,{"$f":"N487","v":0}]
[50,0,null,null,0,null,null,0,null,null,0]
[null,0,null,null,0,null,null,0,null,null,0,null,null,0]
[null,0,null,null,0,null,null,0,null,null,0,null,null,0]
[null,0,null,null,0,null,null,0,null,null,{"$f":"K491","v":0},null,null,0]
[null,0,null,null,0,null,null,0,null,null,0]

{"sheet":"3","index":3,"n_rows":502,"n_cols":15,"rows_kept":502,"cut":false,"hidden":false,"merged":[[5,1,5,3],[5,4,5,6],[5,7,5,9],[5,10,5,12],[5,13,5,15],[7,0,8,0],[1,1,2,7],[1,9,2,12],[1,13,2,15],[3,1,3,3],[3,4,3,6],[3,7,3,9],[3,10,3,12],[3,13,3,15],[12,1,13,3],[12,4,13,6],[12,7,13,9],[12,10,13,12],[12,13,13,15],[15,1,15,3],[15,4,15,6],[15,7,15,9],[15,10,15,12],[15,13,15,15],[25,1,25,3],[25,4,25,6],[25,7,25,9],[25,10,25,12],[25,13,25,15],[27,0,28,0],[17,0,18,0],[22,1,23,3],[22,4,23,6],[22,7,23,9],[22,10,23,12],[22,13,23,15],[32,1,33,3],[32,4,33,6],[32,7,33,9],[32,10,33,12],[32,13,33,15],[35,1,35,3],[35,4,35,6],[35,7,35,9],[35,10,35,12],[35,13,35,15],[45,1,45,3],[45,4,45,6],[45,7,45,9],[45,10,45,12],[45,13,45,15],[47,0,48,0],[37,0,38,0],[42,1,43,3],[42,4,43,6],[42,7,43,9],[42,10,43,12],[42,13,43,15],[52,1,53,3],[52,4,53,6],[52,7,53,9],[52,10,53,12],[52,13,53,15],[55,1,55,3],[55,4,55,6],[55,7,55,9],[55,10,55,12],[55,13,55,15],[65,1,65,3],[65,4,65,6],[65,7,65,9],[65,10,65,12],[65,13,65,15],[67,0,68,0],[57,0,58,0],[62,1,63,3],[62,4,63,6],[62,7,63,9],[62,10,63,12],[62,13,63,15],[72,1,73,3],[72,4,73,6],[72,7,73,9],[72,10,73,12],[72,13,73,15],[75,1,75,3],[75,4,75,6],[75,7,75,9],[75,10,75,12],[75,13,75,15],[85,1,85,3],[85,4,85,6],[85,7,85,9],[85,10,85,12],[85,13,85,15],[87,0,88,0],[77,0,78,0],[82,1,83,3],[82,4,83,6],[82,7,83,9],[82,10,83,12],[82,13,83,15],[92,1,93,3],[92,4,93,6],[92,7,93,9],[92,10,93,12],[92,13,93,15],[95,1,95,3],[95,4,95,6],[95,7,95,9],[95,10,95,12],[95,13,95,15],[105,1,105,3],[105,4,105,6],[105,7,105,9],[105,10,105,12],[105,13,105,15],[107,0,108,0],[97,0,98,0],[99,16,100,19],[102,1,103,3],[102,4,103,6],[102,7,103,9],[102,10,103,12],[102,13,103,15],[112,1,113,3],[112,4,113,6],[112,7,113,9],[112,10,113,12],[112,13,113,15],[115,1,115,3],[115,4,115,6],[115,7,115,9],[115,10,115,12],[115,13,115,15],[125,1,125,3],[125,4,125,6],[125,7,125,9],[125,10,125,12],[125,13,125,15],[127,0,128,0],[117,0,118,0],[122,1,123,3],[122,4,123,6],[122,7,123,9],[122,10,123,12],[122,13,123,15],[132,1,133,3],[132,4,133,6],[132,7,133,9],[132,10,133,12],[132,13,133,15],[135,1,135,3],[135,4,135,6],[135,7,135,9],[135,10,135,12],[135,13,135,15],[145,1,145,3],[145,4,145,6],[145,7,145,9],[145,10,145,12],[145,13,145,15],[147,0,148,0],[137,0,138,0],[142,1,143,3],[142,4,143,6],[142,7,143,9],[142,10,143,12],[142,13,143,15],[152,1,153,3],[152,4,153,6],[152,7,153,9],[152,10,153,12],[152,13,153,15],[155,1,155,3],[155,4,155,6],[155,7,155,9],[155,10,155,12],[155,13,155,15],[165,1,165,3],[165,4,165,6],[165,7,165,9],[165,10,165,12],[165,13,165,15],[167,0,168,0],[157,0,158,0],[162,1,163,3],[162,4,163,6],[162,7,163,9],[162,10,163,12],[162,13,163,15],[172,1,173,3],[172,4,173,6],[172,7,173,9],[172,10,173,12],[172,13,173,15],[175,1,175,3],[175,4,175,6],[175,7,175,9],[175,10,175,12],[175,13,175,15],[185,1,185,3],[185,4,185,6],[185,7,185,9],[185,10,185,12],[185,13,185,15],[187,0,188,0],[177,0,178,0],[179,16,180,19],[182,1,183,3],[182,4,183,6],[182,7,183,9],[182,10,183,12],[182,13,183,15],[192,1,193,3],[192,4,193,6],[192,7,193,9],[192,10,193,12],[192,13,193,15],[195,1,195,3],[195,4,195,6],[195,7,195,9],[195,10,195,12],[195,13,195,15],[205,1,205,3],[205,4,205,6],[205,7,205,9],[205,10,205,12],[205,13,205,15],[207,0,208,0],[197,0,198,0],[202,1,203,3],[202,4,203,6],[202,7,203,9],[202,10,203,12],[202,13,203,15],[212,1,213,3],[212,4,213,6],[212,7,213,9],[212,10,213,12],[212,13,213,15],[215,1,215,3],[215,4,215,6],[215,7,215,9],[215,10,215,12],[215,13,215,15],[225,1,225,3],[225,4,225,6],[225,7,225,9],[225,10,225,12],[225,13,225,15],[227,0,228,0],[217,0,218,0],[222,1,223,3],[222,4,223,6],[222,7,223,9],[222,10,223,12],[222,13,223,15],[232,1,233,3],[232,4,233,6],[232,7,233,9],[232,10,233,12],[232,13,233,15],[235,1,235,3],[235,4,235,6],[235,7,235,9],[235,10,235,12],[235,13,235,15],[245,1,245,3],[245,4,245,6],[245,7,245,9],[245,10,245,12],[245,13,245,15],[247,0,248,0],[237,0,238,0],[242,1,243,3],[242,4,243,6],[242,7,243,9],[242,10,243,12],[242,13,243,15],[252,1,253,3],[252,4,253,6],[252,7,253,9],[252,10,253,12],[252,13,253,15],[255,1,255,3],[255,4,255,6],[255,7,255,9],[255,10,255,12],[255,13,255,15],[265,1,265,3],[265,4,265,6],[265,7,265,9],[265,10,265,12],[265,13,265,15],[267,0,268,0],[257,0,258,0],[259,16,260,19],[262,1,263,3],[262,4,263,6],[262,7,263,9],[262,10,263,12],[262,13,263,15],[272,1,273,3],[272,4,273,6],[272,7,273,9],[272,10,273,12],[272,13,273,15],[275,1,275,3],[275,4,275,6],[275,7,275,9],[275,10,275,12],[275,13,275,15],[285,1,285,3],[285,4,285,6],[285,7,285,9],[285,10,285,12],[285,13,285,15],[287,0,288,0],[277,0,278,0],[282,1,283,3],[282,4,283,6],[282,7,283,9],[282,10,283,12],[282,13,283,15],[292,1,293,3],[292,4,293,6],[292,7,293,9],[292,10,293,12],[292,13,293,15],[295,1,295,3],[295,4,295,6],[295,7,295,9],[295,10,295,12],[295,13,295,15],[305,1,305,3],[305,4,305,6],[305,7,305,9],[305,10,305,12],[305,13,305,15],[307,0,308,0],[297,0,298,0],[302,1,303,3],[302,4,303,6],[302,7,303,9],[302,10,303,12],[302,13,303,15],[312,1,313,3],[312,4,313,6],[312,7,313,9],[312,10,313,12],[312,13,313,15],[315,1,315,3],[315,4,315,6],[315,7,315,9],[315,10,315,12],[315,13,315,15],[325,1,325,3],[325,4,325,6],[325,7,325,9],[325,10,325,12],[325,13,325,15],[327,0,328,0],[317,0,318,0],[322,1,323,3],[322,4,323,6],[322,7,323,9],[322,10,323,12],[322,13,323,15],[332,1,333,3],[332,4,333,6],[332,7,333,9],[332,10,333,12],[332,13,333,15],[335,1,335,3],[335,4,335,6],[335,7,335,9],[335,10,335,12],[335,13,335,15],[345,1,345,3],[345,4,345,6],[345,7,345,9],[345,10,345,12],[345,13,345,15],[347,0,348,0],[337,0,338,0],[339,16,340,19],[342,1,343,3],[342,4,343,6],[342,7,343,9],[342,10,343,12],[342,13,343,15],[352,1,353,3],[352,4,353,6],[352,7,353,9],[352,10,353,12],[352,13,353,15],[355,1,355,3],[355,4,355,6],[355,7,355,9],[355,10,355,12],[355,13,355,15],[365,1,365,3],[365,4,365,6],[365,7,365,9],[365,10,365,12],[365,13,365,15],[367,0,368,0],[357,0,358,0],[362,1,363,3],[362,4,363,6],[362,7,363,9],[362,10,363,12],[362,13,363,15],[372,1,373,3],[372,4,373,6],[372,7,373,9],[372,10,373,12],[372,13,373,15],[375,1,375,3],[375,4,375,6],[375,7,375,9],[375,10,375,12],[375,13,375,15],[385,1,385,3],[385,4,385,6],[385,7,385,9],[385,10,385,12],[385,13,385,15],[387,0,388,0],[377,0,378,0],[382,1,383,3],[382,4,383,6],[382,7,383,9],[382,10,383,12],[382,13,383,15],[392,1,393,3],[392,4,393,6],[392,7,393,9],[392,10,393,12],[392,13,393,15],[395,1,395,3],[395,4,395,6],[395,7,395,9],[395,10,395,12],[395,13,395,15],[405,1,405,3],[405,4,405,6],[405,7,405,9],[405,10,405,12],[405,13,405,15],[407,0,408,0],[397,0,398,0],[402,1,403,3],[402,4,403,6],[402,7,403,9],[402,10,403,12],[402,13,403,15],[412,1,413,3],[412,4,413,6],[412,7,413,9],[412,10,413,12],[412,13,413,15],[415,1,415,3],[415,4,415,6],[415,7,415,9],[415,10,415,12],[415,13,415,15],[425,1,425,3],[425,4,425,6],[425,7,425,9],[425,10,425,12],[425,13,425,15],[427,0,428,0],[417,0,418,0],[419,16,420,19],[422,1,423,3],[422,4,423,6],[422,7,423,9],[422,10,423,12],[422,13,423,15],[432,1,433,3],[432,4,433,6],[432,7,433,9],[432,10,433,12],[432,13,433,15],[435,1,435,3],[435,4,435,6],[435,7,435,9],[435,10,435,12],[435,13,435,15],[445,1,445,3],[445,4,445,6],[445,7,445,9],[445,10,445,12],[445,13,445,15],[447,0,448,0],[437,0,438,0],[442,1,443,3],[442,4,443,6],[442,7,443,9],[442,10,443,12],[442,13,443,15],[452,1,453,3],[452,4,453,6],[452,7,453,9],[452,10,453,12],[452,13,453,15],[455,1,455,3],[455,4,455,6],[455,7,455,9],[455,10,455,12],[455,13,455,15],[465,1,465,3],[465,4,465,6],[465,7,465,9],[465,10,465,12],[465,13,465,15],[467,0,468,0],[457,0,458,0],[462,1,463,3],[462,4,463,6],[462,7,463,9],[462,10,463,12],[462,13,463,15],[472,1,473,3],[472,4,473,6],[472,7,473,9],[472,10,473,12],[472,13,473,15],[475,1,475,3],[475,4,475,6],[475,7,475,9],[475,10,475,12],[475,13,475,15],[485,1,485,3],[485,4,485,6],[485,7,485,9],[485,10,485,12],[485,13,485,15],[487,0,488,0],[477,0,478,0],[482,1,483,3],[482,4,483,6],[482,7,483,9],[482,10,483,12],[482,13,483,15],[497,0,498,0],[499,16,500,19],[502,1,503,3],[502,4,503,6],[502,7,503,9],[502,10,503,12],[502,13,503,15],[492,1,493,3],[492,4,493,6],[492,7,493,9],[492,10,493,12],[492,13,493,15],[495,1,495,3],[495,4,495,6],[495,7,495,9],[495,10,495,12],[495,13,495,15]]}
[]
[null,{"$f":"'1-2a'!B2:H3","v":"Basisschool De Grote Beer        schooljaar 2020/2021"},null,null,null,null,null,null,null,"Groepsplanner van groep:",null,null,null,"3"]
[]
[null,"maandag 1e schoolweek",null,null,"dinsdag",null,null,"woensdag",null,null,"donderdag",null,null,"vrijdag"]
[null,null,{"$f":"'1-2a'!C$5","v":0},null,null,{"$f":"'1-2a'!F5","v":0},null,null,{"$f":"'1-2a'!I$5","v":0},null,null,{"$f":"'1-2a'!L$5","v":"s"},null,null,{"$f":"'1-2a'!O$5","v":0}]
[{"$f":"(B6-WEEKDAY(B6-1)+4-(TRUNC(DATE(YEAR(B6-WEEKDAY(B6-1)+4),1,2)/7)*7-2))/7","v":32},{"$f":"'1-2a'!B6:D6","v":"2020-08-03"},null,null,{"$f":"B6+1","v":"2020-08-04"},null,null,{"$f":"E6+1","v":"2020-08-05"},null,null,{"$f":"H6+1","v":"2020-08-06"},null,null,{"$f":"K6+1","v":"2020-08-07"}]
[]
[1]
[]
[]
[]
[]
[]
[]
[null,null,{"$f":"'1-2a'!C$15","v":0},null,null,{"$f":"'1-2a'!F$15","v":0},null,null,{"$f":"'1-2a'!I$15","v":0},null,null,{"$f":"'1-2a'!L$15","v":0},null,null,{"$f":"'1-2a'!O15","v":0}]
[{"$f":"IF(A6=52,1,A6+1)","v":33},{"$f":"N6+3","v":"2020-08-10"},null,null,{"$f":"B16+1","v":"2020-08-11"},null,null,{"$f":"E16+1","v":"2020-08-12"},null,null,{"$f":"H16+1","v":"2020-08-13"},null,null,{"$f":"K16+1","v":"2020-08-14"}]
[null,{"$f":"B7","v":0},null,null,{"$f":"E7","v":0},null,null,{"$f":"H7","v":0},null,null,{"$f":"K7","v":0},null,null,{"$f":"N7","v":0}]
[2,0,null,null,0,null,null,0,null,null,0,null,null,0]
[null,0,null,null,0,null,null,0,null,null,0,null,null,0]
[null,0,null,null,0,null,null,0,null,null,0,null,null,0]
[null,0,null,null,0,null,null,0,null,null,0,null,null,0]
[null,0,null,null,0,null,null,0,null,null,0,null,null,0]
[]
[]
[null,null,{"$f":"'1-2a'!C$25","v":0},null,null,{"$f":"'1-2a'!F$25","v":0},null,null,{"$f":"'1-2a'!I25","v":0},null,null,{"$f":"'1-2a'!L25","v":0},null,null,{"$f":"'1-2a'!O25","v":0}]
[{"$f":"IF(A16=52,1,A16+1)","v":34},{"$f":"N16+3","v":"2020-08-17"},null,null,{"$f":"B26+1","v":"2020-08-18"},null,null,{"$f":"E26+1","v":"2020-08-19"},null,null,{"$f":"H26+1","v":"2020-08-20"},null,null,{"$f":"K26+1","v":"2020-08-21"}]
[null,{"$f":"B17","v":0},null,null,{"$f":"E17","v":0},null,null,{"$f":"H17","v":0},null,null,{"$f":"K17","v":0},null,null,{"$f":"N17","v":0}]
[3,0,null,null,0,null,null,0,null,null,0,null,null,0]
[null,0,null,null,0,null,null,0,null,null,0,null,null,0]
[null,0,null,null,0,null,null,0,null,null,0,null,null,0]
[null,0,null,null,0,null,null,0,null,null,{"$f":"K21","v":0},null,null,0]
[null,0,null,null,0,null,null,0,null,null,0,null,null,0]
[]
[]
[null,null,{"$f":"'1-2a'!$C$35","v":0},null,null,{"$f":"'1-2a'!$F$35","v":0},null,null,{"$f":"'1-2a'!$I$35","v":0},null,null,{"$f":"'1-2a'!$L$35","v":0},null,null,{"$f":"'1-2a'!$O$35","v":0}]
[{"$f":"IF(A26=52,1,A26+1)","v":35},{"$f":"N26+3","v":"2020-08-24"},null,null,{"$f":"B36+1","v":"2020-08-25"},null,null,{"$f":"E36+1","v":"2020-08-26"},null,null,{"$f":"H36+1","v":"2020-08-27"},null,null,{"$f":"K36+1","v":"2020-08-28"}]
[null,{"$f":"B27","v":0},null,null,{"$f":"E27","v":0},null,null,{"$f":"H27","v":0},null,null,{"$f":"K27","v":0},null,null,{"$f":"N27","v":0}]
[4,0,null,null,0,null,null,0,null,null,0,null,null,0]
[null,0,null,null,0,null,null,0,null,null,0,null,null,0]
[null,0,null,null,0,null,null,0,null,null,0,null,null,0]
[null,0,null,null,0,null,null,0,null,null,{"$f":"K31","v":0},null,null,0]
[null,0,null,null,0,null,null,0,null,null,0,null,null,0]
[]
[]
[null,null,{"$f":"'1-2a'!$C$45","v":0},null,null,{"$f":"'1-2a'!$F$45","v":0},null,null,{"$f":"'1-2a'!$I$45","v":0},null,null,{"$f":"'1-2a'!$L$45","v":0},null,null,{"$f":"'1-2a'!$O$45","v":0}]
[{"$f":"IF(A36=52,1,A36+1)","v":36},{"$f":"N36+3","v":"2020-08-31"},null,null,{"$f":"B46+1","v":"2020-09-01"},null,null,{"$f":"E46+1","v":"2020-09-02"},null,null,{"$f":"H46+1","v":"2020-09-03"},null,null,{"$f":"K46+1","v":"2020-09-04"}]
[null,{"$f":"B37","v":0},null,null,{"$f":"E37","v":0},null,null,{"$f":"H37","v":0},null,null,{"$f":"K37","v":0},null,null,{"$f":"N37","v":0}]
[5,0,null,null,0,null,null,0,null,null,0,null,null,0]
[null,0,null,null,0,null,null,0,null,null,0,null,null,0]
[null,0,null,null,0,null,null,0,null,null,0,null,null,0]
[null,0,null,null,0,null,null,0,null,null,{"$f":"K41","v":0},null,null,0]
[null,0,null,null,0,null,null,0,null,null,0,null,null,0]
[]
[]
[null,null,{"$f":"'1-2a'!$C$55","v":0},null,null,{"$f":"'1-2a'!$F$55","v":0},null,null,{"$f":"'1-2a'!$I$55","v":0},null,null,{"$f":"'1-2a'!$L$55","v":0},null,null,{"$f":"'1-2a'!O55","v":0}]
[{"$f":"IF(A46=52,1,A46+1)","v":37},{"$f":"N46+3","v":"2020-09-07"},null,null,{"$f":"B56+1","v":"2020-09-08"},null,null,{"$f":"E56+1","v":"2020-09-09"},null,null,{"$f":"H56+1","v":"2020-09-10"},null,null,{"$f":"K56+1","v":"2020-09-11"}]
[null,{"$f":"B47","v":0},null,null,{"$f":"E47","v":0},null,null,{"$f":"H47","v":0},null,null,{"$f":"K47","v":0},null,null,{"$f":"N47","v":0}]
[6,0,null,null,0,null,null,0,null,null,0,null,null,0]
[null,0,null,null,0,null,null,0,null,null,0,null,null,0]
[null,0,null,null,0,null,null,0,null,null,0,null,null,0]
[null,0,null,null,0,null,null,0,null,null,{"$f":"K51","v":0},null,null,0]
[null,0,null,null,0,null,null,0,null,null,0,null,null,0]
[]
[]
[null,null,{"$f":"'1-2a'!$C$65","v":0},null,null,{"$f":"'1-2a'!$F$65","v":0},null,null,{"$f":"'1-2a'!$I$65","v":0},null,null,{"$f":"'1-2a'!$L$65","v":0},null,null,{"$f":"'1-2a'!$O$65","v":0}]
[{"$f":"IF(A56=52,1,A56+1)","v":38},{"$f":"N56+3","v":"2020-09-14"},null,null,{"$f":"B66+1","v":"2020-09-15"},null,null,{"$f":"E66+1","v":"2020-09-16"},null,null,{"$f":"H66+1","v":"2020-09-17"},null,null,{"$f":"K66+1","v":"2020-09-18"}]
[null,{"$f":"B57","v":0},null,null,{"$f":"E57","v":0},null,null,{"$f":"H57","v":0},null,null,{"$f":"K57","v":0},null,null,{"$f":"N57","v":0}]
[7,0,null,null,0,null,null,0,null,null,0,null,null,0]
[null,0,null,null,0,null,null,0,null,null,0,null,null,0]
[null,0,null,null,0,null,null,0,null,null,0,null,null,0]
[null,0,null,null,0,null,null,0,null,null,{"$f":"K61","v":0},null,null,0]
[null,0,null,null,0,null,null,0,null,null,0,null,null,0]
[]
[]
[null,null,{"$f":"'1-2a'!$C$75","v":0},null,null,{"$f":"'1-2a'!$F$75","v":0},null,null,{"$f":"'1-2a'!$I$75","v":0},null,null,{"$f":"'1-2a'!$L$75","v":0},null,null,{"$f":"'1-2a'!$O$75","v":0}]
[{"$f":"IF(A66=52,1,A66+1)","v":39},{"$f":"N66+3","v":"2020-09-21"},null,null,{"$f":"B76+1","v":"2020-09-22"},null,null,{"$f":"E76+1","v":"2020-09-23"},null,null,{"$f":"H76+1","v":"2020-09-24"},null,null,{"$f":"K76+1","v":"2020-09-25"}]
[null,{"$f":"B67","v":0},null,null,{"$f":"E67","v":0},null,null,{"$f":"H67","v":0},null,null,{"$f":"K67","v":0},null,null,{"$f":"N67","v":0}]
[8,0,null,null,0,null,null,0,null,null,0,null,null,0]
[null,0,null,null,0,null,null,0,null,null,0,null,null,0]
[null,0,null,null,0,null,null,0,null,null,0,null,null,0]
[null,0,null,null,0,null,null,0,null,null,{"$f":"K71","v":0},null,null,0]
[null,0,null,null,0,null,null,0,null,null,0,null,null,0]
[]
[]
[null,null,{"$f":"'1-2a'!$C$85","v":0},null,null,{"$f":"'1-2a'!$F$85","v":0},null,null,{"$f":"'1-2a'!$I$85","v":0},null,null,{"$f":"'1-2a'!$L$85","v":0},null,null,{"$f":"'1-2a'!$O$85","v":0}]
[{"$f":"IF(A76=52,1,A76+1)","v":40},{"$f":"N76+3","v":"2020-09-28"},null,null,{"$f":"B86+1","v":"2020-09-29"},null,null,{"$f":"E86+1","v":"2020-09-30"},null,null,{"$f":"H86+1","v":"2020-10-01"},null,null,{"$f":"K86+1","v":"2020-10-02"}]
[null,{"$f":"B77","v":0},null,null,{"$f":"E77","v":0},null,null,{"$f":"H77","v":0},null,null,{"$f":"K77","v":0},null,null,{"$f":"N77","v":0}]
[9,0,null,null,0,null,null,0,null,null,0,null,null,0]
[null,0,null,null,0,null,null,0,null,null,0,null,null,0]
[null,0,null,null,0,null,null,0,null,null,0,null,null,0]
[null,0,null,null,0,null,null,0,null,null,0,null,null,0]
[null,0,null,null,0,null,null,0,null,null,0,null,null,0]
[]
[]
[null,null,{"$f":"'1-2a'!$C$95","v":0},null,null,{"$f":"'1-2a'!$F$95","v":0},null,null,{"$f":"'1-2a'!$I$95","v":0},null,null,{"$f":"'1-2a'!$L$95","v":0},null,null,{"$f":"'1-2a'!$O$95","v":0}]
[{"$f":"IF(A86=52,1,A86+1)","v":41},{"$f":"N86+3","v":"2020-10-05"},null,null,{"$f":"B96+1","v":"2020-10-06"},null,null,{"$f":"E96+1","v":"2020-10-07"},null,null,{"$f":"H96+1","v":"2020-10-08"},null,null,{"$f":"K96+1","v":"2020-10-09"}]
[null,{"$f":"B87","v":0},null,null,{"$f":"E87","v":0},null,null,{"$f":"H87","v":0},null,null,{"$f":"K87","v":0},null,null,{"$f":"N87","v":0}]
[10,0,null,null,0,null,null,0,null,null,0,null,null,0]
[null,0,null,null,0,null,null,0,null,null,0,null,null,0]
[null,0,null,null,0,null,null,0,null,null,0,null,null,0]
[null,0,null,null,0,null,null,0,null,null,{"$f":"K91","v":0},null,null,0]
[null,0,null,null,0,null,null,0,null,null,0,null,null,0]
[]
[]
[null,null,{"$f":"'1-2a'!$C$105","v":0},null,null,{"$f":"'1-2a'!$F$105","v":0},null,null,{"$f":"'1-2a'!$I$105","v":0},null,null,{"$f":"'1-2a'!$L$105","v":0},null,null,{"$f":"'1-2a'!$O$105","v":0}]
[{"$f":"IF(A96=52,1,A96+1)","v":42},{"$f":"N96+3","v":"2020-10-12"},null,null,{"$f":"B106+1","v":"2020-10-13"},null,null,{"$f":"E106+1","v":"2020-10-14"},null,null,{"$f":"H106+1","v":"2020-10-15"},null,null,{"$f":"K106+1","v":"2020-10-16"}]
[null,{"$f":"B97","v":0},null,null,{"$f":"E97","v":0},null,null,{"$f":"H97","v":0},null,null,{"$f":"K97","v":0},null,null,{"$f":"N97","v":0}]
[11,0,null,null,0,null,null,0,null,null,0,null,null,0]
[null,0,null,null,0,null,null,0,null,null,0,null,null,0]
[null,0,null,null,0,null,null,0,null,null,0,null,null,0]
[null,0,null,null,0,null,null,0,null,null,{"$f":"K101","v":0},null,null,0]
[null,0,null,null,0,null,null,0,null,null,0,null,null,0]
[]
[]
[null,null,{"$f":"'1-2a'!$C$115","v":0},null,null,{"$f":"'1-2a'!$F$115","v":0},null,null,{"$f":"'1-2a'!$I$115","v":0},null,null,{"$f":"'1-2a'!$L$115","v":0},null,null,{"$f":"'1-2a'!$O$115","v":0}]
[{"$f":"IF(A106=52,1,A106+1)","v":43},{"$f":"N106+3","v":"2020-10-19"},null,null,{"$f":"B116+1","v":"2020-10-20"},null,null,{"$f":"E116+1","v":"2020-10-21"},null,null,{"$f":"H116+1","v":"2020-10-22"},null,null,{"$f":"K116+1","v":"2020-10-23"}]
[null,{"$f":"B107","v":0},null,null,{"$f":"E107","v":0},null,null,{"$f":"H107","v":0},null,null,{"$f":"K107","v":0},null,null,{"$f":"N107","v":0}]
[12,0,null,null,0,null,null,0,null,null,0,null,null,0]
[null,0,null,null,0,null,null,0,null,null,0,null,null,0]
[null,0,null,null,0,null,null,0,null,null,0,null,null,0]
[null,0,null,null,0,null,null,0,null,null,{"$f":"K111","v":0},null,null,0]
[null,0,null,null,0,null,null,0,null,null,0,null,null,0]
[]
[]
[null,null,{"$f":"'1-2a'!$C$125","v":0},null,null,{"$f":"'1-2a'!$F$125","v":0},null,null,{"$f":"'1-2a'!$I$125","v":0},null,null,{"$f":"'1-2a'!$L$125","v":0},null,null,{"$f":"'1-2a'!$O$125","v":0}]
[{"$f":"IF(A116=52,1,A116+1)","v":44},{"$f":"N116+3","v":"2020-10-26"},null,null,{"$f":"B126+1","v":"2020-10-27"},null,null,{"$f":"E126+1","v":"2020-10-28"},null,null,{"$f":"H126+1","v":"2020-10-29"},null,null,{"$f":"K126+1","v":"2020-10-30"}]
[null,{"$f":"B117","v":0},null,null,{"$f":"E117","v":0},null,null,{"$f":"H117","v":0},null,null,{"$f":"K117","v":0},null,null,{"$f":"N117","v":0}]
[13,0,null,null,0,null,null,0,null,null,0,null,null,0]
[null,0,null,null,0,null,null,0,null,null,0,null,null,0]
[null,0,null,null,0,null,null,0,null,null,0,null,null,0]
[null,0,null,null,0,null,null,0,null,null,{"$f":"K121","v":0},null,null,0]
[null,0,null,null,0,null,null,0,null,null,0,null,null,0]
[]
[]
[null,null,{"$f":"'1-2a'!$C$135","v":0},null,null,{"$f":"'1-2a'!$F$135","v":0},null,null,{"$f":"'1-2a'!$I$135","v":0},null,null,{"$f":"'1-2a'!$L$135","v":0},null,null,{"$f":"'1-2a'!$O$135","v":0}]
[{"$f":"IF(A126=52,1,A126+1)","v":45},{"$f":"N126+3","v":"2020-11-02"},null,null,{"$f":"B136+1","v":"2020-11-03"},null,null,{"$f":"E136+1","v":"2020-11-04"},null,null,{"$f":"H136+1","v":"2020-11-05"},null,null,{"$f":"K136+1","v":"2020-11-06"}]
[null,{"$f":"B127","v":0},null,null,{"$f":"E127","v":0},null,null,{"$f":"H127","v":0},null,null,{"$f":"K127","v":0},null,null,{"$f":"N127","v":0}]
[14,0,null,null,0,null,null,0,null,null,0,null,null,0]
[null,0,null,null,0,null,null,0,null,null,0,null,null,0]
[null,0,null,null,0,null,null,0,null,null,0,null,null,0]
[null,0,null,null,0,null,null,0,null,null,{"$f":"K131","v":0},null,null,0]
[null,0,null,null,0,null,null,0,null,null,0,null,null,0]
[]
[]
[null,null,{"$f":"'1-2a'!$C$145","v":0},null,null,{"$f":"'1-2a'!$F$145","v":0},null,null,{"$f":"'1-2a'!$I$145","v":0},null,null,{"$f":"'1-2a'!$L$145","v":0},null,null,{"$f":"'1-2a'!$O$145","v":0}]
[{"$f":"IF(A136=52,1,A136+1)","v":46},{"$f":"N136+3","v":"2020-11-09"},null,null,{"$f":"B146+1","v":"2020-11-10"},null,null,{"$f":"E146+1","v":"2020-11-11"},null,null,{"$f":"H146+1","v":"2020-11-12"},null,null,{"$f":"K146+1","v":"2020-11-13"}]
[null,{"$f":"B137","v":0},null,null,{"$f":"E137","v":0},null,null,{"$f":"H137","v":0},null,null,{"$f":"K137","v":0},null,null,{"$f":"N137","v":0}]
[15,0,null,null,0,null,null,0,null,null,0,null,null,0]
[null,0,null,null,0,null,null,0,null,null,0,null,null,0]
[null,0,null,null,0,null,null,0,null,null,0,null,null,0]
[null,0,null,null,0,null,null,0,null,null,{"$f":"K141","v":0},null,null,0]
[null,0,null,null,0,null,null,0,null,null,0,null,null,0]
[]
[]
[null,null,{"$f":"'1-2a'!$C$155","v":0},null,null,{"$f":"'1-2a'!$F$155","v":0},null,null,{"$f":"'1-2a'!$I$155","v":0},null,null,{"$f":"'1-2a'!$L$155","v":0},null,null,{"$f":"'1-2a'!$O$155","v":0}]
[{"$f":"IF(A146=52,1,A146+1)","v":47},{"$f":"N146+3","v":"2020-11-16"},null,null,{"$f":"B156+1","v":"2020-11-17"},null,null,{"$f":"E156+1","v":"2020-11-18"},null,null,{"$f":"H156+1","v":"2020-11-19"},null,null,{"$f":"K156+1","v":"2020-11-20"}]
[null,{"$f":"B147","v":0},null,null,{"$f":"E147","v":0},null,null,{"$f":"H147","v":0},null,null,{"$f":"K147","v":0},null,null,{"$f":"N147","v":0}]
[16,0,null,null,0,null,null,0,null,null,0,null,null,0]
[null,0,null,null,0,null,null,0,null,null,0,null,null,0]
[null,0,null,null,0,null,null,0,null,null,0,null,null,0]
[null,0,null,null,0,null,null,0,null,null,{"$f":"K151","v":0},null,null,0]
[null,0,null,null,0,null,null,0,null,null,0,null,null,0]
[]
[]
[null,null,{"$f":"'1-2a'!$C$165","v":0},null,null,{"$f":"'1-2a'!$F$165","v":0},null,null,{"$f":"'1-2a'!$I$165","v":0},null,null,{"$f":"'1-2a'!$L$165","v":0},null,null,{"$f":"'1-2a'!$O$165","v":0}]
[{"$f":"IF(A156=52,1,A156+1)","v":48},{"$f":"N156+3","v":"2020-11-23"},null,null,{"$f":"B166+1","v":"2020-11-24"},null,null,{"$f":"E166+1","v":"2020-11-25"},null,null,{"$f":"H166+1","v":"2020-11-26"},null,null,{"$f":"K166+1","v":"2020-11-27"}]
[null,{"$f":"B157","v":0},null,null,{"$f":"E157","v":0},null,null,{"$f":"H157","v":0},null,null,{"$f":"K157","v":0},null,null,{"$f":"N157","v":0}]
[17,0,null,null,0,null,null,0,null,null,0,null,null,0]
[null,0,null,null,0,null,null,0,null,null,0,null,null,0]
[null,0,null,null,0,null,null,0,null,null,0,null,null,0]
[null,0,null,null,0,null,null,0,null,null,0,null,null,0]
[null,0,null,null,0,null,null,0,null,null,0,null,null,0]
[]
[]
[null,null,{"$f":"'1-2a'!$C$175","v":0},null,null,{"$f":"'1-2a'!$F$175","v":0},null,null,{"$f":"'1-2a'!$I$175","v":0},null,null,{"$f":"'1-2a'!$L$175","v":0},null,null,{"$f":"'1-2a'!$O$175","v":0}]
[{"$f":"IF(A166=52,1,A166+1)","v":49},{"$f":"N166+3","v":"2020-11-30"},null,null,{"$f":"B176+1","v":"2020-12-01"},null,null,{"$f":"E176+1","v":"2020-12-02"},null,null,{"$f":"H176+1","v":"2020-12-03"},null,null,{"$f":"K176+1","v":"2020-12-04"}]
[null,{"$f":"B167","v":0},null,null,{"$f":"E167","v":0},null,null,{"$f":"H167","v":0},null,null,{"$f":"K167","v":0},null,null,{"$f":"N167","v":0}]
[18,0,null,null,0,null,null,0,null,null,0,null,null,0]
[null,0,null,null,0,null,null,0,null,null,0,null,null,0]
[null,0,null,null,0,null,null,0,null,null,0,null,null,0]
[null,0,null,null,0,null,null,0,null,null,{"$f":"K171","v":0},null,null,0]
[null,0,null,null,0,null,null,0,null,null,0,null,null,0]
[]
[]
[null,null,{"$f":"'1-2a'!$C$185","v":0},null,null,{"$f":"'1-2a'!$F$185","v":0},null,null,{"$f":"'1-2a'!$I$185","v":0},null,null,{"$f":"'1-2a'!$L$185","v":0},null,null,{"$f":"'1-2a'!$O$185","v":0}]
[{"$f":"IF(A176=52,1,A176+1)","v":50},{"$f":"N176+3","v":"2020-12-07"},null,null,{"$f":"B186+1","v":"2020-12-08"},null,null,{"$f":"E186+1","v":"2020-12-09"},null,null,{"$f":"H186+1","v":"2020-12-10"},null,null,{"$f":"K186+1","v":"2020-12-11"}]
[null,{"$f":"B177","v":0},null,null,{"$f":"E177","v":0},null,null,{"$f":"H177","v":0},null,null,{"$f":"K177","v":0},null,null,{"$f":"N177","v":0}]
[19,0,null,null,0,null,null,0,null,null,0,null,null,0]
[null,0,null,null,0,null,null,0,null,null,0,null,null,0]
[null,0,null,null,0,null,null,0,null,null,0,null,null,0]
[null,0,null,null,0,null,null,0,null,null,{"$f":"K181","v":0},null,null,0]
[null,0,null,null,0,null,null,0,null,null,0,null,null,0]
[]
[]
[null,null,{"$f":"'1-2a'!$C$195","v":0},null,null,{"$f":"'1-2a'!$F$195","v":0},null,null,{"$f":"'1-2a'!$I$195","v":0},null,null,{"$f":"'1-2a'!$L$195","v":0},null,null,{"$f":"'1-2a'!$O$195","v":0}]
[{"$f":"IF(A186=52,1,A186+1)","v":51},{"$f":"N186+3","v":"2020-12-14"},null,null,{"$f":"B196+1","v":"2020-12-15"},null,null,{"$f":"E196+1","v":"2020-12-16"},null,null,{"$f":"H196+1","v":"2020-12-17"},null,null,{"$f":"K196+1","v":"2020-12-18"}]
[null,{"$f":"B187","v":0},null,null,{"$f":"E187","v":0},null,null,{"$f":"H187","v":0},null,null,{"$f":"K187","v":0},null,null,{"$f":"N187","v":0}]
[20,0,null,null,0,null,null,0,null,null,0,null,null,0]
[null,0,null,null,0,null,null,0,null,null,0,null,null,0]
[null,0,null,null,0,null,null,0,null,null,0,null,null,0]
[null,0,null,null,0,null,null,0,null,null,{"$f":"K191","v":0},null,null,0]
[null,0,null,null,0,null,null,0,null,null,0,null,null,0]
[]
[]
[null,null,{"$f":"'1-2a'!$C$205","v":0},null,null,{"$f":"'1-2a'!$F$205","v":0},null,null,{"$f":"'1-2a'!$I$205","v":0},null,null,{"$f":"'1-2a'!$L$205","v":0},null,null,{"$f":"'1-2a'!$O$205","v":0}]
[{"$f":"IF(A196=52,1,A196+1)","v":52},{"$f":"N196+3","v":"2020-12-21"},null,null,{"$f":"B206+1","v":"2020-12-22"},null,null,{"$f":"E206+1","v":"2020-12-23"},null,null,{"$f":"H206+1","v":"2020-12-24"},null,null,{"$f":"K206+1","v":"2020-12-25"}]
[null,{"$f":"B197","v":0},null,null,{"$f":"E197","v":0},null,null,{"$f":"H197","v":0},null,null,{"$f":"K197","v":0},null,null,{"$f":"N197","v":0}]
[21,0,null,null,0,null,null,0,null,null,0,null,null,0]
[null,0,null,null,0,null,null,0,null,null,0,null,null,0]
[null,0,null,null,0,null,null,0,null,null,0,null,null,0]
[null,0,null,null,0,null,null,0,null,null,{"$f":"K201","v":0},null,null,0]
[null,0,null,null,0,null,null,0,null,null,0,null,null,0]
[]
[]
[null,null,{"$f":"'1-2a'!$C$215","v":0},null,null,{"$f":"'1-2a'!$F$215","v":0},null,null,{"$f":"'1-2a'!$I$215","v":0},null,null,{"$f":"'1-2a'!$L$215","v":0},null,null,{"$f":"'1-2a'!$O$215","v":0}]
[{"$f":"IF(A206=52,1,A206+1)","v":1},{"$f":"N206+3","v":"2020-12-28"},null,null,{"$f":"B216+1","v":"2020-12-29"},null,null,{"$f":"E216+1","v":"2020-12-30"},null,null,{"$f":"H216+1","v":"2020-12-31"},null,null,{"$f":"K216+1","v":"2021-01-01"}]
[null,{"$f":"B207","v":0},null,null,{"$f":"E207","v":0},null,null,{"$f":"H207","v":0},null,null,{"$f":"K207","v":0},null,null,{"$f":"N207","v":0}]
[22,0,null,null,0,null,null,0,null,null,0,null,null,0]
[null,0,null,null,0,null,null,0,null,null,0,null,null,0]
[null,0,null,null,0,null,null,0,null,null,0,null,null,0]
[null,0,null,null,0,null,null,0,null,null,{"$f":"K211","v":0},null,null,0]
[null,0,null,null,0,null,null,0,null,null,0,null,null,0]
[]
[]
[null,null,{"$f":"'1-2a'!$C$225","v":0},null,null,{"$f":"'1-2a'!$F$225","v":0},null,null,{"$f":"'1-2a'!$I$225","v":0},null,null,{"$f":"'1-2a'!$L$225","v":0},null,null,{"$f":"'1-2a'!$O$225","v":0}]
[{"$f":"IF(A216=52,1,A216+1)","v":2},{"$f":"N216+3","v":"2021-01-04"},null,null,{"$f":"B226+1","v":"2021-01-05"},null,null,{"$f":"E226+1","v":"2021-01-06"},null,null,{"$f":"H226+1","v":"2021-01-07"},null,null,{"$f":"K226+1","v":"2021-01-08"}]
[null,{"$f":"B217","v":0},null,null,{"$f":"E217","v":0},null,null,{"$f":"H217","v":0},null,null,{"$f":"K217","v":0},null,null,{"$f":"N217","v":0}]
[23,0,null,null,0,null,null,0,null,null,0,null,null,0]
[null,0,null,null,0,null,null,0,null,null,0,null,null,0]
[null,0,null,null,0,null,null,0,null,null,0,null,null,0]
[null,0,null,null,0,null,null,0,null,null,{"$f":"K221","v":0},null,null,0]
[null,0,null,null,0,null,null,0,null,null,0,null,null,0]
[]
[]
[null,null,{"$f":"'1-2a'!$C$235","v":0},null,null,{"$f":"'1-2a'!$F$235","v":0},null,null,{"$f":"'1-2a'!$I$235","v":0},null,null,{"$f":"'1-2a'!$L$235","v":0},null,null,{"$f":"'1-2a'!$O$235","v":0}]
[{"$f":"IF(A226=52,1,A226+1)","v":3},{"$f":"N226+3","v":"2021-01-11"},null,null,{"$f":"B236+1","v":"2021-01-12"},null,null,{"$f":"E236+1","v":"2021-01-13"},null,null,{"$f":"H236+1","v":"2021-01-14"},null,null,{"$f":"K236+1","v":"2021-01-15"}]
[null,{"$f":"B227","v":0},null,null,{"$f":"E227","v":0},null,null,{"$f":"H227","v":0},null,null,{"$f":"K227","v":0},null,null,{"$f":"N227","v":0}]
[24,0,null,null,0,null,null,0,null,null,0,null,null,0]
[null,0,null,null,0,null,null,0,null,null,0,null,null,0]
[null,0,null,null,0,null,null,0,null,null,0,null,null,0]
[null,0,null,null,0,null,null,0,null,null,{"$f":"K231","v":0},null,null,0]
[null,0,null,null,0,null,null,0,null,null,0,null,null,0]
[]
[]
[null,null,{"$f":"'1-2a'!$C$245","v":0},null,null,{"$f":"'1-2a'!$F$245","v":0},null,null,{"$f":"'1-2a'!$I$245","v":0},null,null,{"$f":"'1-2a'!$L$245","v":0},null,null,{"$f":"'1-2a'!$O$245","v":0}]
[{"$f":"IF(A236=52,1,A236+1)","v":4},{"$f":"N236+3","v":"2021-01-18"},null,null,{"$f":"B246+1","v":"2021-01-19"},null,null,{"$f":"E246+1","v":"2021-01-20"},null,null,{"$f":"H246+1","v":"2021-01-21"},null,null,{"$f":"K246+1","v":"2021-01-22"}]
[null,{"$f":"B237","v":0},null,null,{"$f":"E237","v":0},null,null,{"$f":"H237","v":0},null,null,{"$f":"K237","v":0},null,null,{"$f":"N237","v":0}]
[25,0,null,null,0,null,null,0,null,null,0,null,null,0]
[null,0,null,null,0,null,null,0,null,null,0,null,null,0]
[null,0,null,null,0,null,null,0,null,null,0,null,null,0]
[null,0,null,null,0,null,null,0,null,null,0,null,null,0]
[null,0,null,null,0,null,null,0,null,null,0,null,null,0]
[]
[]
[null,null,{"$f":"'1-2a'!$C$255","v":0},null,null,{"$f":"'1-2a'!$F$255","v":0},null,null,{"$f":"'1-2a'!$I$255","v":0},null,null,{"$f":"'1-2a'!$L$255","v":0},null,null,{"$f":"'1-2a'!$O$255","v":0}]
[{"$f":"IF(A246=52,1,A246+1)","v":5},{"$f":"N246+3","v":"2021-01-25"},null,null,{"$f":"B256+1","v":"2021-01-26"},null,null,{"$f":"E256+1","v":"2021-01-27"},null,null,{"$f":"H256+1","v":"2021-01-28"},null,null,{"$f":"K256+1","v":"2021-01-29"}]
[null,{"$f":"B247","v":0},null,null,{"$f":"E247","v":0},null,null,{"$f":"H247","v":0},null,null,{"$f":"K247","v":0},null,null,{"$f":"N247","v":0}]
[26,0,null,null,0,null,null,0,null,null,0,null,null,0]
[null,0,null,null,0,null,null,0,null,null,0,null,null,0]
[null,0,null,null,0,null,null,0,null,null,0,null,null,0]
[null,0,null,null,0,null,null,0,null,null,{"$f":"K251","v":0},null,null,0]
[null,0,null,null,0,null,null,0,null,null,0,null,null,0]
[]
[]
[null,null,{"$f":"'1-2a'!$C$265","v":0},null,null,{"$f":"'1-2a'!$F$265","v":0},null,null,{"$f":"'1-2a'!$I$265","v":0},null,null,{"$f":"'1-2a'!$L$265","v":0},null,null,{"$f":"'1-2a'!$O$265","v":0}]
[{"$f":"IF(A256=52,1,A256+1)","v":6},{"$f":"N256+3","v":"2021-02-01"},null,null,{"$f":"B266+1","v":"2021-02-02"},null,null,{"$f":"E266+1","v":"2021-02-03"},null,null,{"$f":"H266+1","v":"2021-02-04"},null,null,{"$f":"K266+1","v":"2021-02-05"}]
[null,{"$f":"B257","v":0},null,null,{"$f":"E257","v":0},null,null,{"$f":"H257","v":0},null,null,{"$f":"K257","v":0},null,null,{"$f":"N257","v":0}]
[27,0,null,null,0,null,null,0,null,null,0,null,null,0]
[null,0,null,null,0,null,null,0,null,null,0,null,null,0]
[null,0,null,null,0,null,null,0,null,null,0,null,null,0]
[null,0,null,null,0,null,null,0,null,null,{"$f":"K261","v":0},null,null,0]
[null,0,null,null,0,null,null,0,null,null,0,null,null,0]
[]
[]
[null,null,{"$f":"'1-2a'!$C$275","v":0},null,null,{"$f":"'1-2a'!$F$275","v":0},null,null,{"$f":"'1-2a'!$I$275","v":0},null,null,{"$f":"'1-2a'!$L$275","v":0},null,null,{"$f":"'1-2a'!$O$275","v":0}]
[{"$f":"IF(A266=52,1,A266+1)","v":7},{"$f":"N266+3","v":"2021-02-08"},null,null,{"$f":"B276+1","v":"2021-02-09"},null,null,{"$f":"E276+1","v":"2021-02-10"},null,null,{"$f":"H276+1","v":"2021-02-11"},null,null,{"$f":"K276+1","v":"2021-02-12"}]
[null,{"$f":"B267","v":0},null,null,{"$f":"E267","v":0},null,null,{"$f":"H267","v":0},null,null,{"$f":"K267","v":0},null,null,{"$f":"N267","v":0}]
[28,0,null,null,0,null,null,0,null,null,0,null,null,0]
[null,0,null,null,0,null,null,0,null,null,0,null,null,0]
[null,0,null,null,0,null,null,0,null,null,0,null,null,0]
[null,0,null,null,0,null,null,0,null,null,{"$f":"K271","v":0},null,null,0]
[null,0,null,null,0,null,null,0,null,null,0,null,null,0]
[]
[]
[null,null,{"$f":"'1-2a'!$C$285","v":0},null,null,{"$f":"'1-2a'!$F$285","v":0},null,null,{"$f":"'1-2a'!$I$285","v":0},null,null,{"$f":"'1-2a'!$L$285","v":0},null,null,{"$f":"'1-2a'!$O$285","v":0}]
[{"$f":"IF(A276=52,1,A276+1)","v":8},{"$f":"N276+3","v":"2021-02-15"},null,null,{"$f":"B286+1","v":"2021-02-16"},null,null,{"$f":"E286+1","v":"2021-02-17"},null,null,{"$f":"H286+1","v":"2021-02-18"},null,null,{"$f":"K286+1","v":"2021-02-19"}]
[null,{"$f":"B277","v":0},null,null,{"$f":"E277","v":0},null,null,{"$f":"H277","v":0},null,null,{"$f":"K277","v":0},null,null,{"$f":"N277","v":0}]
[29,0,null,null,0,null,null,0,null,null,0,null,null,0]
[null,0,null,null,0,null,null,0,null,null,0,null,null,0]
[null,0,null,null,0,null,null,0,null,null,0,null,null,0]
[null,0,null,null,0,null,null,0,null,null,{"$f":"K281","v":0},null,null,0]
[null,0,null,null,0,null,null,0,null,null,0,null,null,0]
[]
[]
[null,null,{"$f":"'1-2a'!$C$295","v":0},null,null,{"$f":"'1-2a'!$F$295","v":0},null,null,{"$f":"'1-2a'!$I$295","v":0},null,null,{"$f":"'1-2a'!$L$295","v":0},null,null,{"$f":"'1-2a'!$O$295","v":0}]
[{"$f":"IF(A286=52,1,A286+1)","v":9},{"$f":"N286+3","v":"2021-02-22"},null,null,{"$f":"B296+1","v":"2021-02-23"},null,null,{"$f":"E296+1","v":"2021-02-24"},null,null,{"$f":"H296+1","v":"2021-02-25"},null,null,{"$f":"K296+1","v":"2021-02-26"}]
[null,{"$f":"B287","v":0},null,null,{"$f":"E287","v":0},null,null,{"$f":"H287","v":0},null,null,{"$f":"K287","v":0},null,null,{"$f":"N287","v":0}]
[30,0,null,null,0,null,null,0,null,null,0,null,null,0]
[null,0,null,null,0,null,null,0,null,null,0,null,null,0]
[null,0,null,null,0,null,null,0,null,null,0,null,null,0]
[null,0,null,null,0,null,null,0,null,null,{"$f":"K291","v":0},null,null,0]
[null,0,null,null,0,null,null,0,null,null,0,null,null,0]
[]
[]
[null,null,{"$f":"'1-2a'!$C$305","v":0},null,null,{"$f":"'1-2a'!$F$305","v":0},null,null,{"$f":"'1-2a'!$I$305","v":0},null,null,{"$f":"'1-2a'!$L$305","v":0},null,null,{"$f":"'1-2a'!$O$305","v":0}]
[{"$f":"IF(A296=52,1,A296+1)","v":10},{"$f":"N296+3","v":"2021-03-01"},null,null,{"$f":"B306+1","v":"2021-03-02"},null,null,{"$f":"E306+1","v":"2021-03-03"},null,null,{"$f":"H306+1","v":"2021-03-04"},null,null,{"$f":"K306+1","v":"2021-03-05"}]
[null,{"$f":"B297","v":0},null,null,{"$f":"E297","v":0},null,null,{"$f":"H297","v":0},null,null,{"$f":"K297","v":0},null,null,{"$f":"N297","v":0}]
[31,0,null,null,0,null,null,0,null,null,0,null,null,0]
[null,0,null,null,0,null,null,0,null,null,0,null,null,0]
[null,0,null,null,0,null,null,0,null,null,0,null,null,0]
[null,0,null,null,0,null,null,0,null,null,{"$f":"K301","v":0},null,null,0]
[null,0,null,null,0,null,null,0,null,null,0,null,null,0]
[]
[]
[null,null,{"$f":"'1-2a'!$C$315","v":0},null,null,{"$f":"'1-2a'!$F$315","v":0},null,null,{"$f":"'1-2a'!$I$315","v":0},null,null,{"$f":"'1-2a'!$L$315","v":0},null,null,{"$f":"'1-2a'!$O$315","v":0}]
[{"$f":"IF(A306=52,1,A306+1)","v":11},{"$f":"N306+3","v":"2021-03-08"},null,null,{"$f":"B316+1","v":"2021-03-09"},null,null,{"$f":"E316+1","v":"2021-03-10"},null,null,{"$f":"H316+1","v":"2021-03-11"},null,null,{"$f":"K316+1","v":"2021-03-12"}]
[null,{"$f":"B307","v":0},null,null,{"$f":"E307","v":0},null,null,{"$f":"H307","v":0},null,null,{"$f":"K307","v":0},null,null,{"$f":"N307","v":0}]
[32,0,null,null,0,null,null,0,null,null,0,null,null,0]
[null,0,null,null,0,null,null,0,null,null,0,null,null,0]
[null,0,null,null,0,null,null,0,null,null,0,null,null,0]
[null,0,null,null,0,null,null,0,null,null,{"$f":"K311","v":0},null,null,0]
[null,0,null,null,0,null,null,0,null,null,0,null,null,0]
[]
[]
[null,null,{"$f":"'1-2a'!$C$325","v":0},null,null,{"$f":"'1-2a'!$F$325","v":0},null,null,{"$f":"'1-2a'!$I$325","v":0},null,null,{"$f":"'1-2a'!$L$325","v":0},null,null,{"$f":"'1-2a'!$O$325","v":0}]
[{"$f":"IF(A316=52,1,A316+1)","v":12},{"$f":"N316+3","v":"2021-03-15"},null,null,{"$f":"B326+1","v":"2021-03-16"},null,null,{"$f":"E326+1","v":"2021-03-17"},null,null,{"$f":"H326+1","v":"2021-03-18"},null,null,{"$f":"K326+1","v":"2021-03-19"}]
[null,{"$f":"B317","v":0},null,null,{"$f":"E317","v":0},null,null,{"$f":"H317","v":0},null,null,{"$f":"K317","v":0},null,null,{"$f":"N317","v":0}]
[33,0,null,null,0,null,null,0,null,null,0,null,null,0]
[null,0,null,null,0,null,null,0,null,null,0,null,null,0]
[null,0,null,null,0,null,null,0,null,null,0,null,null,0]
[null,0,null,null,0,null,null,0,null,null,0,null,null,0]
[null,0,null,null,0,null,null,0,null,null,0,null,null,0]
[]
[]
[null,null,{"$f":"'1-2a'!$C$335","v":0},null,null,{"$f":"'1-2a'!$F$335","v":0},null,null,{"$f":"'1-2a'!$I$335","v":0},null,null,{"$f":"'1-2a'!$L$335","v":0},null,null,{"$f":"'1-2a'!$O$335","v":0}]
[{"$f":"IF(A326=52,1,A326+1)","v":13},{"$f":"N326+3","v":"2021-03-22"},null,null,{"$f":"B336+1","v":"2021-03-23"},null,null,{"$f":"E336+1","v":"2021-03-24"},null,null,{"$f":"H336+1","v":"2021-03-25"},null,null,{"$f":"K336+1","v":"2021-03-26"}]
[null,{"$f":"B327","v":0},null,null,{"$f":"E327","v":0},null,null,{"$f":"H327","v":0},null,null,{"$f":"K327","v":0},null,null,{"$f":"N327","v":0}]
[34,0,null,null,0,null,null,0,null,null,0,null,null,0]
[null,0,null,null,0,null,null,0,null,null,0,null,null,0]
[null,0,null,null,0,null,null,0,null,null,0,null,null,0]
[null,0,null,null,0,null,null,0,null,null,{"$f":"K331","v":0},null,null,0]
[null,0,null,null,0,null,null,0,null,null,0,null,null,0]
[]
[]
[null,null,{"$f":"'1-2a'!$C$345","v":0},null,null,{"$f":"'1-2a'!$F$345","v":0},null,null,{"$f":"'1-2a'!$I$345","v":0},null,null,{"$f":"'1-2a'!$L$345","v":0},null,null,{"$f":"'1-2a'!$O$345","v":0}]
[{"$f":"IF(A336=52,1,A336+1)","v":14},{"$f":"N336+3","v":"2021-03-29"},null,null,{"$f":"B346+1","v":"2021-03-30"},null,null,{"$f":"E346+1","v":"2021-03-31"},null,null,{"$f":"H346+1","v":"2021-04-01"},null,null,{"$f":"K346+1","v":"2021-04-02"}]
[null,{"$f":"B337","v":0},null,null,{"$f":"E337","v":0},null,null,{"$f":"H337","v":0},null,null,{"$f":"K337","v":0},null,null,{"$f":"N337","v":0}]
[35,0,null,null,0,null,null,0,null,null,0,null,null,0]
[null,0,null,null,0,null,null,0,null,null,0,null,null,0]
[null,0,null,null,0,null,null,0,null,null,0,null,null,0]
[null,0,null,null,0,null,null,0,null,null,{"$f":"K341","v":0},null,null,0]
[null,0,null,null,0,null,null,0,null,null,0,null,null,0]
[]
[]
[null,null,{"$f":"'1-2a'!$C$355","v":0},null,null,{"$f":"'1-2a'!$F$355","v":0},null,null,{"$f":"'1-2a'!$I$355","v":0},null,null,{"$f":"'1-2a'!$L$355","v":0},null,null,{"$f":"'1-2a'!$O$355","v":0}]
[{"$f":"IF(A346=52,1,A346+1)","v":15},{"$f":"N346+3","v":"2021-04-05"},null,null,{"$f":"B356+1","v":"2021-04-06"},null,null,{"$f":"E356+1","v":"2021-04-07"},null,null,{"$f":"H356+1","v":"2021-04-08"},null,null,{"$f":"K356+1","v":"2021-04-09"}]
[null,{"$f":"B347","v":0},null,null,{"$f":"E347","v":0},null,null,{"$f":"H347","v":0},null,null,{"$f":"K347","v":0},null,null,{"$f":"N347","v":0}]
[36,0,null,null,0,null,null,0,null,null,0,null,null,0]
[null,0,null,null,0,null,null,0,null,null,0,null,null,0]
[null,0,null,null,0,null,null,0,null,null,0,null,null,0]
[null,0,null,null,0,null,null,0,null,null,{"$f":"K351","v":0},null,null,0]
[null,0,null,null,0,null,null,0,null,null,0,null,null,0]
[]
[]
[null,null,{"$f":"'1-2a'!$C$365","v":0},null,null,{"$f":"'1-2a'!$F$365","v":0},null,null,{"$f":"'1-2a'!$I$365","v":0},null,null,{"$f":"'1-2a'!$L$365","v":0},null,null,{"$f":"'1-2a'!$O$365","v":0}]
[{"$f":"IF(A356=52,1,A356+1)","v":16},{"$f":"N356+3","v":"2021-04-12"},null,null,{"$f":"B366+1","v":"2021-04-13"},null,null,{"$f":"E366+1","v":"2021-04-14"},null,null,{"$f":"H366+1","v":"2021-04-15"},null,null,{"$f":"K366+1","v":"2021-04-16"}]
[null,{"$f":"B357","v":0},null,null,{"$f":"E357","v":0},null,null,{"$f":"H357","v":0},null,null,{"$f":"K357","v":0},null,null,{"$f":"N357","v":0}]
[37,0,null,null,0,null,null,0,null,null,0,null,null,0]
[null,0,null,null,0,null,null,0,null,null,0,null,null,0]
[null,0,null,null,0,null,null,0,null,null,0,null,null,0]
[null,0,null,null,0,null,null,0,null,null,{"$f":"K361","v":0},null,null,0]
[null,0,null,null,0,null,null,0,null,null,0,null,null,0]
[]
[]
[null,null,{"$f":"'1-2a'!$C$375","v":0},null,null,{"$f":"'1-2a'!$F$375","v":0},null,null,{"$f":"'1-2a'!$I$375","v":0},null,null,{"$f":"'1-2a'!$L$375","v":0},null,null,{"$f":"'1-2a'!$O$375","v":0}]
[{"$f":"IF(A366=52,1,A366+1)","v":17},{"$f":"N366+3","v":"2021-04-19"},null,null,{"$f":"B376+1","v":"2021-04-20"},null,null,{"$f":"E376+1","v":"2021-04-21"},null,null,{"$f":"H376+1","v":"2021-04-22"},null,null,{"$f":"K376+1","v":"2021-04-23"}]
[null,{"$f":"B367","v":0},null,null,{"$f":"E367","v":0},null,null,{"$f":"H367","v":0},null,null,{"$f":"K367","v":0},null,null,{"$f":"N367","v":0}]
[38,0,null,null,0,null,null,0,null,null,0,null,null,0]
[null,0,null,null,0,null,null,0,null,null,0,null,null,0]
[null,0,null,null,0,null,null,0,null,null,0,null,null,0]
[null,0,null,null,0,null,null,0,null,null,{"$f":"K371","v":0},null,null,0]
[null,0,null,null,0,null,null,0,null,null,0,null,null,0]
[]
[]
[null,null,{"$f":"'1-2a'!$C$385","v":0},null,null,{"$f":"'1-2a'!$F$385","v":0},null,null,{"$f":"'1-2a'!$I$385","v":0},null,null,{"$f":"'1-2a'!$L$385","v":0},null,null,{"$f":"'1-2a'!$O$385","v":0}]
[{"$f":"IF(A376=52,1,A376+1)","v":18},{"$f":"N376+3","v":"2021-04-26"},null,null,{"$f":"B386+1","v":"2021-04-27"},null,null,{"$f":"E386+1","v":"2021-04-28"},null,null,{"$f":"H386+1","v":"2021-04-29"},null,null,{"$f":"K386+1","v":"2021-04-30"}]
[null,{"$f":"B377","v":0},null,null,{"$f":"E377","v":0},null,null,{"$f":"H377","v":0},null,null,{"$f":"K377","v":0},null,null,{"$f":"N377","v":0}]
[39,0,null,null,0,null,null,0,null,null,0,null,null,0]
[null,0,null,null,0,null,null,0,null,null,0,null,null,0]
[null,0,null,null,0,null,null,0,null,null,0,null,null,0]
[null,0,null,null,0,null,null,0,null,null,{"$f":"K381","v":0},null,null,0]
[null,0,null,null,0,null,null,0,null,null,0,null,null,0]
[]
[]
[null,null,{"$f":"'1-2a'!$C$395","v":0},null,null,{"$f":"'1-2a'!$F$395","v":0},null,null,{"$f":"'1-2a'!$I$395","v":0},null,null,{"$f":"'1-2a'!$L$395","v":0},null,null,{"$f":"'1-2a'!$O$395","v":0}]
[{"$f":"IF(A386=52,1,A386+1)","v":19},{"$f":"N386+3","v":"2021-05-03"},null,null,{"$f":"B396+1","v":"2021-05-04"},null,null,{"$f":"E396+1","v":"2021-05-05"},null,null,{"$f":"H396+1","v":"2021-05-06"},null,null,{"$f":"K396+1","v":"2021-05-07"}]
[null,{"$f":"B387","v":0},null,null,{"$f":"E387","v":0},null,null,{"$f":"H387","v":0},null,null,{"$f":"K387","v":0},null,null,{"$f":"N387","v":0}]
[40,0,null,null,0,null,null,0,null,null,0,null,null,0]
[null,0,null,null,0,null,null,0,null,null,0,null,null,0]
[null,0,null,null,0,null,null,0,null,null,0,null,null,0]
[null,0,null,null,0,null,null,0,null,null,{"$f":"K391","v":0},null,null,0]
[null,0,null,null,0,null,null,0,null,null,0,null,null,0]
[]
[]
[null,null,{"$f":"'1-2a'!$C$405","v":0},null,null,{"$f":"'1-2a'!$F$405","v":0},null,null,{"$f":"'1-2a'!$I$405","v":0},null,null,{"$f":"'1-2a'!$L$405","v":0},null,null,{"$f":"'1-2a'!$O$405","v":0}]
[{"$f":"IF(A396=52,1,A396+1)","v":20},{"$f":"N396+3","v":"2021-05-10"},null,null,{"$f":"B406+1","v":"2021-05-11"},null,null,{"$f":"E406+1","v":"2021-05-12"},null,null,{"$f":"H406+1","v":"2021-05-13"},null,null,{"$f":"K406+1","v":"2021-05-14"}]
[null,{"$f":"B397","v":0},null,null,{"$f":"E397","v":0},null,null,{"$f":"H397","v":0},null,null,{"$f":"K397","v":0},null,null,{"$f":"N397","v":0}]
[41,0,null,null,0,null,null,0,null,null,0,null,null,0]
[null,0,null,null,0,null,null,0,null,null,0,null,null,0]
[null,0,null,null,0,null,null,0,null,null,0,null,null,0]
[null,0,null,null,0,null,null,0,null,null,0,null,null,0]
[null,0,null,null,0,null,null,0,null,null,0,null,null,0]
[]
[]
[null,null,{"$f":"'1-2a'!$C$415","v":0},null,null,{"$f":"'1-2a'!$F$415","v":0},null,null,{"$f":"'1-2a'!$I$415","v":0},null,null,{"$f":"'1-2a'!$L$415","v":0},null,null,{"$f":"'1-2a'!$O$415","v":0}]
[{"$f":"IF(A406=52,1,A406+1)","v":21},{"$f":"N406+3","v":"2021-05-17"},null,null,{"$f":"B416+1","v":"2021-05-18"},null,null,{"$f":"E416+1","v":"2021-05-19"},null,null,{"$f":"H416+1","v":"2021-05-20"},null,null,{"$f":"K416+1","v":"2021-05-21"}]
[null,{"$f":"B407","v":0},null,null,{"$f":"E407","v":0},null,null,{"$f":"H407","v":0},null,null,{"$f":"K407","v":0},null,null,{"$f":"N407","v":0}]
[42,0,null,null,0,null,null,0,null,null,0,null,null,0]
[null,0,null,null,0,null,null,0,null,null,0,null,null,0]
[null,0,null,null,0,null,null,0,null,null,0,null,null,0]
[null,0,null,null,0,null,null,0,null,null,{"$f":"K411","v":0},null,null,0]
[null,0,null,null,0,null,null,0,null,null,0,null,null,0]
[]
[]
[null,null,{"$f":"'1-2a'!$C$425","v":0},null,null,{"$f":"'1-2a'!$F$425","v":0},null,null,{"$f":"'1-2a'!$I$425","v":0},null,null,{"$f":"'1-2a'!$L$425","v":0},null,null,{"$f":"'1-2a'!$O$425","v":0}]
[{"$f":"IF(A416=52,1,A416+1)","v":22},{"$f":"N416+3","v":"2021-05-24"},null,null,{"$f":"B426+1","v":"2021-05-25"},null,null,{"$f":"E426+1","v":"2021-05-26"},null,null,{"$f":"H426+1","v":"2021-05-27"},null,null,{"$f":"K426+1","v":"2021-05-28"}]
[null,{"$f":"B417","v":0},null,null,{"$f":"E417","v":0},null,null,{"$f":"H417","v":0},null,null,{"$f":"K417","v":0},null,null,{"$f":"N417","v":0}]
[43,0,null,null,0,null,null,0,null,null,0,null,null,0]
[null,0,null,null,0,null,null,0,null,null,0,null,null,0]
[null,0,null,null,0,null,null,0,null,null,0,null,null,0]
[null,0,null,null,0,null,null,0,null,null,{"$f":"K421","v":0},null,null,0]
[null,0,null,null,0,null,null,0,null,null,0,null,null,0]
[]
[]
[null,null,{"$f":"'1-2a'!$C$435","v":0},null,null,{"$f":"'1-2a'!$F$435","v":0},null,null,{"$f":"'1-2a'!$I$435","v":0},null,null,{"$f":"'1-2a'!$L$435","v":0},null,null,{"$f":"'1-2a'!$O$435","v":0}]
[{"$f":"IF(A426=52,1,A426+1)","v":23},{"$f":"N426+3","v":"2021-05-31"},null,null,{"$f":"B436+1","v":"2021-06-01"},null,null,{"$f":"E436+1","v":"2021-06-02"},null,null,{"$f":"H436+1","v":"2021-06-03"},null,null,{"$f":"K436+1","v":"2021-06-04"}]
[null,{"$f":"B427","v":0},null,null,{"$f":"E427","v":0},null,null,{"$f":"H427","v":0},null,null,{"$f":"K427","v":0},null,null,{"$f":"N427","v":0}]
[44,0,null,null,0,null,null,0,null,null,0,null,null,0]
[null,0,null,null,0,null,null,0,null,null,0,null,null,0]
[null,0,null,null,0,null,null,0,null,null,0,null,null,0]
[null,0,null,null,0,null,null,0,null,null,{"$f":"K431","v":0},null,null,0]
[null,0,null,null,0,null,null,0,null,null,0,null,null,0]
[]
[]
[null,null,{"$f":"'1-2a'!$C$445","v":0},null,null,{"$f":"'1-2a'!$F$445","v":0},null,null,{"$f":"'1-2a'!$I$445","v":0},null,null,{"$f":"'1-2a'!$L$445","v":0},null,null,{"$f":"'1-2a'!$O$445","v":0}]
[{"$f":"IF(A436=52,1,A436+1)","v":24},{"$f":"N436+3","v":"2021-06-07"},null,null,{"$f":"B446+1","v":"2021-06-08"},null,null,{"$f":"E446+1","v":"2021-06-09"},null,null,{"$f":"H446+1","v":"2021-06-10"},null,null,{"$f":"K446+1","v":"2021-06-11"}]
[null,{"$f":"B437","v":0},null,null,{"$f":"E437","v":0},null,null,{"$f":"H437","v":0},null,null,{"$f":"K437","v":0},null,null,{"$f":"N437","v":0}]
[45,0,null,null,0,null,null,0,null,null,0,null,null,0]
[null,0,null,null,0,null,null,0,null,null,0,null,null,0]
[null,0,null,null,0,null,null,0,null,null,0,null,null,0]
[null,0,null,null,0,null,null,0,null,null,{"$f":"K441","v":0},null,null,0]
[null,0,null,null,0,null,null,0,null,null,0,null,null,0]
[]
[]
[null,null,{"$f":"'1-2a'!$C$455","v":0},null,null,{"$f":"'1-2a'!$F$455","v":0},null,null,{"$f":"'1-2a'!$I$455","v":0},null,null,{"$f":"'1-2a'!$L$455","v":0},null,null,{"$f":"'1-2a'!$O$455","v":0}]
[{"$f":"IF(A446=52,1,A446+1)","v":25},{"$f":"N446+3","v":"2021-06-14"},null,null,{"$f":"B456+1","v":"2021-06-15"},null,null,{"$f":"E456+1","v":"2021-06-16"},null,null,{"$f":"H456+1","v":"2021-06-17"},null,null,{"$f":"K456+1","v":"2021-06-18"}]
[null,{"$f":"B447","v":0},null,null,{"$f":"E447","v":0},null,null,{"$f":"H447","v":0},null,null,{"$f":"K447","v":0},null,null,{"$f":"N447","v":0}]
[46,0,null,null,0,null,null,0,null,null,0,null,null,0]
[null,0,null,null,0,null,null,0,null,null,0,null,null,0]
[null,0,null,null,0,null,null,0,null,null,0,null,null,0]
[null,0,null,null,0,null,null,0,null,null,{"$f":"K451","v":0},null,null,0]
[null,0,null,null,0,null,null,0,null,null,0,null,null,0]
[]
[]
[null,null,{"$f":"'1-2a'!$C$465","v":0},null,null,{"$f":"'1-2a'!$F$465","v":0},null,null,{"$f":"'1-2a'!$I$465","v":0},null,null,{"$f":"'1-2a'!$L$465","v":0},null,null,{"$f":"'1-2a'!$O$465","v":0}]
[{"$f":"IF(A456=52,1,A456+1)","v":26},{"$f":"N456+3","v":"2021-06-21"},null,null,{"$f":"B466+1","v":"2021-06-22"},null,null,{"$f":"E466+1","v":"2021-06-23"},null,null,{"$f":"H466+1","v":"2021-06-24"},null,null,{"$f":"K466+1","v":"2021-06-25"}]
[null,{"$f":"B457","v":0},null,null,{"$f":"E457","v":0},null,null,{"$f":"H457","v":0},null,null,{"$f":"K457","v":0},null,null,{"$f":"N457","v":0}]
[47,0,null,null,0,null,null,0,null,null,0,null,null,0]
[null,0,null,null,0,null,null,0,null,null,0,null,null,0]
[null,0,null,null,0,null,null,0,null,null,0,null,null,0]
[null,0,null,null,0,null,null,0,null,null,{"$f":"K461","v":0},null,null,0]
[null,0,null,null,0,null,null,0,null,null,0,null,null,0]
[]
[]
[null,null,{"$f":"'1-2a'!$C$475","v":0},null,null,{"$f":"'1-2a'!$F$475","v":0},null,null,{"$f":"'1-2a'!$I$475","v":0},null,null,{"$f":"'1-2a'!$L$475","v":0},null,null,{"$f":"'1-2a'!$O$475","v":0}]
[{"$f":"IF(A466=52,1,A466+1)","v":27},{"$f":"N466+3","v":"2021-06-28"},null,null,{"$f":"B476+1","v":"2021-06-29"},null,null,{"$f":"E476+1","v":"2021-06-30"},null,null,{"$f":"H476+1","v":"2021-07-01"},null,null,{"$f":"K476+1","v":"2021-07-02"}]
[null,{"$f":"B467","v":0},null,null,{"$f":"E467","v":0},null,null,{"$f":"H467","v":0},null,null,{"$f":"K467","v":0},null,null,{"$f":"N467","v":0}]
[48,0,null,null,0,null,null,0,null,null,0,null,null,0]
[null,0,null,null,0,null,null,0,null,null,0,null,null,0]
[null,0,null,null,0,null,null,0,null,null,0,null,null,0]
[null,0,null,null,0,null,null,0,null,null,{"$f":"K471","v":0},null,null,0]
[null,0,null,null,0,null,null,0,null,null,0,null,null,0]
[]
[]
[null,null,{"$f":"'1-2a'!$C$485","v":0},null,null,{"$f":"'1-2a'!$F$485","v":0},null,null,{"$f":"'1-2a'!$I$485","v":0},null,null,{"$f":"'1-2a'!$L$485","v":0},null,null,{"$f":"'1-2a'!$O$485","v":0}]
[{"$f":"IF(A476=52,1,A476+1)","v":28},{"$f":"N476+3","v":"2021-07-05"},null,null,{"$f":"B486+1","v":"2021-07-06"},null,null,{"$f":"E486+1","v":"2021-07-07"},null,null,{"$f":"H486+1","v":"2021-07-08"},null,null,{"$f":"K486+1","v":"2021-07-09"}]
[null,{"$f":"B477","v":0},null,null,{"$f":"E477","v":0},null,null,{"$f":"H477","v":0},null,null,{"$f":"K477","v":0},null,null,{"$f":"N477","v":0}]
[49,0,null,null,0,null,null,0,null,null,0,null,null,0]
[null,0,null,null,0,null,null,0,null,null,0,null,null,0]
[null,0,null,null,0,null,null,0,null,null,0,null,null,0]
[null,0,null,null,0,null,null,0,null,null,0,null,null,0]
[null,0,null,null,0,null,null,0,null,null,0,null,null,0]
[]
[]
[null,null,{"$f":"'1-2a'!$C$495","v":0},null,null,{"$f":"'1-2a'!$F$495","v":0},null,null,{"$f":"'1-2a'!$I$495","v":0},null,null,{"$f":"'1-2a'!$L$495","v":0},null,null,{"$f":"'1-2a'!$O$495","v":0}]
[{"$f":"IF(A486=52,1,A486+1)","v":29},{"$f":"N486+3","v":"2021-07-12"},null,null,{"$f":"B496+1","v":"2021-07-13"},null,null,{"$f":"E496+1","v":"2021-07-14"},null,null,{"$f":"H496+1","v":"2021-07-15"},null,null,{"$f":"K496+1","v":"2021-07-16"}]
[null,{"$f":"B487","v":0},null,null,{"$f":"E487","v":0},null,null,{"$f":"H487","v":0},null,null,{"$f":"K487","v":0},null,null,{"$f":"N487","v":0}]
[50,0,null,null,0,null,null,0,null,null,0]
[null,0,null,null,0,null,null,0,null,null,0,null,null,0]
[null,0,null,null,0,null,null,0,null,null,0,null,null,0]
[null,0,null,null,0,null,null,0,null,null,{"$f":"K491","v":0},null,null,0]
[null,0,null,null,0,null,null,0,null,null,0]

{"sheet":"4","index":4,"n_rows":502,"n_cols":15,"rows_kept":502,"cut":false,"hidden":false,"merged":[[5,1,5,3],[5,4,5,6],[5,7,5,9],[5,10,5,12],[5,13,5,15],[7,0,8,0],[1,1,2,7],[1,9,2,12],[1,13,2,15],[3,1,3,3],[3,4,3,6],[3,7,3,9],[3,10,3,12],[3,13,3,15],[12,1,13,3],[12,4,13,6],[12,7,13,9],[12,10,13,12],[12,13,13,15],[15,1,15,3],[15,4,15,6],[15,7,15,9],[15,10,15,12],[15,13,15,15],[25,1,25,3],[25,4,25,6],[25,7,25,9],[25,10,25,12],[25,13,25,15],[27,0,28,0],[17,0,18,0],[22,1,23,3],[22,4,23,6],[22,7,23,9],[22,10,23,12],[22,13,23,15],[32,1,33,3],[32,4,33,6],[32,7,33,9],[32,10,33,12],[32,13,33,15],[35,1,35,3],[35,4,35,6],[35,7,35,9],[35,10,35,12],[35,13,35,15],[45,1,45,3],[45,4,45,6],[45,7,45,9],[45,10,45,12],[45,13,45,15],[47,0,48,0],[37,0,38,0],[42,1,43,3],[42,4,43,6],[42,7,43,9],[42,10,43,12],[42,13,43,15],[52,1,53,3],[52,4,53,6],[52,7,53,9],[52,10,53,12],[52,13,53,15],[55,1,55,3],[55,4,55,6],[55,7,55,9],[55,10,55,12],[55,13,55,15],[65,1,65,3],[65,4,65,6],[65,7,65,9],[65,10,65,12],[65,13,65,15],[67,0,68,0],[57,0,58,0],[62,1,63,3],[62,4,63,6],[62,7,63,9],[62,10,63,12],[62,13,63,15],[72,1,73,3],[72,4,73,6],[72,7,73,9],[72,10,73,12],[72,13,73,15],[75,1,75,3],[75,4,75,6],[75,7,75,9],[75,10,75,12],[75,13,75,15],[85,1,85,3],[85,4,85,6],[85,7,85,9],[85,10,85,12],[85,13,85,15],[87,0,88,0],[77,0,78,0],[82,1,83,3],[82,4,83,6],[82,7,83,9],[82,10,83,12],[82,13,83,15],[92,1,93,3],[92,4,93,6],[92,7,93,9],[92,10,93,12],[92,13,93,15],[95,1,95,3],[95,4,95,6],[95,7,95,9],[95,10,95,12],[95,13,95,15],[105,1,105,3],[105,4,105,6],[105,7,105,9],[105,10,105,12],[105,13,105,15],[107,0,108,0],[97,0,98,0],[99,16,100,19],[102,1,103,3],[102,4,103,6],[102,7,103,9],[102,10,103,12],[102,13,103,15],[112,1,113,3],[112,4,113,6],[112,7,113,9],[112,10,113,12],[112,13,113,15],[115,1,115,3],[115,4,115,6],[115,7,115,9],[115,10,115,12],[115,13,115,15],[125,1,125,3],[125,4,125,6],[125,7,125,9],[125,10,125,12],[125,13,125,15],[127,0,128,0],[117,0,118,0],[122,1,123,3],[122,4,123,6],[122,7,123,9],[122,10,123,12],[122,13,123,15],[132,1,133,3],[132,4,133,6],[132,7,133,9],[132,10,133,12],[132,13,133,15],[135,1,135,3],[135,4,135,6],[135,7,135,9],[135,10,135,12],[135,13,135,15],[145,1,145,3],[145,4,145,6],[145,7,145,9],[145,10,145,12],[145,13,145,15],[147,0,148,0],[137,0,138,0],[142,1,143,3],[142,4,143,6],[142,7,143,9],[142,10,143,12],[142,13,143,15],[152,1,153,3],[152,4,153,6],[152,7,153,9],[152,10,153,12],[152,13,153,15],[155,1,155,3],[155,4,155,6],[155,7,155,9],[155,10,155,12],[155,13,155,15],[165,1,165,3],[165,4,165,6],[165,7,165,9],[165,10,165,12],[165,13,165,15],[167,0,168,0],[157,0,158,0],[162,1,163,3],[162,4,163,6],[162,7,163,9],[162,10,163,12],[162,13,163,15],[172,1,173,3],[172,4,173,6],[172,7,173,9],[172,10,173,12],[172,13,173,15],[175,1,175,3],[175,4,175,6],[175,7,175,9],[175,10,175,12],[175,13,175,15],[185,1,185,3],[185,4,185,6],[185,7,185,9],[185,10,185,12],[185,13,185,15],[187,0,188,0],[177,0,178,0],[179,16,180,19],[182,1,183,3],[182,4,183,6],[182,7,183,9],[182,10,183,12],[182,13,183,15],[192,1,193,3],[192,4,193,6],[192,7,193,9],[192,10,193,12],[192,13,193,15],[195,1,195,3],[195,4,195,6],[195,7,195,9],[195,10,195,12],[195,13,195,15],[205,1,205,3],[205,4,205,6],[205,7,205,9],[205,10,205,12],[205,13,205,15],[207,0,208,0],[197,0,198,0],[202,1,203,3],[202,4,203,6],[202,7,203,9],[202,10,203,12],[202,13,203,15],[212,1,213,3],[212,4,213,6],[212,7,213,9],[212,10,213,12],[212,13,213,15],[215,1,215,3],[215,4,215,6],[215,7,215,9],[215,10,215,12],[215,13,215,15],[225,1,225,3],[225,4,225,6],[225,7,225,9],[225,10,225,12],[225,13,225,15],[227,0,228,0],[217,0,218,0],[222,1,223,3],[222,4,223,6],[222,7,223,9],[222,10,223,12],[222,13,223,15],[232,1,233,3],[232,4,233,6],[232,7,233,9],[232,10,233,12],[232,13,233,15],[235,1,235,3],[235,4,235,6],[235,7,235,9],[235,10,235,12],[235,13,235,15],[245,1,245,3],[245,4,245,6],[245,7,245,9],[245,10,245,12],[245,13,245,15],[247,0,248,0],[237,0,238,0],[242,1,243,3],[242,4,243,6],[242,7,243,9],[242,10,243,12],[242,13,243,15],[252,1,253,3],[252,4,253,6],[252,7,253,9],[252,10,253,12],[252,13,253,15],[255,1,255,3],[255,4,255,6],[255,7,255,9],[255,10,255,12],[255,13,255,15],[265,1,265,3],[265,4,265,6],[265,7,265,9],[265,10,265,12],[265,13,265,15],[267,0,268,0],[257,0,258,0],[259,16,260,19],[262,1,263,3],[262,4,263,6],[262,7,263,9],[262,10,263,12],[262,13,263,15],[272,1,273,3],[272,4,273,6],[272,7,273,9],[272,10,273,12],[272,13,273,15],[275,1,275,3],[275,4,275,6],[275,7,275,9],[275,10,275,12],[275,13,275,15],[285,1,285,3],[285,4,285,6],[285,7,285,9],[285,10,285,12],[285,13,285,15],[287,0,288,0],[277,0,278,0],[282,1,283,3],[282,4,283,6],[282,7,283,9],[282,10,283,12],[282,13,283,15],[292,1,293,3],[292,4,293,6],[292,7,293,9],[292,10,293,12],[292,13,293,15],[295,1,295,3],[295,4,295,6],[295,7,295,9],[295,10,295,12],[295,13,295,15],[305,1,305,3],[305,4,305,6],[305,7,305,9],[305,10,305,12],[305,13,305,15],[307,0,308,0],[297,0,298,0],[302,1,303,3],[302,4,303,6],[302,7,303,9],[302,10,303,12],[302,13,303,15],[312,1,313,3],[312,4,313,6],[312,7,313,9],[312,10,313,12],[312,13,313,15],[315,1,315,3],[315,4,315,6],[315,7,315,9],[315,10,315,12],[315,13,315,15],[325,1,325,3],[325,4,325,6],[325,7,325,9],[325,10,325,12],[325,13,325,15],[327,0,328,0],[317,0,318,0],[322,1,323,3],[322,4,323,6],[322,7,323,9],[322,10,323,12],[322,13,323,15],[332,1,333,3],[332,4,333,6],[332,7,333,9],[332,10,333,12],[332,13,333,15],[335,1,335,3],[335,4,335,6],[335,7,335,9],[335,10,335,12],[335,13,335,15],[345,1,345,3],[345,4,345,6],[345,7,345,9],[345,10,345,12],[345,13,345,15],[347,0,348,0],[337,0,338,0],[339,16,340,19],[342,1,343,3],[342,4,343,6],[342,7,343,9],[342,10,343,12],[342,13,343,15],[352,1,353,3],[352,4,353,6],[352,7,353,9],[352,10,353,12],[352,13,353,15],[355,1,355,3],[355,4,355,6],[355,7,355,9],[355,10,355,12],[355,13,355,15],[365,1,365,3],[365,4,365,6],[365,7,365,9],[365,10,365,12],[365,13,365,15],[367,0,368,0],[357,0,358,0],[362,1,363,3],[362,4,363,6],[362,7,363,9],[362,10,363,12],[362,13,363,15],[372,1,373,3],[372,4,373,6],[372,7,373,9],[372,10,373,12],[372,13,373,15],[375,1,375,3],[375,4,375,6],[375,7,375,9],[375,10,375,12],[375,13,375,15],[385,1,385,3],[385,4,385,6],[385,7,385,9],[385,10,385,12],[385,13,385,15],[387,0,388,0],[377,0,378,0],[382,1,383,3],[382,4,383,6],[382,7,383,9],[382,10,383,12],[382,13,383,15],[392,1,393,3],[392,4,393,6],[392,7,393,9],[392,10,393,12],[392,13,393,15],[395,1,395,3],[395,4,395,6],[395,7,395,9],[395,10,395,12],[395,13,395,15],[405,1,405,3],[405,4,405,6],[405,7,405,9],[405,10,405,12],[405,13,405,15],[407,0,408,0],[397,0,398,0],[402,1,403,3],[402,4,403,6],[402,7,403,9],[402,10,403,12],[402,13,403,15],[412,1,413,3],[412,4,413,6],[412,7,413,9],[412,10,413,12],[412,13,413,15],[415,1,415,3],[415,4,415,6],[415,7,415,9],[415,10,415,12],[415,13,415,15],[425,1,425,3],[425,4,425,6],[425,7,425,9],[425,10,425,12],[425,13,425,15],[427,0,428,0],[417,0,418,0],[419,16,420,19],[422,1,423,3],[422,4,423,6],[422,7,423,9],[422,10,423,12],[422,13,423,15],[432,1,433,3],[432,4,433,6],[432,7,433,9],[432,10,433,12],[432,13,433,15],[435,1,435,3],[435,4,435,6],[435,7,435,9],[435,10,435,12],[435,13,435,15],[445,1,445,3],[445,4,445,6],[445,7,445,9],[445,10,445,12],[445,13,445,15],[447,0,448,0],[437,0,438,0],[442,1,443,3],[442,4,443,6],[442,7,443,9],[442,10,443,12],[442,13,443,15],[452,1,453,3],[452,4,453,6],[452,7,453,9],[452,10,453,12],[452,13,453,15],[455,1,455,3],[455,4,455,6],[455,7,455,9],[455,10,455,12],[455,13,455,15],[465,1,465,3],[465,4,465,6],[465,7,465,9],[465,10,465,12],[465,13,465,15],[467,0,468,0],[457,0,458,0],[462,1,463,3],[462,4,463,6],[462,7,463,9],[462,10,463,12],[462,13,463,15],[472,1,473,3],[472,4,473,6],[472,7,473,9],[472,10,473,12],[472,13,473,15],[475,1,475,3],[475,4,475,6],[475,7,475,9],[475,10,475,12],[475,13,475,15],[485,1,485,3],[485,4,485,6],[485,7,485,9],[485,10,485,12],[485,13,485,15],[487,0,488,0],[477,0,478,0],[482,1,483,3],[482,4,483,6],[482,7,483,9],[482,10,483,12],[482,13,483,15],[497,0,498,0],[499,16,500,19],[502,1,503,3],[502,4,503,6],[502,7,503,9],[502,10,503,12],[502,13,503,15],[492,1,493,3],[492,4,493,6],[492,7,493,9],[492,10,493,12],[492,13,493,15],[495,1,495,3],[495,4,495,6],[495,7,495,9],[495,10,495,12],[495,13,495,15]]}
[]
[null,{"$f":"'1-2a'!B2:H3","v":"Basisschool De Grote Beer        schooljaar 2020/2021"},null,null,null,null,null,null,null,"Groepsplanner van groep:",null,null,null,"4"]
[]
[null,"maandag 1e schoolweek",null,null,"dinsdag",null,null,"woensdag",null,null,"donderdag",null,null,"vrijdag"]
[null,null,{"$f":"'1-2a'!C$5","v":0},null,null,{"$f":"'1-2a'!F5","v":0},null,null,{"$f":"'1-2a'!I$5","v":0},null,null,{"$f":"'1-2a'!L$5","v":"s"},null,null,{"$f":"'1-2a'!O$5","v":0}]
[{"$f":"(B6-WEEKDAY(B6-1)+4-(TRUNC(DATE(YEAR(B6-WEEKDAY(B6-1)+4),1,2)/7)*7-2))/7","v":32},{"$f":"'1-2a'!B6:D6","v":"2020-08-03"},null,null,{"$f":"B6+1","v":"2020-08-04"},null,null,{"$f":"E6+1","v":"2020-08-05"},null,null,{"$f":"H6+1","v":"2020-08-06"},null,null,{"$f":"K6+1","v":"2020-08-07"}]
[]
[1]
[]
[]
[]
[]
[]
[]
[null,null,{"$f":"'1-2a'!C$15","v":0},null,null,{"$f":"'1-2a'!F$15","v":0},null,null,{"$f":"'1-2a'!I$15","v":0},null,null,{"$f":"'1-2a'!L$15","v":0},null,null,{"$f":"'1-2a'!O15","v":0}]
[{"$f":"IF(A6=52,1,A6+1)","v":33},{"$f":"N6+3","v":"2020-08-10"},null,null,{"$f":"B16+1","v":"2020-08-11"},null,null,{"$f":"E16+1","v":"2020-08-12"},null,null,{"$f":"H16+1","v":"2020-08-13"},null,null,{"$f":"K16+1","v":"2020-08-14"}]
[null,{"$f":"B7","v":0},null,null,{"$f":"E7","v":0},null,null,{"$f":"H7","v":0},null,null,{"$f":"K7","v":0},null,null,{"$f":"N7","v":0}]
[2,0,null,null,0,null,null,0,null,null,0,null,null,0]
[null,0,null,null,0,null,null,0,null,null,0,null,null,0]
[null,0,null,null,0,null,null,0,null,null,0,null,null,0]
[null,0,null,null,0,null,null,0,null,null,0,null,null,0]
[null,0,null,null,0,null,null,0,null,null,0,null,null,0]
[]
[]
[null,null,{"$f":"'1-2a'!C$25","v":0},null,null,{"$f":"'1-2a'!F$25","v":0},null,null,{"$f":"'1-2a'!I25","v":0},null,null,{"$f":"'1-2a'!L25","v":0},null,null,{"$f":"'1-2a'!O25","v":0}]
[{"$f":"IF(A16=52,1,A16+1)","v":34},{"$f":"N16+3","v":"2020-08-17"},null,null,{"$f":"B26+1","v":"2020-08-18"},null,null,{"$f":"E26+1","v":"2020-08-19"},null,null,{"$f":"H26+1","v":"2020-08-20"},null,null,{"$f":"K26+1","v":"2020-08-21"}]
[null,{"$f":"B17","v":0},null,null,{"$f":"E17","v":0},null,null,{"$f":"H17","v":0},null,null,{"$f":"K17","v":0},null,null,{"$f":"N17","v":0}]
[3,0,null,null,0,null,null,0,null,null,0,null,null,0]
[null,0,null,null,0,null,null,0,null,null,0,null,null,0]
[null,0,null,null,0,null,null,0,null,null,0,null,null,0]
[null,0,null,null,0,null,null,0,null,null,{"$f":"K21","v":0},null,null,0]
[null,0,null,null,0,null,null,0,null,null,0,null,null,0]
[]
[]
[null,null,{"$f":"'1-2a'!$C$35","v":0},null,null,{"$f":"'1-2a'!$F$35","v":0},null,null,{"$f":"'1-2a'!$I$35","v":0},null,null,{"$f":"'1-2a'!$L$35","v":0},null,null,{"$f":"'1-2a'!$O$35","v":0}]
[{"$f":"IF(A26=52,1,A26+1)","v":35},{"$f":"N26+3","v":"2020-08-24"},null,null,{"$f":"B36+1","v":"2020-08-25"},null,null,{"$f":"E36+1","v":"2020-08-26"},null,null,{"$f":"H36+1","v":"2020-08-27"},null,null,{"$f":"K36+1","v":"2020-08-28"}]
[null,{"$f":"B27","v":0},null,null,{"$f":"E27","v":0},null,null,{"$f":"H27","v":0},null,null,{"$f":"K27","v":0},null,null,{"$f":"N27","v":0}]
[4,0,null,null,0,null,null,0,null,null,0,null,null,0]
[null,0,null,null,0,null,null,0,null,null,0,null,null,0]
[null,0,null,null,0,null,null,0,null,null,0,null,null,0]
[null,0,null,null,0,null,null,0,null,null,{"$f":"K31","v":0},null,null,0]
[null,0,null,null,0,null,null,0,null,null,0,null,null,0]
[]
[]
[null,null,{"$f":"'1-2a'!$C$45","v":0},null,null,{"$f":"'1-2a'!$F$45","v":0},null,null,{"$f":"'1-2a'!$I$45","v":0},null,null,{"$f":"'1-2a'!$L$45","v":0},null,null,{"$f":"'1-2a'!$O$45","v":0}]
[{"$f":"IF(A36=52,1,A36+1)","v":36},{"$f":"N36+3","v":"2020-08-31"},null,null,{"$f":"B46+1","v":"2020-09-01"},null,null,{"$f":"E46+1","v":"2020-09-02"},null,null,{"$f":"H46+1","v":"2020-09-03"},null,null,{"$f":"K46+1","v":"2020-09-04"}]
[null,{"$f":"B37","v":0},null,null,{"$f":"E37","v":0},null,null,{"$f":"H37","v":0},null,null,{"$f":"K37","v":0},null,null,{"$f":"N37","v":0}]
[5,0,null,null,0,null,null,0,null,null,0,null,null,0]
[null,0,null,null,0,null,null,0,null,null,0,null,null,0]
[null,0,null,null,0,null,null,0,null,null,0,null,null,0]
[null,0,null,null,0,null,null,0,null,null,{"$f":"K41","v":0},null,null,0]
[null,0,null,null,0,null,null,0,null,null,0,null,null,0]
[]
[]
[null,null,{"$f":"'1-2a'!$C$55","v":0},null,null,{"$f":"'1-2a'!$F$55","v":0},null,null,{"$f":"'1-2a'!$I$55","v":0},null,null,{"$f":"'1-2a'!$L$55","v":0},null,null,{"$f":"'1-2a'!O55","v":0}]
[{"$f":"IF(A46=52,1,A46+1)","v":37},{"$f":"N46+3","v":"2020-09-07"},null,null,{"$f":"B56+1","v":"2020-09-08"},null,null,{"$f":"E56+1","v":"2020-09-09"},null,null,{"$f":"H56+1","v":"2020-09-10"},null,null,{"$f":"K56+1","v":"2020-09-11"}]
[null,{"$f":"B47","v":0},null,null,{"$f":"E47","v":0},null,null,{"$f":"H47","v":0},null,null,{"$f":"K47","v":0},null,null,{"$f":"N47","v":0}]
[6,0,null,null,0,null,null,0,null,null,0,null,null,0]
[null,0,null,null,0,null,null,0,null,null,0,null,null,0]
[null,0,null,null,0,null,null,0,null,null,0,null,null,0]
[null,0,null,null,0,null,null,0,null,null,{"$f":"K51","v":0},null,null,0]
[null,0,null,null,0,null,null,0,null,null,0,null,null,0]
[]
[]
[null,null,{"$f":"'1-2a'!$C$65","v":0},null,null,{"$f":"'1-2a'!$F$65","v":0},null,null,{"$f":"'1-2a'!$I$65","v":0},null,null,{"$f":"'1-2a'!$L$65","v":0},null,null,{"$f":"'1-2a'!$O$65","v":0}]
[{"$f":"IF(A56=52,1,A56+1)","v":38},{"$f":"N56+3","v":"2020-09-14"},null,null,{"$f":"B66+1","v":"2020-09-15"},null,null,{"$f":"E66+1","v":"2020-09-16"},null,null,{"$f":"H66+1","v":"2020-09-17"},null,null,{"$f":"K66+1","v":"2020-09-18"}]
[null,{"$f":"B57","v":0},null,null,{"$f":"E57","v":0},null,null,{"$f":"H57","v":0},null,null,{"$f":"K57","v":0},null,null,{"$f":"N57","v":0}]
[7,0,null,null,0,null,null,0,null,null,0,null,null,0]
[null,0,null,null,0,null,null,0,null,null,0,null,null,0]
[null,0,null,null,0,null,null,0,null,null,0,null,null,0]
[null,0,null,null,0,null,null,0,null,null,{"$f":"K61","v":0},null,null,0]
[null,0,null,null,0,null,null,0,null,null,0,null,null,0]
[]
[]
[null,null,{"$f":"'1-2a'!$C$75","v":0},null,null,{"$f":"'1-2a'!$F$75","v":0},null,null,{"$f":"'1-2a'!$I$75","v":0},null,null,{"$f":"'1-2a'!$L$75","v":0},null,null,{"$f":"'1-2a'!$O$75","v":0}]
[{"$f":"IF(A66=52,1,A66+1)","v":39},{"$f":"N66+3","v":"2020-09-21"},null,null,{"$f":"B76+1","v":"2020-09-22"},null,null,{"$f":"E76+1","v":"2020-09-23"},null,null,{"$f":"H76+1","v":"2020-09-24"},null,null,{"$f":"K76+1","v":"2020-09-25"}]
[null,{"$f":"B67","v":0},null,null,{"$f":"E67","v":0},null,null,{"$f":"H67","v":0},null,null,{"$f":"K67","v":0},null,null,{"$f":"N67","v":0}]
[8,0,null,null,0,null,null,0,null,null,0,null,null,0]
[null,0,null,null,0,null,null,0,null,null,0,null,null,0]
[null,0,null,null,0,null,null,0,null,null,0,null,null,0]
[null,0,null,null,0,null,null,0,null,null,{"$f":"K71","v":0},null,null,0]
[null,0,null,null,0,null,null,0,null,null,0,null,null,0]
[]
[]
[null,null,{"$f":"'1-2a'!$C$85","v":0},null,null,{"$f":"'1-2a'!$F$85","v":0},null,null,{"$f":"'1-2a'!$I$85","v":0},null,null,{"$f":"'1-2a'!$L$85","v":0},null,null,{"$f":"'1-2a'!$O$85","v":0}]
[{"$f":"IF(A76=52,1,A76+1)","v":40},{"$f":"N76+3","v":"2020-09-28"},null,null,{"$f":"B86+1","v":"2020-09-29"},null,null,{"$f":"E86+1","v":"2020-09-30"},null,null,{"$f":"H86+1","v":"2020-10-01"},null,null,{"$f":"K86+1","v":"2020-10-02"}]
[null,{"$f":"B77","v":0},null,null,{"$f":"E77","v":0},null,null,{"$f":"H77","v":0},null,null,{"$f":"K77","v":0},null,null,{"$f":"N77","v":0}]
[9,0,null,null,0,null,null,0,null,null,0,null,null,0]
[null,0,null,null,0,null,null,0,null,null,0,null,null,0]
[null,0,null,null,0,null,null,0,null,null,0,null,null,0]
[null,0,null,null,0,null,null,0,null,null,0,null,null,0]
[null,0,null,null,0,null,null,0,null,null,0,null,null,0]
[]
[]
[null,null,{"$f":"'1-2a'!$C$95","v":0},null,null,{"$f":"'1-2a'!$F$95","v":0},null,null,{"$f":"'1-2a'!$I$95","v":0},null,null,{"$f":"'1-2a'!$L$95","v":0},null,null,{"$f":"'1-2a'!$O$95","v":0}]
[{"$f":"IF(A86=52,1,A86+1)","v":41},{"$f":"N86+3","v":"2020-10-05"},null,null,{"$f":"B96+1","v":"2020-10-06"},null,null,{"$f":"E96+1","v":"2020-10-07"},null,null,{"$f":"H96+1","v":"2020-10-08"},null,null,{"$f":"K96+1","v":"2020-10-09"}]
[null,{"$f":"B87","v":0},null,null,{"$f":"E87","v":0},null,null,{"$f":"H87","v":0},null,null,{"$f":"K87","v":0},null,null,{"$f":"N87","v":0}]
[10,0,null,null,0,null,null,0,null,null,0,null,null,0]
[null,0,null,null,0,null,null,0,null,null,0,null,null,0]
[null,0,null,null,0,null,null,0,null,null,0,null,null,0]
[null,0,null,null,0,null,null,0,null,null,{"$f":"K91","v":0},null,null,0]
[null,0,null,null,0,null,null,0,null,null,0,null,null,0]
[]
[]
[null,null,{"$f":"'1-2a'!$C$105","v":0},null,null,{"$f":"'1-2a'!$F$105","v":0},null,null,{"$f":"'1-2a'!$I$105","v":0},null,null,{"$f":"'1-2a'!$L$105","v":0},null,null,{"$f":"'1-2a'!$O$105","v":0}]
[{"$f":"IF(A96=52,1,A96+1)","v":42},{"$f":"N96+3","v":"2020-10-12"},null,null,{"$f":"B106+1","v":"2020-10-13"},null,null,{"$f":"E106+1","v":"2020-10-14"},null,null,{"$f":"H106+1","v":"2020-10-15"},null,null,{"$f":"K106+1","v":"2020-10-16"}]
[null,{"$f":"B97","v":0},null,null,{"$f":"E97","v":0},null,null,{"$f":"H97","v":0},null,null,{"$f":"K97","v":0},null,null,{"$f":"N97","v":0}]
[11,0,null,null,0,null,null,0,null,null,0,null,null,0]
[null,0,null,null,0,null,null,0,null,null,0,null,null,0]
[null,0,null,null,0,null,null,0,null,null,0,null,null,0]
[null,0,null,null,0,null,null,0,null,null,{"$f":"K101","v":0},null,null,0]
[null,0,null,null,0,null,null,0,null,null,0,null,null,0]
[]
[]
[null,null,{"$f":"'1-2a'!$C$115","v":0},null,null,{"$f":"'1-2a'!$F$115","v":0},null,null,{"$f":"'1-2a'!$I$115","v":0},null,null,{"$f":"'1-2a'!$L$115","v":0},null,null,{"$f":"'1-2a'!$O$115","v":0}]
[{"$f":"IF(A106=52,1,A106+1)","v":43},{"$f":"N106+3","v":"2020-10-19"},null,null,{"$f":"B116+1","v":"2020-10-20"},null,null,{"$f":"E116+1","v":"2020-10-21"},null,null,{"$f":"H116+1","v":"2020-10-22"},null,null,{"$f":"K116+1","v":"2020-10-23"}]
[null,{"$f":"B107","v":0},null,null,{"$f":"E107","v":0},null,null,{"$f":"H107","v":0},null,null,{"$f":"K107","v":0},null,null,{"$f":"N107","v":0}]
[12,0,null,null,0,null,null,0,null,null,0,null,null,0]
[null,0,null,null,0,null,null,0,null,null,0,null,null,0]
[null,0,null,null,0,null,null,0,null,null,0,null,null,0]
[null,0,null,null,0,null,null,0,null,null,{"$f":"K111","v":0},null,null,0]
[null,0,null,null,0,null,null,0,null,null,0,null,null,0]
[]
[]
[null,null,{"$f":"'1-2a'!$C$125","v":0},null,null,{"$f":"'1-2a'!$F$125","v":0},null,null,{"$f":"'1-2a'!$I$125","v":0},null,null,{"$f":"'1-2a'!$L$125","v":0},null,null,{"$f":"'1-2a'!$O$125","v":0}]
[{"$f":"IF(A116=52,1,A116+1)","v":44},{"$f":"N116+3","v":"2020-10-26"},null,null,{"$f":"B126+1","v":"2020-10-27"},null,null,{"$f":"E126+1","v":"2020-10-28"},null,null,{"$f":"H126+1","v":"2020-10-29"},null,null,{"$f":"K126+1","v":"2020-10-30"}]
[null,{"$f":"B117","v":0},null,null,{"$f":"E117","v":0},null,null,{"$f":"H117","v":0},null,null,{"$f":"K117","v":0},null,null,{"$f":"N117","v":0}]
[13,0,null,null,0,null,null,0,null,null,0,null,null,0]
[null,0,null,null,0,null,null,0,null,null,0,null,null,0]
[null,0,null,null,0,null,null,0,null,null,0,null,null,0]
[null,0,null,null,0,null,null,0,null,null,{"$f":"K121","v":0},null,null,0]
[null,0,null,null,0,null,null,0,null,null,0,null,null,0]
[]
[]
[null,null,{"$f":"'1-2a'!$C$135","v":0},null,null,{"$f":"'1-2a'!$F$135","v":0},null,null,{"$f":"'1-2a'!$I$135","v":0},null,null,{"$f":"'1-2a'!$L$135","v":0},null,null,{"$f":"'1-2a'!$O$135","v":0}]
[{"$f":"IF(A126=52,1,A126+1)","v":45},{"$f":"N126+3","v":"2020-11-02"},null,null,{"$f":"B136+1","v":"2020-11-03"},null,null,{"$f":"E136+1","v":"2020-11-04"},null,null,{"$f":"H136+1","v":"2020-11-05"},null,null,{"$f":"K136+1","v":"2020-11-06"}]
[null,{"$f":"B127","v":0},null,null,{"$f":"E127","v":0},null,null,{"$f":"H127","v":0},null,null,{"$f":"K127","v":0},null,null,{"$f":"N127","v":0}]
[14,0,null,null,0,null,null,0,null,null,0,null,null,0]
[null,0,null,null,0,null,null,0,null,null,0,null,null,0]
[null,0,null,null,0,null,null,0,null,null,0,null,null,0]
[null,0,null,null,0,null,null,0,null,null,{"$f":"K131","v":0},null,null,0]
[null,0,null,null,0,null,null,0,null,null,0,null,null,0]
[]
[]
[null,null,{"$f":"'1-2a'!$C$145","v":0},null,null,{"$f":"'1-2a'!$F$145","v":0},null,null,{"$f":"'1-2a'!$I$145","v":0},null,null,{"$f":"'1-2a'!$L$145","v":0},null,null,{"$f":"'1-2a'!$O$145","v":0}]
[{"$f":"IF(A136=52,1,A136+1)","v":46},{"$f":"N136+3","v":"2020-11-09"},null,null,{"$f":"B146+1","v":"2020-11-10"},null,null,{"$f":"E146+1","v":"2020-11-11"},null,null,{"$f":"H146+1","v":"2020-11-12"},null,null,{"$f":"K146+1","v":"2020-11-13"}]
[null,{"$f":"B137","v":0},null,null,{"$f":"E137","v":0},null,null,{"$f":"H137","v":0},null,null,{"$f":"K137","v":0},null,null,{"$f":"N137","v":0}]
[15,0,null,null,0,null,null,0,null,null,0,null,null,0]
[null,0,null,null,0,null,null,0,null,null,0,null,null,0]
[null,0,null,null,0,null,null,0,null,null,0,null,null,0]
[null,0,null,null,0,null,null,0,null,null,{"$f":"K141","v":0},null,null,0]
[null,0,null,null,0,null,null,0,null,null,0,null,null,0]
[]
[]
[null,null,{"$f":"'1-2a'!$C$155","v":0},null,null,{"$f":"'1-2a'!$F$155","v":0},null,null,{"$f":"'1-2a'!$I$155","v":0},null,null,{"$f":"'1-2a'!$L$155","v":0},null,null,{"$f":"'1-2a'!$O$155","v":0}]
[{"$f":"IF(A146=52,1,A146+1)","v":47},{"$f":"N146+3","v":"2020-11-16"},null,null,{"$f":"B156+1","v":"2020-11-17"},null,null,{"$f":"E156+1","v":"2020-11-18"},null,null,{"$f":"H156+1","v":"2020-11-19"},null,null,{"$f":"K156+1","v":"2020-11-20"}]
[null,{"$f":"B147","v":0},null,null,{"$f":"E147","v":0},null,null,{"$f":"H147","v":0},null,null,{"$f":"K147","v":0},null,null,{"$f":"N147","v":0}]
[16,0,null,null,0,null,null,0,null,null,0,null,null,0]
[null,0,null,null,0,null,null,0,null,null,0,null,null,0]
[null,0,null,null,0,null,null,0,null,null,0,null,null,0]
[null,0,null,null,0,null,null,0,null,null,{"$f":"K151","v":0},null,null,0]
[null,0,null,null,0,null,null,0,null,null,0,null,null,0]
[]
[]
[null,null,{"$f":"'1-2a'!$C$165","v":0},null,null,{"$f":"'1-2a'!$F$165","v":0},null,null,{"$f":"'1-2a'!$I$165","v":0},null,null,{"$f":"'1-2a'!$L$165","v":0},null,null,{"$f":"'1-2a'!$O$165","v":0}]
[{"$f":"IF(A156=52,1,A156+1)","v":48},{"$f":"N156+3","v":"2020-11-23"},null,null,{"$f":"B166+1","v":"2020-11-24"},null,null,{"$f":"E166+1","v":"2020-11-25"},null,null,{"$f":"H166+1","v":"2020-11-26"},null,null,{"$f":"K166+1","v":"2020-11-27"}]
[null,{"$f":"B157","v":0},null,null,{"$f":"E157","v":0},null,null,{"$f":"H157","v":0},null,null,{"$f":"K157","v":0},null,null,{"$f":"N157","v":0}]
[17,0,null,null,0,null,null,0,null,null,0,null,null,0]
[null,0,null,null,0,null,null,0,null,null,0,null,null,0]
[null,0,null,null,0,null,null,0,null,null,0,null,null,0]
[null,0,null,null,0,null,null,0,null,null,0,null,null,0]
[null,0,null,null,0,null,null,0,null,null,0,null,null,0]
[]
[]
[null,null,{"$f":"'1-2a'!$C$175","v":0},null,null,{"$f":"'1-2a'!$F$175","v":0},null,null,{"$f":"'1-2a'!$I$175","v":0},null,null,{"$f":"'1-2a'!$L$175","v":0},null,null,{"$f":"'1-2a'!$O$175","v":0}]
[{"$f":"IF(A166=52,1,A166+1)","v":49},{"$f":"N166+3","v":"2020-11-30"},null,null,{"$f":"B176+1","v":"2020-12-01"},null,null,{"$f":"E176+1","v":"2020-12-02"},null,null,{"$f":"H176+1","v":"2020-12-03"},null,null,{"$f":"K176+1","v":"2020-12-04"}]
[null,{"$f":"B167","v":0},null,null,{"$f":"E167","v":0},null,null,{"$f":"H167","v":0},null,null,{"$f":"K167","v":0},null,null,{"$f":"N167","v":0}]
[18,0,null,null,0,null,null,0,null,null,0,null,null,0]
[null,0,null,null,0,null,null,0,null,null,0,null,null,0]
[null,0,null,null,0,null,null,0,null,null,0,null,null,0]
[null,0,null,null,0,null,null,0,null,null,{"$f":"K171","v":0},null,null,0]
[null,0,null,null,0,null,null,0,null,null,0,null,null,0]
[]
[]
[null,null,{"$f":"'1-2a'!$C$185","v":0},null,null,{"$f":"'1-2a'!$F$185","v":0},null,null,{"$f":"'1-2a'!$I$185","v":0},null,null,{"$f":"'1-2a'!$L$185","v":0},null,null,{"$f":"'1-2a'!$O$185","v":0}]
[{"$f":"IF(A176=52,1,A176+1)","v":50},{"$f":"N176+3","v":"2020-12-07"},null,null,{"$f":"B186+1","v":"2020-12-08"},null,null,{"$f":"E186+1","v":"2020-12-09"},null,null,{"$f":"H186+1","v":"2020-12-10"},null,null,{"$f":"K186+1","v":"2020-12-11"}]
[null,{"$f":"B177","v":0},null,null,{"$f":"E177","v":0},null,null,{"$f":"H177","v":0},null,null,{"$f":"K177","v":0},null,null,{"$f":"N177","v":0}]
[19,0,null,null,0,null,null,0,null,null,0,null,null,0]
[null,0,null,null,0,null,null,0,null,null,0,null,null,0]
[null,0,null,null,0,null,null,0,null,null,0,null,null,0]
[null,0,null,null,0,null,null,0,null,null,{"$f":"K181","v":0},null,null,0]
[null,0,null,null,0,null,null,0,null,null,0,null,null,0]
[]
[]
[null,null,{"$f":"'1-2a'!$C$195","v":0},null,null,{"$f":"'1-2a'!$F$195","v":0},null,null,{"$f":"'1-2a'!$I$195","v":0},null,null,{"$f":"'1-2a'!$L$195","v":0},null,null,{"$f":"'1-2a'!$O$195","v":0}]
[{"$f":"IF(A186=52,1,A186+1)","v":51},{"$f":"N186+3","v":"2020-12-14"},null,null,{"$f":"B196+1","v":"2020-12-15"},null,null,{"$f":"E196+1","v":"2020-12-16"},null,null,{"$f":"H196+1","v":"2020-12-17"},null,null,{"$f":"K196+1","v":"2020-12-18"}]
[null,{"$f":"B187","v":0},null,null,{"$f":"E187","v":0},null,null,{"$f":"H187","v":0},null,null,{"$f":"K187","v":0},null,null,{"$f":"N187","v":0}]
[20,0,null,null,0,null,null,0,null,null,0,null,null,0]
[null,0,null,null,0,null,null,0,null,null,0,null,null,0]
[null,0,null,null,0,null,null,0,null,null,0,null,null,0]
[null,0,null,null,0,null,null,0,null,null,{"$f":"K191","v":0},null,null,0]
[null,0,null,null,0,null,null,0,null,null,0,null,null,0]
[]
[]
[null,null,{"$f":"'1-2a'!$C$205","v":0},null,null,{"$f":"'1-2a'!$F$205","v":0},null,null,{"$f":"'1-2a'!$I$205","v":0},null,null,{"$f":"'1-2a'!$L$205","v":0},null,null,{"$f":"'1-2a'!$O$205","v":0}]
[{"$f":"IF(A196=52,1,A196+1)","v":52},{"$f":"N196+3","v":"2020-12-21"},null,null,{"$f":"B206+1","v":"2020-12-22"},null,null,{"$f":"E206+1","v":"2020-12-23"},null,null,{"$f":"H206+1","v":"2020-12-24"},null,null,{"$f":"K206+1","v":"2020-12-25"}]
[null,{"$f":"B197","v":0},null,null,{"$f":"E197","v":0},null,null,{"$f":"H197","v":0},null,null,{"$f":"K197","v":0},null,null,{"$f":"N197","v":0}]
[21,0,null,null,0,null,null,0,null,null,0,null,null,0]
[null,0,null,null,0,null,null,0,null,null,0,null,null,0]
[null,0,null,null,0,null,null,0,null,null,0,null,null,0]
[null,0,null,null,0,null,null,0,null,null,{"$f":"K201","v":0},null,null,0]
[null,0,null,null,0,null,null,0,null,null,0,null,null,0]
[]
[]
[null,null,{"$f":"'1-2a'!$C$215","v":0},null,null,{"$f":"'1-2a'!$F$215","v":0},null,null,{"$f":"'1-2a'!$I$215","v":0},null,null,{"$f":"'1-2a'!$L$215","v":0},null,null,{"$f":"'1-2a'!$O$215","v":0}]
[{"$f":"IF(A206=52,1,A206+1)","v":1},{"$f":"N206+3","v":"2020-12-28"},null,null,{"$f":"B216+1","v":"2020-12-29"},null,null,{"$f":"E216+1","v":"2020-12-30"},null,null,{"$f":"H216+1","v":"2020-12-31"},null,null,{"$f":"K216+1","v":"2021-01-01"}]
[null,{"$f":"B207","v":0},null,null,{"$f":"E207","v":0},null,null,{"$f":"H207","v":0},null,null,{"$f":"K207","v":0},null,null,{"$f":"N207","v":0}]
[22,0,null,null,0,null,null,0,null,null,0,null,null,0]
[null,0,null,null,0,null,null,0,null,null,0,null,null,0]
[null,0,null,null,0,null,null,0,null,null,0,null,null,0]
[null,0,null,null,0,null,null,0,null,null,{"$f":"K211","v":0},null,null,0]
[null,0,null,null,0,null,null,0,null,null,0,null,null,0]
[]
[]
[null,null,{"$f":"'1-2a'!$C$225","v":0},null,null,{"$f":"'1-2a'!$F$225","v":0},null,null,{"$f":"'1-2a'!$I$225","v":0},null,null,{"$f":"'1-2a'!$L$225","v":0},null,null,{"$f":"'1-2a'!$O$225","v":0}]
[{"$f":"IF(A216=52,1,A216+1)","v":2},{"$f":"N216+3","v":"2021-01-04"},null,null,{"$f":"B226+1","v":"2021-01-05"},null,null,{"$f":"E226+1","v":"2021-01-06"},null,null,{"$f":"H226+1","v":"2021-01-07"},null,null,{"$f":"K226+1","v":"2021-01-08"}]
[null,{"$f":"B217","v":0},null,null,{"$f":"E217","v":0},null,null,{"$f":"H217","v":0},null,null,{"$f":"K217","v":0},null,null,{"$f":"N217","v":0}]
[23,0,null,null,0,null,null,0,null,null,0,null,null,0]
[null,0,null,null,0,null,null,0,null,null,0,null,null,0]
[null,0,null,null,0,null,null,0,null,null,0,null,null,0]
[null,0,null,null,0,null,null,0,null,null,{"$f":"K221","v":0},null,null,0]
[null,0,null,null,0,null,null,0,null,null,0,null,null,0]
[]
[]
[null,null,{"$f":"'1-2a'!$C$235","v":0},null,null,{"$f":"'1-2a'!$F$235","v":0},null,null,{"$f":"'1-2a'!$I$235","v":0},null,null,{"$f":"'1-2a'!$L$235","v":0},null,null,{"$f":"'1-2a'!$O$235","v":0}]
[{"$f":"IF(A226=52,1,A226+1)","v":3},{"$f":"N226+3","v":"2021-01-11"},null,null,{"$f":"B236+1","v":"2021-01-12"},null,null,{"$f":"E236+1","v":"2021-01-13"},null,null,{"$f":"H236+1","v":"2021-01-14"},null,null,{"$f":"K236+1","v":"2021-01-15"}]
[null,{"$f":"B227","v":0},null,null,{"$f":"E227","v":0},null,null,{"$f":"H227","v":0},null,null,{"$f":"K227","v":0},null,null,{"$f":"N227","v":0}]
[24,0,null,null,0,null,null,0,null,null,0,null,null,0]
[null,0,null,null,0,null,null,0,null,null,0,null,null,0]
[null,0,null,null,0,null,null,0,null,null,0,null,null,0]
[null,0,null,null,0,null,null,0,null,null,{"$f":"K231","v":0},null,null,0]
[null,0,null,null,0,null,null,0,null,null,0,null,null,0]
[]
[]
[null,null,{"$f":"'1-2a'!$C$245","v":0},null,null,{"$f":"'1-2a'!$F$245","v":0},null,null,{"$f":"'1-2a'!$I$245","v":0},null,null,{"$f":"'1-2a'!$L$245","v":0},null,null,{"$f":"'1-2a'!$O$245","v":0}]
[{"$f":"IF(A236=52,1,A236+1)","v":4},{"$f":"N236+3","v":"2021-01-18"},null,null,{"$f":"B246+1","v":"2021-01-19"},null,null,{"$f":"E246+1","v":"2021-01-20"},null,null,{"$f":"H246+1","v":"2021-01-21"},null,null,{"$f":"K246+1","v":"2021-01-22"}]
[null,{"$f":"B237","v":0},null,null,{"$f":"E237","v":0},null,null,{"$f":"H237","v":0},null,null,{"$f":"K237","v":0},null,null,{"$f":"N237","v":0}]
[25,0,null,null,0,null,null,0,null,null,0,null,null,0]
[null,0,null,null,0,null,null,0,null,null,0,null,null,0]
[null,0,null,null,0,null,null,0,null,null,0,null,null,0]
[null,0,null,null,0,null,null,0,null,null,0,null,null,0]
[null,0,null,null,0,null,null,0,null,null,0,null,null,0]
[]
[]
[null,null,{"$f":"'1-2a'!$C$255","v":0},null,null,{"$f":"'1-2a'!$F$255","v":0},null,null,{"$f":"'1-2a'!$I$255","v":0},null,null,{"$f":"'1-2a'!$L$255","v":0},null,null,{"$f":"'1-2a'!$O$255","v":0}]
[{"$f":"IF(A246=52,1,A246+1)","v":5},{"$f":"N246+3","v":"2021-01-25"},null,null,{"$f":"B256+1","v":"2021-01-26"},null,null,{"$f":"E256+1","v":"2021-01-27"},null,null,{"$f":"H256+1","v":"2021-01-28"},null,null,{"$f":"K256+1","v":"2021-01-29"}]
[null,{"$f":"B247","v":0},null,null,{"$f":"E247","v":0},null,null,{"$f":"H247","v":0},null,null,{"$f":"K247","v":0},null,null,{"$f":"N247","v":0}]
[26,0,null,null,0,null,null,0,null,null,0,null,null,0]
[null,0,null,null,0,null,null,0,null,null,0,null,null,0]
[null,0,null,null,0,null,null,0,null,null,0,null,null,0]
[null,0,null,null,0,null,null,0,null,null,{"$f":"K251","v":0},null,null,0]
[null,0,null,null,0,null,null,0,null,null,0,null,null,0]
[]
[]
[null,null,{"$f":"'1-2a'!$C$265","v":0},null,null,{"$f":"'1-2a'!$F$265","v":0},null,null,{"$f":"'1-2a'!$I$265","v":0},null,null,{"$f":"'1-2a'!$L$265","v":0},null,null,{"$f":"'1-2a'!$O$265","v":0}]
[{"$f":"IF(A256=52,1,A256+1)","v":6},{"$f":"N256+3","v":"2021-02-01"},null,null,{"$f":"B266+1","v":"2021-02-02"},null,null,{"$f":"E266+1","v":"2021-02-03"},null,null,{"$f":"H266+1","v":"2021-02-04"},null,null,{"$f":"K266+1","v":"2021-02-05"}]
[null,{"$f":"B257","v":0},null,null,{"$f":"E257","v":0},null,null,{"$f":"H257","v":0},null,null,{"$f":"K257","v":0},null,null,{"$f":"N257","v":0}]
[27,0,null,null,0,null,null,0,null,null,0,null,null,0]
[null,0,null,null,0,null,null,0,null,null,0,null,null,0]
[null,0,null,null,0,null,null,0,null,null,0,null,null,0]
[null,0,null,null,0,null,null,0,null,null,{"$f":"K261","v":0},null,null,0]
[null,0,null,null,0,null,null,0,null,null,0,null,null,0]
[]
[]
[null,null,{"$f":"'1-2a'!$C$275","v":0},null,null,{"$f":"'1-2a'!$F$275","v":0},null,null,{"$f":"'1-2a'!$I$275","v":0},null,null,{"$f":"'1-2a'!$L$275","v":0},null,null,{"$f":"'1-2a'!$O$275","v":0}]
[{"$f":"IF(A266=52,1,A266+1)","v":7},{"$f":"N266+3","v":"2021-02-08"},null,null,{"$f":"B276+1","v":"2021-02-09"},null,null,{"$f":"E276+1","v":"2021-02-10"},null,null,{"$f":"H276+1","v":"2021-02-11"},null,null,{"$f":"K276+1","v":"2021-02-12"}]
[null,{"$f":"B267","v":0},null,null,{"$f":"E267","v":0},null,null,{"$f":"H267","v":0},null,null,{"$f":"K267","v":0},null,null,{"$f":"N267","v":0}]
[28,0,null,null,0,null,null,0,null,null,0,null,null,0]
[null,0,null,null,0,null,null,0,null,null,0,null,null,0]
[null,0,null,null,0,null,null,0,null,null,0,null,null,0]
[null,0,null,null,0,null,null,0,null,null,{"$f":"K271","v":0},null,null,0]
[null,0,null,null,0,null,null,0,null,null,0,null,null,0]
[]
[]
[null,null,{"$f":"'1-2a'!$C$285","v":0},null,null,{"$f":"'1-2a'!$F$285","v":0},null,null,{"$f":"'1-2a'!$I$285","v":0},null,null,{"$f":"'1-2a'!$L$285","v":0},null,null,{"$f":"'1-2a'!$O$285","v":0}]
[{"$f":"IF(A276=52,1,A276+1)","v":8},{"$f":"N276+3","v":"2021-02-15"},null,null,{"$f":"B286+1","v":"2021-02-16"},null,null,{"$f":"E286+1","v":"2021-02-17"},null,null,{"$f":"H286+1","v":"2021-02-18"},null,null,{"$f":"K286+1","v":"2021-02-19"}]
[null,{"$f":"B277","v":0},null,null,{"$f":"E277","v":0},null,null,{"$f":"H277","v":0},null,null,{"$f":"K277","v":0},null,null,{"$f":"N277","v":0}]
[29,0,null,null,0,null,null,0,null,null,0,null,null,0]
[null,0,null,null,0,null,null,0,null,null,0,null,null,0]
[null,0,null,null,0,null,null,0,null,null,0,null,null,0]
[null,0,null,null,0,null,null,0,null,null,{"$f":"K281","v":0},null,null,0]
[null,0,null,null,0,null,null,0,null,null,0,null,null,0]
[]
[]
[null,null,{"$f":"'1-2a'!$C$295","v":0},null,null,{"$f":"'1-2a'!$F$295","v":0},null,null,{"$f":"'1-2a'!$I$295","v":0},null,null,{"$f":"'1-2a'!$L$295","v":0},null,null,{"$f":"'1-2a'!$O$295","v":0}]
[{"$f":"IF(A286=52,1,A286+1)","v":9},{"$f":"N286+3","v":"2021-02-22"},null,null,{"$f":"B296+1","v":"2021-02-23"},null,null,{"$f":"E296+1","v":"2021-02-24"},null,null,{"$f":"H296+1","v":"2021-02-25"},null,null,{"$f":"K296+1","v":"2021-02-26"}]
[null,{"$f":"B287","v":0},null,null,{"$f":"E287","v":0},null,null,{"$f":"H287","v":0},null,null,{"$f":"K287","v":0},null,null,{"$f":"N287","v":0}]
[30,0,null,null,0,null,null,0,null,null,0,null,null,0]
[null,0,null,null,0,null,null,0,null,null,0,null,null,0]
[null,0,null,null,0,null,null,0,null,null,0,null,null,0]
[null,0,null,null,0,null,null,0,null,null,{"$f":"K291","v":0},null,null,0]
[null,0,null,null,0,null,null,0,null,null,0,null,null,0]
[]
[]
[null,null,{"$f":"'1-2a'!$C$305","v":0},null,null,{"$f":"'1-2a'!$F$305","v":0},null,null,{"$f":"'1-2a'!$I$305","v":0},null,null,{"$f":"'1-2a'!$L$305","v":0},null,null,{"$f":"'1-2a'!$O$305","v":0}]
[{"$f":"IF(A296=52,1,A296+1)","v":10},{"$f":"N296+3","v":"2021-03-01"},null,null,{"$f":"B306+1","v":"2021-03-02"},null,null,{"$f":"E306+1","v":"2021-03-03"},null,null,{"$f":"H306+1","v":"2021-03-04"},null,null,{"$f":"K306+1","v":"2021-03-05"}]
[null,{"$f":"B297","v":0},null,null,{"$f":"E297","v":0},null,null,{"$f":"H297","v":0},null,null,{"$f":"K297","v":0},null,null,{"$f":"N297","v":0}]
[31,0,null,null,0,null,null,0,null,null,0,null,null,0]
[null,0,null,null,0,null,null,0,null,null,0,null,null,0]
[null,0,null,null,0,null,null,0,null,null,0,null,null,0]
[null,0,null,null,0,null,null,0,null,null,{"$f":"K301","v":0},null,null,0]
[null,0,null,null,0,null,null,0,null,null,0,null,null,0]
[]
[]
[null,null,{"$f":"'1-2a'!$C$315","v":0},null,null,{"$f":"'1-2a'!$F$315","v":0},null,null,{"$f":"'1-2a'!$I$315","v":0},null,null,{"$f":"'1-2a'!$L$315","v":0},null,null,{"$f":"'1-2a'!$O$315","v":0}]
[{"$f":"IF(A306=52,1,A306+1)","v":11},{"$f":"N306+3","v":"2021-03-08"},null,null,{"$f":"B316+1","v":"2021-03-09"},null,null,{"$f":"E316+1","v":"2021-03-10"},null,null,{"$f":"H316+1","v":"2021-03-11"},null,null,{"$f":"K316+1","v":"2021-03-12"}]
[null,{"$f":"B307","v":0},null,null,{"$f":"E307","v":0},null,null,{"$f":"H307","v":0},null,null,{"$f":"K307","v":0},null,null,{"$f":"N307","v":0}]
[32,0,null,null,0,null,null,0,null,null,0,null,null,0]
[null,0,null,null,0,null,null,0,null,null,0,null,null,0]
[null,0,null,null,0,null,null,0,null,null,0,null,null,0]
[null,0,null,null,0,null,null,0,null,null,{"$f":"K311","v":0},null,null,0]
[null,0,null,null,0,null,null,0,null,null,0,null,null,0]
[]
[]
[null,null,{"$f":"'1-2a'!$C$325","v":0},null,null,{"$f":"'1-2a'!$F$325","v":0},null,null,{"$f":"'1-2a'!$I$325","v":0},null,null,{"$f":"'1-2a'!$L$325","v":0},null,null,{"$f":"'1-2a'!$O$325","v":0}]
[{"$f":"IF(A316=52,1,A316+1)","v":12},{"$f":"N316+3","v":"2021-03-15"},null,null,{"$f":"B326+1","v":"2021-03-16"},null,null,{"$f":"E326+1","v":"2021-03-17"},null,null,{"$f":"H326+1","v":"2021-03-18"},null,null,{"$f":"K326+1","v":"2021-03-19"}]
[null,{"$f":"B317","v":0},null,null,{"$f":"E317","v":0},null,null,{"$f":"H317","v":0},null,null,{"$f":"K317","v":0},null,null,{"$f":"N317","v":0}]
[33,0,null,null,0,null,null,0,null,null,0,null,null,0]
[null,0,null,null,0,null,null,0,null,null,0,null,null,0]
[null,0,null,null,0,null,null,0,null,null,0,null,null,0]
[null,0,null,null,0,null,null,0,null,null,0,null,null,0]
[null,0,null,null,0,null,null,0,null,null,0,null,null,0]
[]
[]
[null,null,{"$f":"'1-2a'!$C$335","v":0},null,null,{"$f":"'1-2a'!$F$335","v":0},null,null,{"$f":"'1-2a'!$I$335","v":0},null,null,{"$f":"'1-2a'!$L$335","v":0},null,null,{"$f":"'1-2a'!$O$335","v":0}]
[{"$f":"IF(A326=52,1,A326+1)","v":13},{"$f":"N326+3","v":"2021-03-22"},null,null,{"$f":"B336+1","v":"2021-03-23"},null,null,{"$f":"E336+1","v":"2021-03-24"},null,null,{"$f":"H336+1","v":"2021-03-25"},null,null,{"$f":"K336+1","v":"2021-03-26"}]
[null,{"$f":"B327","v":0},null,null,{"$f":"E327","v":0},null,null,{"$f":"H327","v":0},null,null,{"$f":"K327","v":0},null,null,{"$f":"N327","v":0}]
[34,0,null,null,0,null,null,0,null,null,0,null,null,0]
[null,0,null,null,0,null,null,0,null,null,0,null,null,0]
[null,0,null,null,0,null,null,0,null,null,0,null,null,0]
[null,0,null,null,0,null,null,0,null,null,{"$f":"K331","v":0},null,null,0]
[null,0,null,null,0,null,null,0,null,null,0,null,null,0]
[]
[]
[null,null,{"$f":"'1-2a'!$C$345","v":0},null,null,{"$f":"'1-2a'!$F$345","v":0},null,null,{"$f":"'1-2a'!$I$345","v":0},null,null,{"$f":"'1-2a'!$L$345","v":0},null,null,{"$f":"'1-2a'!$O$345","v":0}]
[{"$f":"IF(A336=52,1,A336+1)","v":14},{"$f":"N336+3","v":"2021-03-29"},null,null,{"$f":"B346+1","v":"2021-03-30"},null,null,{"$f":"E346+1","v":"2021-03-31"},null,null,{"$f":"H346+1","v":"2021-04-01"},null,null,{"$f":"K346+1","v":"2021-04-02"}]
[null,{"$f":"B337","v":0},null,null,{"$f":"E337","v":0},null,null,{"$f":"H337","v":0},null,null,{"$f":"K337","v":0},null,null,{"$f":"N337","v":0}]
[35,0,null,null,0,null,null,0,null,null,0,null,null,0]
[null,0,null,null,0,null,null,0,null,null,0,null,null,0]
[null,0,null,null,0,null,null,0,null,null,0,null,null,0]
[null,0,null,null,0,null,null,0,null,null,{"$f":"K341","v":0},null,null,0]
[null,0,null,null,0,null,null,0,null,null,0,null,null,0]
[]
[]
[null,null,{"$f":"'1-2a'!$C$355","v":0},null,null,{"$f":"'1-2a'!$F$355","v":0},null,null,{"$f":"'1-2a'!$I$355","v":0},null,null,{"$f":"'1-2a'!$L$355","v":0},null,null,{"$f":"'1-2a'!$O$355","v":0}]
[{"$f":"IF(A346=52,1,A346+1)","v":15},{"$f":"N346+3","v":"2021-04-05"},null,null,{"$f":"B356+1","v":"2021-04-06"},null,null,{"$f":"E356+1","v":"2021-04-07"},null,null,{"$f":"H356+1","v":"2021-04-08"},null,null,{"$f":"K356+1","v":"2021-04-09"}]
[null,{"$f":"B347","v":0},null,null,{"$f":"E347","v":0},null,null,{"$f":"H347","v":0},null,null,{"$f":"K347","v":0},null,null,{"$f":"N347","v":0}]
[36,0,null,null,0,null,null,0,null,null,0,null,null,0]
[null,0,null,null,0,null,null,0,null,null,0,null,null,0]
[null,0,null,null,0,null,null,0,null,null,0,null,null,0]
[null,0,null,null,0,null,null,0,null,null,{"$f":"K351","v":0},null,null,0]
[null,0,null,null,0,null,null,0,null,null,0,null,null,0]
[]
[]
[null,null,{"$f":"'1-2a'!$C$365","v":0},null,null,{"$f":"'1-2a'!$F$365","v":0},null,null,{"$f":"'1-2a'!$I$365","v":0},null,null,{"$f":"'1-2a'!$L$365","v":0},null,null,{"$f":"'1-2a'!$O$365","v":0}]
[{"$f":"IF(A356=52,1,A356+1)","v":16},{"$f":"N356+3","v":"2021-04-12"},null,null,{"$f":"B366+1","v":"2021-04-13"},null,null,{"$f":"E366+1","v":"2021-04-14"},null,null,{"$f":"H366+1","v":"2021-04-15"},null,null,{"$f":"K366+1","v":"2021-04-16"}]
[null,{"$f":"B357","v":0},null,null,{"$f":"E357","v":0},null,null,{"$f":"H357","v":0},null,null,{"$f":"K357","v":0},null,null,{"$f":"N357","v":0}]
[37,0,null,null,0,null,null,0,null,null,0,null,null,0]
[null,0,null,null,0,null,null,0,null,null,0,null,null,0]
[null,0,null,null,0,null,null,0,null,null,0,null,null,0]
[null,0,null,null,0,null,null,0,null,null,{"$f":"K361","v":0},null,null,0]
[null,0,null,null,0,null,null,0,null,null,0,null,null,0]
[]
[]
[null,null,{"$f":"'1-2a'!$C$375","v":0},null,null,{"$f":"'1-2a'!$F$375","v":0},null,null,{"$f":"'1-2a'!$I$375","v":0},null,null,{"$f":"'1-2a'!$L$375","v":0},null,null,{"$f":"'1-2a'!$O$375","v":0}]
[{"$f":"IF(A366=52,1,A366+1)","v":17},{"$f":"N366+3","v":"2021-04-19"},null,null,{"$f":"B376+1","v":"2021-04-20"},null,null,{"$f":"E376+1","v":"2021-04-21"},null,null,{"$f":"H376+1","v":"2021-04-22"},null,null,{"$f":"K376+1","v":"2021-04-23"}]
[null,{"$f":"B367","v":0},null,null,{"$f":"E367","v":0},null,null,{"$f":"H367","v":0},null,null,{"$f":"K367","v":0},null,null,{"$f":"N367","v":0}]
[38,0,null,null,0,null,null,0,null,null,0,null,null,0]
[null,0,null,null,0,null,null,0,null,null,0,null,null,0]
[null,0,null,null,0,null,null,0,null,null,0,null,null,0]
[null,0,null,null,0,null,null,0,null,null,{"$f":"K371","v":0},null,null,0]
[null,0,null,null,0,null,null,0,null,null,0,null,null,0]
[]
[]
[null,null,{"$f":"'1-2a'!$C$385","v":0},null,null,{"$f":"'1-2a'!$F$385","v":0},null,null,{"$f":"'1-2a'!$I$385","v":0},null,null,{"$f":"'1-2a'!$L$385","v":0},null,null,{"$f":"'1-2a'!$O$385","v":0}]
[{"$f":"IF(A376=52,1,A376+1)","v":18},{"$f":"N376+3","v":"2021-04-26"},null,null,{"$f":"B386+1","v":"2021-04-27"},null,null,{"$f":"E386+1","v":"2021-04-28"},null,null,{"$f":"H386+1","v":"2021-04-29"},null,null,{"$f":"K386+1","v":"2021-04-30"}]
[null,{"$f":"B377","v":0},null,null,{"$f":"E377","v":0},null,null,{"$f":"H377","v":0},null,null,{"$f":"K377","v":0},null,null,{"$f":"N377","v":0}]
[39,0,null,null,0,null,null,0,null,null,0,null,null,0]
[null,0,null,null,0,null,null,0,null,null,0,null,null,0]
[null,0,null,null,0,null,null,0,null,null,0,null,null,0]
[null,0,null,null,0,null,null,0,null,null,{"$f":"K381","v":0},null,null,0]
[null,0,null,null,0,null,null,0,null,null,0,null,null,0]
[]
[]
[null,null,{"$f":"'1-2a'!$C$395","v":0},null,null,{"$f":"'1-2a'!$F$395","v":0},null,null,{"$f":"'1-2a'!$I$395","v":0},null,null,{"$f":"'1-2a'!$L$395","v":0},null,null,{"$f":"'1-2a'!$O$395","v":0}]
[{"$f":"IF(A386=52,1,A386+1)","v":19},{"$f":"N386+3","v":"2021-05-03"},null,null,{"$f":"B396+1","v":"2021-05-04"},null,null,{"$f":"E396+1","v":"2021-05-05"},null,null,{"$f":"H396+1","v":"2021-05-06"},null,null,{"$f":"K396+1","v":"2021-05-07"}]
[null,{"$f":"B387","v":0},null,null,{"$f":"E387","v":0},null,null,{"$f":"H387","v":0},null,null,{"$f":"K387","v":0},null,null,{"$f":"N387","v":0}]
[40,0,null,null,0,null,null,0,null,null,0,null,null,0]
[null,0,null,null,0,null,null,0,null,null,0,null,null,0]
[null,0,null,null,0,null,null,0,null,null,0,null,null,0]
[null,0,null,null,0,null,null,0,null,null,{"$f":"K391","v":0},null,null,0]
[null,0,null,null,0,null,null,0,null,null,0,null,null,0]
[]
[]
[null,null,{"$f":"'1-2a'!$C$405","v":0},null,null,{"$f":"'1-2a'!$F$405","v":0},null,null,{"$f":"'1-2a'!$I$405","v":0},null,null,{"$f":"'1-2a'!$L$405","v":0},null,null,{"$f":"'1-2a'!$O$405","v":0}]
[{"$f":"IF(A396=52,1,A396+1)","v":20},{"$f":"N396+3","v":"2021-05-10"},null,null,{"$f":"B406+1","v":"2021-05-11"},null,null,{"$f":"E406+1","v":"2021-05-12"},null,null,{"$f":"H406+1","v":"2021-05-13"},null,null,{"$f":"K406+1","v":"2021-05-14"}]
[null,{"$f":"B397","v":0},null,null,{"$f":"E397","v":0},null,null,{"$f":"H397","v":0},null,null,{"$f":"K397","v":0},null,null,{"$f":"N397","v":0}]
[41,0,null,null,0,null,null,0,null,null,0,null,null,0]
[null,0,null,null,0,null,null,0,null,null,0,null,null,0]
[null,0,null,null,0,null,null,0,null,null,0,null,null,0]
[null,0,null,null,0,null,null,0,null,null,0,null,null,0]
[null,0,null,null,0,null,null,0,null,null,0,null,null,0]
[]
[]
[null,null,{"$f":"'1-2a'!$C$415","v":0},null,null,{"$f":"'1-2a'!$F$415","v":0},null,null,{"$f":"'1-2a'!$I$415","v":0},null,null,{"$f":"'1-2a'!$L$415","v":0},null,null,{"$f":"'1-2a'!$O$415","v":0}]
[{"$f":"IF(A406=52,1,A406+1)","v":21},{"$f":"N406+3","v":"2021-05-17"},null,null,{"$f":"B416+1","v":"2021-05-18"},null,null,{"$f":"E416+1","v":"2021-05-19"},null,null,{"$f":"H416+1","v":"2021-05-20"},null,null,{"$f":"K416+1","v":"2021-05-21"}]
[null,{"$f":"B407","v":0},null,null,{"$f":"E407","v":0},null,null,{"$f":"H407","v":0},null,null,{"$f":"K407","v":0},null,null,{"$f":"N407","v":0}]
[42,0,null,null,0,null,null,0,null,null,0,null,null,0]
[null,0,null,null,0,null,null,0,null,null,0,null,null,0]
[null,0,null,null,0,null,null,0,null,null,0,null,null,0]
[null,0,null,null,0,null,null,0,null,null,{"$f":"K411","v":0},null,null,0]
[null,0,null,null,0,null,null,0,null,null,0,null,null,0]
[]
[]
[null,null,{"$f":"'1-2a'!$C$425","v":0},null,null,{"$f":"'1-2a'!$F$425","v":0},null,null,{"$f":"'1-2a'!$I$425","v":0},null,null,{"$f":"'1-2a'!$L$425","v":0},null,null,{"$f":"'1-2a'!$O$425","v":0}]
[{"$f":"IF(A416=52,1,A416+1)","v":22},{"$f":"N416+3","v":"2021-05-24"},null,null,{"$f":"B426+1","v":"2021-05-25"},null,null,{"$f":"E426+1","v":"2021-05-26"},null,null,{"$f":"H426+1","v":"2021-05-27"},null,null,{"$f":"K426+1","v":"2021-05-28"}]
[null,{"$f":"B417","v":0},null,null,{"$f":"E417","v":0},null,null,{"$f":"H417","v":0},null,null,{"$f":"K417","v":0},null,null,{"$f":"N417","v":0}]
[43,0,null,null,0,null,null,0,null,null,0,null,null,0]
[null,0,null,null,0,null,null,0,null,null,0,null,null,0]
[null,0,null,null,0,null,null,0,null,null,0,null,null,0]
[null,0,null,null,0,null,null,0,null,null,{"$f":"K421","v":0},null,null,0]
[null,0,null,null,0,null,null,0,null,null,0,null,null,0]
[]
[]
[null,null,{"$f":"'1-2a'!$C$435","v":0},null,null,{"$f":"'1-2a'!$F$435","v":0},null,null,{"$f":"'1-2a'!$I$435","v":0},null,null,{"$f":"'1-2a'!$L$435","v":0},null,null,{"$f":"'1-2a'!$O$435","v":0}]
[{"$f":"IF(A426=52,1,A426+1)","v":23},{"$f":"N426+3","v":"2021-05-31"},null,null,{"$f":"B436+1","v":"2021-06-01"},null,null,{"$f":"E436+1","v":"2021-06-02"},null,null,{"$f":"H436+1","v":"2021-06-03"},null,null,{"$f":"K436+1","v":"2021-06-04"}]
[null,{"$f":"B427","v":0},null,null,{"$f":"E427","v":0},null,null,{"$f":"H427","v":0},null,null,{"$f":"K427","v":0},null,null,{"$f":"N427","v":0}]
[44,0,null,null,0,null,null,0,null,null,0,null,null,0]
[null,0,null,null,0,null,null,0,null,null,0,null,null,0]
[null,0,null,null,0,null,null,0,null,null,0,null,null,0]
[null,0,null,null,0,null,null,0,null,null,{"$f":"K431","v":0},null,null,0]
[null,0,null,null,0,null,null,0,null,null,0,null,null,0]
[]
[]
[null,null,{"$f":"'1-2a'!$C$445","v":0},null,null,{"$f":"'1-2a'!$F$445","v":0},null,null,{"$f":"'1-2a'!$I$445","v":0},null,null,{"$f":"'1-2a'!$L$445","v":0},null,null,{"$f":"'1-2a'!$O$445","v":0}]
[{"$f":"IF(A436=52,1,A436+1)","v":24},{"$f":"N436+3","v":"2021-06-07"},null,null,{"$f":"B446+1","v":"2021-06-08"},null,null,{"$f":"E446+1","v":"2021-06-09"},null,null,{"$f":"H446+1","v":"2021-06-10"},null,null,{"$f":"K446+1","v":"2021-06-11"}]
[null,{"$f":"B437","v":0},null,null,{"$f":"E437","v":0},null,null,{"$f":"H437","v":0},null,null,{"$f":"K437","v":0},null,null,{"$f":"N437","v":0}]
[45,0,null,null,0,null,null,0,null,null,0,null,null,0]
[null,0,null,null,0,null,null,0,null,null,0,null,null,0]
[null,0,null,null,0,null,null,0,null,null,0,null,null,0]
[null,0,null,null,0,null,null,0,null,null,{"$f":"K441","v":0},null,null,0]
[null,0,null,null,0,null,null,0,null,null,0,null,null,0]
[]
[]
[null,null,{"$f":"'1-2a'!$C$455","v":0},null,null,{"$f":"'1-2a'!$F$455","v":0},null,null,{"$f":"'1-2a'!$I$455","v":0},null,null,{"$f":"'1-2a'!$L$455","v":0},null,null,{"$f":"'1-2a'!$O$455","v":0}]
[{"$f":"IF(A446=52,1,A446+1)","v":25},{"$f":"N446+3","v":"2021-06-14"},null,null,{"$f":"B456+1","v":"2021-06-15"},null,null,{"$f":"E456+1","v":"2021-06-16"},null,null,{"$f":"H456+1","v":"2021-06-17"},null,null,{"$f":"K456+1","v":"2021-06-18"}]
[null,{"$f":"B447","v":0},null,null,{"$f":"E447","v":0},null,null,{"$f":"H447","v":0},null,null,{"$f":"K447","v":0},null,null,{"$f":"N447","v":0}]
[46,0,null,null,0,null,null,0,null,null,0,null,null,0]
[null,0,null,null,0,null,null,0,null,null,0,null,null,0]
[null,0,null,null,0,null,null,0,null,null,0,null,null,0]
[null,0,null,null,0,null,null,0,null,null,{"$f":"K451","v":0},null,null,0]
[null,0,null,null,0,null,null,0,null,null,0,null,null,0]
[]
[]
[null,null,{"$f":"'1-2a'!$C$465","v":0},null,null,{"$f":"'1-2a'!$F$465","v":0},null,null,{"$f":"'1-2a'!$I$465","v":0},null,null,{"$f":"'1-2a'!$L$465","v":0},null,null,{"$f":"'1-2a'!$O$465","v":0}]
[{"$f":"IF(A456=52,1,A456+1)","v":26},{"$f":"N456+3","v":"2021-06-21"},null,null,{"$f":"B466+1","v":"2021-06-22"},null,null,{"$f":"E466+1","v":"2021-06-23"},null,null,{"$f":"H466+1","v":"2021-06-24"},null,null,{"$f":"K466+1","v":"2021-06-25"}]
[null,{"$f":"B457","v":0},null,null,{"$f":"E457","v":0},null,null,{"$f":"H457","v":0},null,null,{"$f":"K457","v":0},null,null,{"$f":"N457","v":0}]
[47,0,null,null,0,null,null,0,null,null,0,null,null,0]
[null,0,null,null,0,null,null,0,null,null,0,null,null,0]
[null,0,null,null,0,null,null,0,null,null,0,null,null,0]
[null,0,null,null,0,null,null,0,null,null,{"$f":"K461","v":0},null,null,0]
[null,0,null,null,0,null,null,0,null,null,0,null,null,0]
[]
[]
[null,null,{"$f":"'1-2a'!$C$475","v":0},null,null,{"$f":"'1-2a'!$F$475","v":0},null,null,{"$f":"'1-2a'!$I$475","v":0},null,null,{"$f":"'1-2a'!$L$475","v":0},null,null,{"$f":"'1-2a'!$O$475","v":0}]
[{"$f":"IF(A466=52,1,A466+1)","v":27},{"$f":"N466+3","v":"2021-06-28"},null,null,{"$f":"B476+1","v":"2021-06-29"},null,null,{"$f":"E476+1","v":"2021-06-30"},null,null,{"$f":"H476+1","v":"2021-07-01"},null,null,{"$f":"K476+1","v":"2021-07-02"}]
[null,{"$f":"B467","v":0},null,null,{"$f":"E467","v":0},null,null,{"$f":"H467","v":0},null,null,{"$f":"K467","v":0},null,null,{"$f":"N467","v":0}]
[48,0,null,null,0,null,null,0,null,null,0,null,null,0]
[null,0,null,null,0,null,null,0,null,null,0,null,null,0]
[null,0,null,null,0,null,null,0,null,null,0,null,null,0]
[null,0,null,null,0,null,null,0,null,null,{"$f":"K471","v":0},null,null,0]
[null,0,null,null,0,null,null,0,null,null,0,null,null,0]
[]
[]
[null,null,{"$f":"'1-2a'!$C$485","v":0},null,null,{"$f":"'1-2a'!$F$485","v":0},null,null,{"$f":"'1-2a'!$I$485","v":0},null,null,{"$f":"'1-2a'!$L$485","v":0},null,null,{"$f":"'1-2a'!$O$485","v":0}]
[{"$f":"IF(A476=52,1,A476+1)","v":28},{"$f":"N476+3","v":"2021-07-05"},null,null,{"$f":"B486+1","v":"2021-07-06"},null,null,{"$f":"E486+1","v":"2021-07-07"},null,null,{"$f":"H486+1","v":"2021-07-08"},null,null,{"$f":"K486+1","v":"2021-07-09"}]
[null,{"$f":"B477","v":0},null,null,{"$f":"E477","v":0},null,null,{"$f":"H477","v":0},null,null,{"$f":"K477","v":0},null,null,{"$f":"N477","v":0}]
[49,0,null,null,0,null,null,0,null,null,0,null,null,0]
[null,0,null,null,0,null,null,0,null,null,0,null,null,0]
[null,0,null,null,0,null,null,0,null,null,0,null,null,0]
[null,0,null,null,0,null,null,0,null,null,0,null,null,0]
[null,0,null,null,0,null,null,0,null,null,0,null,null,0]
[]
[]
[null,null,{"$f":"'1-2a'!$C$495","v":0},null,null,{"$f":"'1-2a'!$F$495","v":0},null,null,{"$f":"'1-2a'!$I$495","v":0},null,null,{"$f":"'1-2a'!$L$495","v":0},null,null,{"$f":"'1-2a'!$O$495","v":0}]
[{"$f":"IF(A486=52,1,A486+1)","v":29},{"$f":"N486+3","v":"2021-07-12"},null,null,{"$f":"B496+1","v":"2021-07-13"},null,null,{"$f":"E496+1","v":"2021-07-14"},null,null,{"$f":"H496+1","v":"2021-07-15"},null,null,{"$f":"K496+1","v":"2021-07-16"}]
[null,{"$f":"B487","v":0},null,null,{"$f":"E487","v":0},null,null,{"$f":"H487","v":0},null,null,{"$f":"K487","v":0},null,null,{"$f":"N487","v":0}]
[50,0,null,null,0,null,null,0,null,null,0]
[null,0,null,null,0,null,null,0,null,null,0,null,null,0]
[null,0,null,null,0,null,null,0,null,null,0,null,null,0]
[null,0,null,null,0,null,null,0,null,null,{"$f":"K491","v":0},null,null,0]
[null,0,null,null,0,null,null,0,null,null,0]

{"sheet":"5","index":5,"n_rows":502,"n_cols":15,"rows_kept":502,"cut":false,"hidden":false,"merged":[[5,1,5,3],[5,4,5,6],[5,7,5,9],[5,10,5,12],[5,13,5,15],[7,0,8,0],[1,1,2,7],[1,9,2,12],[1,13,2,15],[3,1,3,3],[3,4,3,6],[3,7,3,9],[3,10,3,12],[3,13,3,15],[12,1,13,3],[12,4,13,6],[12,7,13,9],[12,10,13,12],[12,13,13,15],[15,1,15,3],[15,4,15,6],[15,7,15,9],[15,10,15,12],[15,13,15,15],[25,1,25,3],[25,4,25,6],[25,7,25,9],[25,10,25,12],[25,13,25,15],[27,0,28,0],[17,0,18,0],[22,1,23,3],[22,4,23,6],[22,7,23,9],[22,10,23,12],[22,13,23,15],[32,1,33,3],[32,4,33,6],[32,7,33,9],[32,10,33,12],[32,13,33,15],[35,1,35,3],[35,4,35,6],[35,7,35,9],[35,10,35,12],[35,13,35,15],[45,1,45,3],[45,4,45,6],[45,7,45,9],[45,10,45,12],[45,13,45,15],[47,0,48,0],[37,0,38,0],[42,1,43,3],[42,4,43,6],[42,7,43,9],[42,10,43,12],[42,13,43,15],[52,1,53,3],[52,4,53,6],[52,7,53,9],[52,10,53,12],[52,13,53,15],[55,1,55,3],[55,4,55,6],[55,7,55,9],[55,10,55,12],[55,13,55,15],[65,1,65,3],[65,4,65,6],[65,7,65,9],[65,10,65,12],[65,13,65,15],[67,0,68,0],[57,0,58,0],[62,1,63,3],[62,4,63,6],[62,7,63,9],[62,10,63,12],[62,13,63,15],[72,1,73,3],[72,4,73,6],[72,7,73,9],[72,10,73,12],[72,13,73,15],[75,1,75,3],[75,4,75,6],[75,7,75,9],[75,10,75,12],[75,13,75,15],[85,1,85,3],[85,4,85,6],[85,7,85,9],[85,10,85,12],[85,13,85,15],[87,0,88,0],[77,0,78,0],[82,1,83,3],[82,4,83,6],[82,7,83,9],[82,10,83,12],[82,13,83,15],[92,1,93,3],[92,4,93,6],[92,7,93,9],[92,10,93,12],[92,13,93,15],[95,1,95,3],[95,4,95,6],[95,7,95,9],[95,10,95,12],[95,13,95,15],[105,1,105,3],[105,4,105,6],[105,7,105,9],[105,10,105,12],[105,13,105,15],[107,0,108,0],[97,0,98,0],[99,16,100,19],[102,1,103,3],[102,4,103,6],[102,7,103,9],[102,10,103,12],[102,13,103,15],[112,1,113,3],[112,4,113,6],[112,7,113,9],[112,10,113,12],[112,13,113,15],[115,1,115,3],[115,4,115,6],[115,7,115,9],[115,10,115,12],[115,13,115,15],[125,1,125,3],[125,4,125,6],[125,7,125,9],[125,10,125,12],[125,13,125,15],[127,0,128,0],[117,0,118,0],[122,1,123,3],[122,4,123,6],[122,7,123,9],[122,10,123,12],[122,13,123,15],[132,1,133,3],[132,4,133,6],[132,7,133,9],[132,10,133,12],[132,13,133,15],[135,1,135,3],[135,4,135,6],[135,7,135,9],[135,10,135,12],[135,13,135,15],[145,1,145,3],[145,4,145,6],[145,7,145,9],[145,10,145,12],[145,13,145,15],[147,0,148,0],[137,0,138,0],[142,1,143,3],[142,4,143,6],[142,7,143,9],[142,10,143,12],[142,13,143,15],[152,1,153,3],[152,4,153,6],[152,7,153,9],[152,10,153,12],[152,13,153,15],[155,1,155,3],[155,4,155,6],[155,7,155,9],[155,10,155,12],[155,13,155,15],[165,1,165,3],[165,4,165,6],[165,7,165,9],[165,10,165,12],[165,13,165,15],[167,0,168,0],[157,0,158,0],[162,1,163,3],[162,4,163,6],[162,7,163,9],[162,10,163,12],[162,13,163,15],[172,1,173,3],[172,4,173,6],[172,7,173,9],[172,10,173,12],[172,13,173,15],[175,1,175,3],[175,4,175,6],[175,7,175,9],[175,10,175,12],[175,13,175,15],[185,1,185,3],[185,4,185,6],[185,7,185,9],[185,10,185,12],[185,13,185,15],[187,0,188,0],[177,0,178,0],[179,16,180,19],[182,1,183,3],[182,4,183,6],[182,7,183,9],[182,10,183,12],[182,13,183,15],[192,1,193,3],[192,4,193,6],[192,7,193,9],[192,10,193,12],[192,13,193,15],[195,1,195,3],[195,4,195,6],[195,7,195,9],[195,10,195,12],[195,13,195,15],[205,1,205,3],[205,4,205,6],[205,7,205,9],[205,10,205,12],[205,13,205,15],[207,0,208,0],[197,0,198,0],[202,1,203,3],[202,4,203,6],[202,7,203,9],[202,10,203,12],[202,13,203,15],[212,1,213,3],[212,4,213,6],[212,7,213,9],[212,10,213,12],[212,13,213,15],[215,1,215,3],[215,4,215,6],[215,7,215,9],[215,10,215,12],[215,13,215,15],[225,1,225,3],[225,4,225,6],[225,7,225,9],[225,10,225,12],[225,13,225,15],[227,0,228,0],[217,0,218,0],[222,1,223,3],[222,4,223,6],[222,7,223,9],[222,10,223,12],[222,13,223,15],[232,1,233,3],[232,4,233,6],[232,7,233,9],[232,10,233,12],[232,13,233,15],[235,1,235,3],[235,4,235,6],[235,7,235,9],[235,10,235,12],[235,13,235,15],[245,1,245,3],[245,4,245,6],[245,7,245,9],[245,10,245,12],[245,13,245,15],[247,0,248,0],[237,0,238,0],[242,1,243,3],[242,4,243,6],[242,7,243,9],[242,10,243,12],[242,13,243,15],[252,1,253,3],[252,4,253,6],[252,7,253,9],[252,10,253,12],[252,13,253,15],[255,1,255,3],[255,4,255,6],[255,7,255,9],[255,10,255,12],[255,13,255,15],[265,1,265,3],[265,4,265,6],[265,7,265,9],[265,10,265,12],[265,13,265,15],[267,0,268,0],[257,0,258,0],[259,16,260,19],[262,1,263,3],[262,4,263,6],[262,7,263,9],[262,10,263,12],[262,13,263,15],[272,1,273,3],[272,4,273,6],[272,7,273,9],[272,10,273,12],[272,13,273,15],[275,1,275,3],[275,4,275,6],[275,7,275,9],[275,10,275,12],[275,13,275,15],[285,1,285,3],[285,4,285,6],[285,7,285,9],[285,10,285,12],[285,13,285,15],[287,0,288,0],[277,0,278,0],[282,1,283,3],[282,4,283,6],[282,7,283,9],[282,10,283,12],[282,13,283,15],[292,1,293,3],[292,4,293,6],[292,7,293,9],[292,10,293,12],[292,13,293,15],[295,1,295,3],[295,4,295,6],[295,7,295,9],[295,10,295,12],[295,13,295,15],[305,1,305,3],[305,4,305,6],[305,7,305,9],[305,10,305,12],[305,13,305,15],[307,0,308,0],[297,0,298,0],[302,1,303,3],[302,4,303,6],[302,7,303,9],[302,10,303,12],[302,13,303,15],[312,1,313,3],[312,4,313,6],[312,7,313,9],[312,10,313,12],[312,13,313,15],[315,1,315,3],[315,4,315,6],[315,7,315,9],[315,10,315,12],[315,13,315,15],[325,1,325,3],[325,4,325,6],[325,7,325,9],[325,10,325,12],[325,13,325,15],[327,0,328,0],[317,0,318,0],[322,1,323,3],[322,4,323,6],[322,7,323,9],[322,10,323,12],[322,13,323,15],[332,1,333,3],[332,4,333,6],[332,7,333,9],[332,10,333,12],[332,13,333,15],[335,1,335,3],[335,4,335,6],[335,7,335,9],[335,10,335,12],[335,13,335,15],[345,1,345,3],[345,4,345,6],[345,7,345,9],[345,10,345,12],[345,13,345,15],[347,0,348,0],[337,0,338,0],[339,16,340,19],[342,1,343,3],[342,4,343,6],[342,7,343,9],[342,10,343,12],[342,13,343,15],[352,1,353,3],[352,4,353,6],[352,7,353,9],[352,10,353,12],[352,13,353,15],[355,1,355,3],[355,4,355,6],[355,7,355,9],[355,10,355,12],[355,13,355,15],[365,1,365,3],[365,4,365,6],[365,7,365,9],[365,10,365,12],[365,13,365,15],[367,0,368,0],[357,0,358,0],[362,1,363,3],[362,4,363,6],[362,7,363,9],[362,10,363,12],[362,13,363,15],[372,1,373,3],[372,4,373,6],[372,7,373,9],[372,10,373,12],[372,13,373,15],[375,1,375,3],[375,4,375,6],[375,7,375,9],[375,10,375,12],[375,13,375,15],[385,1,385,3],[385,4,385,6],[385,7,385,9],[385,10,385,12],[385,13,385,15],[387,0,388,0],[377,0,378,0],[382,1,383,3],[382,4,383,6],[382,7,383,9],[382,10,383,12],[382,13,383,15],[392,1,393,3],[392,4,393,6],[392,7,393,9],[392,10,393,12],[392,13,393,15],[395,1,395,3],[395,4,395,6],[395,7,395,9],[395,10,395,12],[395,13,395,15],[405,1,405,3],[405,4,405,6],[405,7,405,9],[405,10,405,12],[405,13,405,15],[407,0,408,0],[397,0,398,0],[402,1,403,3],[402,4,403,6],[402,7,403,9],[402,10,403,12],[402,13,403,15],[412,1,413,3],[412,4,413,6],[412,7,413,9],[412,10,413,12],[412,13,413,15],[415,1,415,3],[415,4,415,6],[415,7,415,9],[415,10,415,12],[415,13,415,15],[425,1,425,3],[425,4,425,6],[425,7,425,9],[425,10,425,12],[425,13,425,15],[427,0,428,0],[417,0,418,0],[419,16,420,19],[422,1,423,3],[422,4,423,6],[422,7,423,9],[422,10,423,12],[422,13,423,15],[432,1,433,3],[432,4,433,6],[432,7,433,9],[432,10,433,12],[432,13,433,15],[435,1,435,3],[435,4,435,6],[435,7,435,9],[435,10,435,12],[435,13,435,15],[445,1,445,3],[445,4,445,6],[445,7,445,9],[445,10,445,12],[445,13,445,15],[447,0,448,0],[437,0,438,0],[442,1,443,3],[442,4,443,6],[442,7,443,9],[442,10,443,12],[442,13,443,15],[452,1,453,3],[452,4,453,6],[452,7,453,9],[452,10,453,12],[452,13,453,15],[455,1,455,3],[455,4,455,6],[455,7,455,9],[455,10,455,12],[455,13,455,15],[465,1,465,3],[465,4,465,6],[465,7,465,9],[465,10,465,12],[465,13,465,15],[467,0,468,0],[457,0,458,0],[462,1,463,3],[462,4,463,6],[462,7,463,9],[462,10,463,12],[462,13,463,15],[472,1,473,3],[472,4,473,6],[472,7,473,9],[472,10,473,12],[472,13,473,15],[475,1,475,3],[475,4,475,6],[475,7,475,9],[475,10,475,12],[475,13,475,15],[485,1,485,3],[485,4,485,6],[485,7,485,9],[485,10,485,12],[485,13,485,15],[487,0,488,0],[477,0,478,0],[482,1,483,3],[482,4,483,6],[482,7,483,9],[482,10,483,12],[482,13,483,15],[497,0,498,0],[499,16,500,19],[502,1,503,3],[502,4,503,6],[502,7,503,9],[502,10,503,12],[502,13,503,15],[492,1,493,3],[492,4,493,6],[492,7,493,9],[492,10,493,12],[492,13,493,15],[495,1,495,3],[495,4,495,6],[495,7,495,9],[495,10,495,12],[495,13,495,15]]}
[]
[null,{"$f":"'1-2a'!B2:H3","v":"Basisschool De Grote Beer        schooljaar 2020/2021"},null,null,null,null,null,null,null,"Groepsplanner van groep:",null,null,null,"5"]
[]
[null,"maandag 1e schoolweek",null,null,"dinsdag",null,null,"woensdag",null,null,"donderdag",null,null,"vrijdag"]
[null,null,{"$f":"'1-2a'!C$5","v":0},null,null,{"$f":"'1-2a'!F5","v":0},null,null,{"$f":"'1-2a'!I$5","v":0},null,null,{"$f":"'1-2a'!L$5","v":"s"},null,null,{"$f":"'1-2a'!O$5","v":0}]
[{"$f":"(B6-WEEKDAY(B6-1)+4-(TRUNC(DATE(YEAR(B6-WEEKDAY(B6-1)+4),1,2)/7)*7-2))/7","v":32},{"$f":"'1-2a'!B6:D6","v":"2020-08-03"},null,null,{"$f":"B6+1","v":"2020-08-04"},null,null,{"$f":"E6+1","v":"2020-08-05"},null,null,{"$f":"H6+1","v":"2020-08-06"},null,null,{"$f":"K6+1","v":"2020-08-07"}]
[]
[1]
[]
[]
[]
[]
[]
[]
[null,null,{"$f":"'1-2a'!C$15","v":0},null,null,{"$f":"'1-2a'!F$15","v":0},null,null,{"$f":"'1-2a'!I$15","v":0},null,null,{"$f":"'1-2a'!L$15","v":0},null,null,{"$f":"'1-2a'!O15","v":0}]
[{"$f":"IF(A6=52,1,A6+1)","v":33},{"$f":"N6+3","v":"2020-08-10"},null,null,{"$f":"B16+1","v":"2020-08-11"},null,null,{"$f":"E16+1","v":"2020-08-12"},null,null,{"$f":"H16+1","v":"2020-08-13"},null,null,{"$f":"K16+1","v":"2020-08-14"}]
[null,{"$f":"B7","v":0},null,null,{"$f":"E7","v":0},null,null,{"$f":"H7","v":0},null,null,{"$f":"K7","v":0},null,null,{"$f":"N7","v":0}]
[2,0,null,null,0,null,null,0,null,null,0,null,null,0]
[null,0,null,null,0,null,null,0,null,null,0,null,null,0]
[null,0,null,null,0,null,null,0,null,null,0,null,null,0]
[null,0,null,null,0,null,null,0,null,null,0,null,null,0]
[null,0,null,null,0,null,null,0,null,null,0,null,null,0]
[]
[]
[null,null,{"$f":"'1-2a'!C$25","v":0},null,null,{"$f":"'1-2a'!F$25","v":0},null,null,{"$f":"'1-2a'!I25","v":0},null,null,{"$f":"'1-2a'!L25","v":0},null,null,{"$f":"'1-2a'!O25","v":0}]
[{"$f":"IF(A16=52,1,A16+1)","v":34},{"$f":"N16+3","v":"2020-08-17"},null,null,{"$f":"B26+1","v":"2020-08-18"},null,null,{"$f":"E26+1","v":"2020-08-19"},null,null,{"$f":"H26+1","v":"2020-08-20"},null,null,{"$f":"K26+1","v":"2020-08-21"}]
[null,{"$f":"B17","v":0},null,null,{"$f":"E17","v":0},null,null,{"$f":"H17","v":0},null,null,{"$f":"K17","v":0},null,null,{"$f":"N17","v":0}]
[3,0,null,null,0,null,null,0,null,null,0,null,null,0]
[null,0,null,null,0,null,null,0,null,null,0,null,null,0]
[null,0,null,null,0,null,null,0,null,null,0,null,null,0]
[null,0,null,null,0,null,null,0,null,null,{"$f":"K21","v":0},null,null,0]
[null,0,null,null,0,null,null,0,null,null,0,null,null,0]
[]
[]
[null,null,{"$f":"'1-2a'!$C$35","v":0},null,null,{"$f":"'1-2a'!$F$35","v":0},null,null,{"$f":"'1-2a'!$I$35","v":0},null,null,{"$f":"'1-2a'!$L$35","v":0},null,null,{"$f":"'1-2a'!$O$35","v":0}]
[{"$f":"IF(A26=52,1,A26+1)","v":35},{"$f":"N26+3","v":"2020-08-24"},null,null,{"$f":"B36+1","v":"2020-08-25"},null,null,{"$f":"E36+1","v":"2020-08-26"},null,null,{"$f":"H36+1","v":"2020-08-27"},null,null,{"$f":"K36+1","v":"2020-08-28"}]
[null,{"$f":"B27","v":0},null,null,{"$f":"E27","v":0},null,null,{"$f":"H27","v":0},null,null,{"$f":"K27","v":0},null,null,{"$f":"N27","v":0}]
[4,0,null,null,0,null,null,0,null,null,0,null,null,0]
[null,0,null,null,0,null,null,0,null,null,0,null,null,0]
[null,0,null,null,0,null,null,0,null,null,0,null,null,0]
[null,0,null,null,0,null,null,0,null,null,{"$f":"K31","v":0},null,null,0]
[null,0,null,null,0,null,null,0,null,null,0,null,null,0]
[]
[]
[null,null,{"$f":"'1-2a'!$C$45","v":0},null,null,{"$f":"'1-2a'!$F$45","v":0},null,null,{"$f":"'1-2a'!$I$45","v":0},null,null,{"$f":"'1-2a'!$L$45","v":0},null,null,{"$f":"'1-2a'!$O$45","v":0}]
[{"$f":"IF(A36=52,1,A36+1)","v":36},{"$f":"N36+3","v":"2020-08-31"},null,null,{"$f":"B46+1","v":"2020-09-01"},null,null,{"$f":"E46+1","v":"2020-09-02"},null,null,{"$f":"H46+1","v":"2020-09-03"},null,null,{"$f":"K46+1","v":"2020-09-04"}]
[null,{"$f":"B37","v":0},null,null,{"$f":"E37","v":0},null,null,{"$f":"H37","v":0},null,null,{"$f":"K37","v":0},null,null,{"$f":"N37","v":0}]
[5,0,null,null,0,null,null,0,null,null,0,null,null,0]
[null,0,null,null,0,null,null,0,null,null,0,null,null,0]
[null,0,null,null,0,null,null,0,null,null,0,null,null,0]
[null,0,null,null,0,null,null,0,null,null,{"$f":"K41","v":0},null,null,0]
[null,0,null,null,0,null,null,0,null,null,0,null,null,0]
[]
[]
[null,null,{"$f":"'1-2a'!$C$55","v":0},null,null,{"$f":"'1-2a'!$F$55","v":0},null,null,{"$f":"'1-2a'!$I$55","v":0},null,null,{"$f":"'1-2a'!$L$55","v":0},null,null,{"$f":"'1-2a'!O55","v":0}]
[{"$f":"IF(A46=52,1,A46+1)","v":37},{"$f":"N46+3","v":"2020-09-07"},null,null,{"$f":"B56+1","v":"2020-09-08"},null,null,{"$f":"E56+1","v":"2020-09-09"},null,null,{"$f":"H56+1","v":"2020-09-10"},null,null,{"$f":"K56+1","v":"2020-09-11"}]
[null,{"$f":"B47","v":0},null,null,{"$f":"E47","v":0},null,null,{"$f":"H47","v":0},null,null,{"$f":"K47","v":0},null,null,{"$f":"N47","v":0}]
[6,0,null,null,0,null,null,0,null,null,0,null,null,0]
[null,0,null,null,0,null,null,0,null,null,0,null,null,0]
[null,0,null,null,0,null,null,0,null,null,0,null,null,0]
[null,0,null,null,0,null,null,0,null,null,{"$f":"K51","v":0},null,null,0]
[null,0,null,null,0,null,null,0,null,null,0,null,null,0]
[]
[]
[null,null,{"$f":"'1-2a'!$C$65","v":0},null,null,{"$f":"'1-2a'!$F$65","v":0},null,null,{"$f":"'1-2a'!$I$65","v":0},null,null,{"$f":"'1-2a'!$L$65","v":0},null,null,{"$f":"'1-2a'!$O$65","v":0}]
[{"$f":"IF(A56=52,1,A56+1)","v":38},{"$f":"N56+3","v":"2020-09-14"},null,null,{"$f":"B66+1","v":"2020-09-15"},null,null,{"$f":"E66+1","v":"2020-09-16"},null,null,{"$f":"H66+1","v":"2020-09-17"},null,null,{"$f":"K66+1","v":"2020-09-18"}]
[null,{"$f":"B57","v":0},null,null,{"$f":"E57","v":0},null,null,{"$f":"H57","v":0},null,null,{"$f":"K57","v":0},null,null,{"$f":"N57","v":0}]
[7,0,null,null,0,null,null,0,null,null,0,null,null,0]
[null,0,null,null,0,null,null,0,null,null,0,null,null,0]
[null,0,null,null,0,null,null,0,null,null,0,null,null,0]
[null,0,null,null,0,null,null,0,null,null,{"$f":"K61","v":0},null,null,0]
[null,0,null,null,0,null,null,0,null,null,0,null,null,0]
[]
[]
[null,null,{"$f":"'1-2a'!$C$75","v":0},null,null,{"$f":"'1-2a'!$F$75","v":0},null,null,{"$f":"'1-2a'!$I$75","v":0},null,null,{"$f":"'1-2a'!$L$75","v":0},null,null,{"$f":"'1-2a'!$O$75","v":0}]
[{"$f":"IF(A66=52,1,A66+1)","v":39},{"$f":"N66+3","v":"2020-09-21"},null,null,{"$f":"B76+1","v":"2020-09-22"},null,null,{"$f":"E76+1","v":"2020-09-23"},null,null,{"$f":"H76+1","v":"2020-09-24"},null,null,{"$f":"K76+1","v":"2020-09-25"}]
[null,{"$f":"B67","v":0},null,null,{"$f":"E67","v":0},null,null,{"$f":"H67","v":0},null,null,{"$f":"K67","v":0},null,null,{"$f":"N67","v":0}]
[8,0,null,null,0,null,null,0,null,null,0,null,null,0]
[null,0,null,null,0,null,null,0,null,null,0,null,null,0]
[null,0,null,null,0,null,null,0,null,null,0,null,null,0]
[null,0,null,null,0,null,null,0,null,null,{"$f":"K71","v":0},null,null,0]
[null,0,null,null,0,null,null,0,null,null,0,null,null,0]
[]
[]
[null,null,{"$f":"'1-2a'!$C$85","v":0},null,null,{"$f":"'1-2a'!$F$85","v":0},null,null,{"$f":"'1-2a'!$I$85","v":0},null,null,{"$f":"'1-2a'!$L$85","v":0},null,null,{"$f":"'1-2a'!$O$85","v":0}]
[{"$f":"IF(A76=52,1,A76+1)","v":40},{"$f":"N76+3","v":"2020-09-28"},null,null,{"$f":"B86+1","v":"2020-09-29"},null,null,{"$f":"E86+1","v":"2020-09-30"},null,null,{"$f":"H86+1","v":"2020-10-01"},null,null,{"$f":"K86+1","v":"2020-10-02"}]
[null,{"$f":"B77","v":0},null,null,{"$f":"E77","v":0},null,null,{"$f":"H77","v":0},null,null,{"$f":"K77","v":0},null,null,{"$f":"N77","v":0}]
[9,0,null,null,0,null,null,0,null,null,0,null,null,0]
[null,0,null,null,0,null,null,0,null,null,0,null,null,0]
[null,0,null,null,0,null,null,0,null,null,0,null,null,0]
[null,0,null,null,0,null,null,0,null,null,0,null,null,0]
[null,0,null,null,0,null,null,0,null,null,0,null,null,0]
[]
[]
[null,null,{"$f":"'1-2a'!$C$95","v":0},null,null,{"$f":"'1-2a'!$F$95","v":0},null,null,{"$f":"'1-2a'!$I$95","v":0},null,null,{"$f":"'1-2a'!$L$95","v":0},null,null,{"$f":"'1-2a'!$O$95","v":0}]
[{"$f":"IF(A86=52,1,A86+1)","v":41},{"$f":"N86+3","v":"2020-10-05"},null,null,{"$f":"B96+1","v":"2020-10-06"},null,null,{"$f":"E96+1","v":"2020-10-07"},null,null,{"$f":"H96+1","v":"2020-10-08"},null,null,{"$f":"K96+1","v":"2020-10-09"}]
[null,{"$f":"B87","v":0},null,null,{"$f":"E87","v":0},null,null,{"$f":"H87","v":0},null,null,{"$f":"K87","v":0},null,null,{"$f":"N87","v":0}]
[10,0,null,null,0,null,null,0,null,null,0,null,null,0]
[null,0,null,null,0,null,null,0,null,null,0,null,null,0]
[null,0,null,null,0,null,null,0,null,null,0,null,null,0]
[null,0,null,null,0,null,null,0,null,null,{"$f":"K91","v":0},null,null,0]
[null,0,null,null,0,null,null,0,null,null,0,null,null,0]
[]
[]
[null,null,{"$f":"'1-2a'!$C$105","v":0},null,null,{"$f":"'1-2a'!$F$105","v":0},null,null,{"$f":"'1-2a'!$I$105","v":0},null,null,{"$f":"'1-2a'!$L$105","v":0},null,null,{"$f":"'1-2a'!$O$105","v":0}]
[{"$f":"IF(A96=52,1,A96+1)","v":42},{"$f":"N96+3","v":"2020-10-12"},null,null,{"$f":"B106+1","v":"2020-10-13"},null,null,{"$f":"E106+1","v":"2020-10-14"},null,null,{"$f":"H106+1","v":"2020-10-15"},null,null,{"$f":"K106+1","v":"2020-10-16"}]
[null,{"$f":"B97","v":0},null,null,{"$f":"E97","v":0},null,null,{"$f":"H97","v":0},null,null,{"$f":"K97","v":0},null,null,{"$f":"N97","v":0}]
[11,0,null,null,0,null,null,0,null,null,0,null,null,0]
[null,0,null,null,0,null,null,0,null,null,0,null,null,0]
[null,0,null,null,0,null,null,0,null,null,0,null,null,0]
[null,0,null,null,0,null,null,0,null,null,{"$f":"K101","v":0},null,null,0]
[null,0,null,null,0,null,null,0,null,null,0,null,null,0]
[]
[]
[null,null,{"$f":"'1-2a'!$C$115","v":0},null,null,{"$f":"'1-2a'!$F$115","v":0},null,null,{"$f":"'1-2a'!$I$115","v":0},null,null,{"$f":"'1-2a'!$L$115","v":0},null,null,{"$f":"'1-2a'!$O$115","v":0}]
[{"$f":"IF(A106=52,1,A106+1)","v":43},{"$f":"N106+3","v":"2020-10-19"},null,null,{"$f":"B116+1","v":"2020-10-20"},null,null,{"$f":"E116+1","v":"2020-10-21"},null,null,{"$f":"H116+1","v":"2020-10-22"},null,null,{"$f":"K116+1","v":"2020-10-23"}]
[null,{"$f":"B107","v":0},null,null,{"$f":"E107","v":0},null,null,{"$f":"H107","v":0},null,null,{"$f":"K107","v":0},null,null,{"$f":"N107","v":0}]
[12,0,null,null,0,null,null,0,null,null,0,null,null,0]
[null,0,null,null,0,null,null,0,null,null,0,null,null,0]
[null,0,null,null,0,null,null,0,null,null,0,null,null,0]
[null,0,null,null,0,null,null,0,null,null,{"$f":"K111","v":0},null,null,0]
[null,0,null,null,0,null,null,0,null,null,0,null,null,0]
[]
[]
[null,null,{"$f":"'1-2a'!$C$125","v":0},null,null,{"$f":"'1-2a'!$F$125","v":0},null,null,{"$f":"'1-2a'!$I$125","v":0},null,null,{"$f":"'1-2a'!$L$125","v":0},null,null,{"$f":"'1-2a'!$O$125","v":0}]
[{"$f":"IF(A116=52,1,A116+1)","v":44},{"$f":"N116+3","v":"2020-10-26"},null,null,{"$f":"B126+1","v":"2020-10-27"},null,null,{"$f":"E126+1","v":"2020-10-28"},null,null,{"$f":"H126+1","v":"2020-10-29"},null,null,{"$f":"K126+1","v":"2020-10-30"}]
[null,{"$f":"B117","v":0},null,null,{"$f":"E117","v":0},null,null,{"$f":"H117","v":0},null,null,{"$f":"K117","v":0},null,null,{"$f":"N117","v":0}]
[13,0,null,null,0,null,null,0,null,null,0,null,null,0]
[null,0,null,null,0,null,null,0,null,null,0,null,null,0]
[null,0,null,null,0,null,null,0,null,null,0,null,null,0]
[null,0,null,null,0,null,null,0,null,null,{"$f":"K121","v":0},null,null,0]
[null,0,null,null,0,null,null,0,null,null,0,null,null,0]
[]
[]
[null,null,{"$f":"'1-2a'!$C$135","v":0},null,null,{"$f":"'1-2a'!$F$135","v":0},null,null,{"$f":"'1-2a'!$I$135","v":0},null,null,{"$f":"'1-2a'!$L$135","v":0},null,null,{"$f":"'1-2a'!$O$135","v":0}]
[{"$f":"IF(A126=52,1,A126+1)","v":45},{"$f":"N126+3","v":"2020-11-02"},null,null,{"$f":"B136+1","v":"2020-11-03"},null,null,{"$f":"E136+1","v":"2020-11-04"},null,null,{"$f":"H136+1","v":"2020-11-05"},null,null,{"$f":"K136+1","v":"2020-11-06"}]
[null,{"$f":"B127","v":0},null,null,{"$f":"E127","v":0},null,null,{"$f":"H127","v":0},null,null,{"$f":"K127","v":0},null,null,{"$f":"N127","v":0}]
[14,0,null,null,0,null,null,0,null,null,0,null,null,0]
[null,0,null,null,0,null,null,0,null,null,0,null,null,0]
[null,0,null,null,0,null,null,0,null,null,0,null,null,0]
[null,0,null,null,0,null,null,0,null,null,{"$f":"K131","v":0},null,null,0]
[null,0,null,null,0,null,null,0,null,null,0,null,null,0]
[]
[]
[null,null,{"$f":"'1-2a'!$C$145","v":0},null,null,{"$f":"'1-2a'!$F$145","v":0},null,null,{"$f":"'1-2a'!$I$145","v":0},null,null,{"$f":"'1-2a'!$L$145","v":0},null,null,{"$f":"'1-2a'!$O$145","v":0}]
[{"$f":"IF(A136=52,1,A136+1)","v":46},{"$f":"N136+3","v":"2020-11-09"},null,null,{"$f":"B146+1","v":"2020-11-10"},null,null,{"$f":"E146+1","v":"2020-11-11"},null,null,{"$f":"H146+1","v":"2020-11-12"},null,null,{"$f":"K146+1","v":"2020-11-13"}]
[null,{"$f":"B137","v":0},null,null,{"$f":"E137","v":0},null,null,{"$f":"H137","v":0},null,null,{"$f":"K137","v":0},null,null,{"$f":"N137","v":0}]
[15,0,null,null,0,null,null,0,null,null,0,null,null,0]
[null,0,null,null,0,null,null,0,null,null,0,null,null,0]
[null,0,null,null,0,null,null,0,null,null,0,null,null,0]
[null,0,null,null,0,null,null,0,null,null,{"$f":"K141","v":0},null,null,0]
[null,0,null,null,0,null,null,0,null,null,0,null,null,0]
[]
[]
[null,null,{"$f":"'1-2a'!$C$155","v":0},null,null,{"$f":"'1-2a'!$F$155","v":0},null,null,{"$f":"'1-2a'!$I$155","v":0},null,null,{"$f":"'1-2a'!$L$155","v":0},null,null,{"$f":"'1-2a'!$O$155","v":0}]
[{"$f":"IF(A146=52,1,A146+1)","v":47},{"$f":"N146+3","v":"2020-11-16"},null,null,{"$f":"B156+1","v":"2020-11-17"},null,null,{"$f":"E156+1","v":"2020-11-18"},null,null,{"$f":"H156+1","v":"2020-11-19"},null,null,{"$f":"K156+1","v":"2020-11-20"}]
[null,{"$f":"B147","v":0},null,null,{"$f":"E147","v":0},null,null,{"$f":"H147","v":0},null,null,{"$f":"K147","v":0},null,null,{"$f":"N147","v":0}]
[16,0,null,null,0,null,null,0,null,null,0,null,null,0]
[null,0,null,null,0,null,null,0,null,null,0,null,null,0]
[null,0,null,null,0,null,null,0,null,null,0,null,null,0]
[null,0,null,null,0,null,null,0,null,null,{"$f":"K151","v":0},null,null,0]
[null,0,null,null,0,null,null,0,null,null,0,null,null,0]
[]
[]
[null,null,{"$f":"'1-2a'!$C$165","v":0},null,null,{"$f":"'1-2a'!$F$165","v":0},null,null,{"$f":"'1-2a'!$I$165","v":0},null,null,{"$f":"'1-2a'!$L$165","v":0},null,null,{"$f":"'1-2a'!$O$165","v":0}]
[{"$f":"IF(A156=52,1,A156+1)","v":48},{"$f":"N156+3","v":"2020-11-23"},null,null,{"$f":"B166+1","v":"2020-11-24"},null,null,{"$f":"E166+1","v":"2020-11-25"},null,null,{"$f":"H166+1","v":"2020-11-26"},null,null,{"$f":"K166+1","v":"2020-11-27"}]
[null,{"$f":"B157","v":0},null,null,{"$f":"E157","v":0},null,null,{"$f":"H157","v":0},null,null,{"$f":"K157","v":0},null,null,{"$f":"N157","v":0}]
[17,0,null,null,0,null,null,0,null,null,0,null,null,0]
[null,0,null,null,0,null,null,0,null,null,0,null,null,0]
[null,0,null,null,0,null,null,0,null,null,0,null,null,0]
[null,0,null,null,0,null,null,0,null,null,0,null,null,0]
[null,0,null,null,0,null,null,0,null,null,0,null,null,0]
[]
[]
[null,null,{"$f":"'1-2a'!$C$175","v":0},null,null,{"$f":"'1-2a'!$F$175","v":0},null,null,{"$f":"'1-2a'!$I$175","v":0},null,null,{"$f":"'1-2a'!$L$175","v":0},null,null,{"$f":"'1-2a'!$O$175","v":0}]
[{"$f":"IF(A166=52,1,A166+1)","v":49},{"$f":"N166+3","v":"2020-11-30"},null,null,{"$f":"B176+1","v":"2020-12-01"},null,null,{"$f":"E176+1","v":"2020-12-02"},null,null,{"$f":"H176+1","v":"2020-12-03"},null,null,{"$f":"K176+1","v":"2020-12-04"}]
[null,{"$f":"B167","v":0},null,null,{"$f":"E167","v":0},null,null,{"$f":"H167","v":0},null,null,{"$f":"K167","v":0},null,null,{"$f":"N167","v":0}]
[18,0,null,null,0,null,null,0,null,null,0,null,null,0]
[null,0,null,null,0,null,null,0,null,null,0,null,null,0]
[null,0,null,null,0,null,null,0,null,null,0,null,null,0]
[null,0,null,null,0,null,null,0,null,null,{"$f":"K171","v":0},null,null,0]
[null,0,null,null,0,null,null,0,null,null,0,null,null,0]
[]
[]
[null,null,{"$f":"'1-2a'!$C$185","v":0},null,null,{"$f":"'1-2a'!$F$185","v":0},null,null,{"$f":"'1-2a'!$I$185","v":0},null,null,{"$f":"'1-2a'!$L$185","v":0},null,null,{"$f":"'1-2a'!$O$185","v":0}]
[{"$f":"IF(A176=52,1,A176+1)","v":50},{"$f":"N176+3","v":"2020-12-07"},null,null,{"$f":"B186+1","v":"2020-12-08"},null,null,{"$f":"E186+1","v":"2020-12-09"},null,null,{"$f":"H186+1","v":"2020-12-10"},null,null,{"$f":"K186+1","v":"2020-12-11"}]
[null,{"$f":"B177","v":0},null,null,{"$f":"E177","v":0},null,null,{"$f":"H177","v":0},null,null,{"$f":"K177","v":0},null,null,{"$f":"N177","v":0}]
[19,0,null,null,0,null,null,0,null,null,0,null,null,0]
[null,0,null,null,0,null,null,0,null,null,0,null,null,0]
[null,0,null,null,0,null,null,0,null,null,0,null,null,0]
[null,0,null,null,0,null,null,0,null,null,{"$f":"K181","v":0},null,null,0]
[null,0,null,null,0,null,null,0,null,null,0,null,null,0]
[]
[]
[null,null,{"$f":"'1-2a'!$C$195","v":0},null,null,{"$f":"'1-2a'!$F$195","v":0},null,null,{"$f":"'1-2a'!$I$195","v":0},null,null,{"$f":"'1-2a'!$L$195","v":0},null,null,{"$f":"'1-2a'!$O$195","v":0}]
[{"$f":"IF(A186=52,1,A186+1)","v":51},{"$f":"N186+3","v":"2020-12-14"},null,null,{"$f":"B196+1","v":"2020-12-15"},null,null,{"$f":"E196+1","v":"2020-12-16"},null,null,{"$f":"H196+1","v":"2020-12-17"},null,null,{"$f":"K196+1","v":"2020-12-18"}]
[null,{"$f":"B187","v":0},null,null,{"$f":"E187","v":0},null,null,{"$f":"H187","v":0},null,null,{"$f":"K187","v":0},null,null,{"$f":"N187","v":0}]
[20,0,null,null,0,null,null,0,null,null,0,null,null,0]
[null,0,null,null,0,null,null,0,null,null,0,null,null,0]
[null,0,null,null,0,null,null,0,null,null,0,null,null,0]
[null,0,null,null,0,null,null,0,null,null,{"$f":"K191","v":0},null,null,0]
[null,0,null,null,0,null,null,0,null,null,0,null,null,0]
[]
[]
[null,null,{"$f":"'1-2a'!$C$205","v":0},null,null,{"$f":"'1-2a'!$F$205","v":0},null,null,{"$f":"'1-2a'!$I$205","v":0},null,null,{"$f":"'1-2a'!$L$205","v":0},null,null,{"$f":"'1-2a'!$O$205","v":0}]
[{"$f":"IF(A196=52,1,A196+1)","v":52},{"$f":"N196+3","v":"2020-12-21"},null,null,{"$f":"B206+1","v":"2020-12-22"},null,null,{"$f":"E206+1","v":"2020-12-23"},null,null,{"$f":"H206+1","v":"2020-12-24"},null,null,{"$f":"K206+1","v":"2020-12-25"}]
[null,{"$f":"B197","v":0},null,null,{"$f":"E197","v":0},null,null,{"$f":"H197","v":0},null,null,{"$f":"K197","v":0},null,null,{"$f":"N197","v":0}]
[21,0,null,null,0,null,null,0,null,null,0,null,null,0]
[null,0,null,null,0,null,null,0,null,null,0,null,null,0]
[null,0,null,null,0,null,null,0,null,null,0,null,null,0]
[null,0,null,null,0,null,null,0,null,null,{"$f":"K201","v":0},null,null,0]
[null,0,null,null,0,null,null,0,null,null,0,null,null,0]
[]
[]
[null,null,{"$f":"'1-2a'!$C$215","v":0},null,null,{"$f":"'1-2a'!$F$215","v":0},null,null,{"$f":"'1-2a'!$I$215","v":0},null,null,{"$f":"'1-2a'!$L$215","v":0},null,null,{"$f":"'1-2a'!$O$215","v":0}]
[{"$f":"IF(A206=52,1,A206+1)","v":1},{"$f":"N206+3","v":"2020-12-28"},null,null,{"$f":"B216+1","v":"2020-12-29"},null,null,{"$f":"E216+1","v":"2020-12-30"},null,null,{"$f":"H216+1","v":"2020-12-31"},null,null,{"$f":"K216+1","v":"2021-01-01"}]
[null,{"$f":"B207","v":0},null,null,{"$f":"E207","v":0},null,null,{"$f":"H207","v":0},null,null,{"$f":"K207","v":0},null,null,{"$f":"N207","v":0}]
[22,0,null,null,0,null,null,0,null,null,0,null,null,0]
[null,0,null,null,0,null,null,0,null,null,0,null,null,0]
[null,0,null,null,0,null,null,0,null,null,0,null,null,0]
[null,0,null,null,0,null,null,0,null,null,{"$f":"K211","v":0},null,null,0]
[null,0,null,null,0,null,null,0,null,null,0,null,null,0]
[]
[]
[null,null,{"$f":"'1-2a'!$C$225","v":0},null,null,{"$f":"'1-2a'!$F$225","v":0},null,null,{"$f":"'1-2a'!$I$225","v":0},null,null,{"$f":"'1-2a'!$L$225","v":0},null,null,{"$f":"'1-2a'!$O$225","v":0}]
[{"$f":"IF(A216=52,1,A216+1)","v":2},{"$f":"N216+3","v":"2021-01-04"},null,null,{"$f":"B226+1","v":"2021-01-05"},null,null,{"$f":"E226+1","v":"2021-01-06"},null,null,{"$f":"H226+1","v":"2021-01-07"},null,null,{"$f":"K226+1","v":"2021-01-08"}]
[null,{"$f":"B217","v":0},null,null,{"$f":"E217","v":0},null,null,{"$f":"H217","v":0},null,null,{"$f":"K217","v":0},null,null,{"$f":"N217","v":0}]
[23,0,null,null,0,null,null,0,null,null,0,null,null,0]
[null,0,null,null,0,null,null,0,null,null,0,null,null,0]
[null,0,null,null,0,null,null,0,null,null,0,null,null,0]
[null,0,null,null,0,null,null,0,null,null,{"$f":"K221","v":0},null,null,0]
[null,0,null,null,0,null,null,0,null,null,0,null,null,0]
[]
[]
[null,null,{"$f":"'1-2a'!$C$235","v":0},null,null,{"$f":"'1-2a'!$F$235","v":0},null,null,{"$f":"'1-2a'!$I$235","v":0},null,null,{"$f":"'1-2a'!$L$235","v":0},null,null,{"$f":"'1-2a'!$O$235","v":0}]
[{"$f":"IF(A226=52,1,A226+1)","v":3},{"$f":"N226+3","v":"2021-01-11"},null,null,{"$f":"B236+1","v":"2021-01-12"},null,null,{"$f":"E236+1","v":"2021-01-13"},null,null,{"$f":"H236+1","v":"2021-01-14"},null,null,{"$f":"K236+1","v":"2021-01-15"}]
[null,{"$f":"B227","v":0},null,null,{"$f":"E227","v":0},null,null,{"$f":"H227","v":0},null,null,{"$f":"K227","v":0},null,null,{"$f":"N227","v":0}]
[24,0,null,null,0,null,null,0,null,null,0,null,null,0]
[null,0,null,null,0,null,null,0,null,null,0,null,null,0]
[null,0,null,null,0,null,null,0,null,null,0,null,null,0]
[null,0,null,null,0,null,null,0,null,null,{"$f":"K231","v":0},null,null,0]
[null,0,null,null,0,null,null,0,null,null,0,null,null,0]
[]
[]
[null,null,{"$f":"'1-2a'!$C$245","v":0},null,null,{"$f":"'1-2a'!$F$245","v":0},null,null,{"$f":"'1-2a'!$I$245","v":0},null,null,{"$f":"'1-2a'!$L$245","v":0},null,null,{"$f":"'1-2a'!$O$245","v":0}]
[{"$f":"IF(A236=52,1,A236+1)","v":4},{"$f":"N236+3","v":"2021-01-18"},null,null,{"$f":"B246+1","v":"2021-01-19"},null,null,{"$f":"E246+1","v":"2021-01-20"},null,null,{"$f":"H246+1","v":"2021-01-21"},null,null,{"$f":"K246+1","v":"2021-01-22"}]
[null,{"$f":"B237","v":0},null,null,{"$f":"E237","v":0},null,null,{"$f":"H237","v":0},null,null,{"$f":"K237","v":0},null,null,{"$f":"N237","v":0}]
[25,0,null,null,0,null,null,0,null,null,0,null,null,0]
[null,0,null,null,0,null,null,0,null,null,0,null,null,0]
[null,0,null,null,0,null,null,0,null,null,0,null,null,0]
[null,0,null,null,0,null,null,0,null,null,0,null,null,0]
[null,0,null,null,0,null,null,0,null,null,0,null,null,0]
[]
[]
[null,null,{"$f":"'1-2a'!$C$255","v":0},null,null,{"$f":"'1-2a'!$F$255","v":0},null,null,{"$f":"'1-2a'!$I$255","v":0},null,null,{"$f":"'1-2a'!$L$255","v":0},null,null,{"$f":"'1-2a'!$O$255","v":0}]
[{"$f":"IF(A246=52,1,A246+1)","v":5},{"$f":"N246+3","v":"2021-01-25"},null,null,{"$f":"B256+1","v":"2021-01-26"},null,null,{"$f":"E256+1","v":"2021-01-27"},null,null,{"$f":"H256+1","v":"2021-01-28"},null,null,{"$f":"K256+1","v":"2021-01-29"}]
[null,{"$f":"B247","v":0},null,null,{"$f":"E247","v":0},null,null,{"$f":"H247","v":0},null,null,{"$f":"K247","v":0},null,null,{"$f":"N247","v":0}]
[26,0,null,null,0,null,null,0,null,null,0,null,null,0]
[null,0,null,null,0,null,null,0,null,null,0,null,null,0]
[null,0,null,null,0,null,null,0,null,null,0,null,null,0]
[null,0,null,null,0,null,null,0,null,null,{"$f":"K251","v":0},null,null,0]
[null,0,null,null,0,null,null,0,null,null,0,null,null,0]
[]
[]
[null,null,{"$f":"'1-2a'!$C$265","v":0},null,null,{"$f":"'1-2a'!$F$265","v":0},null,null,{"$f":"'1-2a'!$I$265","v":0},null,null,{"$f":"'1-2a'!$L$265","v":0},null,null,{"$f":"'1-2a'!$O$265","v":0}]
[{"$f":"IF(A256=52,1,A256+1)","v":6},{"$f":"N256+3","v":"2021-02-01"},null,null,{"$f":"B266+1","v":"2021-02-02"},null,null,{"$f":"E266+1","v":"2021-02-03"},null,null,{"$f":"H266+1","v":"2021-02-04"},null,null,{"$f":"K266+1","v":"2021-02-05"}]
[null,{"$f":"B257","v":0},null,null,{"$f":"E257","v":0},null,null,{"$f":"H257","v":0},null,null,{"$f":"K257","v":0},null,null,{"$f":"N257","v":0}]
[27,0,null,null,0,null,null,0,null,null,0,null,null,0]
[null,0,null,null,0,null,null,0,null,null,0,null,null,0]
[null,0,null,null,0,null,null,0,null,null,0,null,null,0]
[null,0,null,null,0,null,null,0,null,null,{"$f":"K261","v":0},null,null,0]
[null,0,null,null,0,null,null,0,null,null,0,null,null,0]
[]
[]
[null,null,{"$f":"'1-2a'!$C$275","v":0},null,null,{"$f":"'1-2a'!$F$275","v":0},null,null,{"$f":"'1-2a'!$I$275","v":0},null,null,{"$f":"'1-2a'!$L$275","v":0},null,null,{"$f":"'1-2a'!$O$275","v":0}]
[{"$f":"IF(A266=52,1,A266+1)","v":7},{"$f":"N266+3","v":"2021-02-08"},null,null,{"$f":"B276+1","v":"2021-02-09"},null,null,{"$f":"E276+1","v":"2021-02-10"},null,null,{"$f":"H276+1","v":"2021-02-11"},null,null,{"$f":"K276+1","v":"2021-02-12"}]
[null,{"$f":"B267","v":0},null,null,{"$f":"E267","v":0},null,null,{"$f":"H267","v":0},null,null,{"$f":"K267","v":0},null,null,{"$f":"N267","v":0}]
[28,0,null,null,0,null,null,0,null,null,0,null,null,0]
[null,0,null,null,0,null,null,0,null,null,0,null,null,0]
[null,0,null,null,0,null,null,0,null,null,0,null,null,0]
[null,0,null,null,0,null,null,0,null,null,{"$f":"K271","v":0},null,null,0]
[null,0,null,null,0,null,null,0,null,null,0,null,null,0]
[]
[]
[null,null,{"$f":"'1-2a'!$C$285","v":0},null,null,{"$f":"'1-2a'!$F$285","v":0},null,null,{"$f":"'1-2a'!$I$285","v":0},null,null,{"$f":"'1-2a'!$L$285","v":0},null,null,{"$f":"'1-2a'!$O$285","v":0}]
[{"$f":"IF(A276=52,1,A276+1)","v":8},{"$f":"N276+3","v":"2021-02-15"},null,null,{"$f":"B286+1","v":"2021-02-16"},null,null,{"$f":"E286+1","v":"2021-02-17"},null,null,{"$f":"H286+1","v":"2021-02-18"},null,null,{"$f":"K286+1","v":"2021-02-19"}]
[null,{"$f":"B277","v":0},null,null,{"$f":"E277","v":0},null,null,{"$f":"H277","v":0},null,null,{"$f":"K277","v":0},null,null,{"$f":"N277","v":0}]
[29,0,null,null,0,null,null,0,null,null,0,null,null,0]
[null,0,null,null,0,null,null,0,null,null,0,null,null,0]
[null,0,null,null,0,null,null,0,null,null,0,null,null,0]
[null,0,null,null,0,null,null,0,null,null,{"$f":"K281","v":0},null,null,0]
[null,0,null,null,0,null,null,0,null,null,0,null,null,0]
[]
[]
[null,null,{"$f":"'1-2a'!$C$295","v":0},null,null,{"$f":"'1-2a'!$F$295","v":0},null,null,{"$f":"'1-2a'!$I$295","v":0},null,null,{"$f":"'1-2a'!$L$295","v":0},null,null,{"$f":"'1-2a'!$O$295","v":0}]
[{"$f":"IF(A286=52,1,A286+1)","v":9},{"$f":"N286+3","v":"2021-02-22"},null,null,{"$f":"B296+1","v":"2021-02-23"},null,null,{"$f":"E296+1","v":"2021-02-24"},null,null,{"$f":"H296+1","v":"2021-02-25"},null,null,{"$f":"K296+1","v":"2021-02-26"}]
[null,{"$f":"B287","v":0},null,null,{"$f":"E287","v":0},null,null,{"$f":"H287","v":0},null,null,{"$f":"K287","v":0},null,null,{"$f":"N287","v":0}]
[30,0,null,null,0,null,null,0,null,null,0,null,null,0]
[null,0,null,null,0,null,null,0,null,null,0,null,null,0]
[null,0,null,null,0,null,null,0,null,null,0,null,null,0]
[null,0,null,null,0,null,null,0,null,null,{"$f":"K291","v":0},null,null,0]
[null,0,null,null,0,null,null,0,null,null,0,null,null,0]
[]
[]
[null,null,{"$f":"'1-2a'!$C$305","v":0},null,null,{"$f":"'1-2a'!$F$305","v":0},null,null,{"$f":"'1-2a'!$I$305","v":0},null,null,{"$f":"'1-2a'!$L$305","v":0},null,null,{"$f":"'1-2a'!$O$305","v":0}]
[{"$f":"IF(A296=52,1,A296+1)","v":10},{"$f":"N296+3","v":"2021-03-01"},null,null,{"$f":"B306+1","v":"2021-03-02"},null,null,{"$f":"E306+1","v":"2021-03-03"},null,null,{"$f":"H306+1","v":"2021-03-04"},null,null,{"$f":"K306+1","v":"2021-03-05"}]
[null,{"$f":"B297","v":0},null,null,{"$f":"E297","v":0},null,null,{"$f":"H297","v":0},null,null,{"$f":"K297","v":0},null,null,{"$f":"N297","v":0}]
[31,0,null,null,0,null,null,0,null,null,0,null,null,0]
[null,0,null,null,0,null,null,0,null,null,0,null,null,0]
[null,0,null,null,0,null,null,0,null,null,0,null,null,0]
[null,0,null,null,0,null,null,0,null,null,{"$f":"K301","v":0},null,null,0]
[null,0,null,null,0,null,null,0,null,null,0,null,null,0]
[]
[]
[null,null,{"$f":"'1-2a'!$C$315","v":0},null,null,{"$f":"'1-2a'!$F$315","v":0},null,null,{"$f":"'1-2a'!$I$315","v":0},null,null,{"$f":"'1-2a'!$L$315","v":0},null,null,{"$f":"'1-2a'!$O$315","v":0}]
[{"$f":"IF(A306=52,1,A306+1)","v":11},{"$f":"N306+3","v":"2021-03-08"},null,null,{"$f":"B316+1","v":"2021-03-09"},null,null,{"$f":"E316+1","v":"2021-03-10"},null,null,{"$f":"H316+1","v":"2021-03-11"},null,null,{"$f":"K316+1","v":"2021-03-12"}]
[null,{"$f":"B307","v":0},null,null,{"$f":"E307","v":0},null,null,{"$f":"H307","v":0},null,null,{"$f":"K307","v":0},null,null,{"$f":"N307","v":0}]
[32,0,null,null,0,null,null,0,null,null,0,null,null,0]
[null,0,null,null,0,null,null,0,null,null,0,null,null,0]
[null,0,null,null,0,null,null,0,null,null,0,null,null,0]
[null,0,null,null,0,null,null,0,null,null,{"$f":"K311","v":0},null,null,0]
[null,0,null,null,0,null,null,0,null,null,0,null,null,0]
[]
[]
[null,null,{"$f":"'1-2a'!$C$325","v":0},null,null,{"$f":"'1-2a'!$F$325","v":0},null,null,{"$f":"'1-2a'!$I$325","v":0},null,null,{"$f":"'1-2a'!$L$325","v":0},null,null,{"$f":"'1-2a'!$O$325","v":0}]
[{"$f":"IF(A316=52,1,A316+1)","v":12},{"$f":"N316+3","v":"2021-03-15"},null,null,{"$f":"B326+1","v":"2021-03-16"},null,null,{"$f":"E326+1","v":"2021-03-17"},null,null,{"$f":"H326+1","v":"2021-03-18"},null,null,{"$f":"K326+1","v":"2021-03-19"}]
[null,{"$f":"B317","v":0},null,null,{"$f":"E317","v":0},null,null,{"$f":"H317","v":0},null,null,{"$f":"K317","v":0},null,null,{"$f":"N317","v":0}]
[33,0,null,null,0,null,null,0,null,null,0,null,null,0]
[null,0,null,null,0,null,null,0,null,null,0,null,null,0]
[null,0,null,null,0,null,null,0,null,null,0,null,null,0]
[null,0,null,null,0,null,null,0,null,null,0,null,null,0]
[null,0,null,null,0,null,null,0,null,null,0,null,null,0]
[]
[]
[null,null,{"$f":"'1-2a'!$C$335","v":0},null,null,{"$f":"'1-2a'!$F$335","v":0},null,null,{"$f":"'1-2a'!$I$335","v":0},null,null,{"$f":"'1-2a'!$L$335","v":0},null,null,{"$f":"'1-2a'!$O$335","v":0}]
[{"$f":"IF(A326=52,1,A326+1)","v":13},{"$f":"N326+3","v":"2021-03-22"},null,null,{"$f":"B336+1","v":"2021-03-23"},null,null,{"$f":"E336+1","v":"2021-03-24"},null,null,{"$f":"H336+1","v":"2021-03-25"},null,null,{"$f":"K336+1","v":"2021-03-26"}]
[null,{"$f":"B327","v":0},null,null,{"$f":"E327","v":0},null,null,{"$f":"H327","v":0},null,null,{"$f":"K327","v":0},null,null,{"$f":"N327","v":0}]
[34,0,null,null,0,null,null,0,null,null,0,null,null,0]
[null,0,null,null,0,null,null,0,null,null,0,null,null,0]
[null,0,null,null,0,null,null,0,null,null,0,null,null,0]
[null,0,null,null,0,null,null,0,null,null,{"$f":"K331","v":0},null,null,0]
[null,0,null,null,0,null,null,0,null,null,0,null,null,0]
[]
[]
[null,null,{"$f":"'1-2a'!$C$345","v":0},null,null,{"$f":"'1-2a'!$F$345","v":0},null,null,{"$f":"'1-2a'!$I$345","v":0},null,null,{"$f":"'1-2a'!$L$345","v":0},null,null,{"$f":"'1-2a'!$O$345","v":0}]
[{"$f":"IF(A336=52,1,A336+1)","v":14},{"$f":"N336+3","v":"2021-03-29"},null,null,{"$f":"B346+1","v":"2021-03-30"},null,null,{"$f":"E346+1","v":"2021-03-31"},null,null,{"$f":"H346+1","v":"2021-04-01"},null,null,{"$f":"K346+1","v":"2021-04-02"}]
[null,{"$f":"B337","v":0},null,null,{"$f":"E337","v":0},null,null,{"$f":"H337","v":0},null,null,{"$f":"K337","v":0},null,null,{"$f":"N337","v":0}]
[35,0,null,null,0,null,null,0,null,null,0,null,null,0]
[null,0,null,null,0,null,null,0,null,null,0,null,null,0]
[null,0,null,null,0,null,null,0,null,null,0,null,null,0]
[null,0,null,null,0,null,null,0,null,null,{"$f":"K341","v":0},null,null,0]
[null,0,null,null,0,null,null,0,null,null,0,null,null,0]
[]
[]
[null,null,{"$f":"'1-2a'!$C$355","v":0},null,null,{"$f":"'1-2a'!$F$355","v":0},null,null,{"$f":"'1-2a'!$I$355","v":0},null,null,{"$f":"'1-2a'!$L$355","v":0},null,null,{"$f":"'1-2a'!$O$355","v":0}]
[{"$f":"IF(A346=52,1,A346+1)","v":15},{"$f":"N346+3","v":"2021-04-05"},null,null,{"$f":"B356+1","v":"2021-04-06"},null,null,{"$f":"E356+1","v":"2021-04-07"},null,null,{"$f":"H356+1","v":"2021-04-08"},null,null,{"$f":"K356+1","v":"2021-04-09"}]
[null,{"$f":"B347","v":0},null,null,{"$f":"E347","v":0},null,null,{"$f":"H347","v":0},null,null,{"$f":"K347","v":0},null,null,{"$f":"N347","v":0}]
[36,0,null,null,0,null,null,0,null,null,0,null,null,0]
[null,0,null,null,0,null,null,0,null,null,0,null,null,0]
[null,0,null,null,0,null,null,0,null,null,0,null,null,0]
[null,0,null,null,0,null,null,0,null,null,{"$f":"K351","v":0},null,null,0]
[null,0,null,null,0,null,null,0,null,null,0,null,null,0]
[]
[]
[null,null,{"$f":"'1-2a'!$C$365","v":0},null,null,{"$f":"'1-2a'!$F$365","v":0},null,null,{"$f":"'1-2a'!$I$365","v":0},null,null,{"$f":"'1-2a'!$L$365","v":0},null,null,{"$f":"'1-2a'!$O$365","v":0}]
[{"$f":"IF(A356=52,1,A356+1)","v":16},{"$f":"N356+3","v":"2021-04-12"},null,null,{"$f":"B366+1","v":"2021-04-13"},null,null,{"$f":"E366+1","v":"2021-04-14"},null,null,{"$f":"H366+1","v":"2021-04-15"},null,null,{"$f":"K366+1","v":"2021-04-16"}]
[null,{"$f":"B357","v":0},null,null,{"$f":"E357","v":0},null,null,{"$f":"H357","v":0},null,null,{"$f":"K357","v":0},null,null,{"$f":"N357","v":0}]
[37,0,null,null,0,null,null,0,null,null,0,null,null,0]
[null,0,null,null,0,null,null,0,null,null,0,null,null,0]
[null,0,null,null,0,null,null,0,null,null,0,null,null,0]
[null,0,null,null,0,null,null,0,null,null,{"$f":"K361","v":0},null,null,0]
[null,0,null,null,0,null,null,0,null,null,0,null,null,0]
[]
[]
[null,null,{"$f":"'1-2a'!$C$375","v":0},null,null,{"$f":"'1-2a'!$F$375","v":0},null,null,{"$f":"'1-2a'!$I$375","v":0},null,null,{"$f":"'1-2a'!$L$375","v":0},null,null,{"$f":"'1-2a'!$O$375","v":0}]
[{"$f":"IF(A366=52,1,A366+1)","v":17},{"$f":"N366+3","v":"2021-04-19"},null,null,{"$f":"B376+1","v":"2021-04-20"},null,null,{"$f":"E376+1","v":"2021-04-21"},null,null,{"$f":"H376+1","v":"2021-04-22"},null,null,{"$f":"K376+1","v":"2021-04-23"}]
[null,{"$f":"B367","v":0},null,null,{"$f":"E367","v":0},null,null,{"$f":"H367","v":0},null,null,{"$f":"K367","v":0},null,null,{"$f":"N367","v":0}]
[38,0,null,null,0,null,null,0,null,null,0,null,null,0]
[null,0,null,null,0,null,null,0,null,null,0,null,null,0]
[null,0,null,null,0,null,null,0,null,null,0,null,null,0]
[null,0,null,null,0,null,null,0,null,null,{"$f":"K371","v":0},null,null,0]
[null,0,null,null,0,null,null,0,null,null,0,null,null,0]
[]
[]
[null,null,{"$f":"'1-2a'!$C$385","v":0},null,null,{"$f":"'1-2a'!$F$385","v":0},null,null,{"$f":"'1-2a'!$I$385","v":0},null,null,{"$f":"'1-2a'!$L$385","v":0},null,null,{"$f":"'1-2a'!$O$385","v":0}]
[{"$f":"IF(A376=52,1,A376+1)","v":18},{"$f":"N376+3","v":"2021-04-26"},null,null,{"$f":"B386+1","v":"2021-04-27"},null,null,{"$f":"E386+1","v":"2021-04-28"},null,null,{"$f":"H386+1","v":"2021-04-29"},null,null,{"$f":"K386+1","v":"2021-04-30"}]
[null,{"$f":"B377","v":0},null,null,{"$f":"E377","v":0},null,null,{"$f":"H377","v":0},null,null,{"$f":"K377","v":0},null,null,{"$f":"N377","v":0}]
[39,0,null,null,0,null,null,0,null,null,0,null,null,0]
[null,0,null,null,0,null,null,0,null,null,0,null,null,0]
[null,0,null,null,0,null,null,0,null,null,0,null,null,0]
[null,0,null,null,0,null,null,0,null,null,{"$f":"K381","v":0},null,null,0]
[null,0,null,null,0,null,null,0,null,null,0,null,null,0]
[]
[]
[null,null,{"$f":"'1-2a'!$C$395","v":0},null,null,{"$f":"'1-2a'!$F$395","v":0},null,null,{"$f":"'1-2a'!$I$395","v":0},null,null,{"$f":"'1-2a'!$L$395","v":0},null,null,{"$f":"'1-2a'!$O$395","v":0}]
[{"$f":"IF(A386=52,1,A386+1)","v":19},{"$f":"N386+3","v":"2021-05-03"},null,null,{"$f":"B396+1","v":"2021-05-04"},null,null,{"$f":"E396+1","v":"2021-05-05"},null,null,{"$f":"H396+1","v":"2021-05-06"},null,null,{"$f":"K396+1","v":"2021-05-07"}]
[null,{"$f":"B387","v":0},null,null,{"$f":"E387","v":0},null,null,{"$f":"H387","v":0},null,null,{"$f":"K387","v":0},null,null,{"$f":"N387","v":0}]
[40,0,null,null,0,null,null,0,null,null,0,null,null,0]
[null,0,null,null,0,null,null,0,null,null,0,null,null,0]
[null,0,null,null,0,null,null,0,null,null,0,null,null,0]
[null,0,null,null,0,null,null,0,null,null,{"$f":"K391","v":0},null,null,0]
[null,0,null,null,0,null,null,0,null,null,0,null,null,0]
[]
[]
[null,null,{"$f":"'1-2a'!$C$405","v":0},null,null,{"$f":"'1-2a'!$F$405","v":0},null,null,{"$f":"'1-2a'!$I$405","v":0},null,null,{"$f":"'1-2a'!$L$405","v":0},null,null,{"$f":"'1-2a'!$O$405","v":0}]
[{"$f":"IF(A396=52,1,A396+1)","v":20},{"$f":"N396+3","v":"2021-05-10"},null,null,{"$f":"B406+1","v":"2021-05-11"},null,null,{"$f":"E406+1","v":"2021-05-12"},null,null,{"$f":"H406+1","v":"2021-05-13"},null,null,{"$f":"K406+1","v":"2021-05-14"}]
[null,{"$f":"B397","v":0},null,null,{"$f":"E397","v":0},null,null,{"$f":"H397","v":0},null,null,{"$f":"K397","v":0},null,null,{"$f":"N397","v":0}]
[41,0,null,null,0,null,null,0,null,null,0,null,null,0]
[null,0,null,null,0,null,null,0,null,null,0,null,null,0]
[null,0,null,null,0,null,null,0,null,null,0,null,null,0]
[null,0,null,null,0,null,null,0,null,null,0,null,null,0]
[null,0,null,null,0,null,null,0,null,null,0,null,null,0]
[]
[]
[null,null,{"$f":"'1-2a'!$C$415","v":0},null,null,{"$f":"'1-2a'!$F$415","v":0},null,null,{"$f":"'1-2a'!$I$415","v":0},null,null,{"$f":"'1-2a'!$L$415","v":0},null,null,{"$f":"'1-2a'!$O$415","v":0}]
[{"$f":"IF(A406=52,1,A406+1)","v":21},{"$f":"N406+3","v":"2021-05-17"},null,null,{"$f":"B416+1","v":"2021-05-18"},null,null,{"$f":"E416+1","v":"2021-05-19"},null,null,{"$f":"H416+1","v":"2021-05-20"},null,null,{"$f":"K416+1","v":"2021-05-21"}]
[null,{"$f":"B407","v":0},null,null,{"$f":"E407","v":0},null,null,{"$f":"H407","v":0},null,null,{"$f":"K407","v":0},null,null,{"$f":"N407","v":0}]
[42,0,null,null,0,null,null,0,null,null,0,null,null,0]
[null,0,null,null,0,null,null,0,null,null,0,null,null,0]
[null,0,null,null,0,null,null,0,null,null,0,null,null,0]
[null,0,null,null,0,null,null,0,null,null,{"$f":"K411","v":0},null,null,0]
[null,0,null,null,0,null,null,0,null,null,0,null,null,0]
[]
[]
[null,null,{"$f":"'1-2a'!$C$425","v":0},null,null,{"$f":"'1-2a'!$F$425","v":0},null,null,{"$f":"'1-2a'!$I$425","v":0},null,null,{"$f":"'1-2a'!$L$425","v":0},null,null,{"$f":"'1-2a'!$O$425","v":0}]
[{"$f":"IF(A416=52,1,A416+1)","v":22},{"$f":"N416+3","v":"2021-05-24"},null,null,{"$f":"B426+1","v":"2021-05-25"},null,null,{"$f":"E426+1","v":"2021-05-26"},null,null,{"$f":"H426+1","v":"2021-05-27"},null,null,{"$f":"K426+1","v":"2021-05-28"}]
[null,{"$f":"B417","v":0},null,null,{"$f":"E417","v":0},null,null,{"$f":"H417","v":0},null,null,{"$f":"K417","v":0},null,null,{"$f":"N417","v":0}]
[43,0,null,null,0,null,null,0,null,null,0,null,null,0]
[null,0,null,null,0,null,null,0,null,null,0,null,null,0]
[null,0,null,null,0,null,null,0,null,null,0,null,null,0]
[null,0,null,null,0,null,null,0,null,null,{"$f":"K421","v":0},null,null,0]
[null,0,null,null,0,null,null,0,null,null,0,null,null,0]
[]
[]
[null,null,{"$f":"'1-2a'!$C$435","v":0},null,null,{"$f":"'1-2a'!$F$435","v":0},null,null,{"$f":"'1-2a'!$I$435","v":0},null,null,{"$f":"'1-2a'!$L$435","v":0},null,null,{"$f":"'1-2a'!$O$435","v":0}]
[{"$f":"IF(A426=52,1,A426+1)","v":23},{"$f":"N426+3","v":"2021-05-31"},null,null,{"$f":"B436+1","v":"2021-06-01"},null,null,{"$f":"E436+1","v":"2021-06-02"},null,null,{"$f":"H436+1","v":"2021-06-03"},null,null,{"$f":"K436+1","v":"2021-06-04"}]
[null,{"$f":"B427","v":0},null,null,{"$f":"E427","v":0},null,null,{"$f":"H427","v":0},null,null,{"$f":"K427","v":0},null,null,{"$f":"N427","v":0}]
[44,0,null,null,0,null,null,0,null,null,0,null,null,0]
[null,0,null,null,0,null,null,0,null,null,0,null,null,0]
[null,0,null,null,0,null,null,0,null,null,0,null,null,0]
[null,0,null,null,0,null,null,0,null,null,{"$f":"K431","v":0},null,null,0]
[null,0,null,null,0,null,null,0,null,null,0,null,null,0]
[]
[]
[null,null,{"$f":"'1-2a'!$C$445","v":0},null,null,{"$f":"'1-2a'!$F$445","v":0},null,null,{"$f":"'1-2a'!$I$445","v":0},null,null,{"$f":"'1-2a'!$L$445","v":0},null,null,{"$f":"'1-2a'!$O$445","v":0}]
[{"$f":"IF(A436=52,1,A436+1)","v":24},{"$f":"N436+3","v":"2021-06-07"},null,null,{"$f":"B446+1","v":"2021-06-08"},null,null,{"$f":"E446+1","v":"2021-06-09"},null,null,{"$f":"H446+1","v":"2021-06-10"},null,null,{"$f":"K446+1","v":"2021-06-11"}]
[null,{"$f":"B437","v":0},null,null,{"$f":"E437","v":0},null,null,{"$f":"H437","v":0},null,null,{"$f":"K437","v":0},null,null,{"$f":"N437","v":0}]
[45,0,null,null,0,null,null,0,null,null,0,null,null,0]
[null,0,null,null,0,null,null,0,null,null,0,null,null,0]
[null,0,null,null,0,null,null,0,null,null,0,null,null,0]
[null,0,null,null,0,null,null,0,null,null,{"$f":"K441","v":0},null,null,0]
[null,0,null,null,0,null,null,0,null,null,0,null,null,0]
[]
[]
[null,null,{"$f":"'1-2a'!$C$455","v":0},null,null,{"$f":"'1-2a'!$F$455","v":0},null,null,{"$f":"'1-2a'!$I$455","v":0},null,null,{"$f":"'1-2a'!$L$455","v":0},null,null,{"$f":"'1-2a'!$O$455","v":0}]
[{"$f":"IF(A446=52,1,A446+1)","v":25},{"$f":"N446+3","v":"2021-06-14"},null,null,{"$f":"B456+1","v":"2021-06-15"},null,null,{"$f":"E456+1","v":"2021-06-16"},null,null,{"$f":"H456+1","v":"2021-06-17"},null,null,{"$f":"K456+1","v":"2021-06-18"}]
[null,{"$f":"B447","v":0},null,null,{"$f":"E447","v":0},null,null,{"$f":"H447","v":0},null,null,{"$f":"K447","v":0},null,null,{"$f":"N447","v":0}]
[46,0,null,null,0,null,null,0,null,null,0,null,null,0]
[null,0,null,null,0,null,null,0,null,null,0,null,null,0]
[null,0,null,null,0,null,null,0,null,null,0,null,null,0]
[null,0,null,null,0,null,null,0,null,null,{"$f":"K451","v":0},null,null,0]
[null,0,null,null,0,null,null,0,null,null,0,null,null,0]
[]
[]
[null,null,{"$f":"'1-2a'!$C$465","v":0},null,null,{"$f":"'1-2a'!$F$465","v":0},null,null,{"$f":"'1-2a'!$I$465","v":0},null,null,{"$f":"'1-2a'!$L$465","v":0},null,null,{"$f":"'1-2a'!$O$465","v":0}]
[{"$f":"IF(A456=52,1,A456+1)","v":26},{"$f":"N456+3","v":"2021-06-21"},null,null,{"$f":"B466+1","v":"2021-06-22"},null,null,{"$f":"E466+1","v":"2021-06-23"},null,null,{"$f":"H466+1","v":"2021-06-24"},null,null,{"$f":"K466+1","v":"2021-06-25"}]
[null,{"$f":"B457","v":0},null,null,{"$f":"E457","v":0},null,null,{"$f":"H457","v":0},null,null,{"$f":"K457","v":0},null,null,{"$f":"N457","v":0}]
[47,0,null,null,0,null,null,0,null,null,0,null,null,0]
[null,0,null,null,0,null,null,0,null,null,0,null,null,0]
[null,0,null,null,0,null,null,0,null,null,0,null,null,0]
[null,0,null,null,0,null,null,0,null,null,{"$f":"K461","v":0},null,null,0]
[null,0,null,null,0,null,null,0,null,null,0,null,null,0]
[]
[]
[null,null,{"$f":"'1-2a'!$C$475","v":0},null,null,{"$f":"'1-2a'!$F$475","v":0},null,null,{"$f":"'1-2a'!$I$475","v":0},null,null,{"$f":"'1-2a'!$L$475","v":0},null,null,{"$f":"'1-2a'!$O$475","v":0}]
[{"$f":"IF(A466=52,1,A466+1)","v":27},{"$f":"N466+3","v":"2021-06-28"},null,null,{"$f":"B476+1","v":"2021-06-29"},null,null,{"$f":"E476+1","v":"2021-06-30"},null,null,{"$f":"H476+1","v":"2021-07-01"},null,null,{"$f":"K476+1","v":"2021-07-02"}]
[null,{"$f":"B467","v":0},null,null,{"$f":"E467","v":0},null,null,{"$f":"H467","v":0},null,null,{"$f":"K467","v":0},null,null,{"$f":"N467","v":0}]
[48,0,null,null,0,null,null,0,null,null,0,null,null,0]
[null,0,null,null,0,null,null,0,null,null,0,null,null,0]
[null,0,null,null,0,null,null,0,null,null,0,null,null,0]
[null,0,null,null,0,null,null,0,null,null,{"$f":"K471","v":0},null,null,0]
[null,0,null,null,0,null,null,0,null,null,0,null,null,0]
[]
[]
[null,null,{"$f":"'1-2a'!$C$485","v":0},null,null,{"$f":"'1-2a'!$F$485","v":0},null,null,{"$f":"'1-2a'!$I$485","v":0},null,null,{"$f":"'1-2a'!$L$485","v":0},null,null,{"$f":"'1-2a'!$O$485","v":0}]
[{"$f":"IF(A476=52,1,A476+1)","v":28},{"$f":"N476+3","v":"2021-07-05"},null,null,{"$f":"B486+1","v":"2021-07-06"},null,null,{"$f":"E486+1","v":"2021-07-07"},null,null,{"$f":"H486+1","v":"2021-07-08"},null,null,{"$f":"K486+1","v":"2021-07-09"}]
[null,{"$f":"B477","v":0},null,null,{"$f":"E477","v":0},null,null,{"$f":"H477","v":0},null,null,{"$f":"K477","v":0},null,null,{"$f":"N477","v":0}]
[49,0,null,null,0,null,null,0,null,null,0,null,null,0]
[null,0,null,null,0,null,null,0,null,null,0,null,null,0]
[null,0,null,null,0,null,null,0,null,null,0,null,null,0]
[null,0,null,null,0,null,null,0,null,null,0,null,null,0]
[null,0,null,null,0,null,null,0,null,null,0,null,null,0]
[]
[]
[null,null,{"$f":"'1-2a'!$C$495","v":0},null,null,{"$f":"'1-2a'!$F$495","v":0},null,null,{"$f":"'1-2a'!$I$495","v":0},null,null,{"$f":"'1-2a'!$L$495","v":0},null,null,{"$f":"'1-2a'!$O$495","v":0}]
[{"$f":"IF(A486=52,1,A486+1)","v":29},{"$f":"N486+3","v":"2021-07-12"},null,null,{"$f":"B496+1","v":"2021-07-13"},null,null,{"$f":"E496+1","v":"2021-07-14"},null,null,{"$f":"H496+1","v":"2021-07-15"},null,null,{"$f":"K496+1","v":"2021-07-16"}]
[null,{"$f":"B487","v":0},null,null,{"$f":"E487","v":0},null,null,{"$f":"H487","v":0},null,null,{"$f":"K487","v":0},null,null,{"$f":"N487","v":0}]
[50,0,null,null,0,null,null,0,null,null,0]
[null,0,null,null,0,null,null,0,null,null,0,null,null,0]
[null,0,null,null,0,null,null,0,null,null,0,null,null,0]
[null,0,null,null,0,null,null,0,null,null,{"$f":"K491","v":0},null,null,0]
[null,0,null,null,0,null,null,0,null,null,0]

{"sheet":"6","index":6,"n_rows":502,"n_cols":15,"rows_kept":502,"cut":false,"hidden":false,"merged":[[5,1,5,3],[5,4,5,6],[5,7,5,9],[5,10,5,12],[5,13,5,15],[7,0,8,0],[1,1,2,7],[1,9,2,12],[1,13,2,15],[3,1,3,3],[3,4,3,6],[3,7,3,9],[3,10,3,12],[3,13,3,15],[12,1,13,3],[12,4,13,6],[12,7,13,9],[12,10,13,12],[12,13,13,15],[15,1,15,3],[15,4,15,6],[15,7,15,9],[15,10,15,12],[15,13,15,15],[25,1,25,3],[25,4,25,6],[25,7,25,9],[25,10,25,12],[25,13,25,15],[27,0,28,0],[17,0,18,0],[22,1,23,3],[22,4,23,6],[22,7,23,9],[22,10,23,12],[22,13,23,15],[32,1,33,3],[32,4,33,6],[32,7,33,9],[32,10,33,12],[32,13,33,15],[35,1,35,3],[35,4,35,6],[35,7,35,9],[35,10,35,12],[35,13,35,15],[45,1,45,3],[45,4,45,6],[45,7,45,9],[45,10,45,12],[45,13,45,15],[47,0,48,0],[37,0,38,0],[42,1,43,3],[42,4,43,6],[42,7,43,9],[42,10,43,12],[42,13,43,15],[52,1,53,3],[52,4,53,6],[52,7,53,9],[52,10,53,12],[52,13,53,15],[55,1,55,3],[55,4,55,6],[55,7,55,9],[55,10,55,12],[55,13,55,15],[65,1,65,3],[65,4,65,6],[65,7,65,9],[65,10,65,12],[65,13,65,15],[67,0,68,0],[57,0,58,0],[62,1,63,3],[62,4,63,6],[62,7,63,9],[62,10,63,12],[62,13,63,15],[72,1,73,3],[72,4,73,6],[72,7,73,9],[72,10,73,12],[72,13,73,15],[75,1,75,3],[75,4,75,6],[75,7,75,9],[75,10,75,12],[75,13,75,15],[85,1,85,3],[85,4,85,6],[85,7,85,9],[85,10,85,12],[85,13,85,15],[87,0,88,0],[77,0,78,0],[82,1,83,3],[82,4,83,6],[82,7,83,9],[82,10,83,12],[82,13,83,15],[92,1,93,3],[92,4,93,6],[92,7,93,9],[92,10,93,12],[92,13,93,15],[95,1,95,3],[95,4,95,6],[95,7,95,9],[95,10,95,12],[95,13,95,15],[105,1,105,3],[105,4,105,6],[105,7,105,9],[105,10,105,12],[105,13,105,15],[107,0,108,0],[97,0,98,0],[99,16,100,19],[102,1,103,3],[102,4,103,6],[102,7,103,9],[102,10,103,12],[102,13,103,15],[112,1,113,3],[112,4,113,6],[112,7,113,9],[112,10,113,12],[112,13,113,15],[115,1,115,3],[115,4,115,6],[115,7,115,9],[115,10,115,12],[115,13,115,15],[125,1,125,3],[125,4,125,6],[125,7,125,9],[125,10,125,12],[125,13,125,15],[127,0,128,0],[117,0,118,0],[122,1,123,3],[122,4,123,6],[122,7,123,9],[122,10,123,12],[122,13,123,15],[132,1,133,3],[132,4,133,6],[132,7,133,9],[132,10,133,12],[132,13,133,15],[135,1,135,3],[135,4,135,6],[135,7,135,9],[135,10,135,12],[135,13,135,15],[145,1,145,3],[145,4,145,6],[145,7,145,9],[145,10,145,12],[145,13,145,15],[147,0,148,0],[137,0,138,0],[142,1,143,3],[142,4,143,6],[142,7,143,9],[142,10,143,12],[142,13,143,15],[152,1,153,3],[152,4,153,6],[152,7,153,9],[152,10,153,12],[152,13,153,15],[155,1,155,3],[155,4,155,6],[155,7,155,9],[155,10,155,12],[155,13,155,15],[165,1,165,3],[165,4,165,6],[165,7,165,9],[165,10,165,12],[165,13,165,15],[167,0,168,0],[157,0,158,0],[162,1,163,3],[162,4,163,6],[162,7,163,9],[162,10,163,12],[162,13,163,15],[172,1,173,3],[172,4,173,6],[172,7,173,9],[172,10,173,12],[172,13,173,15],[175,1,175,3],[175,4,175,6],[175,7,175,9],[175,10,175,12],[175,13,175,15],[185,1,185,3],[185,4,185,6],[185,7,185,9],[185,10,185,12],[185,13,185,15],[187,0,188,0],[177,0,178,0],[179,16,180,19],[182,1,183,3],[182,4,183,6],[182,7,183,9],[182,10,183,12],[182,13,183,15],[192,1,193,3],[192,4,193,6],[192,7,193,9],[192,10,193,12],[192,13,193,15],[195,1,195,3],[195,4,195,6],[195,7,195,9],[195,10,195,12],[195,13,195,15],[205,1,205,3],[205,4,205,6],[205,7,205,9],[205,10,205,12],[205,13,205,15],[207,0,208,0],[197,0,198,0],[202,1,203,3],[202,4,203,6],[202,7,203,9],[202,10,203,12],[202,13,203,15],[212,1,213,3],[212,4,213,6],[212,7,213,9],[212,10,213,12],[212,13,213,15],[215,1,215,3],[215,4,215,6],[215,7,215,9],[215,10,215,12],[215,13,215,15],[225,1,225,3],[225,4,225,6],[225,7,225,9],[225,10,225,12],[225,13,225,15],[227,0,228,0],[217,0,218,0],[222,1,223,3],[222,4,223,6],[222,7,223,9],[222,10,223,12],[222,13,223,15],[232,1,233,3],[232,4,233,6],[232,7,233,9],[232,10,233,12],[232,13,233,15],[235,1,235,3],[235,4,235,6],[235,7,235,9],[235,10,235,12],[235,13,235,15],[245,1,245,3],[245,4,245,6],[245,7,245,9],[245,10,245,12],[245,13,245,15],[247,0,248,0],[237,0,238,0],[242,1,243,3],[242,4,243,6],[242,7,243,9],[242,10,243,12],[242,13,243,15],[252,1,253,3],[252,4,253,6],[252,7,253,9],[252,10,253,12],[252,13,253,15],[255,1,255,3],[255,4,255,6],[255,7,255,9],[255,10,255,12],[255,13,255,15],[265,1,265,3],[265,4,265,6],[265,7,265,9],[265,10,265,12],[265,13,265,15],[267,0,268,0],[257,0,258,0],[259,16,260,19],[262,1,263,3],[262,4,263,6],[262,7,263,9],[262,10,263,12],[262,13,263,15],[272,1,273,3],[272,4,273,6],[272,7,273,9],[272,10,273,12],[272,13,273,15],[275,1,275,3],[275,4,275,6],[275,7,275,9],[275,10,275,12],[275,13,275,15],[285,1,285,3],[285,4,285,6],[285,7,285,9],[285,10,285,12],[285,13,285,15],[287,0,288,0],[277,0,278,0],[282,1,283,3],[282,4,283,6],[282,7,283,9],[282,10,283,12],[282,13,283,15],[292,1,293,3],[292,4,293,6],[292,7,293,9],[292,10,293,12],[292,13,293,15],[295,1,295,3],[295,4,295,6],[295,7,295,9],[295,10,295,12],[295,13,295,15],[305,1,305,3],[305,4,305,6],[305,7,305,9],[305,10,305,12],[305,13,305,15],[307,0,308,0],[297,0,298,0],[302,1,303,3],[302,4,303,6],[302,7,303,9],[302,10,303,12],[302,13,303,15],[312,1,313,3],[312,4,313,6],[312,7,313,9],[312,10,313,12],[312,13,313,15],[315,1,315,3],[315,4,315,6],[315,7,315,9],[315,10,315,12],[315,13,315,15],[325,1,325,3],[325,4,325,6],[325,7,325,9],[325,10,325,12],[325,13,325,15],[327,0,328,0],[317,0,318,0],[322,1,323,3],[322,4,323,6],[322,7,323,9],[322,10,323,12],[322,13,323,15],[332,1,333,3],[332,4,333,6],[332,7,333,9],[332,10,333,12],[332,13,333,15],[335,1,335,3],[335,4,335,6],[335,7,335,9],[335,10,335,12],[335,13,335,15],[345,1,345,3],[345,4,345,6],[345,7,345,9],[345,10,345,12],[345,13,345,15],[347,0,348,0],[337,0,338,0],[339,16,340,19],[342,1,343,3],[342,4,343,6],[342,7,343,9],[342,10,343,12],[342,13,343,15],[352,1,353,3],[352,4,353,6],[352,7,353,9],[352,10,353,12],[352,13,353,15],[355,1,355,3],[355,4,355,6],[355,7,355,9],[355,10,355,12],[355,13,355,15],[365,1,365,3],[365,4,365,6],[365,7,365,9],[365,10,365,12],[365,13,365,15],[367,0,368,0],[357,0,358,0],[362,1,363,3],[362,4,363,6],[362,7,363,9],[362,10,363,12],[362,13,363,15],[372,1,373,3],[372,4,373,6],[372,7,373,9],[372,10,373,12],[372,13,373,15],[375,1,375,3],[375,4,375,6],[375,7,375,9],[375,10,375,12],[375,13,375,15],[385,1,385,3],[385,4,385,6],[385,7,385,9],[385,10,385,12],[385,13,385,15],[387,0,388,0],[377,0,378,0],[382,1,383,3],[382,4,383,6],[382,7,383,9],[382,10,383,12],[382,13,383,15],[392,1,393,3],[392,4,393,6],[392,7,393,9],[392,10,393,12],[392,13,393,15],[395,1,395,3],[395,4,395,6],[395,7,395,9],[395,10,395,12],[395,13,395,15],[405,1,405,3],[405,4,405,6],[405,7,405,9],[405,10,405,12],[405,13,405,15],[407,0,408,0],[397,0,398,0],[402,1,403,3],[402,4,403,6],[402,7,403,9],[402,10,403,12],[402,13,403,15],[412,1,413,3],[412,4,413,6],[412,7,413,9],[412,10,413,12],[412,13,413,15],[415,1,415,3],[415,4,415,6],[415,7,415,9],[415,10,415,12],[415,13,415,15],[425,1,425,3],[425,4,425,6],[425,7,425,9],[425,10,425,12],[425,13,425,15],[427,0,428,0],[417,0,418,0],[419,16,420,19],[422,1,423,3],[422,4,423,6],[422,7,423,9],[422,10,423,12],[422,13,423,15],[432,1,433,3],[432,4,433,6],[432,7,433,9],[432,10,433,12],[432,13,433,15],[435,1,435,3],[435,4,435,6],[435,7,435,9],[435,10,435,12],[435,13,435,15],[445,1,445,3],[445,4,445,6],[445,7,445,9],[445,10,445,12],[445,13,445,15],[447,0,448,0],[437,0,438,0],[442,1,443,3],[442,4,443,6],[442,7,443,9],[442,10,443,12],[442,13,443,15],[452,1,453,3],[452,4,453,6],[452,7,453,9],[452,10,453,12],[452,13,453,15],[455,1,455,3],[455,4,455,6],[455,7,455,9],[455,10,455,12],[455,13,455,15],[465,1,465,3],[465,4,465,6],[465,7,465,9],[465,10,465,12],[465,13,465,15],[467,0,468,0],[457,0,458,0],[462,1,463,3],[462,4,463,6],[462,7,463,9],[462,10,463,12],[462,13,463,15],[472,1,473,3],[472,4,473,6],[472,7,473,9],[472,10,473,12],[472,13,473,15],[475,1,475,3],[475,4,475,6],[475,7,475,9],[475,10,475,12],[475,13,475,15],[485,1,485,3],[485,4,485,6],[485,7,485,9],[485,10,485,12],[485,13,485,15],[487,0,488,0],[477,0,478,0],[482,1,483,3],[482,4,483,6],[482,7,483,9],[482,10,483,12],[482,13,483,15],[497,0,498,0],[499,16,500,19],[502,1,503,3],[502,4,503,6],[502,7,503,9],[502,10,503,12],[502,13,503,15],[492,1,493,3],[492,4,493,6],[492,7,493,9],[492,10,493,12],[492,13,493,15],[495,1,495,3],[495,4,495,6],[495,7,495,9],[495,10,495,12],[495,13,495,15]]}
[]
[null,{"$f":"'1-2a'!B2:H3","v":"Basisschool De Grote Beer        schooljaar 2020/2021"},null,null,null,null,null,null,null,"Groepsplanner van groep:",null,null,null,"6"]
[]
[null,"maandag 1e schoolweek",null,null,"dinsdag",null,null,"woensdag",null,null,"donderdag",null,null,"vrijdag"]
[null,null,{"$f":"'1-2a'!C$5","v":0},null,null,{"$f":"'1-2a'!F5","v":0},null,null,{"$f":"'1-2a'!I$5","v":0},null,null,{"$f":"'1-2a'!L$5","v":"s"},null,null,{"$f":"'1-2a'!O$5","v":0}]
[{"$f":"(B6-WEEKDAY(B6-1)+4-(TRUNC(DATE(YEAR(B6-WEEKDAY(B6-1)+4),1,2)/7)*7-2))/7","v":32},{"$f":"'1-2a'!B6:D6","v":"2020-08-03"},null,null,{"$f":"B6+1","v":"2020-08-04"},null,null,{"$f":"E6+1","v":"2020-08-05"},null,null,{"$f":"H6+1","v":"2020-08-06"},null,null,{"$f":"K6+1","v":"2020-08-07"}]
[]
[1]
[]
[]
[]
[]
[]
[]
[null,null,{"$f":"'1-2a'!C$15","v":0},null,null,{"$f":"'1-2a'!F$15","v":0},null,null,{"$f":"'1-2a'!I$15","v":0},null,null,{"$f":"'1-2a'!L$15","v":0},null,null,{"$f":"'1-2a'!O15","v":0}]
[{"$f":"IF(A6=52,1,A6+1)","v":33},{"$f":"N6+3","v":"2020-08-10"},null,null,{"$f":"B16+1","v":"2020-08-11"},null,null,{"$f":"E16+1","v":"2020-08-12"},null,null,{"$f":"H16+1","v":"2020-08-13"},null,null,{"$f":"K16+1","v":"2020-08-14"}]
[null,{"$f":"B7","v":0},null,null,{"$f":"E7","v":0},null,null,{"$f":"H7","v":0},null,null,{"$f":"K7","v":0},null,null,{"$f":"N7","v":0}]
[2,0,null,null,0,null,null,0,null,null,0,null,null,0]
[null,0,null,null,0,null,null,0,null,null,0,null,null,0]
[null,0,null,null,0,null,null,0,null,null,0,null,null,0]
[null,0,null,null,0,null,null,0,null,null,0,null,null,0]
[null,0,null,null,0,null,null,0,null,null,0,null,null,0]
[]
[]
[null,null,{"$f":"'1-2a'!C$25","v":0},null,null,{"$f":"'1-2a'!F$25","v":0},null,null,{"$f":"'1-2a'!I25","v":0},null,null,{"$f":"'1-2a'!L25","v":0},null,null,{"$f":"'1-2a'!O25","v":0}]
[{"$f":"IF(A16=52,1,A16+1)","v":34},{"$f":"N16+3","v":"2020-08-17"},null,null,{"$f":"B26+1","v":"2020-08-18"},null,null,{"$f":"E26+1","v":"2020-08-19"},null,null,{"$f":"H26+1","v":"2020-08-20"},null,null,{"$f":"K26+1","v":"2020-08-21"}]
[null,{"$f":"B17","v":0},null,null,{"$f":"E17","v":0},null,null,{"$f":"H17","v":0},null,null,{"$f":"K17","v":0},null,null,{"$f":"N17","v":0}]
[3,0,null,null,0,null,null,0,null,null,0,null,null,0]
[null,0,null,null,0,null,null,0,null,null,0,null,null,0]
[null,0,null,null,0,null,null,0,null,null,0,null,null,0]
[null,0,null,null,0,null,null,0,null,null,{"$f":"K21","v":0},null,null,0]
[null,0,null,null,0,null,null,0,null,null,0,null,null,0]
[]
[]
[null,null,{"$f":"'1-2a'!$C$35","v":0},null,null,{"$f":"'1-2a'!$F$35","v":0},null,null,{"$f":"'1-2a'!$I$35","v":0},null,null,{"$f":"'1-2a'!$L$35","v":0},null,null,{"$f":"'1-2a'!$O$35","v":0}]
[{"$f":"IF(A26=52,1,A26+1)","v":35},{"$f":"N26+3","v":"2020-08-24"},null,null,{"$f":"B36+1","v":"2020-08-25"},null,null,{"$f":"E36+1","v":"2020-08-26"},null,null,{"$f":"H36+1","v":"2020-08-27"},null,null,{"$f":"K36+1","v":"2020-08-28"}]
[null,{"$f":"B27","v":0},null,null,{"$f":"E27","v":0},null,null,{"$f":"H27","v":0},null,null,{"$f":"K27","v":0},null,null,{"$f":"N27","v":0}]
[4,0,null,null,0,null,null,0,null,null,0,null,null,0]
[null,0,null,null,0,null,null,0,null,null,0,null,null,0]
[null,0,null,null,0,null,null,0,null,null,0,null,null,0]
[null,0,null,null,0,null,null,0,null,null,{"$f":"K31","v":0},null,null,0]
[null,0,null,null,0,null,null,0,null,null,0,null,null,0]
[]
[]
[null,null,{"$f":"'1-2a'!$C$45","v":0},null,null,{"$f":"'1-2a'!$F$45","v":0},null,null,{"$f":"'1-2a'!$I$45","v":0},null,null,{"$f":"'1-2a'!$L$45","v":0},null,null,{"$f":"'1-2a'!$O$45","v":0}]
[{"$f":"IF(A36=52,1,A36+1)","v":36},{"$f":"N36+3","v":"2020-08-31"},null,null,{"$f":"B46+1","v":"2020-09-01"},null,null,{"$f":"E46+1","v":"2020-09-02"},null,null,{"$f":"H46+1","v":"2020-09-03"},null,null,{"$f":"K46+1","v":"2020-09-04"}]
[null,{"$f":"B37","v":0},null,null,{"$f":"E37","v":0},null,null,{"$f":"H37","v":0},null,null,{"$f":"K37","v":0},null,null,{"$f":"N37","v":0}]
[5,0,null,null,0,null,null,0,null,null,0,null,null,0]
[null,0,null,null,0,null,null,0,null,null,0,null,null,0]
[null,0,null,null,0,null,null,0,null,null,0,null,null,0]
[null,0,null,null,0,null,null,0,null,null,{"$f":"K41","v":0},null,null,0]
[null,0,null,null,0,null,null,0,null,null,0,null,null,0]
[]
[]
[null,null,{"$f":"'1-2a'!$C$55","v":0},null,null,{"$f":"'1-2a'!$F$55","v":0},null,null,{"$f":"'1-2a'!$I$55","v":0},null,null,{"$f":"'1-2a'!$L$55","v":0},null,null,{"$f":"'1-2a'!O55","v":0}]
[{"$f":"IF(A46=52,1,A46+1)","v":37},{"$f":"N46+3","v":"2020-09-07"},null,null,{"$f":"B56+1","v":"2020-09-08"},null,null,{"$f":"E56+1","v":"2020-09-09"},null,null,{"$f":"H56+1","v":"2020-09-10"},null,null,{"$f":"K56+1","v":"2020-09-11"}]
[null,{"$f":"B47","v":0},null,null,{"$f":"E47","v":0},null,null,{"$f":"H47","v":0},null,null,{"$f":"K47","v":0},null,null,{"$f":"N47","v":0}]
[6,0,null,null,0,null,null,0,null,null,0,null,null,0]
[null,0,null,null,0,null,null,0,null,null,0,null,null,0]
[null,0,null,null,0,null,null,0,null,null,0,null,null,0]
[null,0,null,null,0,null,null,0,null,null,{"$f":"K51","v":0},null,null,0]
[null,0,null,null,0,null,null,0,null,null,0,null,null,0]
[]
[]
[null,null,{"$f":"'1-2a'!$C$65","v":0},null,null,{"$f":"'1-2a'!$F$65","v":0},null,null,{"$f":"'1-2a'!$I$65","v":0},null,null,{"$f":"'1-2a'!$L$65","v":0},null,null,{"$f":"'1-2a'!$O$65","v":0}]
[{"$f":"IF(A56=52,1,A56+1)","v":38},{"$f":"N56+3","v":"2020-09-14"},null,null,{"$f":"B66+1","v":"2020-09-15"},null,null,{"$f":"E66+1","v":"2020-09-16"},null,null,{"$f":"H66+1","v":"2020-09-17"},null,null,{"$f":"K66+1","v":"2020-09-18"}]
[null,{"$f":"B57","v":0},null,null,{"$f":"E57","v":0},null,null,{"$f":"H57","v":0},null,null,{"$f":"K57","v":0},null,null,{"$f":"N57","v":0}]
[7,0,null,null,0,null,null,0,null,null,0,null,null,0]
[null,0,null,null,0,null,null,0,null,null,0,null,null,0]
[null,0,null,null,0,null,null,0,null,null,0,null,null,0]
[null,0,null,null,0,null,null,0,null,null,{"$f":"K61","v":0},null,null,0]
[null,0,null,null,0,null,null,0,null,null,0,null,null,0]
[]
[]
[null,null,{"$f":"'1-2a'!$C$75","v":0},null,null,{"$f":"'1-2a'!$F$75","v":0},null,null,{"$f":"'1-2a'!$I$75","v":0},null,null,{"$f":"'1-2a'!$L$75","v":0},null,null,{"$f":"'1-2a'!$O$75","v":0}]
[{"$f":"IF(A66=52,1,A66+1)","v":39},{"$f":"N66+3","v":"2020-09-21"},null,null,{"$f":"B76+1","v":"2020-09-22"},null,null,{"$f":"E76+1","v":"2020-09-23"},null,null,{"$f":"H76+1","v":"2020-09-24"},null,null,{"$f":"K76+1","v":"2020-09-25"}]
[null,{"$f":"B67","v":0},null,null,{"$f":"E67","v":0},null,null,{"$f":"H67","v":0},null,null,{"$f":"K67","v":0},null,null,{"$f":"N67","v":0}]
[8,0,null,null,0,null,null,0,null,null,0,null,null,0]
[null,0,null,null,0,null,null,0,null,null,0,null,null,0]
[null,0,null,null,0,null,null,0,null,null,0,null,null,0]
[null,0,null,null,0,null,null,0,null,null,{"$f":"K71","v":0},null,null,0]
[null,0,null,null,0,null,null,0,null,null,0,null,null,0]
[]
[]
[null,null,{"$f":"'1-2a'!$C$85","v":0},null,null,{"$f":"'1-2a'!$F$85","v":0},null,null,{"$f":"'1-2a'!$I$85","v":0},null,null,{"$f":"'1-2a'!$L$85","v":0},null,null,{"$f":"'1-2a'!$O$85","v":0}]
[{"$f":"IF(A76=52,1,A76+1)","v":40},{"$f":"N76+3","v":"2020-09-28"},null,null,{"$f":"B86+1","v":"2020-09-29"},null,null,{"$f":"E86+1","v":"2020-09-30"},null,null,{"$f":"H86+1","v":"2020-10-01"},null,null,{"$f":"K86+1","v":"2020-10-02"}]
[null,{"$f":"B77","v":0},null,null,{"$f":"E77","v":0},null,null,{"$f":"H77","v":0},null,null,{"$f":"K77","v":0},null,null,{"$f":"N77","v":0}]
[9,0,null,null,0,null,null,0,null,null,0,null,null,0]
[null,0,null,null,0,null,null,0,null,null,0,null,null,0]
[null,0,null,null,0,null,null,0,null,null,0,null,null,0]
[null,0,null,null,0,null,null,0,null,null,0,null,null,0]
[null,0,null,null,0,null,null,0,null,null,0,null,null,0]
[]
[]
[null,null,{"$f":"'1-2a'!$C$95","v":0},null,null,{"$f":"'1-2a'!$F$95","v":0},null,null,{"$f":"'1-2a'!$I$95","v":0},null,null,{"$f":"'1-2a'!$L$95","v":0},null,null,{"$f":"'1-2a'!$O$95","v":0}]
[{"$f":"IF(A86=52,1,A86+1)","v":41},{"$f":"N86+3","v":"2020-10-05"},null,null,{"$f":"B96+1","v":"2020-10-06"},null,null,{"$f":"E96+1","v":"2020-10-07"},null,null,{"$f":"H96+1","v":"2020-10-08"},null,null,{"$f":"K96+1","v":"2020-10-09"}]
[null,{"$f":"B87","v":0},null,null,{"$f":"E87","v":0},null,null,{"$f":"H87","v":0},null,null,{"$f":"K87","v":0},null,null,{"$f":"N87","v":0}]
[10,0,null,null,0,null,null,0,null,null,0,null,null,0]
[null,0,null,null,0,null,null,0,null,null,0,null,null,0]
[null,0,null,null,0,null,null,0,null,null,0,null,null,0]
[null,0,null,null,0,null,null,0,null,null,{"$f":"K91","v":0},null,null,0]
[null,0,null,null,0,null,null,0,null,null,0,null,null,0]
[]
[]
[null,null,{"$f":"'1-2a'!$C$105","v":0},null,null,{"$f":"'1-2a'!$F$105","v":0},null,null,{"$f":"'1-2a'!$I$105","v":0},null,null,{"$f":"'1-2a'!$L$105","v":0},null,null,{"$f":"'1-2a'!$O$105","v":0}]
[{"$f":"IF(A96=52,1,A96+1)","v":42},{"$f":"N96+3","v":"2020-10-12"},null,null,{"$f":"B106+1","v":"2020-10-13"},null,null,{"$f":"E106+1","v":"2020-10-14"},null,null,{"$f":"H106+1","v":"2020-10-15"},null,null,{"$f":"K106+1","v":"2020-10-16"}]
[null,{"$f":"B97","v":0},null,null,{"$f":"E97","v":0},null,null,{"$f":"H97","v":0},null,null,{"$f":"K97","v":0},null,null,{"$f":"N97","v":0}]
[11,0,null,null,0,null,null,0,null,null,0,null,null,0]
[null,0,null,null,0,null,null,0,null,null,0,null,null,0]
[null,0,null,null,0,null,null,0,null,null,0,null,null,0]
[null,0,null,null,0,null,null,0,null,null,{"$f":"K101","v":0},null,null,0]
[null,0,null,null,0,null,null,0,null,null,0,null,null,0]
[]
[]
[null,null,{"$f":"'1-2a'!$C$115","v":0},null,null,{"$f":"'1-2a'!$F$115","v":0},null,null,{"$f":"'1-2a'!$I$115","v":0},null,null,{"$f":"'1-2a'!$L$115","v":0},null,null,{"$f":"'1-2a'!$O$115","v":0}]
[{"$f":"IF(A106=52,1,A106+1)","v":43},{"$f":"N106+3","v":"2020-10-19"},null,null,{"$f":"B116+1","v":"2020-10-20"},null,null,{"$f":"E116+1","v":"2020-10-21"},null,null,{"$f":"H116+1","v":"2020-10-22"},null,null,{"$f":"K116+1","v":"2020-10-23"}]
[null,{"$f":"B107","v":0},null,null,{"$f":"E107","v":0},null,null,{"$f":"H107","v":0},null,null,{"$f":"K107","v":0},null,null,{"$f":"N107","v":0}]
[12,0,null,null,0,null,null,0,null,null,0,null,null,0]
[null,0,null,null,0,null,null,0,null,null,0,null,null,0]
[null,0,null,null,0,null,null,0,null,null,0,null,null,0]
[null,0,null,null,0,null,null,0,null,null,{"$f":"K111","v":0},null,null,0]
[null,0,null,null,0,null,null,0,null,null,0,null,null,0]
[]
[]
[null,null,{"$f":"'1-2a'!$C$125","v":0},null,null,{"$f":"'1-2a'!$F$125","v":0},null,null,{"$f":"'1-2a'!$I$125","v":0},null,null,{"$f":"'1-2a'!$L$125","v":0},null,null,{"$f":"'1-2a'!$O$125","v":0}]
[{"$f":"IF(A116=52,1,A116+1)","v":44},{"$f":"N116+3","v":"2020-10-26"},null,null,{"$f":"B126+1","v":"2020-10-27"},null,null,{"$f":"E126+1","v":"2020-10-28"},null,null,{"$f":"H126+1","v":"2020-10-29"},null,null,{"$f":"K126+1","v":"2020-10-30"}]
[null,{"$f":"B117","v":0},null,null,{"$f":"E117","v":0},null,null,{"$f":"H117","v":0},null,null,{"$f":"K117","v":0},null,null,{"$f":"N117","v":0}]
[13,0,null,null,0,null,null,0,null,null,0,null,null,0]
[null,0,null,null,0,null,null,0,null,null,0,null,null,0]
[null,0,null,null,0,null,null,0,null,null,0,null,null,0]
[null,0,null,null,0,null,null,0,null,null,{"$f":"K121","v":0},null,null,0]
[null,0,null,null,0,null,null,0,null,null,0,null,null,0]
[]
[]
[null,null,{"$f":"'1-2a'!$C$135","v":0},null,null,{"$f":"'1-2a'!$F$135","v":0},null,null,{"$f":"'1-2a'!$I$135","v":0},null,null,{"$f":"'1-2a'!$L$135","v":0},null,null,{"$f":"'1-2a'!$O$135","v":0}]
[{"$f":"IF(A126=52,1,A126+1)","v":45},{"$f":"N126+3","v":"2020-11-02"},null,null,{"$f":"B136+1","v":"2020-11-03"},null,null,{"$f":"E136+1","v":"2020-11-04"},null,null,{"$f":"H136+1","v":"2020-11-05"},null,null,{"$f":"K136+1","v":"2020-11-06"}]
[null,{"$f":"B127","v":0},null,null,{"$f":"E127","v":0},null,null,{"$f":"H127","v":0},null,null,{"$f":"K127","v":0},null,null,{"$f":"N127","v":0}]
[14,0,null,null,0,null,null,0,null,null,0,null,null,0]
[null,0,null,null,0,null,null,0,null,null,0,null,null,0]
[null,0,null,null,0,null,null,0,null,null,0,null,null,0]
[null,0,null,null,0,null,null,0,null,null,{"$f":"K131","v":0},null,null,0]
[null,0,null,null,0,null,null,0,null,null,0,null,null,0]
[]
[]
[null,null,{"$f":"'1-2a'!$C$145","v":0},null,null,{"$f":"'1-2a'!$F$145","v":0},null,null,{"$f":"'1-2a'!$I$145","v":0},null,null,{"$f":"'1-2a'!$L$145","v":0},null,null,{"$f":"'1-2a'!$O$145","v":0}]
[{"$f":"IF(A136=52,1,A136+1)","v":46},{"$f":"N136+3","v":"2020-11-09"},null,null,{"$f":"B146+1","v":"2020-11-10"},null,null,{"$f":"E146+1","v":"2020-11-11"},null,null,{"$f":"H146+1","v":"2020-11-12"},null,null,{"$f":"K146+1","v":"2020-11-13"}]
[null,{"$f":"B137","v":0},null,null,{"$f":"E137","v":0},null,null,{"$f":"H137","v":0},null,null,{"$f":"K137","v":0},null,null,{"$f":"N137","v":0}]
[15,0,null,null,0,null,null,0,null,null,0,null,null,0]
[null,0,null,null,0,null,null,0,null,null,0,null,null,0]
[null,0,null,null,0,null,null,0,null,null,0,null,null,0]
[null,0,null,null,0,null,null,0,null,null,{"$f":"K141","v":0},null,null,0]
[null,0,null,null,0,null,null,0,null,null,0,null,null,0]
[]
[]
[null,null,{"$f":"'1-2a'!$C$155","v":0},null,null,{"$f":"'1-2a'!$F$155","v":0},null,null,{"$f":"'1-2a'!$I$155","v":0},null,null,{"$f":"'1-2a'!$L$155","v":0},null,null,{"$f":"'1-2a'!$O$155","v":0}]
[{"$f":"IF(A146=52,1,A146+1)","v":47},{"$f":"N146+3","v":"2020-11-16"},null,null,{"$f":"B156+1","v":"2020-11-17"},null,null,{"$f":"E156+1","v":"2020-11-18"},null,null,{"$f":"H156+1","v":"2020-11-19"},null,null,{"$f":"K156+1","v":"2020-11-20"}]
[null,{"$f":"B147","v":0},null,null,{"$f":"E147","v":0},null,null,{"$f":"H147","v":0},null,null,{"$f":"K147","v":0},null,null,{"$f":"N147","v":0}]
[16,0,null,null,0,null,null,0,null,null,0,null,null,0]
[null,0,null,null,0,null,null,0,null,null,0,null,null,0]
[null,0,null,null,0,null,null,0,null,null,0,null,null,0]
[null,0,null,null,0,null,null,0,null,null,{"$f":"K151","v":0},null,null,0]
[null,0,null,null,0,null,null,0,null,null,0,null,null,0]
[]
[]
[null,null,{"$f":"'1-2a'!$C$165","v":0},null,null,{"$f":"'1-2a'!$F$165","v":0},null,null,{"$f":"'1-2a'!$I$165","v":0},null,null,{"$f":"'1-2a'!$L$165","v":0},null,null,{"$f":"'1-2a'!$O$165","v":0}]
[{"$f":"IF(A156=52,1,A156+1)","v":48},{"$f":"N156+3","v":"2020-11-23"},null,null,{"$f":"B166+1","v":"2020-11-24"},null,null,{"$f":"E166+1","v":"2020-11-25"},null,null,{"$f":"H166+1","v":"2020-11-26"},null,null,{"$f":"K166+1","v":"2020-11-27"}]
[null,{"$f":"B157","v":0},null,null,{"$f":"E157","v":0},null,null,{"$f":"H157","v":0},null,null,{"$f":"K157","v":0},null,null,{"$f":"N157","v":0}]
[17,0,null,null,0,null,null,0,null,null,0,null,null,0]
[null,0,null,null,0,null,null,0,null,null,0,null,null,0]
[null,0,null,null,0,null,null,0,null,null,0,null,null,0]
[null,0,null,null,0,null,null,0,null,null,0,null,null,0]
[null,0,null,null,0,null,null,0,null,null,0,null,null,0]
[]
[]
[null,null,{"$f":"'1-2a'!$C$175","v":0},null,null,{"$f":"'1-2a'!$F$175","v":0},null,null,{"$f":"'1-2a'!$I$175","v":0},null,null,{"$f":"'1-2a'!$L$175","v":0},null,null,{"$f":"'1-2a'!$O$175","v":0}]
[{"$f":"IF(A166=52,1,A166+1)","v":49},{"$f":"N166+3","v":"2020-11-30"},null,null,{"$f":"B176+1","v":"2020-12-01"},null,null,{"$f":"E176+1","v":"2020-12-02"},null,null,{"$f":"H176+1","v":"2020-12-03"},null,null,{"$f":"K176+1","v":"2020-12-04"}]
[null,{"$f":"B167","v":0},null,null,{"$f":"E167","v":0},null,null,{"$f":"H167","v":0},null,null,{"$f":"K167","v":0},null,null,{"$f":"N167","v":0}]
[18,0,null,null,0,null,null,0,null,null,0,null,null,0]
[null,0,null,null,0,null,null,0,null,null,0,null,null,0]
[null,0,null,null,0,null,null,0,null,null,0,null,null,0]
[null,0,null,null,0,null,null,0,null,null,{"$f":"K171","v":0},null,null,0]
[null,0,null,null,0,null,null,0,null,null,0,null,null,0]
[]
[]
[null,null,{"$f":"'1-2a'!$C$185","v":0},null,null,{"$f":"'1-2a'!$F$185","v":0},null,null,{"$f":"'1-2a'!$I$185","v":0},null,null,{"$f":"'1-2a'!$L$185","v":0},null,null,{"$f":"'1-2a'!$O$185","v":0}]
[{"$f":"IF(A176=52,1,A176+1)","v":50},{"$f":"N176+3","v":"2020-12-07"},null,null,{"$f":"B186+1","v":"2020-12-08"},null,null,{"$f":"E186+1","v":"2020-12-09"},null,null,{"$f":"H186+1","v":"2020-12-10"},null,null,{"$f":"K186+1","v":"2020-12-11"}]
[null,{"$f":"B177","v":0},null,null,{"$f":"E177","v":0},null,null,{"$f":"H177","v":0},null,null,{"$f":"K177","v":0},null,null,{"$f":"N177","v":0}]
[19,0,null,null,0,null,null,0,null,null,0,null,null,0]
[null,0,null,null,0,null,null,0,null,null,0,null,null,0]
[null,0,null,null,0,null,null,0,null,null,0,null,null,0]
[null,0,null,null,0,null,null,0,null,null,{"$f":"K181","v":0},null,null,0]
[null,0,null,null,0,null,null,0,null,null,0,null,null,0]
[]
[]
[null,null,{"$f":"'1-2a'!$C$195","v":0},null,null,{"$f":"'1-2a'!$F$195","v":0},null,null,{"$f":"'1-2a'!$I$195","v":0},null,null,{"$f":"'1-2a'!$L$195","v":0},null,null,{"$f":"'1-2a'!$O$195","v":0}]
[{"$f":"IF(A186=52,1,A186+1)","v":51},{"$f":"N186+3","v":"2020-12-14"},null,null,{"$f":"B196+1","v":"2020-12-15"},null,null,{"$f":"E196+1","v":"2020-12-16"},null,null,{"$f":"H196+1","v":"2020-12-17"},null,null,{"$f":"K196+1","v":"2020-12-18"}]
[null,{"$f":"B187","v":0},null,null,{"$f":"E187","v":0},null,null,{"$f":"H187","v":0},null,null,{"$f":"K187","v":0},null,null,{"$f":"N187","v":0}]
[20,0,null,null,0,null,null,0,null,null,0,null,null,0]
[null,0,null,null,0,null,null,0,null,null,0,null,null,0]
[null,0,null,null,0,null,null,0,null,null,0,null,null,0]
[null,0,null,null,0,null,null,0,null,null,{"$f":"K191","v":0},null,null,0]
[null,0,null,null,0,null,null,0,null,null,0,null,null,0]
[]
[]
[null,null,{"$f":"'1-2a'!$C$205","v":0},null,null,{"$f":"'1-2a'!$F$205","v":0},null,null,{"$f":"'1-2a'!$I$205","v":0},null,null,{"$f":"'1-2a'!$L$205","v":0},null,null,{"$f":"'1-2a'!$O$205","v":0}]
[{"$f":"IF(A196=52,1,A196+1)","v":52},{"$f":"N196+3","v":"2020-12-21"},null,null,{"$f":"B206+1","v":"2020-12-22"},null,null,{"$f":"E206+1","v":"2020-12-23"},null,null,{"$f":"H206+1","v":"2020-12-24"},null,null,{"$f":"K206+1","v":"2020-12-25"}]
[null,{"$f":"B197","v":0},null,null,{"$f":"E197","v":0},null,null,{"$f":"H197","v":0},null,null,{"$f":"K197","v":0},null,null,{"$f":"N197","v":0}]
[21,0,null,null,0,null,null,0,null,null,0,null,null,0]
[null,0,null,null,0,null,null,0,null,null,0,null,null,0]
[null,0,null,null,0,null,null,0,null,null,0,null,null,0]
[null,0,null,null,0,null,null,0,null,null,{"$f":"K201","v":0},null,null,0]
[null,0,null,null,0,null,null,0,null,null,0,null,null,0]
[]
[]
[null,null,{"$f":"'1-2a'!$C$215","v":0},null,null,{"$f":"'1-2a'!$F$215","v":0},null,null,{"$f":"'1-2a'!$I$215","v":0},null,null,{"$f":"'1-2a'!$L$215","v":0},null,null,{"$f":"'1-2a'!$O$215","v":0}]
[{"$f":"IF(A206=52,1,A206+1)","v":1},{"$f":"N206+3","v":"2020-12-28"},null,null,{"$f":"B216+1","v":"2020-12-29"},null,null,{"$f":"E216+1","v":"2020-12-30"},null,null,{"$f":"H216+1","v":"2020-12-31"},null,null,{"$f":"K216+1","v":"2021-01-01"}]
[null,{"$f":"B207","v":0},null,null,{"$f":"E207","v":0},null,null,{"$f":"H207","v":0},null,null,{"$f":"K207","v":0},null,null,{"$f":"N207","v":0}]
[22,0,null,null,0,null,null,0,null,null,0,null,null,0]
[null,0,null,null,0,null,null,0,null,null,0,null,null,0]
[null,0,null,null,0,null,null,0,null,null,0,null,null,0]
[null,0,null,null,0,null,null,0,null,null,{"$f":"K211","v":0},null,null,0]
[null,0,null,null,0,null,null,0,null,null,0,null,null,0]
[]
[]
[null,null,{"$f":"'1-2a'!$C$225","v":0},null,null,{"$f":"'1-2a'!$F$225","v":0},null,null,{"$f":"'1-2a'!$I$225","v":0},null,null,{"$f":"'1-2a'!$L$225","v":0},null,null,{"$f":"'1-2a'!$O$225","v":0}]
[{"$f":"IF(A216=52,1,A216+1)","v":2},{"$f":"N216+3","v":"2021-01-04"},null,null,{"$f":"B226+1","v":"2021-01-05"},null,null,{"$f":"E226+1","v":"2021-01-06"},null,null,{"$f":"H226+1","v":"2021-01-07"},null,null,{"$f":"K226+1","v":"2021-01-08"}]
[null,{"$f":"B217","v":0},null,null,{"$f":"E217","v":0},null,null,{"$f":"H217","v":0},null,null,{"$f":"K217","v":0},null,null,{"$f":"N217","v":0}]
[23,0,null,null,0,null,null,0,null,null,0,null,null,0]
[null,0,null,null,0,null,null,0,null,null,0,null,null,0]
[null,0,null,null,0,null,null,0,null,null,0,null,null,0]
[null,0,null,null,0,null,null,0,null,null,{"$f":"K221","v":0},null,null,0]
[null,0,null,null,0,null,null,0,null,null,0,null,null,0]
[]
[]
[null,null,{"$f":"'1-2a'!$C$235","v":0},null,null,{"$f":"'1-2a'!$F$235","v":0},null,null,{"$f":"'1-2a'!$I$235","v":0},null,null,{"$f":"'1-2a'!$L$235","v":0},null,null,{"$f":"'1-2a'!$O$235","v":0}]
[{"$f":"IF(A226=52,1,A226+1)","v":3},{"$f":"N226+3","v":"2021-01-11"},null,null,{"$f":"B236+1","v":"2021-01-12"},null,null,{"$f":"E236+1","v":"2021-01-13"},null,null,{"$f":"H236+1","v":"2021-01-14"},null,null,{"$f":"K236+1","v":"2021-01-15"}]
[null,{"$f":"B227","v":0},null,null,{"$f":"E227","v":0},null,null,{"$f":"H227","v":0},null,null,{"$f":"K227","v":0},null,null,{"$f":"N227","v":0}]
[24,0,null,null,0,null,null,0,null,null,0,null,null,0]
[null,0,null,null,0,null,null,0,null,null,0,null,null,0]
[null,0,null,null,0,null,null,0,null,null,0,null,null,0]
[null,0,null,null,0,null,null,0,null,null,{"$f":"K231","v":0},null,null,0]
[null,0,null,null,0,null,null,0,null,null,0,null,null,0]
[]
[]
[null,null,{"$f":"'1-2a'!$C$245","v":0},null,null,{"$f":"'1-2a'!$F$245","v":0},null,null,{"$f":"'1-2a'!$I$245","v":0},null,null,{"$f":"'1-2a'!$L$245","v":0},null,null,{"$f":"'1-2a'!$O$245","v":0}]
[{"$f":"IF(A236=52,1,A236+1)","v":4},{"$f":"N236+3","v":"2021-01-18"},null,null,{"$f":"B246+1","v":"2021-01-19"},null,null,{"$f":"E246+1","v":"2021-01-20"},null,null,{"$f":"H246+1","v":"2021-01-21"},null,null,{"$f":"K246+1","v":"2021-01-22"}]
[null,{"$f":"B237","v":0},null,null,{"$f":"E237","v":0},null,null,{"$f":"H237","v":0},null,null,{"$f":"K237","v":0},null,null,{"$f":"N237","v":0}]
[25,0,null,null,0,null,null,0,null,null,0,null,null,0]
[null,0,null,null,0,null,null,0,null,null,0,null,null,0]
[null,0,null,null,0,null,null,0,null,null,0,null,null,0]
[null,0,null,null,0,null,null,0,null,null,0,null,null,0]
[null,0,null,null,0,null,null,0,null,null,0,null,null,0]
[]
[]
[null,null,{"$f":"'1-2a'!$C$255","v":0},null,null,{"$f":"'1-2a'!$F$255","v":0},null,null,{"$f":"'1-2a'!$I$255","v":0},null,null,{"$f":"'1-2a'!$L$255","v":0},null,null,{"$f":"'1-2a'!$O$255","v":0}]
[{"$f":"IF(A246=52,1,A246+1)","v":5},{"$f":"N246+3","v":"2021-01-25"},null,null,{"$f":"B256+1","v":"2021-01-26"},null,null,{"$f":"E256+1","v":"2021-01-27"},null,null,{"$f":"H256+1","v":"2021-01-28"},null,null,{"$f":"K256+1","v":"2021-01-29"}]
[null,{"$f":"B247","v":0},null,null,{"$f":"E247","v":0},null,null,{"$f":"H247","v":0},null,null,{"$f":"K247","v":0},null,null,{"$f":"N247","v":0}]
[26,0,null,null,0,null,null,0,null,null,0,null,null,0]
[null,0,null,null,0,null,null,0,null,null,0,null,null,0]
[null,0,null,null,0,null,null,0,null,null,0,null,null,0]
[null,0,null,null,0,null,null,0,null,null,{"$f":"K251","v":0},null,null,0]
[null,0,null,null,0,null,null,0,null,null,0,null,null,0]
[]
[]
[null,null,{"$f":"'1-2a'!$C$265","v":0},null,null,{"$f":"'1-2a'!$F$265","v":0},null,null,{"$f":"'1-2a'!$I$265","v":0},null,null,{"$f":"'1-2a'!$L$265","v":0},null,null,{"$f":"'1-2a'!$O$265","v":0}]
[{"$f":"IF(A256=52,1,A256+1)","v":6},{"$f":"N256+3","v":"2021-02-01"},null,null,{"$f":"B266+1","v":"2021-02-02"},null,null,{"$f":"E266+1","v":"2021-02-03"},null,null,{"$f":"H266+1","v":"2021-02-04"},null,null,{"$f":"K266+1","v":"2021-02-05"}]
[null,{"$f":"B257","v":0},null,null,{"$f":"E257","v":0},null,null,{"$f":"H257","v":0},null,null,{"$f":"K257","v":0},null,null,{"$f":"N257","v":0}]
[27,0,null,null,0,null,null,0,null,null,0,null,null,0]
[null,0,null,null,0,null,null,0,null,null,0,null,null,0]
[null,0,null,null,0,null,null,0,null,null,0,null,null,0]
[null,0,null,null,0,null,null,0,null,null,{"$f":"K261","v":0},null,null,0]
[null,0,null,null,0,null,null,0,null,null,0,null,null,0]
[]
[]
[null,null,{"$f":"'1-2a'!$C$275","v":0},null,null,{"$f":"'1-2a'!$F$275","v":0},null,null,{"$f":"'1-2a'!$I$275","v":0},null,null,{"$f":"'1-2a'!$L$275","v":0},null,null,{"$f":"'1-2a'!$O$275","v":0}]
[{"$f":"IF(A266=52,1,A266+1)","v":7},{"$f":"N266+3","v":"2021-02-08"},null,null,{"$f":"B276+1","v":"2021-02-09"},null,null,{"$f":"E276+1","v":"2021-02-10"},null,null,{"$f":"H276+1","v":"2021-02-11"},null,null,{"$f":"K276+1","v":"2021-02-12"}]
[null,{"$f":"B267","v":0},null,null,{"$f":"E267","v":0},null,null,{"$f":"H267","v":0},null,null,{"$f":"K267","v":0},null,null,{"$f":"N267","v":0}]
[28,0,null,null,0,null,null,0,null,null,0,null,null,0]
[null,0,null,null,0,null,null,0,null,null,0,null,null,0]
[null,0,null,null,0,null,null,0,null,null,0,null,null,0]
[null,0,null,null,0,null,null,0,null,null,{"$f":"K271","v":0},null,null,0]
[null,0,null,null,0,null,null,0,null,null,0,null,null,0]
[]
[]
[null,null,{"$f":"'1-2a'!$C$285","v":0},null,null,{"$f":"'1-2a'!$F$285","v":0},null,null,{"$f":"'1-2a'!$I$285","v":0},null,null,{"$f":"'1-2a'!$L$285","v":0},null,null,{"$f":"'1-2a'!$O$285","v":0}]
[{"$f":"IF(A276=52,1,A276+1)","v":8},{"$f":"N276+3","v":"2021-02-15"},null,null,{"$f":"B286+1","v":"2021-02-16"},null,null,{"$f":"E286+1","v":"2021-02-17"},null,null,{"$f":"H286+1","v":"2021-02-18"},null,null,{"$f":"K286+1","v":"2021-02-19"}]
[null,{"$f":"B277","v":0},null,null,{"$f":"E277","v":0},null,null,{"$f":"H277","v":0},null,null,{"$f":"K277","v":0},null,null,{"$f":"N277","v":0}]
[29,0,null,null,0,null,null,0,null,null,0,null,null,0]
[null,0,null,null,0,null,null,0,null,null,0,null,null,0]
[null,0,null,null,0,null,null,0,null,null,0,null,null,0]
[null,0,null,null,0,null,null,0,null,null,{"$f":"K281","v":0},null,null,0]
[null,0,null,null,0,null,null,0,null,null,0,null,null,0]
[]
[]
[null,null,{"$f":"'1-2a'!$C$295","v":0},null,null,{"$f":"'1-2a'!$F$295","v":0},null,null,{"$f":"'1-2a'!$I$295","v":0},null,null,{"$f":"'1-2a'!$L$295","v":0},null,null,{"$f":"'1-2a'!$O$295","v":0}]
[{"$f":"IF(A286=52,1,A286+1)","v":9},{"$f":"N286+3","v":"2021-02-22"},null,null,{"$f":"B296+1","v":"2021-02-23"},null,null,{"$f":"E296+1","v":"2021-02-24"},null,null,{"$f":"H296+1","v":"2021-02-25"},null,null,{"$f":"K296+1","v":"2021-02-26"}]
[null,{"$f":"B287","v":0},null,null,{"$f":"E287","v":0},null,null,{"$f":"H287","v":0},null,null,{"$f":"K287","v":0},null,null,{"$f":"N287","v":0}]
[30,0,null,null,0,null,null,0,null,null,0,null,null,0]
[null,0,null,null,0,null,null,0,null,null,0,null,null,0]
[null,0,null,null,0,null,null,0,null,null,0,null,null,0]
[null,0,null,null,0,null,null,0,null,null,{"$f":"K291","v":0},null,null,0]
[null,0,null,null,0,null,null,0,null,null,0,null,null,0]
[]
[]
[null,null,{"$f":"'1-2a'!$C$305","v":0},null,null,{"$f":"'1-2a'!$F$305","v":0},null,null,{"$f":"'1-2a'!$I$305","v":0},null,null,{"$f":"'1-2a'!$L$305","v":0},null,null,{"$f":"'1-2a'!$O$305","v":0}]
[{"$f":"IF(A296=52,1,A296+1)","v":10},{"$f":"N296+3","v":"2021-03-01"},null,null,{"$f":"B306+1","v":"2021-03-02"},null,null,{"$f":"E306+1","v":"2021-03-03"},null,null,{"$f":"H306+1","v":"2021-03-04"},null,null,{"$f":"K306+1","v":"2021-03-05"}]
[null,{"$f":"B297","v":0},null,null,{"$f":"E297","v":0},null,null,{"$f":"H297","v":0},null,null,{"$f":"K297","v":0},null,null,{"$f":"N297","v":0}]
[31,0,null,null,0,null,null,0,null,null,0,null,null,0]
[null,0,null,null,0,null,null,0,null,null,0,null,null,0]
[null,0,null,null,0,null,null,0,null,null,0,null,null,0]
[null,0,null,null,0,null,null,0,null,null,{"$f":"K301","v":0},null,null,0]
[null,0,null,null,0,null,null,0,null,null,0,null,null,0]
[]
[]
[null,null,{"$f":"'1-2a'!$C$315","v":0},null,null,{"$f":"'1-2a'!$F$315","v":0},null,null,{"$f":"'1-2a'!$I$315","v":0},null,null,{"$f":"'1-2a'!$L$315","v":0},null,null,{"$f":"'1-2a'!$O$315","v":0}]
[{"$f":"IF(A306=52,1,A306+1)","v":11},{"$f":"N306+3","v":"2021-03-08"},null,null,{"$f":"B316+1","v":"2021-03-09"},null,null,{"$f":"E316+1","v":"2021-03-10"},null,null,{"$f":"H316+1","v":"2021-03-11"},null,null,{"$f":"K316+1","v":"2021-03-12"}]
[null,{"$f":"B307","v":0},null,null,{"$f":"E307","v":0},null,null,{"$f":"H307","v":0},null,null,{"$f":"K307","v":0},null,null,{"$f":"N307","v":0}]
[32,0,null,null,0,null,null,0,null,null,0,null,null,0]
[null,0,null,null,0,null,null,0,null,null,0,null,null,0]
[null,0,null,null,0,null,null,0,null,null,0,null,null,0]
[null,0,null,null,0,null,null,0,null,null,{"$f":"K311","v":0},null,null,0]
[null,0,null,null,0,null,null,0,null,null,0,null,null,0]
[]
[]
[null,null,{"$f":"'1-2a'!$C$325","v":0},null,null,{"$f":"'1-2a'!$F$325","v":0},null,null,{"$f":"'1-2a'!$I$325","v":0},null,null,{"$f":"'1-2a'!$L$325","v":0},null,null,{"$f":"'1-2a'!$O$325","v":0}]
[{"$f":"IF(A316=52,1,A316+1)","v":12},{"$f":"N316+3","v":"2021-03-15"},null,null,{"$f":"B326+1","v":"2021-03-16"},null,null,{"$f":"E326+1","v":"2021-03-17"},null,null,{"$f":"H326+1","v":"2021-03-18"},null,null,{"$f":"K326+1","v":"2021-03-19"}]
[null,{"$f":"B317","v":0},null,null,{"$f":"E317","v":0},null,null,{"$f":"H317","v":0},null,null,{"$f":"K317","v":0},null,null,{"$f":"N317","v":0}]
[33,0,null,null,0,null,null,0,null,null,0,null,null,0]
[null,0,null,null,0,null,null,0,null,null,0,null,null,0]
[null,0,null,null,0,null,null,0,null,null,0,null,null,0]
[null,0,null,null,0,null,null,0,null,null,0,null,null,0]
[null,0,null,null,0,null,null,0,null,null,0,null,null,0]
[]
[]
[null,null,{"$f":"'1-2a'!$C$335","v":0},null,null,{"$f":"'1-2a'!$F$335","v":0},null,null,{"$f":"'1-2a'!$I$335","v":0},null,null,{"$f":"'1-2a'!$L$335","v":0},null,null,{"$f":"'1-2a'!$O$335","v":0}]
[{"$f":"IF(A326=52,1,A326+1)","v":13},{"$f":"N326+3","v":"2021-03-22"},null,null,{"$f":"B336+1","v":"2021-03-23"},null,null,{"$f":"E336+1","v":"2021-03-24"},null,null,{"$f":"H336+1","v":"2021-03-25"},null,null,{"$f":"K336+1","v":"2021-03-26"}]
[null,{"$f":"B327","v":0},null,null,{"$f":"E327","v":0},null,null,{"$f":"H327","v":0},null,null,{"$f":"K327","v":0},null,null,{"$f":"N327","v":0}]
[34,0,null,null,0,null,null,0,null,null,0,null,null,0]
[null,0,null,null,0,null,null,0,null,null,0,null,null,0]
[null,0,null,null,0,null,null,0,null,null,0,null,null,0]
[null,0,null,null,0,null,null,0,null,null,{"$f":"K331","v":0},null,null,0]
[null,0,null,null,0,null,null,0,null,null,0,null,null,0]
[]
[]
[null,null,{"$f":"'1-2a'!$C$345","v":0},null,null,{"$f":"'1-2a'!$F$345","v":0},null,null,{"$f":"'1-2a'!$I$345","v":0},null,null,{"$f":"'1-2a'!$L$345","v":0},null,null,{"$f":"'1-2a'!$O$345","v":0}]
[{"$f":"IF(A336=52,1,A336+1)","v":14},{"$f":"N336+3","v":"2021-03-29"},null,null,{"$f":"B346+1","v":"2021-03-30"},null,null,{"$f":"E346+1","v":"2021-03-31"},null,null,{"$f":"H346+1","v":"2021-04-01"},null,null,{"$f":"K346+1","v":"2021-04-02"}]
[null,{"$f":"B337","v":0},null,null,{"$f":"E337","v":0},null,null,{"$f":"H337","v":0},null,null,{"$f":"K337","v":0},null,null,{"$f":"N337","v":0}]
[35,0,null,null,0,null,null,0,null,null,0,null,null,0]
[null,0,null,null,0,null,null,0,null,null,0,null,null,0]
[null,0,null,null,0,null,null,0,null,null,0,null,null,0]
[null,0,null,null,0,null,null,0,null,null,{"$f":"K341","v":0},null,null,0]
[null,0,null,null,0,null,null,0,null,null,0,null,null,0]
[]
[]
[null,null,{"$f":"'1-2a'!$C$355","v":0},null,null,{"$f":"'1-2a'!$F$355","v":0},null,null,{"$f":"'1-2a'!$I$355","v":0},null,null,{"$f":"'1-2a'!$L$355","v":0},null,null,{"$f":"'1-2a'!$O$355","v":0}]
[{"$f":"IF(A346=52,1,A346+1)","v":15},{"$f":"N346+3","v":"2021-04-05"},null,null,{"$f":"B356+1","v":"2021-04-06"},null,null,{"$f":"E356+1","v":"2021-04-07"},null,null,{"$f":"H356+1","v":"2021-04-08"},null,null,{"$f":"K356+1","v":"2021-04-09"}]
[null,{"$f":"B347","v":0},null,null,{"$f":"E347","v":0},null,null,{"$f":"H347","v":0},null,null,{"$f":"K347","v":0},null,null,{"$f":"N347","v":0}]
[36,0,null,null,0,null,null,0,null,null,0,null,null,0]
[null,0,null,null,0,null,null,0,null,null,0,null,null,0]
[null,0,null,null,0,null,null,0,null,null,0,null,null,0]
[null,0,null,null,0,null,null,0,null,null,{"$f":"K351","v":0},null,null,0]
[null,0,null,null,0,null,null,0,null,null,0,null,null,0]
[]
[]
[null,null,{"$f":"'1-2a'!$C$365","v":0},null,null,{"$f":"'1-2a'!$F$365","v":0},null,null,{"$f":"'1-2a'!$I$365","v":0},null,null,{"$f":"'1-2a'!$L$365","v":0},null,null,{"$f":"'1-2a'!$O$365","v":0}]
[{"$f":"IF(A356=52,1,A356+1)","v":16},{"$f":"N356+3","v":"2021-04-12"},null,null,{"$f":"B366+1","v":"2021-04-13"},null,null,{"$f":"E366+1","v":"2021-04-14"},null,null,{"$f":"H366+1","v":"2021-04-15"},null,null,{"$f":"K366+1","v":"2021-04-16"}]
[null,{"$f":"B357","v":0},null,null,{"$f":"E357","v":0},null,null,{"$f":"H357","v":0},null,null,{"$f":"K357","v":0},null,null,{"$f":"N357","v":0}]
[37,0,null,null,0,null,null,0,null,null,0,null,null,0]
[null,0,null,null,0,null,null,0,null,null,0,null,null,0]
[null,0,null,null,0,null,null,0,null,null,0,null,null,0]
[null,0,null,null,0,null,null,0,null,null,{"$f":"K361","v":0},null,null,0]
[null,0,null,null,0,null,null,0,null,null,0,null,null,0]
[]
[]
[null,null,{"$f":"'1-2a'!$C$375","v":0},null,null,{"$f":"'1-2a'!$F$375","v":0},null,null,{"$f":"'1-2a'!$I$375","v":0},null,null,{"$f":"'1-2a'!$L$375","v":0},null,null,{"$f":"'1-2a'!$O$375","v":0}]
[{"$f":"IF(A366=52,1,A366+1)","v":17},{"$f":"N366+3","v":"2021-04-19"},null,null,{"$f":"B376+1","v":"2021-04-20"},null,null,{"$f":"E376+1","v":"2021-04-21"},null,null,{"$f":"H376+1","v":"2021-04-22"},null,null,{"$f":"K376+1","v":"2021-04-23"}]
[null,{"$f":"B367","v":0},null,null,{"$f":"E367","v":0},null,null,{"$f":"H367","v":0},null,null,{"$f":"K367","v":0},null,null,{"$f":"N367","v":0}]
[38,0,null,null,0,null,null,0,null,null,0,null,null,0]
[null,0,null,null,0,null,null,0,null,null,0,null,null,0]
[null,0,null,null,0,null,null,0,null,null,0,null,null,0]
[null,0,null,null,0,null,null,0,null,null,{"$f":"K371","v":0},null,null,0]
[null,0,null,null,0,null,null,0,null,null,0,null,null,0]
[]
[]
[null,null,{"$f":"'1-2a'!$C$385","v":0},null,null,{"$f":"'1-2a'!$F$385","v":0},null,null,{"$f":"'1-2a'!$I$385","v":0},null,null,{"$f":"'1-2a'!$L$385","v":0},null,null,{"$f":"'1-2a'!$O$385","v":0}]
[{"$f":"IF(A376=52,1,A376+1)","v":18},{"$f":"N376+3","v":"2021-04-26"},null,null,{"$f":"B386+1","v":"2021-04-27"},null,null,{"$f":"E386+1","v":"2021-04-28"},null,null,{"$f":"H386+1","v":"2021-04-29"},null,null,{"$f":"K386+1","v":"2021-04-30"}]
[null,{"$f":"B377","v":0},null,null,{"$f":"E377","v":0},null,null,{"$f":"H377","v":0},null,null,{"$f":"K377","v":0},null,null,{"$f":"N377","v":0}]
[39,0,null,null,0,null,null,0,null,null,0,null,null,0]
[null,0,null,null,0,null,null,0,null,null,0,null,null,0]
[null,0,null,null,0,null,null,0,null,null,0,null,null,0]
[null,0,null,null,0,null,null,0,null,null,{"$f":"K381","v":0},null,null,0]
[null,0,null,null,0,null,null,0,null,null,0,null,null,0]
[]
[]
[null,null,{"$f":"'1-2a'!$C$395","v":0},null,null,{"$f":"'1-2a'!$F$395","v":0},null,null,{"$f":"'1-2a'!$I$395","v":0},null,null,{"$f":"'1-2a'!$L$395","v":0},null,null,{"$f":"'1-2a'!$O$395","v":0}]
[{"$f":"IF(A386=52,1,A386+1)","v":19},{"$f":"N386+3","v":"2021-05-03"},null,null,{"$f":"B396+1","v":"2021-05-04"},null,null,{"$f":"E396+1","v":"2021-05-05"},null,null,{"$f":"H396+1","v":"2021-05-06"},null,null,{"$f":"K396+1","v":"2021-05-07"}]
[null,{"$f":"B387","v":0},null,null,{"$f":"E387","v":0},null,null,{"$f":"H387","v":0},null,null,{"$f":"K387","v":0},null,null,{"$f":"N387","v":0}]
[40,0,null,null,0,null,null,0,null,null,0,null,null,0]
[null,0,null,null,0,null,null,0,null,null,0,null,null,0]
[null,0,null,null,0,null,null,0,null,null,0,null,null,0]
[null,0,null,null,0,null,null,0,null,null,{"$f":"K391","v":0},null,null,0]
[null,0,null,null,0,null,null,0,null,null,0,null,null,0]
[]
[]
[null,null,{"$f":"'1-2a'!$C$405","v":0},null,null,{"$f":"'1-2a'!$F$405","v":0},null,null,{"$f":"'1-2a'!$I$405","v":0},null,null,{"$f":"'1-2a'!$L$405","v":0},null,null,{"$f":"'1-2a'!$O$405","v":0}]
[{"$f":"IF(A396=52,1,A396+1)","v":20},{"$f":"N396+3","v":"2021-05-10"},null,null,{"$f":"B406+1","v":"2021-05-11"},null,null,{"$f":"E406+1","v":"2021-05-12"},null,null,{"$f":"H406+1","v":"2021-05-13"},null,null,{"$f":"K406+1","v":"2021-05-14"}]
[null,{"$f":"B397","v":0},null,null,{"$f":"E397","v":0},null,null,{"$f":"H397","v":0},null,null,{"$f":"K397","v":0},null,null,{"$f":"N397","v":0}]
[41,0,null,null,0,null,null,0,null,null,0,null,null,0]
[null,0,null,null,0,null,null,0,null,null,0,null,null,0]
[null,0,null,null,0,null,null,0,null,null,0,null,null,0]
[null,0,null,null,0,null,null,0,null,null,0,null,null,0]
[null,0,null,null,0,null,null,0,null,null,0,null,null,0]
[]
[]
[null,null,{"$f":"'1-2a'!$C$415","v":0},null,null,{"$f":"'1-2a'!$F$415","v":0},null,null,{"$f":"'1-2a'!$I$415","v":0},null,null,{"$f":"'1-2a'!$L$415","v":0},null,null,{"$f":"'1-2a'!$O$415","v":0}]
[{"$f":"IF(A406=52,1,A406+1)","v":21},{"$f":"N406+3","v":"2021-05-17"},null,null,{"$f":"B416+1","v":"2021-05-18"},null,null,{"$f":"E416+1","v":"2021-05-19"},null,null,{"$f":"H416+1","v":"2021-05-20"},null,null,{"$f":"K416+1","v":"2021-05-21"}]
[null,{"$f":"B407","v":0},null,null,{"$f":"E407","v":0},null,null,{"$f":"H407","v":0},null,null,{"$f":"K407","v":0},null,null,{"$f":"N407","v":0}]
[42,0,null,null,0,null,null,0,null,null,0,null,null,0]
[null,0,null,null,0,null,null,0,null,null,0,null,null,0]
[null,0,null,null,0,null,null,0,null,null,0,null,null,0]
[null,0,null,null,0,null,null,0,null,null,{"$f":"K411","v":0},null,null,0]
[null,0,null,null,0,null,null,0,null,null,0,null,null,0]
[]
[]
[null,null,{"$f":"'1-2a'!$C$425","v":0},null,null,{"$f":"'1-2a'!$F$425","v":0},null,null,{"$f":"'1-2a'!$I$425","v":0},null,null,{"$f":"'1-2a'!$L$425","v":0},null,null,{"$f":"'1-2a'!$O$425","v":0}]
[{"$f":"IF(A416=52,1,A416+1)","v":22},{"$f":"N416+3","v":"2021-05-24"},null,null,{"$f":"B426+1","v":"2021-05-25"},null,null,{"$f":"E426+1","v":"2021-05-26"},null,null,{"$f":"H426+1","v":"2021-05-27"},null,null,{"$f":"K426+1","v":"2021-05-28"}]
[null,{"$f":"B417","v":0},null,null,{"$f":"E417","v":0},null,null,{"$f":"H417","v":0},null,null,{"$f":"K417","v":0},null,null,{"$f":"N417","v":0}]
[43,0,null,null,0,null,null,0,null,null,0,null,null,0]
[null,0,null,null,0,null,null,0,null,null,0,null,null,0]
[null,0,null,null,0,null,null,0,null,null,0,null,null,0]
[null,0,null,null,0,null,null,0,null,null,{"$f":"K421","v":0},null,null,0]
[null,0,null,null,0,null,null,0,null,null,0,null,null,0]
[]
[]
[null,null,{"$f":"'1-2a'!$C$435","v":0},null,null,{"$f":"'1-2a'!$F$435","v":0},null,null,{"$f":"'1-2a'!$I$435","v":0},null,null,{"$f":"'1-2a'!$L$435","v":0},null,null,{"$f":"'1-2a'!$O$435","v":0}]
[{"$f":"IF(A426=52,1,A426+1)","v":23},{"$f":"N426+3","v":"2021-05-31"},null,null,{"$f":"B436+1","v":"2021-06-01"},null,null,{"$f":"E436+1","v":"2021-06-02"},null,null,{"$f":"H436+1","v":"2021-06-03"},null,null,{"$f":"K436+1","v":"2021-06-04"}]
[null,{"$f":"B427","v":0},null,null,{"$f":"E427","v":0},null,null,{"$f":"H427","v":0},null,null,{"$f":"K427","v":0},null,null,{"$f":"N427","v":0}]
[44,0,null,null,0,null,null,0,null,null,0,null,null,0]
[null,0,null,null,0,null,null,0,null,null,0,null,null,0]
[null,0,null,null,0,null,null,0,null,null,0,null,null,0]
[null,0,null,null,0,null,null,0,null,null,{"$f":"K431","v":0},null,null,0]
[null,0,null,null,0,null,null,0,null,null,0,null,null,0]
[]
[]
[null,null,{"$f":"'1-2a'!$C$445","v":0},null,null,{"$f":"'1-2a'!$F$445","v":0},null,null,{"$f":"'1-2a'!$I$445","v":0},null,null,{"$f":"'1-2a'!$L$445","v":0},null,null,{"$f":"'1-2a'!$O$445","v":0}]
[{"$f":"IF(A436=52,1,A436+1)","v":24},{"$f":"N436+3","v":"2021-06-07"},null,null,{"$f":"B446+1","v":"2021-06-08"},null,null,{"$f":"E446+1","v":"2021-06-09"},null,null,{"$f":"H446+1","v":"2021-06-10"},null,null,{"$f":"K446+1","v":"2021-06-11"}]
[null,{"$f":"B437","v":0},null,null,{"$f":"E437","v":0},null,null,{"$f":"H437","v":0},null,null,{"$f":"K437","v":0},null,null,{"$f":"N437","v":0}]
[45,0,null,null,0,null,null,0,null,null,0,null,null,0]
[null,0,null,null,0,null,null,0,null,null,0,null,null,0]
[null,0,null,null,0,null,null,0,null,null,0,null,null,0]
[null,0,null,null,0,null,null,0,null,null,{"$f":"K441","v":0},null,null,0]
[null,0,null,null,0,null,null,0,null,null,0,null,null,0]
[]
[]
[null,null,{"$f":"'1-2a'!$C$455","v":0},null,null,{"$f":"'1-2a'!$F$455","v":0},null,null,{"$f":"'1-2a'!$I$455","v":0},null,null,{"$f":"'1-2a'!$L$455","v":0},null,null,{"$f":"'1-2a'!$O$455","v":0}]
[{"$f":"IF(A446=52,1,A446+1)","v":25},{"$f":"N446+3","v":"2021-06-14"},null,null,{"$f":"B456+1","v":"2021-06-15"},null,null,{"$f":"E456+1","v":"2021-06-16"},null,null,{"$f":"H456+1","v":"2021-06-17"},null,null,{"$f":"K456+1","v":"2021-06-18"}]
[null,{"$f":"B447","v":0},null,null,{"$f":"E447","v":0},null,null,{"$f":"H447","v":0},null,null,{"$f":"K447","v":0},null,null,{"$f":"N447","v":0}]
[46,0,null,null,0,null,null,0,null,null,0,null,null,0]
[null,0,null,null,0,null,null,0,null,null,0,null,null,0]
[null,0,null,null,0,null,null,0,null,null,0,null,null,0]
[null,0,null,null,0,null,null,0,null,null,{"$f":"K451","v":0},null,null,0]
[null,0,null,null,0,null,null,0,null,null,0,null,null,0]
[]
[]
[null,null,{"$f":"'1-2a'!$C$465","v":0},null,null,{"$f":"'1-2a'!$F$465","v":0},null,null,{"$f":"'1-2a'!$I$465","v":0},null,null,{"$f":"'1-2a'!$L$465","v":0},null,null,{"$f":"'1-2a'!$O$465","v":0}]
[{"$f":"IF(A456=52,1,A456+1)","v":26},{"$f":"N456+3","v":"2021-06-21"},null,null,{"$f":"B466+1","v":"2021-06-22"},null,null,{"$f":"E466+1","v":"2021-06-23"},null,null,{"$f":"H466+1","v":"2021-06-24"},null,null,{"$f":"K466+1","v":"2021-06-25"}]
[null,{"$f":"B457","v":0},null,null,{"$f":"E457","v":0},null,null,{"$f":"H457","v":0},null,null,{"$f":"K457","v":0},null,null,{"$f":"N457","v":0}]
[47,0,null,null,0,null,null,0,null,null,0,null,null,0]
[null,0,null,null,0,null,null,0,null,null,0,null,null,0]
[null,0,null,null,0,null,null,0,null,null,0,null,null,0]
[null,0,null,null,0,null,null,0,null,null,{"$f":"K461","v":0},null,null,0]
[null,0,null,null,0,null,null,0,null,null,0,null,null,0]
[]
[]
[null,null,{"$f":"'1-2a'!$C$475","v":0},null,null,{"$f":"'1-2a'!$F$475","v":0},null,null,{"$f":"'1-2a'!$I$475","v":0},null,null,{"$f":"'1-2a'!$L$475","v":0},null,null,{"$f":"'1-2a'!$O$475","v":0}]
[{"$f":"IF(A466=52,1,A466+1)","v":27},{"$f":"N466+3","v":"2021-06-28"},null,null,{"$f":"B476+1","v":"2021-06-29"},null,null,{"$f":"E476+1","v":"2021-06-30"},null,null,{"$f":"H476+1","v":"2021-07-01"},null,null,{"$f":"K476+1","v":"2021-07-02"}]
[null,{"$f":"B467","v":0},null,null,{"$f":"E467","v":0},null,null,{"$f":"H467","v":0},null,null,{"$f":"K467","v":0},null,null,{"$f":"N467","v":0}]
[48,0,null,null,0,null,null,0,null,null,0,null,null,0]
[null,0,null,null,0,null,null,0,null,null,0,null,null,0]
[null,0,null,null,0,null,null,0,null,null,0,null,null,0]
[null,0,null,null,0,null,null,0,null,null,{"$f":"K471","v":0},null,null,0]
[null,0,null,null,0,null,null,0,null,null,0,null,null,0]
[]
[]
[null,null,{"$f":"'1-2a'!$C$485","v":0},null,null,{"$f":"'1-2a'!$F$485","v":0},null,null,{"$f":"'1-2a'!$I$485","v":0},null,null,{"$f":"'1-2a'!$L$485","v":0},null,null,{"$f":"'1-2a'!$O$485","v":0}]
[{"$f":"IF(A476=52,1,A476+1)","v":28},{"$f":"N476+3","v":"2021-07-05"},null,null,{"$f":"B486+1","v":"2021-07-06"},null,null,{"$f":"E486+1","v":"2021-07-07"},null,null,{"$f":"H486+1","v":"2021-07-08"},null,null,{"$f":"K486+1","v":"2021-07-09"}]
[null,{"$f":"B477","v":0},null,null,{"$f":"E477","v":0},null,null,{"$f":"H477","v":0},null,null,{"$f":"K477","v":0},null,null,{"$f":"N477","v":0}]
[49,0,null,null,0,null,null,0,null,null,0,null,null,0]
[null,0,null,null,0,null,null,0,null,null,0,null,null,0]
[null,0,null,null,0,null,null,0,null,null,0,null,null,0]
[null,0,null,null,0,null,null,0,null,null,0,null,null,0]
[null,0,null,null,0,null,null,0,null,null,0,null,null,0]
[]
[]
[null,null,{"$f":"'1-2a'!$C$495","v":0},null,null,{"$f":"'1-2a'!$F$495","v":0},null,null,{"$f":"'1-2a'!$I$495","v":0},null,null,{"$f":"'1-2a'!$L$495","v":0},null,null,{"$f":"'1-2a'!$O$495","v":0}]
[{"$f":"IF(A486=52,1,A486+1)","v":29},{"$f":"N486+3","v":"2021-07-12"},null,null,{"$f":"B496+1","v":"2021-07-13"},null,null,{"$f":"E496+1","v":"2021-07-14"},null,null,{"$f":"H496+1","v":"2021-07-15"},null,null,{"$f":"K496+1","v":"2021-07-16"}]
[null,{"$f":"B487","v":0},null,null,{"$f":"E487","v":0},null,null,{"$f":"H487","v":0},null,null,{"$f":"K487","v":0},null,null,{"$f":"N487","v":0}]
[50,0,null,null,0,null,null,0,null,null,0]
[null,0,null,null,0,null,null,0,null,null,0,null,null,0]
[null,0,null,null,0,null,null,0,null,null,0,null,null,0]
[null,0,null,null,0,null,null,0,null,null,{"$f":"K491","v":0},null,null,0]
[null,0,null,null,0,null,null,0,null,null,0]

{"sheet":"7","index":7,"n_rows":502,"n_cols":15,"rows_kept":502,"cut":false,"hidden":false,"merged":[[5,1,5,3],[5,4,5,6],[5,7,5,9],[5,10,5,12],[5,13,5,15],[7,0,8,0],[1,1,2,7],[1,9,2,12],[1,13,2,15],[3,1,3,3],[3,4,3,6],[3,7,3,9],[3,10,3,12],[3,13,3,15],[12,1,13,3],[12,4,13,6],[12,7,13,9],[12,10,13,12],[12,13,13,15],[15,1,15,3],[15,4,15,6],[15,7,15,9],[15,10,15,12],[15,13,15,15],[25,1,25,3],[25,4,25,6],[25,7,25,9],[25,10,25,12],[25,13,25,15],[27,0,28,0],[17,0,18,0],[22,1,23,3],[22,4,23,6],[22,7,23,9],[22,10,23,12],[22,13,23,15],[32,1,33,3],[32,4,33,6],[32,7,33,9],[32,10,33,12],[32,13,33,15],[35,1,35,3],[35,4,35,6],[35,7,35,9],[35,10,35,12],[35,13,35,15],[45,1,45,3],[45,4,45,6],[45,7,45,9],[45,10,45,12],[45,13,45,15],[47,0,48,0],[37,0,38,0],[42,1,43,3],[42,4,43,6],[42,7,43,9],[42,10,43,12],[42,13,43,15],[52,1,53,3],[52,4,53,6],[52,7,53,9],[52,10,53,12],[52,13,53,15],[55,1,55,3],[55,4,55,6],[55,7,55,9],[55,10,55,12],[55,13,55,15],[65,1,65,3],[65,4,65,6],[65,7,65,9],[65,10,65,12],[65,13,65,15],[67,0,68,0],[57,0,58,0],[62,1,63,3],[62,4,63,6],[62,7,63,9],[62,10,63,12],[62,13,63,15],[72,1,73,3],[72,4,73,6],[72,7,73,9],[72,10,73,12],[72,13,73,15],[75,1,75,3],[75,4,75,6],[75,7,75,9],[75,10,75,12],[75,13,75,15],[85,1,85,3],[85,4,85,6],[85,7,85,9],[85,10,85,12],[85,13,85,15],[87,0,88,0],[77,0,78,0],[82,1,83,3],[82,4,83,6],[82,7,83,9],[82,10,83,12],[82,13,83,15],[92,1,93,3],[92,4,93,6],[92,7,93,9],[92,10,93,12],[92,13,93,15],[95,1,95,3],[95,4,95,6],[95,7,95,9],[95,10,95,12],[95,13,95,15],[105,1,105,3],[105,4,105,6],[105,7,105,9],[105,10,105,12],[105,13,105,15],[107,0,108,0],[97,0,98,0],[99,16,100,19],[102,1,103,3],[102,4,103,6],[102,7,103,9],[102,10,103,12],[102,13,103,15],[112,1,113,3],[112,4,113,6],[112,7,113,9],[112,10,113,12],[112,13,113,15],[115,1,115,3],[115,4,115,6],[115,7,115,9],[115,10,115,12],[115,13,115,15],[125,1,125,3],[125,4,125,6],[125,7,125,9],[125,10,125,12],[125,13,125,15],[127,0,128,0],[117,0,118,0],[122,1,123,3],[122,4,123,6],[122,7,123,9],[122,10,123,12],[122,13,123,15],[132,1,133,3],[132,4,133,6],[132,7,133,9],[132,10,133,12],[132,13,133,15],[135,1,135,3],[135,4,135,6],[135,7,135,9],[135,10,135,12],[135,13,135,15],[145,1,145,3],[145,4,145,6],[145,7,145,9],[145,10,145,12],[145,13,145,15],[147,0,148,0],[137,0,138,0],[142,1,143,3],[142,4,143,6],[142,7,143,9],[142,10,143,12],[142,13,143,15],[152,1,153,3],[152,4,153,6],[152,7,153,9],[152,10,153,12],[152,13,153,15],[155,1,155,3],[155,4,155,6],[155,7,155,9],[155,10,155,12],[155,13,155,15],[165,1,165,3],[165,4,165,6],[165,7,165,9],[165,10,165,12],[165,13,165,15],[167,0,168,0],[157,0,158,0],[162,1,163,3],[162,4,163,6],[162,7,163,9],[162,10,163,12],[162,13,163,15],[172,1,173,3],[172,4,173,6],[172,7,173,9],[172,10,173,12],[172,13,173,15],[175,1,175,3],[175,4,175,6],[175,7,175,9],[175,10,175,12],[175,13,175,15],[185,1,185,3],[185,4,185,6],[185,7,185,9],[185,10,185,12],[185,13,185,15],[187,0,188,0],[177,0,178,0],[179,16,180,19],[182,1,183,3],[182,4,183,6],[182,7,183,9],[182,10,183,12],[182,13,183,15],[192,1,193,3],[192,4,193,6],[192,7,193,9],[192,10,193,12],[192,13,193,15],[195,1,195,3],[195,4,195,6],[195,7,195,9],[195,10,195,12],[195,13,195,15],[205,1,205,3],[205,4,205,6],[205,7,205,9],[205,10,205,12],[205,13,205,15],[207,0,208,0],[197,0,198,0],[202,1,203,3],[202,4,203,6],[202,7,203,9],[202,10,203,12],[202,13,203,15],[212,1,213,3],[212,4,213,6],[212,7,213,9],[212,10,213,12],[212,13,213,15],[215,1,215,3],[215,4,215,6],[215,7,215,9],[215,10,215,12],[215,13,215,15],[225,1,225,3],[225,4,225,6],[225,7,225,9],[225,10,225,12],[225,13,225,15],[227,0,228,0],[217,0,218,0],[222,1,223,3],[222,4,223,6],[222,7,223,9],[222,10,223,12],[222,13,223,15],[232,1,233,3],[232,4,233,6],[232,7,233,9],[232,10,233,12],[232,13,233,15],[235,1,235,3],[235,4,235,6],[235,7,235,9],[235,10,235,12],[235,13,235,15],[245,1,245,3],[245,4,245,6],[245,7,245,9],[245,10,245,12],[245,13,245,15],[247,0,248,0],[237,0,238,0],[242,1,243,3],[242,4,243,6],[242,7,243,9],[242,10,243,12],[242,13,243,15],[252,1,253,3],[252,4,253,6],[252,7,253,9],[252,10,253,12],[252,13,253,15],[255,1,255,3],[255,4,255,6],[255,7,255,9],[255,10,255,12],[255,13,255,15],[265,1,265,3],[265,4,265,6],[265,7,265,9],[265,10,265,12],[265,13,265,15],[267,0,268,0],[257,0,258,0],[259,16,260,19],[262,1,263,3],[262,4,263,6],[262,7,263,9],[262,10,263,12],[262,13,263,15],[272,1,273,3],[272,4,273,6],[272,7,273,9],[272,10,273,12],[272,13,273,15],[275,1,275,3],[275,4,275,6],[275,7,275,9],[275,10,275,12],[275,13,275,15],[285,1,285,3],[285,4,285,6],[285,7,285,9],[285,10,285,12],[285,13,285,15],[287,0,288,0],[277,0,278,0],[282,1,283,3],[282,4,283,6],[282,7,283,9],[282,10,283,12],[282,13,283,15],[292,1,293,3],[292,4,293,6],[292,7,293,9],[292,10,293,12],[292,13,293,15],[295,1,295,3],[295,4,295,6],[295,7,295,9],[295,10,295,12],[295,13,295,15],[305,1,305,3],[305,4,305,6],[305,7,305,9],[305,10,305,12],[305,13,305,15],[307,0,308,0],[297,0,298,0],[302,1,303,3],[302,4,303,6],[302,7,303,9],[302,10,303,12],[302,13,303,15],[312,1,313,3],[312,4,313,6],[312,7,313,9],[312,10,313,12],[312,13,313,15],[315,1,315,3],[315,4,315,6],[315,7,315,9],[315,10,315,12],[315,13,315,15],[325,1,325,3],[325,4,325,6],[325,7,325,9],[325,10,325,12],[325,13,325,15],[327,0,328,0],[317,0,318,0],[322,1,323,3],[322,4,323,6],[322,7,323,9],[322,10,323,12],[322,13,323,15],[332,1,333,3],[332,4,333,6],[332,7,333,9],[332,10,333,12],[332,13,333,15],[335,1,335,3],[335,4,335,6],[335,7,335,9],[335,10,335,12],[335,13,335,15],[345,1,345,3],[345,4,345,6],[345,7,345,9],[345,10,345,12],[345,13,345,15],[347,0,348,0],[337,0,338,0],[339,16,340,19],[342,1,343,3],[342,4,343,6],[342,7,343,9],[342,10,343,12],[342,13,343,15],[352,1,353,3],[352,4,353,6],[352,7,353,9],[352,10,353,12],[352,13,353,15],[355,1,355,3],[355,4,355,6],[355,7,355,9],[355,10,355,12],[355,13,355,15],[365,1,365,3],[365,4,365,6],[365,7,365,9],[365,10,365,12],[365,13,365,15],[367,0,368,0],[357,0,358,0],[362,1,363,3],[362,4,363,6],[362,7,363,9],[362,10,363,12],[362,13,363,15],[372,1,373,3],[372,4,373,6],[372,7,373,9],[372,10,373,12],[372,13,373,15],[375,1,375,3],[375,4,375,6],[375,7,375,9],[375,10,375,12],[375,13,375,15],[385,1,385,3],[385,4,385,6],[385,7,385,9],[385,10,385,12],[385,13,385,15],[387,0,388,0],[377,0,378,0],[382,1,383,3],[382,4,383,6],[382,7,383,9],[382,10,383,12],[382,13,383,15],[392,1,393,3],[392,4,393,6],[392,7,393,9],[392,10,393,12],[392,13,393,15],[395,1,395,3],[395,4,395,6],[395,7,395,9],[395,10,395,12],[395,13,395,15],[405,1,405,3],[405,4,405,6],[405,7,405,9],[405,10,405,12],[405,13,405,15],[407,0,408,0],[397,0,398,0],[402,1,403,3],[402,4,403,6],[402,7,403,9],[402,10,403,12],[402,13,403,15],[412,1,413,3],[412,4,413,6],[412,7,413,9],[412,10,413,12],[412,13,413,15],[415,1,415,3],[415,4,415,6],[415,7,415,9],[415,10,415,12],[415,13,415,15],[425,1,425,3],[425,4,425,6],[425,7,425,9],[425,10,425,12],[425,13,425,15],[427,0,428,0],[417,0,418,0],[419,16,420,19],[422,1,423,3],[422,4,423,6],[422,7,423,9],[422,10,423,12],[422,13,423,15],[432,1,433,3],[432,4,433,6],[432,7,433,9],[432,10,433,12],[432,13,433,15],[435,1,435,3],[435,4,435,6],[435,7,435,9],[435,10,435,12],[435,13,435,15],[445,1,445,3],[445,4,445,6],[445,7,445,9],[445,10,445,12],[445,13,445,15],[447,0,448,0],[437,0,438,0],[442,1,443,3],[442,4,443,6],[442,7,443,9],[442,10,443,12],[442,13,443,15],[452,1,453,3],[452,4,453,6],[452,7,453,9],[452,10,453,12],[452,13,453,15],[455,1,455,3],[455,4,455,6],[455,7,455,9],[455,10,455,12],[455,13,455,15],[465,1,465,3],[465,4,465,6],[465,7,465,9],[465,10,465,12],[465,13,465,15],[467,0,468,0],[457,0,458,0],[462,1,463,3],[462,4,463,6],[462,7,463,9],[462,10,463,12],[462,13,463,15],[472,1,473,3],[472,4,473,6],[472,7,473,9],[472,10,473,12],[472,13,473,15],[475,1,475,3],[475,4,475,6],[475,7,475,9],[475,10,475,12],[475,13,475,15],[485,1,485,3],[485,4,485,6],[485,7,485,9],[485,10,485,12],[485,13,485,15],[487,0,488,0],[477,0,478,0],[482,1,483,3],[482,4,483,6],[482,7,483,9],[482,10,483,12],[482,13,483,15],[497,0,498,0],[499,16,500,19],[502,1,503,3],[502,4,503,6],[502,7,503,9],[502,10,503,12],[502,13,503,15],[492,1,493,3],[492,4,493,6],[492,7,493,9],[492,10,493,12],[492,13,493,15],[495,1,495,3],[495,4,495,6],[495,7,495,9],[495,10,495,12],[495,13,495,15]]}
[]
[null,{"$f":"'1-2a'!B2:H3","v":"Basisschool De Grote Beer        schooljaar 2020/2021"},null,null,null,null,null,null,null,"Groepsplanner van groep:",null,null,null,"7"]
[]
[null,"maandag 1e schoolweek",null,null,"dinsdag",null,null,"woensdag",null,null,"donderdag",null,null,"vrijdag"]
[null,null,{"$f":"'1-2a'!C$5","v":0},null,null,{"$f":"'1-2a'!F5","v":0},null,null,{"$f":"'1-2a'!I$5","v":0},null,null,{"$f":"'1-2a'!L$5","v":"s"},null,null,{"$f":"'1-2a'!O$5","v":0}]
[{"$f":"(B6-WEEKDAY(B6-1)+4-(TRUNC(DATE(YEAR(B6-WEEKDAY(B6-1)+4),1,2)/7)*7-2))/7","v":32},{"$f":"'1-2a'!B6:D6","v":"2020-08-03"},null,null,{"$f":"B6+1","v":"2020-08-04"},null,null,{"$f":"E6+1","v":"2020-08-05"},null,null,{"$f":"H6+1","v":"2020-08-06"},null,null,{"$f":"K6+1","v":"2020-08-07"}]
[]
[1]
[]
[]
[]
[]
[]
[]
[null,null,{"$f":"'1-2a'!C$15","v":0},null,null,{"$f":"'1-2a'!F$15","v":0},null,null,{"$f":"'1-2a'!I$15","v":0},null,null,{"$f":"'1-2a'!L$15","v":0},null,null,{"$f":"'1-2a'!O15","v":0}]
[{"$f":"IF(A6=52,1,A6+1)","v":33},{"$f":"N6+3","v":"2020-08-10"},null,null,{"$f":"B16+1","v":"2020-08-11"},null,null,{"$f":"E16+1","v":"2020-08-12"},null,null,{"$f":"H16+1","v":"2020-08-13"},null,null,{"$f":"K16+1","v":"2020-08-14"}]
[null,{"$f":"B7","v":0},null,null,{"$f":"E7","v":0},null,null,{"$f":"H7","v":0},null,null,{"$f":"K7","v":0},null,null,{"$f":"N7","v":0}]
[2,0,null,null,0,null,null,0,null,null,0,null,null,0]
[null,0,null,null,0,null,null,0,null,null,0,null,null,0]
[null,0,null,null,0,null,null,0,null,null,0,null,null,0]
[null,0,null,null,0,null,null,0,null,null,0,null,null,0]
[null,0,null,null,0,null,null,0,null,null,0,null,null,0]
[]
[]
[null,null,{"$f":"'1-2a'!C$25","v":0},null,null,{"$f":"'1-2a'!F$25","v":0},null,null,{"$f":"'1-2a'!I25","v":0},null,null,{"$f":"'1-2a'!L25","v":0},null,null,{"$f":"'1-2a'!O25","v":0}]
[{"$f":"IF(A16=52,1,A16+1)","v":34},{"$f":"N16+3","v":"2020-08-17"},null,null,{"$f":"B26+1","v":"2020-08-18"},null,null,{"$f":"E26+1","v":"2020-08-19"},null,null,{"$f":"H26+1","v":"2020-08-20"},null,null,{"$f":"K26+1","v":"2020-08-21"}]
[null,{"$f":"B17","v":0},null,null,{"$f":"E17","v":0},null,null,{"$f":"H17","v":0},null,null,{"$f":"K17","v":0},null,null,{"$f":"N17","v":0}]
[3,0,null,null,0,null,null,0,null,null,0,null,null,0]
[null,0,null,null,0,null,null,0,null,null,0,null,null,0]
[null,0,null,null,0,null,null,0,null,null,0,null,null,0]
[null,0,null,null,0,null,null,0,null,null,{"$f":"K21","v":0},null,null,0]
[null,0,null,null,0,null,null,0,null,null,0,null,null,0]
[]
[]
[null,null,{"$f":"'1-2a'!$C$35","v":0},null,null,{"$f":"'1-2a'!$F$35","v":0},null,null,{"$f":"'1-2a'!$I$35","v":0},null,null,{"$f":"'1-2a'!$L$35","v":0},null,null,{"$f":"'1-2a'!$O$35","v":0}]
[{"$f":"IF(A26=52,1,A26+1)","v":35},{"$f":"N26+3","v":"2020-08-24"},null,null,{"$f":"B36+1","v":"2020-08-25"},null,null,{"$f":"E36+1","v":"2020-08-26"},null,null,{"$f":"H36+1","v":"2020-08-27"},null,null,{"$f":"K36+1","v":"2020-08-28"}]
[null,{"$f":"B27","v":0},null,null,{"$f":"E27","v":0},null,null,{"$f":"H27","v":0},null,null,{"$f":"K27","v":0},null,null,{"$f":"N27","v":0}]
[4,0,null,null,0,null,null,0,null,null,0,null,null,0]
[null,0,null,null,0,null,null,0,null,null,0,null,null,0]
[null,0,null,null,0,null,null,0,null,null,0,null,null,0]
[null,0,null,null,0,null,null,0,null,null,{"$f":"K31","v":0},null,null,0]
[null,0,null,null,0,null,null,0,null,null,0,null,null,0]
[]
[]
[null,null,{"$f":"'1-2a'!$C$45","v":0},null,null,{"$f":"'1-2a'!$F$45","v":0},null,null,{"$f":"'1-2a'!$I$45","v":0},null,null,{"$f":"'1-2a'!$L$45","v":0},null,null,{"$f":"'1-2a'!$O$45","v":0}]
[{"$f":"IF(A36=52,1,A36+1)","v":36},{"$f":"N36+3","v":"2020-08-31"},null,null,{"$f":"B46+1","v":"2020-09-01"},null,null,{"$f":"E46+1","v":"2020-09-02"},null,null,{"$f":"H46+1","v":"2020-09-03"},null,null,{"$f":"K46+1","v":"2020-09-04"}]
[null,{"$f":"B37","v":0},null,null,{"$f":"E37","v":0},null,null,{"$f":"H37","v":0},null,null,{"$f":"K37","v":0},null,null,{"$f":"N37","v":0}]
[5,0,null,null,0,null,null,0,null,null,0,null,null,0]
[null,0,null,null,0,null,null,0,null,null,0,null,null,0]
[null,0,null,null,0,null,null,0,null,null,0,null,null,0]
[null,0,null,null,0,null,null,0,null,null,{"$f":"K41","v":0},null,null,0]
[null,0,null,null,0,null,null,0,null,null,0,null,null,0]
[]
[]
[null,null,{"$f":"'1-2a'!$C$55","v":0},null,null,{"$f":"'1-2a'!$F$55","v":0},null,null,{"$f":"'1-2a'!$I$55","v":0},null,null,{"$f":"'1-2a'!$L$55","v":0},null,null,{"$f":"'1-2a'!O55","v":0}]
[{"$f":"IF(A46=52,1,A46+1)","v":37},{"$f":"N46+3","v":"2020-09-07"},null,null,{"$f":"B56+1","v":"2020-09-08"},null,null,{"$f":"E56+1","v":"2020-09-09"},null,null,{"$f":"H56+1","v":"2020-09-10"},null,null,{"$f":"K56+1","v":"2020-09-11"}]
[null,{"$f":"B47","v":0},null,null,{"$f":"E47","v":0},null,null,{"$f":"H47","v":0},null,null,{"$f":"K47","v":0},null,null,{"$f":"N47","v":0}]
[6,0,null,null,0,null,null,0,null,null,0,null,null,0]
[null,0,null,null,0,null,null,0,null,null,0,null,null,0]
[null,0,null,null,0,null,null,0,null,null,0,null,null,0]
[null,0,null,null,0,null,null,0,null,null,{"$f":"K51","v":0},null,null,0]
[null,0,null,null,0,null,null,0,null,null,0,null,null,0]
[]
[]
[null,null,{"$f":"'1-2a'!$C$65","v":0},null,null,{"$f":"'1-2a'!$F$65","v":0},null,null,{"$f":"'1-2a'!$I$65","v":0},null,null,{"$f":"'1-2a'!$L$65","v":0},null,null,{"$f":"'1-2a'!$O$65","v":0}]
[{"$f":"IF(A56=52,1,A56+1)","v":38},{"$f":"N56+3","v":"2020-09-14"},null,null,{"$f":"B66+1","v":"2020-09-15"},null,null,{"$f":"E66+1","v":"2020-09-16"},null,null,{"$f":"H66+1","v":"2020-09-17"},null,null,{"$f":"K66+1","v":"2020-09-18"}]
[null,{"$f":"B57","v":0},null,null,{"$f":"E57","v":0},null,null,{"$f":"H57","v":0},null,null,{"$f":"K57","v":0},null,null,{"$f":"N57","v":0}]
[7,0,null,null,0,null,null,0,null,null,0,null,null,0]
[null,0,null,null,0,null,null,0,null,null,0,null,null,0]
[null,0,null,null,0,null,null,0,null,null,0,null,null,0]
[null,0,null,null,0,null,null,0,null,null,{"$f":"K61","v":0},null,null,0]
[null,0,null,null,0,null,null,0,null,null,0,null,null,0]
[]
[]
[null,null,{"$f":"'1-2a'!$C$75","v":0},null,null,{"$f":"'1-2a'!$F$75","v":0},null,null,{"$f":"'1-2a'!$I$75","v":0},null,null,{"$f":"'1-2a'!$L$75","v":0},null,null,{"$f":"'1-2a'!$O$75","v":0}]
[{"$f":"IF(A66=52,1,A66+1)","v":39},{"$f":"N66+3","v":"2020-09-21"},null,null,{"$f":"B76+1","v":"2020-09-22"},null,null,{"$f":"E76+1","v":"2020-09-23"},null,null,{"$f":"H76+1","v":"2020-09-24"},null,null,{"$f":"K76+1","v":"2020-09-25"}]
[null,{"$f":"B67","v":0},null,null,{"$f":"E67","v":0},null,null,{"$f":"H67","v":0},null,null,{"$f":"K67","v":0},null,null,{"$f":"N67","v":0}]
[8,0,null,null,0,null,null,0,null,null,0,null,null,0]
[null,0,null,null,0,null,null,0,null,null,0,null,null,0]
[null,0,null,null,0,null,null,0,null,null,0,null,null,0]
[null,0,null,null,0,null,null,0,null,null,{"$f":"K71","v":0},null,null,0]
[null,0,null,null,0,null,null,0,null,null,0,null,null,0]
[]
[]
[null,null,{"$f":"'1-2a'!$C$85","v":0},null,null,{"$f":"'1-2a'!$F$85","v":0},null,null,{"$f":"'1-2a'!$I$85","v":0},null,null,{"$f":"'1-2a'!$L$85","v":0},null,null,{"$f":"'1-2a'!$O$85","v":0}]
[{"$f":"IF(A76=52,1,A76+1)","v":40},{"$f":"N76+3","v":"2020-09-28"},null,null,{"$f":"B86+1","v":"2020-09-29"},null,null,{"$f":"E86+1","v":"2020-09-30"},null,null,{"$f":"H86+1","v":"2020-10-01"},null,null,{"$f":"K86+1","v":"2020-10-02"}]
[null,{"$f":"B77","v":0},null,null,{"$f":"E77","v":0},null,null,{"$f":"H77","v":0},null,null,{"$f":"K77","v":0},null,null,{"$f":"N77","v":0}]
[9,0,null,null,0,null,null,0,null,null,0,null,null,0]
[null,0,null,null,0,null,null,0,null,null,0,null,null,0]
[null,0,null,null,0,null,null,0,null,null,0,null,null,0]
[null,0,null,null,0,null,null,0,null,null,0,null,null,0]
[null,0,null,null,0,null,null,0,null,null,0,null,null,0]
[]
[]
[null,null,{"$f":"'1-2a'!$C$95","v":0},null,null,{"$f":"'1-2a'!$F$95","v":0},null,null,{"$f":"'1-2a'!$I$95","v":0},null,null,{"$f":"'1-2a'!$L$95","v":0},null,null,{"$f":"'1-2a'!$O$95","v":0}]
[{"$f":"IF(A86=52,1,A86+1)","v":41},{"$f":"N86+3","v":"2020-10-05"},null,null,{"$f":"B96+1","v":"2020-10-06"},null,null,{"$f":"E96+1","v":"2020-10-07"},null,null,{"$f":"H96+1","v":"2020-10-08"},null,null,{"$f":"K96+1","v":"2020-10-09"}]
[null,{"$f":"B87","v":0},null,null,{"$f":"E87","v":0},null,null,{"$f":"H87","v":0},null,null,{"$f":"K87","v":0},null,null,{"$f":"N87","v":0}]
[10,0,null,null,0,null,null,0,null,null,0,null,null,0]
[null,0,null,null,0,null,null,0,null,null,0,null,null,0]
[null,0,null,null,0,null,null,0,null,null,0,null,null,0]
[null,0,null,null,0,null,null,0,null,null,{"$f":"K91","v":0},null,null,0]
[null,0,null,null,0,null,null,0,null,null,0,null,null,0]
[]
[]
[null,null,{"$f":"'1-2a'!$C$105","v":0},null,null,{"$f":"'1-2a'!$F$105","v":0},null,null,{"$f":"'1-2a'!$I$105","v":0},null,null,{"$f":"'1-2a'!$L$105","v":0},null,null,{"$f":"'1-2a'!$O$105","v":0}]
[{"$f":"IF(A96=52,1,A96+1)","v":42},{"$f":"N96+3","v":"2020-10-12"},null,null,{"$f":"B106+1","v":"2020-10-13"},null,null,{"$f":"E106+1","v":"2020-10-14"},null,null,{"$f":"H106+1","v":"2020-10-15"},null,null,{"$f":"K106+1","v":"2020-10-16"}]
[null,{"$f":"B97","v":0},null,null,{"$f":"E97","v":0},null,null,{"$f":"H97","v":0},null,null,{"$f":"K97","v":0},null,null,{"$f":"N97","v":0}]
[11,0,null,null,0,null,null,0,null,null,0,null,null,0]
[null,0,null,null,0,null,null,0,null,null,0,null,null,0]
[null,0,null,null,0,null,null,0,null,null,0,null,null,0]
[null,0,null,null,0,null,null,0,null,null,{"$f":"K101","v":0},null,null,0]
[null,0,null,null,0,null,null,0,null,null,0,null,null,0]
[]
[]
[null,null,{"$f":"'1-2a'!$C$115","v":0},null,null,{"$f":"'1-2a'!$F$115","v":0},null,null,{"$f":"'1-2a'!$I$115","v":0},null,null,{"$f":"'1-2a'!$L$115","v":0},null,null,{"$f":"'1-2a'!$O$115","v":0}]
[{"$f":"IF(A106=52,1,A106+1)","v":43},{"$f":"N106+3","v":"2020-10-19"},null,null,{"$f":"B116+1","v":"2020-10-20"},null,null,{"$f":"E116+1","v":"2020-10-21"},null,null,{"$f":"H116+1","v":"2020-10-22"},null,null,{"$f":"K116+1","v":"2020-10-23"}]
[null,{"$f":"B107","v":0},null,null,{"$f":"E107","v":0},null,null,{"$f":"H107","v":0},null,null,{"$f":"K107","v":0},null,null,{"$f":"N107","v":0}]
[12,0,null,null,0,null,null,0,null,null,0,null,null,0]
[null,0,null,null,0,null,null,0,null,null,0,null,null,0]
[null,0,null,null,0,null,null,0,null,null,0,null,null,0]
[null,0,null,null,0,null,null,0,null,null,{"$f":"K111","v":0},null,null,0]
[null,0,null,null,0,null,null,0,null,null,0,null,null,0]
[]
[]
[null,null,{"$f":"'1-2a'!$C$125","v":0},null,null,{"$f":"'1-2a'!$F$125","v":0},null,null,{"$f":"'1-2a'!$I$125","v":0},null,null,{"$f":"'1-2a'!$L$125","v":0},null,null,{"$f":"'1-2a'!$O$125","v":0}]
[{"$f":"IF(A116=52,1,A116+1)","v":44},{"$f":"N116+3","v":"2020-10-26"},null,null,{"$f":"B126+1","v":"2020-10-27"},null,null,{"$f":"E126+1","v":"2020-10-28"},null,null,{"$f":"H126+1","v":"2020-10-29"},null,null,{"$f":"K126+1","v":"2020-10-30"}]
[null,{"$f":"B117","v":0},null,null,{"$f":"E117","v":0},null,null,{"$f":"H117","v":0},null,null,{"$f":"K117","v":0},null,null,{"$f":"N117","v":0}]
[13,0,null,null,0,null,null,0,null,null,0,null,null,0]
[null,0,null,null,0,null,null,0,null,null,0,null,null,0]
[null,0,null,null,0,null,null,0,null,null,0,null,null,0]
[null,0,null,null,0,null,null,0,null,null,{"$f":"K121","v":0},null,null,0]
[null,0,null,null,0,null,null,0,null,null,0,null,null,0]
[]
[]
[null,null,{"$f":"'1-2a'!$C$135","v":0},null,null,{"$f":"'1-2a'!$F$135","v":0},null,null,{"$f":"'1-2a'!$I$135","v":0},null,null,{"$f":"'1-2a'!$L$135","v":0},null,null,{"$f":"'1-2a'!$O$135","v":0}]
[{"$f":"IF(A126=52,1,A126+1)","v":45},{"$f":"N126+3","v":"2020-11-02"},null,null,{"$f":"B136+1","v":"2020-11-03"},null,null,{"$f":"E136+1","v":"2020-11-04"},null,null,{"$f":"H136+1","v":"2020-11-05"},null,null,{"$f":"K136+1","v":"2020-11-06"}]
[null,{"$f":"B127","v":0},null,null,{"$f":"E127","v":0},null,null,{"$f":"H127","v":0},null,null,{"$f":"K127","v":0},null,null,{"$f":"N127","v":0}]
[14,0,null,null,0,null,null,0,null,null,0,null,null,0]
[null,0,null,null,0,null,null,0,null,null,0,null,null,0]
[null,0,null,null,0,null,null,0,null,null,0,null,null,0]
[null,0,null,null,0,null,null,0,null,null,{"$f":"K131","v":0},null,null,0]
[null,0,null,null,0,null,null,0,null,null,0,null,null,0]
[]
[]
[null,null,{"$f":"'1-2a'!$C$145","v":0},null,null,{"$f":"'1-2a'!$F$145","v":0},null,null,{"$f":"'1-2a'!$I$145","v":0},null,null,{"$f":"'1-2a'!$L$145","v":0},null,null,{"$f":"'1-2a'!$O$145","v":0}]
[{"$f":"IF(A136=52,1,A136+1)","v":46},{"$f":"N136+3","v":"2020-11-09"},null,null,{"$f":"B146+1","v":"2020-11-10"},null,null,{"$f":"E146+1","v":"2020-11-11"},null,null,{"$f":"H146+1","v":"2020-11-12"},null,null,{"$f":"K146+1","v":"2020-11-13"}]
[null,{"$f":"B137","v":0},null,null,{"$f":"E137","v":0},null,null,{"$f":"H137","v":0},null,null,{"$f":"K137","v":0},null,null,{"$f":"N137","v":0}]
[15,0,null,null,0,null,null,0,null,null,0,null,null,0]
[null,0,null,null,0,null,null,0,null,null,0,null,null,0]
[null,0,null,null,0,null,null,0,null,null,0,null,null,0]
[null,0,null,null,0,null,null,0,null,null,{"$f":"K141","v":0},null,null,0]
[null,0,null,null,0,null,null,0,null,null,0,null,null,0]
[]
[]
[null,null,{"$f":"'1-2a'!$C$155","v":0},null,null,{"$f":"'1-2a'!$F$155","v":0},null,null,{"$f":"'1-2a'!$I$155","v":0},null,null,{"$f":"'1-2a'!$L$155","v":0},null,null,{"$f":"'1-2a'!$O$155","v":0}]
[{"$f":"IF(A146=52,1,A146+1)","v":47},{"$f":"N146+3","v":"2020-11-16"},null,null,{"$f":"B156+1","v":"2020-11-17"},null,null,{"$f":"E156+1","v":"2020-11-18"},null,null,{"$f":"H156+1","v":"2020-11-19"},null,null,{"$f":"K156+1","v":"2020-11-20"}]
[null,{"$f":"B147","v":0},null,null,{"$f":"E147","v":0},null,null,{"$f":"H147","v":0},null,null,{"$f":"K147","v":0},null,null,{"$f":"N147","v":0}]
[16,0,null,null,0,null,null,0,null,null,0,null,null,0]
[null,0,null,null,0,null,null,0,null,null,0,null,null,0]
[null,0,null,null,0,null,null,0,null,null,0,null,null,0]
[null,0,null,null,0,null,null,0,null,null,{"$f":"K151","v":0},null,null,0]
[null,0,null,null,0,null,null,0,null,null,0,null,null,0]
[]
[]
[null,null,{"$f":"'1-2a'!$C$165","v":0},null,null,{"$f":"'1-2a'!$F$165","v":0},null,null,{"$f":"'1-2a'!$I$165","v":0},null,null,{"$f":"'1-2a'!$L$165","v":0},null,null,{"$f":"'1-2a'!$O$165","v":0}]
[{"$f":"IF(A156=52,1,A156+1)","v":48},{"$f":"N156+3","v":"2020-11-23"},null,null,{"$f":"B166+1","v":"2020-11-24"},null,null,{"$f":"E166+1","v":"2020-11-25"},null,null,{"$f":"H166+1","v":"2020-11-26"},null,null,{"$f":"K166+1","v":"2020-11-27"}]
[null,{"$f":"B157","v":0},null,null,{"$f":"E157","v":0},null,null,{"$f":"H157","v":0},null,null,{"$f":"K157","v":0},null,null,{"$f":"N157","v":0}]
[17,0,null,null,0,null,null,0,null,null,0,null,null,0]
[null,0,null,null,0,null,null,0,null,null,0,null,null,0]
[null,0,null,null,0,null,null,0,null,null,0,null,null,0]
[null,0,null,null,0,null,null,0,null,null,0,null,null,0]
[null,0,null,null,0,null,null,0,null,null,0,null,null,0]
[]
[]
[null,null,{"$f":"'1-2a'!$C$175","v":0},null,null,{"$f":"'1-2a'!$F$175","v":0},null,null,{"$f":"'1-2a'!$I$175","v":0},null,null,{"$f":"'1-2a'!$L$175","v":0},null,null,{"$f":"'1-2a'!$O$175","v":0}]
[{"$f":"IF(A166=52,1,A166+1)","v":49},{"$f":"N166+3","v":"2020-11-30"},null,null,{"$f":"B176+1","v":"2020-12-01"},null,null,{"$f":"E176+1","v":"2020-12-02"},null,null,{"$f":"H176+1","v":"2020-12-03"},null,null,{"$f":"K176+1","v":"2020-12-04"}]
[null,{"$f":"B167","v":0},null,null,{"$f":"E167","v":0},null,null,{"$f":"H167","v":0},null,null,{"$f":"K167","v":0},null,null,{"$f":"N167","v":0}]
[18,0,null,null,0,null,null,0,null,null,0,null,null,0]
[null,0,null,null,0,null,null,0,null,null,0,null,null,0]
[null,0,null,null,0,null,null,0,null,null,0,null,null,0]
[null,0,null,null,0,null,null,0,null,null,{"$f":"K171","v":0},null,null,0]
[null,0,null,null,0,null,null,0,null,null,0,null,null,0]
[]
[]
[null,null,{"$f":"'1-2a'!$C$185","v":0},null,null,{"$f":"'1-2a'!$F$185","v":0},null,null,{"$f":"'1-2a'!$I$185","v":0},null,null,{"$f":"'1-2a'!$L$185","v":0},null,null,{"$f":"'1-2a'!$O$185","v":0}]
[{"$f":"IF(A176=52,1,A176+1)","v":50},{"$f":"N176+3","v":"2020-12-07"},null,null,{"$f":"B186+1","v":"2020-12-08"},null,null,{"$f":"E186+1","v":"2020-12-09"},null,null,{"$f":"H186+1","v":"2020-12-10"},null,null,{"$f":"K186+1","v":"2020-12-11"}]
[null,{"$f":"B177","v":0},null,null,{"$f":"E177","v":0},null,null,{"$f":"H177","v":0},null,null,{"$f":"K177","v":0},null,null,{"$f":"N177","v":0}]
[19,0,null,null,0,null,null,0,null,null,0,null,null,0]
[null,0,null,null,0,null,null,0,null,null,0,null,null,0]
[null,0,null,null,0,null,null,0,null,null,0,null,null,0]
[null,0,null,null,0,null,null,0,null,null,{"$f":"K181","v":0},null,null,0]
[null,0,null,null,0,null,null,0,null,null,0,null,null,0]
[]
[]
[null,null,{"$f":"'1-2a'!$C$195","v":0},null,null,{"$f":"'1-2a'!$F$195","v":0},null,null,{"$f":"'1-2a'!$I$195","v":0},null,null,{"$f":"'1-2a'!$L$195","v":0},null,null,{"$f":"'1-2a'!$O$195","v":0}]
[{"$f":"IF(A186=52,1,A186+1)","v":51},{"$f":"N186+3","v":"2020-12-14"},null,null,{"$f":"B196+1","v":"2020-12-15"},null,null,{"$f":"E196+1","v":"2020-12-16"},null,null,{"$f":"H196+1","v":"2020-12-17"},null,null,{"$f":"K196+1","v":"2020-12-18"}]
[null,{"$f":"B187","v":0},null,null,{"$f":"E187","v":0},null,null,{"$f":"H187","v":0},null,null,{"$f":"K187","v":0},null,null,{"$f":"N187","v":0}]
[20,0,null,null,0,null,null,0,null,null,0,null,null,0]
[null,0,null,null,0,null,null,0,null,null,0,null,null,0]
[null,0,null,null,0,null,null,0,null,null,0,null,null,0]
[null,0,null,null,0,null,null,0,null,null,{"$f":"K191","v":0},null,null,0]
[null,0,null,null,0,null,null,0,null,null,0,null,null,0]
[]
[]
[null,null,{"$f":"'1-2a'!$C$205","v":0},null,null,{"$f":"'1-2a'!$F$205","v":0},null,null,{"$f":"'1-2a'!$I$205","v":0},null,null,{"$f":"'1-2a'!$L$205","v":0},null,null,{"$f":"'1-2a'!$O$205","v":0}]
[{"$f":"IF(A196=52,1,A196+1)","v":52},{"$f":"N196+3","v":"2020-12-21"},null,null,{"$f":"B206+1","v":"2020-12-22"},null,null,{"$f":"E206+1","v":"2020-12-23"},null,null,{"$f":"H206+1","v":"2020-12-24"},null,null,{"$f":"K206+1","v":"2020-12-25"}]
[null,{"$f":"B197","v":0},null,null,{"$f":"E197","v":0},null,null,{"$f":"H197","v":0},null,null,{"$f":"K197","v":0},null,null,{"$f":"N197","v":0}]
[21,0,null,null,0,null,null,0,null,null,0,null,null,0]
[null,0,null,null,0,null,null,0,null,null,0,null,null,0]
[null,0,null,null,0,null,null,0,null,null,0,null,null,0]
[null,0,null,null,0,null,null,0,null,null,{"$f":"K201","v":0},null,null,0]
[null,0,null,null,0,null,null,0,null,null,0,null,null,0]
[]
[]
[null,null,{"$f":"'1-2a'!$C$215","v":0},null,null,{"$f":"'1-2a'!$F$215","v":0},null,null,{"$f":"'1-2a'!$I$215","v":0},null,null,{"$f":"'1-2a'!$L$215","v":0},null,null,{"$f":"'1-2a'!$O$215","v":0}]
[{"$f":"IF(A206=52,1,A206+1)","v":1},{"$f":"N206+3","v":"2020-12-28"},null,null,{"$f":"B216+1","v":"2020-12-29"},null,null,{"$f":"E216+1","v":"2020-12-30"},null,null,{"$f":"H216+1","v":"2020-12-31"},null,null,{"$f":"K216+1","v":"2021-01-01"}]
[null,{"$f":"B207","v":0},null,null,{"$f":"E207","v":0},null,null,{"$f":"H207","v":0},null,null,{"$f":"K207","v":0},null,null,{"$f":"N207","v":0}]
[22,0,null,null,0,null,null,0,null,null,0,null,null,0]
[null,0,null,null,0,null,null,0,null,null,0,null,null,0]
[null,0,null,null,0,null,null,0,null,null,0,null,null,0]
[null,0,null,null,0,null,null,0,null,null,{"$f":"K211","v":0},null,null,0]
[null,0,null,null,0,null,null,0,null,null,0,null,null,0]
[]
[]
[null,null,{"$f":"'1-2a'!$C$225","v":0},null,null,{"$f":"'1-2a'!$F$225","v":0},null,null,{"$f":"'1-2a'!$I$225","v":0},null,null,{"$f":"'1-2a'!$L$225","v":0},null,null,{"$f":"'1-2a'!$O$225","v":0}]
[{"$f":"IF(A216=52,1,A216+1)","v":2},{"$f":"N216+3","v":"2021-01-04"},null,null,{"$f":"B226+1","v":"2021-01-05"},null,null,{"$f":"E226+1","v":"2021-01-06"},null,null,{"$f":"H226+1","v":"2021-01-07"},null,null,{"$f":"K226+1","v":"2021-01-08"}]
[null,{"$f":"B217","v":0},null,null,{"$f":"E217","v":0},null,null,{"$f":"H217","v":0},null,null,{"$f":"K217","v":0},null,null,{"$f":"N217","v":0}]
[23,0,null,null,0,null,null,0,null,null,0,null,null,0]
[null,0,null,null,0,null,null,0,null,null,0,null,null,0]
[null,0,null,null,0,null,null,0,null,null,0,null,null,0]
[null,0,null,null,0,null,null,0,null,null,{"$f":"K221","v":0},null,null,0]
[null,0,null,null,0,null,null,0,null,null,0,null,null,0]
[]
[]
[null,null,{"$f":"'1-2a'!$C$235","v":0},null,null,{"$f":"'1-2a'!$F$235","v":0},null,null,{"$f":"'1-2a'!$I$235","v":0},null,null,{"$f":"'1-2a'!$L$235","v":0},null,null,{"$f":"'1-2a'!$O$235","v":0}]
[{"$f":"IF(A226=52,1,A226+1)","v":3},{"$f":"N226+3","v":"2021-01-11"},null,null,{"$f":"B236+1","v":"2021-01-12"},null,null,{"$f":"E236+1","v":"2021-01-13"},null,null,{"$f":"H236+1","v":"2021-01-14"},null,null,{"$f":"K236+1","v":"2021-01-15"}]
[null,{"$f":"B227","v":0},null,null,{"$f":"E227","v":0},null,null,{"$f":"H227","v":0},null,null,{"$f":"K227","v":0},null,null,{"$f":"N227","v":0}]
[24,0,null,null,0,null,null,0,null,null,0,null,null,0]
[null,0,null,null,0,null,null,0,null,null,0,null,null,0]
[null,0,null,null,0,null,null,0,null,null,0,null,null,0]
[null,0,null,null,0,null,null,0,null,null,{"$f":"K231","v":0},null,null,0]
[null,0,null,null,0,null,null,0,null,null,0,null,null,0]
[]
[]
[null,null,{"$f":"'1-2a'!$C$245","v":0},null,null,{"$f":"'1-2a'!$F$245","v":0},null,null,{"$f":"'1-2a'!$I$245","v":0},null,null,{"$f":"'1-2a'!$L$245","v":0},null,null,{"$f":"'1-2a'!$O$245","v":0}]
[{"$f":"IF(A236=52,1,A236+1)","v":4},{"$f":"N236+3","v":"2021-01-18"},null,null,{"$f":"B246+1","v":"2021-01-19"},null,null,{"$f":"E246+1","v":"2021-01-20"},null,null,{"$f":"H246+1","v":"2021-01-21"},null,null,{"$f":"K246+1","v":"2021-01-22"}]
[null,{"$f":"B237","v":0},null,null,{"$f":"E237","v":0},null,null,{"$f":"H237","v":0},null,null,{"$f":"K237","v":0},null,null,{"$f":"N237","v":0}]
[25,0,null,null,0,null,null,0,null,null,0,null,null,0]
[null,0,null,null,0,null,null,0,null,null,0,null,null,0]
[null,0,null,null,0,null,null,0,null,null,0,null,null,0]
[null,0,null,null,0,null,null,0,null,null,0,null,null,0]
[null,0,null,null,0,null,null,0,null,null,0,null,null,0]
[]
[]
[null,null,{"$f":"'1-2a'!$C$255","v":0},null,null,{"$f":"'1-2a'!$F$255","v":0},null,null,{"$f":"'1-2a'!$I$255","v":0},null,null,{"$f":"'1-2a'!$L$255","v":0},null,null,{"$f":"'1-2a'!$O$255","v":0}]
[{"$f":"IF(A246=52,1,A246+1)","v":5},{"$f":"N246+3","v":"2021-01-25"},null,null,{"$f":"B256+1","v":"2021-01-26"},null,null,{"$f":"E256+1","v":"2021-01-27"},null,null,{"$f":"H256+1","v":"2021-01-28"},null,null,{"$f":"K256+1","v":"2021-01-29"}]
[null,{"$f":"B247","v":0},null,null,{"$f":"E247","v":0},null,null,{"$f":"H247","v":0},null,null,{"$f":"K247","v":0},null,null,{"$f":"N247","v":0}]
[26,0,null,null,0,null,null,0,null,null,0,null,null,0]
[null,0,null,null,0,null,null,0,null,null,0,null,null,0]
[null,0,null,null,0,null,null,0,null,null,0,null,null,0]
[null,0,null,null,0,null,null,0,null,null,{"$f":"K251","v":0},null,null,0]
[null,0,null,null,0,null,null,0,null,null,0,null,null,0]
[]
[]
[null,null,{"$f":"'1-2a'!$C$265","v":0},null,null,{"$f":"'1-2a'!$F$265","v":0},null,null,{"$f":"'1-2a'!$I$265","v":0},null,null,{"$f":"'1-2a'!$L$265","v":0},null,null,{"$f":"'1-2a'!$O$265","v":0}]
[{"$f":"IF(A256=52,1,A256+1)","v":6},{"$f":"N256+3","v":"2021-02-01"},null,null,{"$f":"B266+1","v":"2021-02-02"},null,null,{"$f":"E266+1","v":"2021-02-03"},null,null,{"$f":"H266+1","v":"2021-02-04"},null,null,{"$f":"K266+1","v":"2021-02-05"}]
[null,{"$f":"B257","v":0},null,null,{"$f":"E257","v":0},null,null,{"$f":"H257","v":0},null,null,{"$f":"K257","v":0},null,null,{"$f":"N257","v":0}]
[27,0,null,null,0,null,null,0,null,null,0,null,null,0]
[null,0,null,null,0,null,null,0,null,null,0,null,null,0]
[null,0,null,null,0,null,null,0,null,null,0,null,null,0]
[null,0,null,null,0,null,null,0,null,null,{"$f":"K261","v":0},null,null,0]
[null,0,null,null,0,null,null,0,null,null,0,null,null,0]
[]
[]
[null,null,{"$f":"'1-2a'!$C$275","v":0},null,null,{"$f":"'1-2a'!$F$275","v":0},null,null,{"$f":"'1-2a'!$I$275","v":0},null,null,{"$f":"'1-2a'!$L$275","v":0},null,null,{"$f":"'1-2a'!$O$275","v":0}]
[{"$f":"IF(A266=52,1,A266+1)","v":7},{"$f":"N266+3","v":"2021-02-08"},null,null,{"$f":"B276+1","v":"2021-02-09"},null,null,{"$f":"E276+1","v":"2021-02-10"},null,null,{"$f":"H276+1","v":"2021-02-11"},null,null,{"$f":"K276+1","v":"2021-02-12"}]
[null,{"$f":"B267","v":0},null,null,{"$f":"E267","v":0},null,null,{"$f":"H267","v":0},null,null,{"$f":"K267","v":0},null,null,{"$f":"N267","v":0}]
[28,0,null,null,0,null,null,0,null,null,0,null,null,0]
[null,0,null,null,0,null,null,0,null,null,0,null,null,0]
[null,0,null,null,0,null,null,0,null,null,0,null,null,0]
[null,0,null,null,0,null,null,0,null,null,{"$f":"K271","v":0},null,null,0]
[null,0,null,null,0,null,null,0,null,null,0,null,null,0]
[]
[]
[null,null,{"$f":"'1-2a'!$C$285","v":0},null,null,{"$f":"'1-2a'!$F$285","v":0},null,null,{"$f":"'1-2a'!$I$285","v":0},null,null,{"$f":"'1-2a'!$L$285","v":0},null,null,{"$f":"'1-2a'!$O$285","v":0}]
[{"$f":"IF(A276=52,1,A276+1)","v":8},{"$f":"N276+3","v":"2021-02-15"},null,null,{"$f":"B286+1","v":"2021-02-16"},null,null,{"$f":"E286+1","v":"2021-02-17"},null,null,{"$f":"H286+1","v":"2021-02-18"},null,null,{"$f":"K286+1","v":"2021-02-19"}]
[null,{"$f":"B277","v":0},null,null,{"$f":"E277","v":0},null,null,{"$f":"H277","v":0},null,null,{"$f":"K277","v":0},null,null,{"$f":"N277","v":0}]
[29,0,null,null,0,null,null,0,null,null,0,null,null,0]
[null,0,null,null,0,null,null,0,null,null,0,null,null,0]
[null,0,null,null,0,null,null,0,null,null,0,null,null,0]
[null,0,null,null,0,null,null,0,null,null,{"$f":"K281","v":0},null,null,0]
[null,0,null,null,0,null,null,0,null,null,0,null,null,0]
[]
[]
[null,null,{"$f":"'1-2a'!$C$295","v":0},null,null,{"$f":"'1-2a'!$F$295","v":0},null,null,{"$f":"'1-2a'!$I$295","v":0},null,null,{"$f":"'1-2a'!$L$295","v":0},null,null,{"$f":"'1-2a'!$O$295","v":0}]
[{"$f":"IF(A286=52,1,A286+1)","v":9},{"$f":"N286+3","v":"2021-02-22"},null,null,{"$f":"B296+1","v":"2021-02-23"},null,null,{"$f":"E296+1","v":"2021-02-24"},null,null,{"$f":"H296+1","v":"2021-02-25"},null,null,{"$f":"K296+1","v":"2021-02-26"}]
[null,{"$f":"B287","v":0},null,null,{"$f":"E287","v":0},null,null,{"$f":"H287","v":0},null,null,{"$f":"K287","v":0},null,null,{"$f":"N287","v":0}]
[30,0,null,null,0,null,null,0,null,null,0,null,null,0]
[null,0,null,null,0,null,null,0,null,null,0,null,null,0]
[null,0,null,null,0,null,null,0,null,null,0,null,null,0]
[null,0,null,null,0,null,null,0,null,null,{"$f":"K291","v":0},null,null,0]
[null,0,null,null,0,null,null,0,null,null,0,null,null,0]
[]
[]
[null,null,{"$f":"'1-2a'!$C$305","v":0},null,null,{"$f":"'1-2a'!$F$305","v":0},null,null,{"$f":"'1-2a'!$I$305","v":0},null,null,{"$f":"'1-2a'!$L$305","v":0},null,null,{"$f":"'1-2a'!$O$305","v":0}]
[{"$f":"IF(A296=52,1,A296+1)","v":10},{"$f":"N296+3","v":"2021-03-01"},null,null,{"$f":"B306+1","v":"2021-03-02"},null,null,{"$f":"E306+1","v":"2021-03-03"},null,null,{"$f":"H306+1","v":"2021-03-04"},null,null,{"$f":"K306+1","v":"2021-03-05"}]
[null,{"$f":"B297","v":0},null,null,{"$f":"E297","v":0},null,null,{"$f":"H297","v":0},null,null,{"$f":"K297","v":0},null,null,{"$f":"N297","v":0}]
[31,0,null,null,0,null,null,0,null,null,0,null,null,0]
[null,0,null,null,0,null,null,0,null,null,0,null,null,0]
[null,0,null,null,0,null,null,0,null,null,0,null,null,0]
[null,0,null,null,0,null,null,0,null,null,{"$f":"K301","v":0},null,null,0]
[null,0,null,null,0,null,null,0,null,null,0,null,null,0]
[]
[]
[null,null,{"$f":"'1-2a'!$C$315","v":0},null,null,{"$f":"'1-2a'!$F$315","v":0},null,null,{"$f":"'1-2a'!$I$315","v":0},null,null,{"$f":"'1-2a'!$L$315","v":0},null,null,{"$f":"'1-2a'!$O$315","v":0}]
[{"$f":"IF(A306=52,1,A306+1)","v":11},{"$f":"N306+3","v":"2021-03-08"},null,null,{"$f":"B316+1","v":"2021-03-09"},null,null,{"$f":"E316+1","v":"2021-03-10"},null,null,{"$f":"H316+1","v":"2021-03-11"},null,null,{"$f":"K316+1","v":"2021-03-12"}]
[null,{"$f":"B307","v":0},null,null,{"$f":"E307","v":0},null,null,{"$f":"H307","v":0},null,null,{"$f":"K307","v":0},null,null,{"$f":"N307","v":0}]
[32,0,null,null,0,null,null,0,null,null,0,null,null,0]
[null,0,null,null,0,null,null,0,null,null,0,null,null,0]
[null,0,null,null,0,null,null,0,null,null,0,null,null,0]
[null,0,null,null,0,null,null,0,null,null,{"$f":"K311","v":0},null,null,0]
[null,0,null,null,0,null,null,0,null,null,0,null,null,0]
[]
[]
[null,null,{"$f":"'1-2a'!$C$325","v":0},null,null,{"$f":"'1-2a'!$F$325","v":0},null,null,{"$f":"'1-2a'!$I$325","v":0},null,null,{"$f":"'1-2a'!$L$325","v":0},null,null,{"$f":"'1-2a'!$O$325","v":0}]
[{"$f":"IF(A316=52,1,A316+1)","v":12},{"$f":"N316+3","v":"2021-03-15"},null,null,{"$f":"B326+1","v":"2021-03-16"},null,null,{"$f":"E326+1","v":"2021-03-17"},null,null,{"$f":"H326+1","v":"2021-03-18"},null,null,{"$f":"K326+1","v":"2021-03-19"}]
[null,{"$f":"B317","v":0},null,null,{"$f":"E317","v":0},null,null,{"$f":"H317","v":0},null,null,{"$f":"K317","v":0},null,null,{"$f":"N317","v":0}]
[33,0,null,null,0,null,null,0,null,null,0,null,null,0]
[null,0,null,null,0,null,null,0,null,null,0,null,null,0]
[null,0,null,null,0,null,null,0,null,null,0,null,null,0]
[null,0,null,null,0,null,null,0,null,null,0,null,null,0]
[null,0,null,null,0,null,null,0,null,null,0,null,null,0]
[]
[]
[null,null,{"$f":"'1-2a'!$C$335","v":0},null,null,{"$f":"'1-2a'!$F$335","v":0},null,null,{"$f":"'1-2a'!$I$335","v":0},null,null,{"$f":"'1-2a'!$L$335","v":0},null,null,{"$f":"'1-2a'!$O$335","v":0}]
[{"$f":"IF(A326=52,1,A326+1)","v":13},{"$f":"N326+3","v":"2021-03-22"},null,null,{"$f":"B336+1","v":"2021-03-23"},null,null,{"$f":"E336+1","v":"2021-03-24"},null,null,{"$f":"H336+1","v":"2021-03-25"},null,null,{"$f":"K336+1","v":"2021-03-26"}]
[null,{"$f":"B327","v":0},null,null,{"$f":"E327","v":0},null,null,{"$f":"H327","v":0},null,null,{"$f":"K327","v":0},null,null,{"$f":"N327","v":0}]
[34,0,null,null,0,null,null,0,null,null,0,null,null,0]
[null,0,null,null,0,null,null,0,null,null,0,null,null,0]
[null,0,null,null,0,null,null,0,null,null,0,null,null,0]
[null,0,null,null,0,null,null,0,null,null,{"$f":"K331","v":0},null,null,0]
[null,0,null,null,0,null,null,0,null,null,0,null,null,0]
[]
[]
[null,null,{"$f":"'1-2a'!$C$345","v":0},null,null,{"$f":"'1-2a'!$F$345","v":0},null,null,{"$f":"'1-2a'!$I$345","v":0},null,null,{"$f":"'1-2a'!$L$345","v":0},null,null,{"$f":"'1-2a'!$O$345","v":0}]
[{"$f":"IF(A336=52,1,A336+1)","v":14},{"$f":"N336+3","v":"2021-03-29"},null,null,{"$f":"B346+1","v":"2021-03-30"},null,null,{"$f":"E346+1","v":"2021-03-31"},null,null,{"$f":"H346+1","v":"2021-04-01"},null,null,{"$f":"K346+1","v":"2021-04-02"}]
[null,{"$f":"B337","v":0},null,null,{"$f":"E337","v":0},null,null,{"$f":"H337","v":0},null,null,{"$f":"K337","v":0},null,null,{"$f":"N337","v":0}]
[35,0,null,null,0,null,null,0,null,null,0,null,null,0]
[null,0,null,null,0,null,null,0,null,null,0,null,null,0]
[null,0,null,null,0,null,null,0,null,null,0,null,null,0]
[null,0,null,null,0,null,null,0,null,null,{"$f":"K341","v":0},null,null,0]
[null,0,null,null,0,null,null,0,null,null,0,null,null,0]
[]
[]
[null,null,{"$f":"'1-2a'!$C$355","v":0},null,null,{"$f":"'1-2a'!$F$355","v":0},null,null,{"$f":"'1-2a'!$I$355","v":0},null,null,{"$f":"'1-2a'!$L$355","v":0},null,null,{"$f":"'1-2a'!$O$355","v":0}]
[{"$f":"IF(A346=52,1,A346+1)","v":15},{"$f":"N346+3","v":"2021-04-05"},null,null,{"$f":"B356+1","v":"2021-04-06"},null,null,{"$f":"E356+1","v":"2021-04-07"},null,null,{"$f":"H356+1","v":"2021-04-08"},null,null,{"$f":"K356+1","v":"2021-04-09"}]
[null,{"$f":"B347","v":0},null,null,{"$f":"E347","v":0},null,null,{"$f":"H347","v":0},null,null,{"$f":"K347","v":0},null,null,{"$f":"N347","v":0}]
[36,0,null,null,0,null,null,0,null,null,0,null,null,0]
[null,0,null,null,0,null,null,0,null,null,0,null,null,0]
[null,0,null,null,0,null,null,0,null,null,0,null,null,0]
[null,0,null,null,0,null,null,0,null,null,{"$f":"K351","v":0},null,null,0]
[null,0,null,null,0,null,null,0,null,null,0,null,null,0]
[]
[]
[null,null,{"$f":"'1-2a'!$C$365","v":0},null,null,{"$f":"'1-2a'!$F$365","v":0},null,null,{"$f":"'1-2a'!$I$365","v":0},null,null,{"$f":"'1-2a'!$L$365","v":0},null,null,{"$f":"'1-2a'!$O$365","v":0}]
[{"$f":"IF(A356=52,1,A356+1)","v":16},{"$f":"N356+3","v":"2021-04-12"},null,null,{"$f":"B366+1","v":"2021-04-13"},null,null,{"$f":"E366+1","v":"2021-04-14"},null,null,{"$f":"H366+1","v":"2021-04-15"},null,null,{"$f":"K366+1","v":"2021-04-16"}]
[null,{"$f":"B357","v":0},null,null,{"$f":"E357","v":0},null,null,{"$f":"H357","v":0},null,null,{"$f":"K357","v":0},null,null,{"$f":"N357","v":0}]
[37,0,null,null,0,null,null,0,null,null,0,null,null,0]
[null,0,null,null,0,null,null,0,null,null,0,null,null,0]
[null,0,null,null,0,null,null,0,null,null,0,null,null,0]
[null,0,null,null,0,null,null,0,null,null,{"$f":"K361","v":0},null,null,0]
[null,0,null,null,0,null,null,0,null,null,0,null,null,0]
[]
[]
[null,null,{"$f":"'1-2a'!$C$375","v":0},null,null,{"$f":"'1-2a'!$F$375","v":0},null,null,{"$f":"'1-2a'!$I$375","v":0},null,null,{"$f":"'1-2a'!$L$375","v":0},null,null,{"$f":"'1-2a'!$O$375","v":0}]
[{"$f":"IF(A366=52,1,A366+1)","v":17},{"$f":"N366+3","v":"2021-04-19"},null,null,{"$f":"B376+1","v":"2021-04-20"},null,null,{"$f":"E376+1","v":"2021-04-21"},null,null,{"$f":"H376+1","v":"2021-04-22"},null,null,{"$f":"K376+1","v":"2021-04-23"}]
[null,{"$f":"B367","v":0},null,null,{"$f":"E367","v":0},null,null,{"$f":"H367","v":0},null,null,{"$f":"K367","v":0},null,null,{"$f":"N367","v":0}]
[38,0,null,null,0,null,null,0,null,null,0,null,null,0]
[null,0,null,null,0,null,null,0,null,null,0,null,null,0]
[null,0,null,null,0,null,null,0,null,null,0,null,null,0]
[null,0,null,null,0,null,null,0,null,null,{"$f":"K371","v":0},null,null,0]
[null,0,null,null,0,null,null,0,null,null,0,null,null,0]
[]
[]
[null,null,{"$f":"'1-2a'!$C$385","v":0},null,null,{"$f":"'1-2a'!$F$385","v":0},null,null,{"$f":"'1-2a'!$I$385","v":0},null,null,{"$f":"'1-2a'!$L$385","v":0},null,null,{"$f":"'1-2a'!$O$385","v":0}]
[{"$f":"IF(A376=52,1,A376+1)","v":18},{"$f":"N376+3","v":"2021-04-26"},null,null,{"$f":"B386+1","v":"2021-04-27"},null,null,{"$f":"E386+1","v":"2021-04-28"},null,null,{"$f":"H386+1","v":"2021-04-29"},null,null,{"$f":"K386+1","v":"2021-04-30"}]
[null,{"$f":"B377","v":0},null,null,{"$f":"E377","v":0},null,null,{"$f":"H377","v":0},null,null,{"$f":"K377","v":0},null,null,{"$f":"N377","v":0}]
[39,0,null,null,0,null,null,0,null,null,0,null,null,0]
[null,0,null,null,0,null,null,0,null,null,0,null,null,0]
[null,0,null,null,0,null,null,0,null,null,0,null,null,0]
[null,0,null,null,0,null,null,0,null,null,{"$f":"K381","v":0},null,null,0]
[null,0,null,null,0,null,null,0,null,null,0,null,null,0]
[]
[]
[null,null,{"$f":"'1-2a'!$C$395","v":0},null,null,{"$f":"'1-2a'!$F$395","v":0},null,null,{"$f":"'1-2a'!$I$395","v":0},null,null,{"$f":"'1-2a'!$L$395","v":0},null,null,{"$f":"'1-2a'!$O$395","v":0}]
[{"$f":"IF(A386=52,1,A386+1)","v":19},{"$f":"N386+3","v":"2021-05-03"},null,null,{"$f":"B396+1","v":"2021-05-04"},null,null,{"$f":"E396+1","v":"2021-05-05"},null,null,{"$f":"H396+1","v":"2021-05-06"},null,null,{"$f":"K396+1","v":"2021-05-07"}]
[null,{"$f":"B387","v":0},null,null,{"$f":"E387","v":0},null,null,{"$f":"H387","v":0},null,null,{"$f":"K387","v":0},null,null,{"$f":"N387","v":0}]
[40,0,null,null,0,null,null,0,null,null,0,null,null,0]
[null,0,null,null,0,null,null,0,null,null,0,null,null,0]
[null,0,null,null,0,null,null,0,null,null,0,null,null,0]
[null,0,null,null,0,null,null,0,null,null,{"$f":"K391","v":0},null,null,0]
[null,0,null,null,0,null,null,0,null,null,0,null,null,0]
[]
[]
[null,null,{"$f":"'1-2a'!$C$405","v":0},null,null,{"$f":"'1-2a'!$F$405","v":0},null,null,{"$f":"'1-2a'!$I$405","v":0},null,null,{"$f":"'1-2a'!$L$405","v":0},null,null,{"$f":"'1-2a'!$O$405","v":0}]
[{"$f":"IF(A396=52,1,A396+1)","v":20},{"$f":"N396+3","v":"2021-05-10"},null,null,{"$f":"B406+1","v":"2021-05-11"},null,null,{"$f":"E406+1","v":"2021-05-12"},null,null,{"$f":"H406+1","v":"2021-05-13"},null,null,{"$f":"K406+1","v":"2021-05-14"}]
[null,{"$f":"B397","v":0},null,null,{"$f":"E397","v":0},null,null,{"$f":"H397","v":0},null,null,{"$f":"K397","v":0},null,null,{"$f":"N397","v":0}]
[41,0,null,null,0,null,null,0,null,null,0,null,null,0]
[null,0,null,null,0,null,null,0,null,null,0,null,null,0]
[null,0,null,null,0,null,null,0,null,null,0,null,null,0]
[null,0,null,null,0,null,null,0,null,null,0,null,null,0]
[null,0,null,null,0,null,null,0,null,null,0,null,null,0]
[]
[]
[null,null,{"$f":"'1-2a'!$C$415","v":0},null,null,{"$f":"'1-2a'!$F$415","v":0},null,null,{"$f":"'1-2a'!$I$415","v":0},null,null,{"$f":"'1-2a'!$L$415","v":0},null,null,{"$f":"'1-2a'!$O$415","v":0}]
[{"$f":"IF(A406=52,1,A406+1)","v":21},{"$f":"N406+3","v":"2021-05-17"},null,null,{"$f":"B416+1","v":"2021-05-18"},null,null,{"$f":"E416+1","v":"2021-05-19"},null,null,{"$f":"H416+1","v":"2021-05-20"},null,null,{"$f":"K416+1","v":"2021-05-21"}]
[null,{"$f":"B407","v":0},null,null,{"$f":"E407","v":0},null,null,{"$f":"H407","v":0},null,null,{"$f":"K407","v":0},null,null,{"$f":"N407","v":0}]
[42,0,null,null,0,null,null,0,null,null,0,null,null,0]
[null,0,null,null,0,null,null,0,null,null,0,null,null,0]
[null,0,null,null,0,null,null,0,null,null,0,null,null,0]
[null,0,null,null,0,null,null,0,null,null,{"$f":"K411","v":0},null,null,0]
[null,0,null,null,0,null,null,0,null,null,0,null,null,0]
[]
[]
[null,null,{"$f":"'1-2a'!$C$425","v":0},null,null,{"$f":"'1-2a'!$F$425","v":0},null,null,{"$f":"'1-2a'!$I$425","v":0},null,null,{"$f":"'1-2a'!$L$425","v":0},null,null,{"$f":"'1-2a'!$O$425","v":0}]
[{"$f":"IF(A416=52,1,A416+1)","v":22},{"$f":"N416+3","v":"2021-05-24"},null,null,{"$f":"B426+1","v":"2021-05-25"},null,null,{"$f":"E426+1","v":"2021-05-26"},null,null,{"$f":"H426+1","v":"2021-05-27"},null,null,{"$f":"K426+1","v":"2021-05-28"}]
[null,{"$f":"B417","v":0},null,null,{"$f":"E417","v":0},null,null,{"$f":"H417","v":0},null,null,{"$f":"K417","v":0},null,null,{"$f":"N417","v":0}]
[43,0,null,null,0,null,null,0,null,null,0,null,null,0]
[null,0,null,null,0,null,null,0,null,null,0,null,null,0]
[null,0,null,null,0,null,null,0,null,null,0,null,null,0]
[null,0,null,null,0,null,null,0,null,null,{"$f":"K421","v":0},null,null,0]
[null,0,null,null,0,null,null,0,null,null,0,null,null,0]
[]
[]
[null,null,{"$f":"'1-2a'!$C$435","v":0},null,null,{"$f":"'1-2a'!$F$435","v":0},null,null,{"$f":"'1-2a'!$I$435","v":0},null,null,{"$f":"'1-2a'!$L$435","v":0},null,null,{"$f":"'1-2a'!$O$435","v":0}]
[{"$f":"IF(A426=52,1,A426+1)","v":23},{"$f":"N426+3","v":"2021-05-31"},null,null,{"$f":"B436+1","v":"2021-06-01"},null,null,{"$f":"E436+1","v":"2021-06-02"},null,null,{"$f":"H436+1","v":"2021-06-03"},null,null,{"$f":"K436+1","v":"2021-06-04"}]
[null,{"$f":"B427","v":0},null,null,{"$f":"E427","v":0},null,null,{"$f":"H427","v":0},null,null,{"$f":"K427","v":0},null,null,{"$f":"N427","v":0}]
[44,0,null,null,0,null,null,0,null,null,0,null,null,0]
[null,0,null,null,0,null,null,0,null,null,0,null,null,0]
[null,0,null,null,0,null,null,0,null,null,0,null,null,0]
[null,0,null,null,0,null,null,0,null,null,{"$f":"K431","v":0},null,null,0]
[null,0,null,null,0,null,null,0,null,null,0,null,null,0]
[]
[]
[null,null,{"$f":"'1-2a'!$C$445","v":0},null,null,{"$f":"'1-2a'!$F$445","v":0},null,null,{"$f":"'1-2a'!$I$445","v":0},null,null,{"$f":"'1-2a'!$L$445","v":0},null,null,{"$f":"'1-2a'!$O$445","v":0}]
[{"$f":"IF(A436=52,1,A436+1)","v":24},{"$f":"N436+3","v":"2021-06-07"},null,null,{"$f":"B446+1","v":"2021-06-08"},null,null,{"$f":"E446+1","v":"2021-06-09"},null,null,{"$f":"H446+1","v":"2021-06-10"},null,null,{"$f":"K446+1","v":"2021-06-11"}]
[null,{"$f":"B437","v":0},null,null,{"$f":"E437","v":0},null,null,{"$f":"H437","v":0},null,null,{"$f":"K437","v":0},null,null,{"$f":"N437","v":0}]
[45,0,null,null,0,null,null,0,null,null,0,null,null,0]
[null,0,null,null,0,null,null,0,null,null,0,null,null,0]
[null,0,null,null,0,null,null,0,null,null,0,null,null,0]
[null,0,null,null,0,null,null,0,null,null,{"$f":"K441","v":0},null,null,0]
[null,0,null,null,0,null,null,0,null,null,0,null,null,0]
[]
[]
[null,null,{"$f":"'1-2a'!$C$455","v":0},null,null,{"$f":"'1-2a'!$F$455","v":0},null,null,{"$f":"'1-2a'!$I$455","v":0},null,null,{"$f":"'1-2a'!$L$455","v":0},null,null,{"$f":"'1-2a'!$O$455","v":0}]
[{"$f":"IF(A446=52,1,A446+1)","v":25},{"$f":"N446+3","v":"2021-06-14"},null,null,{"$f":"B456+1","v":"2021-06-15"},null,null,{"$f":"E456+1","v":"2021-06-16"},null,null,{"$f":"H456+1","v":"2021-06-17"},null,null,{"$f":"K456+1","v":"2021-06-18"}]
[null,{"$f":"B447","v":0},null,null,{"$f":"E447","v":0},null,null,{"$f":"H447","v":0},null,null,{"$f":"K447","v":0},null,null,{"$f":"N447","v":0}]
[46,0,null,null,0,null,null,0,null,null,0,null,null,0]
[null,0,null,null,0,null,null,0,null,null,0,null,null,0]
[null,0,null,null,0,null,null,0,null,null,0,null,null,0]
[null,0,null,null,0,null,null,0,null,null,{"$f":"K451","v":0},null,null,0]
[null,0,null,null,0,null,null,0,null,null,0,null,null,0]
[]
[]
[null,null,{"$f":"'1-2a'!$C$465","v":0},null,null,{"$f":"'1-2a'!$F$465","v":0},null,null,{"$f":"'1-2a'!$I$465","v":0},null,null,{"$f":"'1-2a'!$L$465","v":0},null,null,{"$f":"'1-2a'!$O$465","v":0}]
[{"$f":"IF(A456=52,1,A456+1)","v":26},{"$f":"N456+3","v":"2021-06-21"},null,null,{"$f":"B466+1","v":"2021-06-22"},null,null,{"$f":"E466+1","v":"2021-06-23"},null,null,{"$f":"H466+1","v":"2021-06-24"},null,null,{"$f":"K466+1","v":"2021-06-25"}]
[null,{"$f":"B457","v":0},null,null,{"$f":"E457","v":0},null,null,{"$f":"H457","v":0},null,null,{"$f":"K457","v":0},null,null,{"$f":"N457","v":0}]
[47,0,null,null,0,null,null,0,null,null,0,null,null,0]
[null,0,null,null,0,null,null,0,null,null,0,null,null,0]
[null,0,null,null,0,null,null,0,null,null,0,null,null,0]
[null,0,null,null,0,null,null,0,null,null,{"$f":"K461","v":0},null,null,0]
[null,0,null,null,0,null,null,0,null,null,0,null,null,0]
[]
[]
[null,null,{"$f":"'1-2a'!$C$475","v":0},null,null,{"$f":"'1-2a'!$F$475","v":0},null,null,{"$f":"'1-2a'!$I$475","v":0},null,null,{"$f":"'1-2a'!$L$475","v":0},null,null,{"$f":"'1-2a'!$O$475","v":0}]
[{"$f":"IF(A466=52,1,A466+1)","v":27},{"$f":"N466+3","v":"2021-06-28"},null,null,{"$f":"B476+1","v":"2021-06-29"},null,null,{"$f":"E476+1","v":"2021-06-30"},null,null,{"$f":"H476+1","v":"2021-07-01"},null,null,{"$f":"K476+1","v":"2021-07-02"}]
[null,{"$f":"B467","v":0},null,null,{"$f":"E467","v":0},null,null,{"$f":"H467","v":0},null,null,{"$f":"K467","v":0},null,null,{"$f":"N467","v":0}]
[48,0,null,null,0,null,null,0,null,null,0,null,null,0]
[null,0,null,null,0,null,null,0,null,null,0,null,null,0]
[null,0,null,null,0,null,null,0,null,null,0,null,null,0]
[null,0,null,null,0,null,null,0,null,null,{"$f":"K471","v":0},null,null,0]
[null,0,null,null,0,null,null,0,null,null,0,null,null,0]
[]
[]
[null,null,{"$f":"'1-2a'!$C$485","v":0},null,null,{"$f":"'1-2a'!$F$485","v":0},null,null,{"$f":"'1-2a'!$I$485","v":0},null,null,{"$f":"'1-2a'!$L$485","v":0},null,null,{"$f":"'1-2a'!$O$485","v":0}]
[{"$f":"IF(A476=52,1,A476+1)","v":28},{"$f":"N476+3","v":"2021-07-05"},null,null,{"$f":"B486+1","v":"2021-07-06"},null,null,{"$f":"E486+1","v":"2021-07-07"},null,null,{"$f":"H486+1","v":"2021-07-08"},null,null,{"$f":"K486+1","v":"2021-07-09"}]
[null,{"$f":"B477","v":0},null,null,{"$f":"E477","v":0},null,null,{"$f":"H477","v":0},null,null,{"$f":"K477","v":0},null,null,{"$f":"N477","v":0}]
[49,0,null,null,0,null,null,0,null,null,0,null,null,0]
[null,0,null,null,0,null,null,0,null,null,0,null,null,0]
[null,0,null,null,0,null,null,0,null,null,0,null,null,0]
[null,0,null,null,0,null,null,0,null,null,0,null,null,0]
[null,0,null,null,0,null,null,0,null,null,0,null,null,0]
[]
[]
[null,null,{"$f":"'1-2a'!$C$495","v":0},null,null,{"$f":"'1-2a'!$F$495","v":0},null,null,{"$f":"'1-2a'!$I$495","v":0},null,null,{"$f":"'1-2a'!$L$495","v":0},null,null,{"$f":"'1-2a'!$O$495","v":0}]
[{"$f":"IF(A486=52,1,A486+1)","v":29},{"$f":"N486+3","v":"2021-07-12"},null,null,{"$f":"B496+1","v":"2021-07-13"},null,null,{"$f":"E496+1","v":"2021-07-14"},null,null,{"$f":"H496+1","v":"2021-07-15"},null,null,{"$f":"K496+1","v":"2021-07-16"}]
[null,{"$f":"B487","v":0},null,null,{"$f":"E487","v":0},null,null,{"$f":"H487","v":0},null,null,{"$f":"K487","v":0},null,null,{"$f":"N487","v":0}]
[50,0,null,null,0,null,null,0,null,null,0]
[null,0,null,null,0,null,null,0,null,null,0,null,null,0]
[null,0,null,null,0,null,null,0,null,null,0,null,null,0]
[null,0,null,null,0,null,null,0,null,null,{"$f":"K491","v":0},null,null,0]
[null,0,null,null,0,null,null,0,null,null,0]

{"sheet":"8","index":8,"n_rows":502,"n_cols":15,"rows_kept":502,"cut":false,"hidden":false,"merged":[[5,1,5,3],[5,4,5,6],[5,7,5,9],[5,10,5,12],[5,13,5,15],[7,0,8,0],[1,1,2,7],[1,9,2,12],[1,13,2,15],[3,1,3,3],[3,4,3,6],[3,7,3,9],[3,10,3,12],[3,13,3,15],[12,1,13,3],[12,4,13,6],[12,7,13,9],[12,10,13,12],[12,13,13,15],[15,1,15,3],[15,4,15,6],[15,7,15,9],[15,10,15,12],[15,13,15,15],[25,1,25,3],[25,4,25,6],[25,7,25,9],[25,10,25,12],[25,13,25,15],[27,0,28,0],[17,0,18,0],[22,1,23,3],[22,4,23,6],[22,7,23,9],[22,10,23,12],[22,13,23,15],[32,1,33,3],[32,4,33,6],[32,7,33,9],[32,10,33,12],[32,13,33,15],[35,1,35,3],[35,4,35,6],[35,7,35,9],[35,10,35,12],[35,13,35,15],[45,1,45,3],[45,4,45,6],[45,7,45,9],[45,10,45,12],[45,13,45,15],[47,0,48,0],[37,0,38,0],[42,1,43,3],[42,4,43,6],[42,7,43,9],[42,10,43,12],[42,13,43,15],[52,1,53,3],[52,4,53,6],[52,7,53,9],[52,10,53,12],[52,13,53,15],[55,1,55,3],[55,4,55,6],[55,7,55,9],[55,10,55,12],[55,13,55,15],[65,1,65,3],[65,4,65,6],[65,7,65,9],[65,10,65,12],[65,13,65,15],[67,0,68,0],[57,0,58,0],[62,1,63,3],[62,4,63,6],[62,7,63,9],[62,10,63,12],[62,13,63,15],[72,1,73,3],[72,4,73,6],[72,7,73,9],[72,10,73,12],[72,13,73,15],[75,1,75,3],[75,4,75,6],[75,7,75,9],[75,10,75,12],[75,13,75,15],[85,1,85,3],[85,4,85,6],[85,7,85,9],[85,10,85,12],[85,13,85,15],[87,0,88,0],[77,0,78,0],[82,1,83,3],[82,4,83,6],[82,7,83,9],[82,10,83,12],[82,13,83,15],[92,1,93,3],[92,4,93,6],[92,7,93,9],[92,10,93,12],[92,13,93,15],[95,1,95,3],[95,4,95,6],[95,7,95,9],[95,10,95,12],[95,13,95,15],[105,1,105,3],[105,4,105,6],[105,7,105,9],[105,10,105,12],[105,13,105,15],[107,0,108,0],[97,0,98,0],[99,16,100,19],[102,1,103,3],[102,4,103,6],[102,7,103,9],[102,10,103,12],[102,13,103,15],[112,1,113,3],[112,4,113,6],[112,7,113,9],[112,10,113,12],[112,13,113,15],[115,1,115,3],[115,4,115,6],[115,7,115,9],[115,10,115,12],[115,13,115,15],[125,1,125,3],[125,4,125,6],[125,7,125,9],[125,10,125,12],[125,13,125,15],[127,0,128,0],[117,0,118,0],[122,1,123,3],[122,4,123,6],[122,7,123,9],[122,10,123,12],[122,13,123,15],[132,1,133,3],[132,4,133,6],[132,7,133,9],[132,10,133,12],[132,13,133,15],[135,1,135,3],[135,4,135,6],[135,7,135,9],[135,10,135,12],[135,13,135,15],[145,1,145,3],[145,4,145,6],[145,7,145,9],[145,10,145,12],[145,13,145,15],[147,0,148,0],[137,0,138,0],[142,1,143,3],[142,4,143,6],[142,7,143,9],[142,10,143,12],[142,13,143,15],[152,1,153,3],[152,4,153,6],[152,7,153,9],[152,10,153,12],[152,13,153,15],[155,1,155,3],[155,4,155,6],[155,7,155,9],[155,10,155,12],[155,13,155,15],[165,1,165,3],[165,4,165,6],[165,7,165,9],[165,10,165,12],[165,13,165,15],[167,0,168,0],[157,0,158,0],[162,1,163,3],[162,4,163,6],[162,7,163,9],[162,10,163,12],[162,13,163,15],[172,1,173,3],[172,4,173,6],[172,7,173,9],[172,10,173,12],[172,13,173,15],[175,1,175,3],[175,4,175,6],[175,7,175,9],[175,10,175,12],[175,13,175,15],[185,1,185,3],[185,4,185,6],[185,7,185,9],[185,10,185,12],[185,13,185,15],[187,0,188,0],[177,0,178,0],[179,16,180,19],[182,1,183,3],[182,4,183,6],[182,7,183,9],[182,10,183,12],[182,13,183,15],[192,1,193,3],[192,4,193,6],[192,7,193,9],[192,10,193,12],[192,13,193,15],[195,1,195,3],[195,4,195,6],[195,7,195,9],[195,10,195,12],[195,13,195,15],[205,1,205,3],[205,4,205,6],[205,7,205,9],[205,10,205,12],[205,13,205,15],[207,0,208,0],[197,0,198,0],[202,1,203,3],[202,4,203,6],[202,7,203,9],[202,10,203,12],[202,13,203,15],[212,1,213,3],[212,4,213,6],[212,7,213,9],[212,10,213,12],[212,13,213,15],[215,1,215,3],[215,4,215,6],[215,7,215,9],[215,10,215,12],[215,13,215,15],[225,1,225,3],[225,4,225,6],[225,7,225,9],[225,10,225,12],[225,13,225,15],[227,0,228,0],[217,0,218,0],[222,1,223,3],[222,4,223,6],[222,7,223,9],[222,10,223,12],[222,13,223,15],[232,1,233,3],[232,4,233,6],[232,7,233,9],[232,10,233,12],[232,13,233,15],[235,1,235,3],[235,4,235,6],[235,7,235,9],[235,10,235,12],[235,13,235,15],[245,1,245,3],[245,4,245,6],[245,7,245,9],[245,10,245,12],[245,13,245,15],[247,0,248,0],[237,0,238,0],[242,1,243,3],[242,4,243,6],[242,7,243,9],[242,10,243,12],[242,13,243,15],[252,1,253,3],[252,4,253,6],[252,7,253,9],[252,10,253,12],[252,13,253,15],[255,1,255,3],[255,4,255,6],[255,7,255,9],[255,10,255,12],[255,13,255,15],[265,1,265,3],[265,4,265,6],[265,7,265,9],[265,10,265,12],[265,13,265,15],[267,0,268,0],[257,0,258,0],[259,16,260,19],[262,1,263,3],[262,4,263,6],[262,7,263,9],[262,10,263,12],[262,13,263,15],[272,1,273,3],[272,4,273,6],[272,7,273,9],[272,10,273,12],[272,13,273,15],[275,1,275,3],[275,4,275,6],[275,7,275,9],[275,10,275,12],[275,13,275,15],[285,1,285,3],[285,4,285,6],[285,7,285,9],[285,10,285,12],[285,13,285,15],[287,0,288,0],[277,0,278,0],[282,1,283,3],[282,4,283,6],[282,7,283,9],[282,10,283,12],[282,13,283,15],[292,1,293,3],[292,4,293,6],[292,7,293,9],[292,10,293,12],[292,13,293,15],[295,1,295,3],[295,4,295,6],[295,7,295,9],[295,10,295,12],[295,13,295,15],[305,1,305,3],[305,4,305,6],[305,7,305,9],[305,10,305,12],[305,13,305,15],[307,0,308,0],[297,0,298,0],[302,1,303,3],[302,4,303,6],[302,7,303,9],[302,10,303,12],[302,13,303,15],[312,1,313,3],[312,4,313,6],[312,7,313,9],[312,10,313,12],[312,13,313,15],[315,1,315,3],[315,4,315,6],[315,7,315,9],[315,10,315,12],[315,13,315,15],[325,1,325,3],[325,4,325,6],[325,7,325,9],[325,10,325,12],[325,13,325,15],[327,0,328,0],[317,0,318,0],[322,1,323,3],[322,4,323,6],[322,7,323,9],[322,10,323,12],[322,13,323,15],[332,1,333,3],[332,4,333,6],[332,7,333,9],[332,10,333,12],[332,13,333,15],[335,1,335,3],[335,4,335,6],[335,7,335,9],[335,10,335,12],[335,13,335,15],[345,1,345,3],[345,4,345,6],[345,7,345,9],[345,10,345,12],[345,13,345,15],[347,0,348,0],[337,0,338,0],[339,16,340,19],[342,1,343,3],[342,4,343,6],[342,7,343,9],[342,10,343,12],[342,13,343,15],[352,1,353,3],[352,4,353,6],[352,7,353,9],[352,10,353,12],[352,13,353,15],[355,1,355,3],[355,4,355,6],[355,7,355,9],[355,10,355,12],[355,13,355,15],[365,1,365,3],[365,4,365,6],[365,7,365,9],[365,10,365,12],[365,13,365,15],[367,0,368,0],[357,0,358,0],[362,1,363,3],[362,4,363,6],[362,7,363,9],[362,10,363,12],[362,13,363,15],[372,1,373,3],[372,4,373,6],[372,7,373,9],[372,10,373,12],[372,13,373,15],[375,1,375,3],[375,4,375,6],[375,7,375,9],[375,10,375,12],[375,13,375,15],[385,1,385,3],[385,4,385,6],[385,7,385,9],[385,10,385,12],[385,13,385,15],[387,0,388,0],[377,0,378,0],[382,1,383,3],[382,4,383,6],[382,7,383,9],[382,10,383,12],[382,13,383,15],[392,1,393,3],[392,4,393,6],[392,7,393,9],[392,10,393,12],[392,13,393,15],[395,1,395,3],[395,4,395,6],[395,7,395,9],[395,10,395,12],[395,13,395,15],[405,1,405,3],[405,4,405,6],[405,7,405,9],[405,10,405,12],[405,13,405,15],[407,0,408,0],[397,0,398,0],[402,1,403,3],[402,4,403,6],[402,7,403,9],[402,10,403,12],[402,13,403,15],[412,1,413,3],[412,4,413,6],[412,7,413,9],[412,10,413,12],[412,13,413,15],[415,1,415,3],[415,4,415,6],[415,7,415,9],[415,10,415,12],[415,13,415,15],[425,1,425,3],[425,4,425,6],[425,7,425,9],[425,10,425,12],[425,13,425,15],[427,0,428,0],[417,0,418,0],[419,16,420,19],[422,1,423,3],[422,4,423,6],[422,7,423,9],[422,10,423,12],[422,13,423,15],[432,1,433,3],[432,4,433,6],[432,7,433,9],[432,10,433,12],[432,13,433,15],[435,1,435,3],[435,4,435,6],[435,7,435,9],[435,10,435,12],[435,13,435,15],[445,1,445,3],[445,4,445,6],[445,7,445,9],[445,10,445,12],[445,13,445,15],[447,0,448,0],[437,0,438,0],[442,1,443,3],[442,4,443,6],[442,7,443,9],[442,10,443,12],[442,13,443,15],[452,1,453,3],[452,4,453,6],[452,7,453,9],[452,10,453,12],[452,13,453,15],[455,1,455,3],[455,4,455,6],[455,7,455,9],[455,10,455,12],[455,13,455,15],[465,1,465,3],[465,4,465,6],[465,7,465,9],[465,10,465,12],[465,13,465,15],[467,0,468,0],[457,0,458,0],[462,1,463,3],[462,4,463,6],[462,7,463,9],[462,10,463,12],[462,13,463,15],[472,1,473,3],[472,4,473,6],[472,7,473,9],[472,10,473,12],[472,13,473,15],[475,1,475,3],[475,4,475,6],[475,7,475,9],[475,10,475,12],[475,13,475,15],[485,1,485,3],[485,4,485,6],[485,7,485,9],[485,10,485,12],[485,13,485,15],[487,0,488,0],[477,0,478,0],[482,1,483,3],[482,4,483,6],[482,7,483,9],[482,10,483,12],[482,13,483,15],[497,0,498,0],[499,16,500,19],[502,1,503,3],[502,4,503,6],[502,7,503,9],[502,10,503,12],[502,13,503,15],[492,1,493,3],[492,4,493,6],[492,7,493,9],[492,10,493,12],[492,13,493,15],[495,1,495,3],[495,4,495,6],[495,7,495,9],[495,10,495,12],[495,13,495,15]]}
[]
[null,{"$f":"'1-2a'!B2:H3","v":"Basisschool De Grote Beer        schooljaar 2020/2021"},null,null,null,null,null,null,null,"Groepsplanner van groep:",null,null,null,"8"]
[]
[null,"maandag 1e schoolweek",null,null,"dinsdag",null,null,"woensdag",null,null,"donderdag",null,null,"vrijdag"]
[null,null,{"$f":"'1-2a'!C$5","v":0},null,null,{"$f":"'1-2a'!F5","v":0},null,null,{"$f":"'1-2a'!I$5","v":0},null,null,{"$f":"'1-2a'!L$5","v":"s"},null,null,{"$f":"'1-2a'!O$5","v":0}]
[{"$f":"(B6-WEEKDAY(B6-1)+4-(TRUNC(DATE(YEAR(B6-WEEKDAY(B6-1)+4),1,2)/7)*7-2))/7","v":32},{"$f":"'1-2a'!B6:D6","v":"2020-08-03"},null,null,{"$f":"B6+1","v":"2020-08-04"},null,null,{"$f":"E6+1","v":"2020-08-05"},null,null,{"$f":"H6+1","v":"2020-08-06"},null,null,{"$f":"K6+1","v":"2020-08-07"}]
[]
[1]
[]
[]
[]
[]
[]
[]
[null,null,{"$f":"'1-2a'!C$15","v":0},null,null,{"$f":"'1-2a'!F$15","v":0},null,null,{"$f":"'1-2a'!I$15","v":0},null,null,{"$f":"'1-2a'!L$15","v":0},null,null,{"$f":"'1-2a'!O15","v":0}]
[{"$f":"IF(A6=52,1,A6+1)","v":33},{"$f":"N6+3","v":"2020-08-10"},null,null,{"$f":"B16+1","v":"2020-08-11"},null,null,{"$f":"E16+1","v":"2020-08-12"},null,null,{"$f":"H16+1","v":"2020-08-13"},null,null,{"$f":"K16+1","v":"2020-08-14"}]
[null,{"$f":"B7","v":0},null,null,{"$f":"E7","v":0},null,null,{"$f":"H7","v":0},null,null,{"$f":"K7","v":0},null,null,{"$f":"N7","v":0}]
[2,0,null,null,0,null,null,0,null,null,0,null,null,0]
[null,0,null,null,0,null,null,0,null,null,0,null,null,0]
[null,0,null,null,0,null,null,0,null,null,0,null,null,0]
[null,0,null,null,0,null,null,0,null,null,0,null,null,0]
[null,0,null,null,0,null,null,0,null,null,0,null,null,0]
[]
[]
[null,null,{"$f":"'1-2a'!C$25","v":0},null,null,{"$f":"'1-2a'!F$25","v":0},null,null,{"$f":"'1-2a'!I25","v":0},null,null,{"$f":"'1-2a'!L25","v":0},null,null,{"$f":"'1-2a'!O25","v":0}]
[{"$f":"IF(A16=52,1,A16+1)","v":34},{"$f":"N16+3","v":"2020-08-17"},null,null,{"$f":"B26+1","v":"2020-08-18"},null,null,{"$f":"E26+1","v":"2020-08-19"},null,null,{"$f":"H26+1","v":"2020-08-20"},null,null,{"$f":"K26+1","v":"2020-08-21"}]
[null,{"$f":"B17","v":0},null,null,{"$f":"E17","v":0},null,null,{"$f":"H17","v":0},null,null,{"$f":"K17","v":0},null,null,{"$f":"N17","v":0}]
[3,0,null,null,0,null,null,0,null,null,0,null,null,0]
[null,0,null,null,0,null,null,0,null,null,0,null,null,0]
[null,0,null,null,0,null,null,0,null,null,0,null,null,0]
[null,0,null,null,0,null,null,0,null,null,{"$f":"K21","v":0},null,null,0]
[null,0,null,null,0,null,null,0,null,null,0,null,null,0]
[]
[]
[null,null,{"$f":"'1-2a'!$C$35","v":0},null,null,{"$f":"'1-2a'!$F$35","v":0},null,null,{"$f":"'1-2a'!$I$35","v":0},null,null,{"$f":"'1-2a'!$L$35","v":0},null,null,{"$f":"'1-2a'!$O$35","v":0}]
[{"$f":"IF(A26=52,1,A26+1)","v":35},{"$f":"N26+3","v":"2020-08-24"},null,null,{"$f":"B36+1","v":"2020-08-25"},null,null,{"$f":"E36+1","v":"2020-08-26"},null,null,{"$f":"H36+1","v":"2020-08-27"},null,null,{"$f":"K36+1","v":"2020-08-28"}]
[null,{"$f":"B27","v":0},null,null,{"$f":"E27","v":0},null,null,{"$f":"H27","v":0},null,null,{"$f":"K27","v":0},null,null,{"$f":"N27","v":0}]
[4,0,null,null,0,null,null,0,null,null,0,null,null,0]
[null,0,null,null,0,null,null,0,null,null,0,null,null,0]
[null,0,null,null,0,null,null,0,null,null,0,null,null,0]
[null,0,null,null,0,null,null,0,null,null,{"$f":"K31","v":0},null,null,0]
[null,0,null,null,0,null,null,0,null,null,0,null,null,0]
[]
[]
[null,null,{"$f":"'1-2a'!$C$45","v":0},null,null,{"$f":"'1-2a'!$F$45","v":0},null,null,{"$f":"'1-2a'!$I$45","v":0},null,null,{"$f":"'1-2a'!$L$45","v":0},null,null,{"$f":"'1-2a'!$O$45","v":0}]
[{"$f":"IF(A36=52,1,A36+1)","v":36},{"$f":"N36+3","v":"2020-08-31"},null,null,{"$f":"B46+1","v":"2020-09-01"},null,null,{"$f":"E46+1","v":"2020-09-02"},null,null,{"$f":"H46+1","v":"2020-09-03"},null,null,{"$f":"K46+1","v":"2020-09-04"}]
[null,{"$f":"B37","v":0},null,null,{"$f":"E37","v":0},null,null,{"$f":"H37","v":0},null,null,{"$f":"K37","v":0},null,null,{"$f":"N37","v":0}]
[5,0,null,null,0,null,null,0,null,null,0,null,null,0]
[null,0,null,null,0,null,null,0,null,null,0,null,null,0]
[null,0,null,null,0,null,null,0,null,null,0,null,null,0]
[null,0,null,null,0,null,null,0,null,null,{"$f":"K41","v":0},null,null,0]
[null,0,null,null,0,null,null,0,null,null,0,null,null,0]
[]
[]
[null,null,{"$f":"'1-2a'!$C$55","v":0},null,null,{"$f":"'1-2a'!$F$55","v":0},null,null,{"$f":"'1-2a'!$I$55","v":0},null,null,{"$f":"'1-2a'!$L$55","v":0},null,null,{"$f":"'1-2a'!O55","v":0}]
[{"$f":"IF(A46=52,1,A46+1)","v":37},{"$f":"N46+3","v":"2020-09-07"},null,null,{"$f":"B56+1","v":"2020-09-08"},null,null,{"$f":"E56+1","v":"2020-09-09"},null,null,{"$f":"H56+1","v":"2020-09-10"},null,null,{"$f":"K56+1","v":"2020-09-11"}]
[null,{"$f":"B47","v":0},null,null,{"$f":"E47","v":0},null,null,{"$f":"H47","v":0},null,null,{"$f":"K47","v":0},null,null,{"$f":"N47","v":0}]
[6,0,null,null,0,null,null,0,null,null,0,null,null,0]
[null,0,null,null,0,null,null,0,null,null,0,null,null,0]
[null,0,null,null,0,null,null,0,null,null,0,null,null,0]
[null,0,null,null,0,null,null,0,null,null,{"$f":"K51","v":0},null,null,0]
[null,0,null,null,0,null,null,0,null,null,0,null,null,0]
[]
[]
[null,null,{"$f":"'1-2a'!$C$65","v":0},null,null,{"$f":"'1-2a'!$F$65","v":0},null,null,{"$f":"'1-2a'!$I$65","v":0},null,null,{"$f":"'1-2a'!$L$65","v":0},null,null,{"$f":"'1-2a'!$O$65","v":0}]
[{"$f":"IF(A56=52,1,A56+1)","v":38},{"$f":"N56+3","v":"2020-09-14"},null,null,{"$f":"B66+1","v":"2020-09-15"},null,null,{"$f":"E66+1","v":"2020-09-16"},null,null,{"$f":"H66+1","v":"2020-09-17"},null,null,{"$f":"K66+1","v":"2020-09-18"}]
[null,{"$f":"B57","v":0},null,null,{"$f":"E57","v":0},null,null,{"$f":"H57","v":0},null,null,{"$f":"K57","v":0},null,null,{"$f":"N57","v":0}]
[7,0,null,null,0,null,null,0,null,null,0,null,null,0]
[null,0,null,null,0,null,null,0,null,null,0,null,null,0]
[null,0,null,null,0,null,null,0,null,null,0,null,null,0]
[null,0,null,null,0,null,null,0,null,null,{"$f":"K61","v":0},null,null,0]
[null,0,null,null,0,null,null,0,null,null,0,null,null,0]
[]
[]
[null,null,{"$f":"'1-2a'!$C$75","v":0},null,null,{"$f":"'1-2a'!$F$75","v":0},null,null,{"$f":"'1-2a'!$I$75","v":0},null,null,{"$f":"'1-2a'!$L$75","v":0},null,null,{"$f":"'1-2a'!$O$75","v":0}]
[{"$f":"IF(A66=52,1,A66+1)","v":39},{"$f":"N66+3","v":"2020-09-21"},null,null,{"$f":"B76+1","v":"2020-09-22"},null,null,{"$f":"E76+1","v":"2020-09-23"},null,null,{"$f":"H76+1","v":"2020-09-24"},null,null,{"$f":"K76+1","v":"2020-09-25"}]
[null,{"$f":"B67","v":0},null,null,{"$f":"E67","v":0},null,null,{"$f":"H67","v":0},null,null,{"$f":"K67","v":0},null,null,{"$f":"N67","v":0}]
[8,0,null,null,0,null,null,0,null,null,0,null,null,0]
[null,0,null,null,0,null,null,0,null,null,0,null,null,0]
[null,0,null,null,0,null,null,0,null,null,0,null,null,0]
[null,0,null,null,0,null,null,0,null,null,{"$f":"K71","v":0},null,null,0]
[null,0,null,null,0,null,null,0,null,null,0,null,null,0]
[]
[]
[null,null,{"$f":"'1-2a'!$C$85","v":0},null,null,{"$f":"'1-2a'!$F$85","v":0},null,null,{"$f":"'1-2a'!$I$85","v":0},null,null,{"$f":"'1-2a'!$L$85","v":0},null,null,{"$f":"'1-2a'!$O$85","v":0}]
[{"$f":"IF(A76=52,1,A76+1)","v":40},{"$f":"N76+3","v":"2020-09-28"},null,null,{"$f":"B86+1","v":"2020-09-29"},null,null,{"$f":"E86+1","v":"2020-09-30"},null,null,{"$f":"H86+1","v":"2020-10-01"},null,null,{"$f":"K86+1","v":"2020-10-02"}]
[null,{"$f":"B77","v":0},null,null,{"$f":"E77","v":0},null,null,{"$f":"H77","v":0},null,null,{"$f":"K77","v":0},null,null,{"$f":"N77","v":0}]
[9,0,null,null,0,null,null,0,null,null,0,null,null,0]
[null,0,null,null,0,null,null,0,null,null,0,null,null,0]
[null,0,null,null,0,null,null,0,null,null,0,null,null,0]
[null,0,null,null,0,null,null,0,null,null,0,null,null,0]
[null,0,null,null,0,null,null,0,null,null,0,null,null,0]
[]
[]
[null,null,{"$f":"'1-2a'!$C$95","v":0},null,null,{"$f":"'1-2a'!$F$95","v":0},null,null,{"$f":"'1-2a'!$I$95","v":0},null,null,{"$f":"'1-2a'!$L$95","v":0},null,null,{"$f":"'1-2a'!$O$95","v":0}]
[{"$f":"IF(A86=52,1,A86+1)","v":41},{"$f":"N86+3","v":"2020-10-05"},null,null,{"$f":"B96+1","v":"2020-10-06"},null,null,{"$f":"E96+1","v":"2020-10-07"},null,null,{"$f":"H96+1","v":"2020-10-08"},null,null,{"$f":"K96+1","v":"2020-10-09"}]
[null,{"$f":"B87","v":0},null,null,{"$f":"E87","v":0},null,null,{"$f":"H87","v":0},null,null,{"$f":"K87","v":0},null,null,{"$f":"N87","v":0}]
[10,0,null,null,0,null,null,0,null,null,0,null,null,0]
[null,0,null,null,0,null,null,0,null,null,0,null,null,0]
[null,0,null,null,0,null,null,0,null,null,0,null,null,0]
[null,0,null,null,0,null,null,0,null,null,{"$f":"K91","v":0},null,null,0]
[null,0,null,null,0,null,null,0,null,null,0,null,null,0]
[]
[]
[null,null,{"$f":"'1-2a'!$C$105","v":0},null,null,{"$f":"'1-2a'!$F$105","v":0},null,null,{"$f":"'1-2a'!$I$105","v":0},null,null,{"$f":"'1-2a'!$L$105","v":0},null,null,{"$f":"'1-2a'!$O$105","v":0}]
[{"$f":"IF(A96=52,1,A96+1)","v":42},{"$f":"N96+3","v":"2020-10-12"},null,null,{"$f":"B106+1","v":"2020-10-13"},null,null,{"$f":"E106+1","v":"2020-10-14"},null,null,{"$f":"H106+1","v":"2020-10-15"},null,null,{"$f":"K106+1","v":"2020-10-16"}]
[null,{"$f":"B97","v":0},null,null,{"$f":"E97","v":0},null,null,{"$f":"H97","v":0},null,null,{"$f":"K97","v":0},null,null,{"$f":"N97","v":0}]
[11,0,null,null,0,null,null,0,null,null,0,null,null,0]
[null,0,null,null,0,null,null,0,null,null,0,null,null,0]
[null,0,null,null,0,null,null,0,null,null,0,null,null,0]
[null,0,null,null,0,null,null,0,null,null,{"$f":"K101","v":0},null,null,0]
[null,0,null,null,0,null,null,0,null,null,0,null,null,0]
[]
[]
[null,null,{"$f":"'1-2a'!$C$115","v":0},null,null,{"$f":"'1-2a'!$F$115","v":0},null,null,{"$f":"'1-2a'!$I$115","v":0},null,null,{"$f":"'1-2a'!$L$115","v":0},null,null,{"$f":"'1-2a'!$O$115","v":0}]
[{"$f":"IF(A106=52,1,A106+1)","v":43},{"$f":"N106+3","v":"2020-10-19"},null,null,{"$f":"B116+1","v":"2020-10-20"},null,null,{"$f":"E116+1","v":"2020-10-21"},null,null,{"$f":"H116+1","v":"2020-10-22"},null,null,{"$f":"K116+1","v":"2020-10-23"}]
[null,{"$f":"B107","v":0},null,null,{"$f":"E107","v":0},null,null,{"$f":"H107","v":0},null,null,{"$f":"K107","v":0},null,null,{"$f":"N107","v":0}]
[12,0,null,null,0,null,null,0,null,null,0,null,null,0]
[null,0,null,null,0,null,null,0,null,null,0,null,null,0]
[null,0,null,null,0,null,null,0,null,null,0,null,null,0]
[null,0,null,null,0,null,null,0,null,null,{"$f":"K111","v":0},null,null,0]
[null,0,null,null,0,null,null,0,null,null,0,null,null,0]
[]
[]
[null,null,{"$f":"'1-2a'!$C$125","v":0},null,null,{"$f":"'1-2a'!$F$125","v":0},null,null,{"$f":"'1-2a'!$I$125","v":0},null,null,{"$f":"'1-2a'!$L$125","v":0},null,null,{"$f":"'1-2a'!$O$125","v":0}]
[{"$f":"IF(A116=52,1,A116+1)","v":44},{"$f":"N116+3","v":"2020-10-26"},null,null,{"$f":"B126+1","v":"2020-10-27"},null,null,{"$f":"E126+1","v":"2020-10-28"},null,null,{"$f":"H126+1","v":"2020-10-29"},null,null,{"$f":"K126+1","v":"2020-10-30"}]
[null,{"$f":"B117","v":0},null,null,{"$f":"E117","v":0},null,null,{"$f":"H117","v":0},null,null,{"$f":"K117","v":0},null,null,{"$f":"N117","v":0}]
[13,0,null,null,0,null,null,0,null,null,0,null,null,0]
[null,0,null,null,0,null,null,0,null,null,0,null,null,0]
[null,0,null,null,0,null,null,0,null,null,0,null,null,0]
[null,0,null,null,0,null,null,0,null,null,{"$f":"K121","v":0},null,null,0]
[null,0,null,null,0,null,null,0,null,null,0,null,null,0]
[]
[]
[null,null,{"$f":"'1-2a'!$C$135","v":0},null,null,{"$f":"'1-2a'!$F$135","v":0},null,null,{"$f":"'1-2a'!$I$135","v":0},null,null,{"$f":"'1-2a'!$L$135","v":0},null,null,{"$f":"'1-2a'!$O$135","v":0}]
[{"$f":"IF(A126=52,1,A126+1)","v":45},{"$f":"N126+3","v":"2020-11-02"},null,null,{"$f":"B136+1","v":"2020-11-03"},null,null,{"$f":"E136+1","v":"2020-11-04"},null,null,{"$f":"H136+1","v":"2020-11-05"},null,null,{"$f":"K136+1","v":"2020-11-06"}]
[null,{"$f":"B127","v":0},null,null,{"$f":"E127","v":0},null,null,{"$f":"H127","v":0},null,null,{"$f":"K127","v":0},null,null,{"$f":"N127","v":0}]
[14,0,null,null,0,null,null,0,null,null,0,null,null,0]
[null,0,null,null,0,null,null,0,null,null,0,null,null,0]
[null,0,null,null,0,null,null,0,null,null,0,null,null,0]
[null,0,null,null,0,null,null,0,null,null,{"$f":"K131","v":0},null,null,0]
[null,0,null,null,0,null,null,0,null,null,0,null,null,0]
[]
[]
[null,null,{"$f":"'1-2a'!$C$145","v":0},null,null,{"$f":"'1-2a'!$F$145","v":0},null,null,{"$f":"'1-2a'!$I$145","v":0},null,null,{"$f":"'1-2a'!$L$145","v":0},null,null,{"$f":"'1-2a'!$O$145","v":0}]
[{"$f":"IF(A136=52,1,A136+1)","v":46},{"$f":"N136+3","v":"2020-11-09"},null,null,{"$f":"B146+1","v":"2020-11-10"},null,null,{"$f":"E146+1","v":"2020-11-11"},null,null,{"$f":"H146+1","v":"2020-11-12"},null,null,{"$f":"K146+1","v":"2020-11-13"}]
[null,{"$f":"B137","v":0},null,null,{"$f":"E137","v":0},null,null,{"$f":"H137","v":0},null,null,{"$f":"K137","v":0},null,null,{"$f":"N137","v":0}]
[15,0,null,null,0,null,null,0,null,null,0,null,null,0]
[null,0,null,null,0,null,null,0,null,null,0,null,null,0]
[null,0,null,null,0,null,null,0,null,null,0,null,null,0]
[null,0,null,null,0,null,null,0,null,null,{"$f":"K141","v":0},null,null,0]
[null,0,null,null,0,null,null,0,null,null,0,null,null,0]
[]
[]
[null,null,{"$f":"'1-2a'!$C$155","v":0},null,null,{"$f":"'1-2a'!$F$155","v":0},null,null,{"$f":"'1-2a'!$I$155","v":0},null,null,{"$f":"'1-2a'!$L$155","v":0},null,null,{"$f":"'1-2a'!$O$155","v":0}]
[{"$f":"IF(A146=52,1,A146+1)","v":47},{"$f":"N146+3","v":"2020-11-16"},null,null,{"$f":"B156+1","v":"2020-11-17"},null,null,{"$f":"E156+1","v":"2020-11-18"},null,null,{"$f":"H156+1","v":"2020-11-19"},null,null,{"$f":"K156+1","v":"2020-11-20"}]
[null,{"$f":"B147","v":0},null,null,{"$f":"E147","v":0},null,null,{"$f":"H147","v":0},null,null,{"$f":"K147","v":0},null,null,{"$f":"N147","v":0}]
[16,0,null,null,0,null,null,0,null,null,0,null,null,0]
[null,0,null,null,0,null,null,0,null,null,0,null,null,0]
[null,0,null,null,0,null,null,0,null,null,0,null,null,0]
[null,0,null,null,0,null,null,0,null,null,{"$f":"K151","v":0},null,null,0]
[null,0,null,null,0,null,null,0,null,null,0,null,null,0]
[]
[]
[null,null,{"$f":"'1-2a'!$C$165","v":0},null,null,{"$f":"'1-2a'!$F$165","v":0},null,null,{"$f":"'1-2a'!$I$165","v":0},null,null,{"$f":"'1-2a'!$L$165","v":0},null,null,{"$f":"'1-2a'!$O$165","v":0}]
[{"$f":"IF(A156=52,1,A156+1)","v":48},{"$f":"N156+3","v":"2020-11-23"},null,null,{"$f":"B166+1","v":"2020-11-24"},null,null,{"$f":"E166+1","v":"2020-11-25"},null,null,{"$f":"H166+1","v":"2020-11-26"},null,null,{"$f":"K166+1","v":"2020-11-27"}]
[null,{"$f":"B157","v":0},null,null,{"$f":"E157","v":0},null,null,{"$f":"H157","v":0},null,null,{"$f":"K157","v":0},null,null,{"$f":"N157","v":0}]
[17,0,null,null,0,null,null,0,null,null,0,null,null,0]
[null,0,null,null,0,null,null,0,null,null,0,null,null,0]
[null,0,null,null,0,null,null,0,null,null,0,null,null,0]
[null,0,null,null,0,null,null,0,null,null,0,null,null,0]
[null,0,null,null,0,null,null,0,null,null,0,null,null,0]
[]
[]
[null,null,{"$f":"'1-2a'!$C$175","v":0},null,null,{"$f":"'1-2a'!$F$175","v":0},null,null,{"$f":"'1-2a'!$I$175","v":0},null,null,{"$f":"'1-2a'!$L$175","v":0},null,null,{"$f":"'1-2a'!$O$175","v":0}]
[{"$f":"IF(A166=52,1,A166+1)","v":49},{"$f":"N166+3","v":"2020-11-30"},null,null,{"$f":"B176+1","v":"2020-12-01"},null,null,{"$f":"E176+1","v":"2020-12-02"},null,null,{"$f":"H176+1","v":"2020-12-03"},null,null,{"$f":"K176+1","v":"2020-12-04"}]
[null,{"$f":"B167","v":0},null,null,{"$f":"E167","v":0},null,null,{"$f":"H167","v":0},null,null,{"$f":"K167","v":0},null,null,{"$f":"N167","v":0}]
[18,0,null,null,0,null,null,0,null,null,0,null,null,0]
[null,0,null,null,0,null,null,0,null,null,0,null,null,0]
[null,0,null,null,0,null,null,0,null,null,0,null,null,0]
[null,0,null,null,0,null,null,0,null,null,{"$f":"K171","v":0},null,null,0]
[null,0,null,null,0,null,null,0,null,null,0,null,null,0]
[]
[]
[null,null,{"$f":"'1-2a'!$C$185","v":0},null,null,{"$f":"'1-2a'!$F$185","v":0},null,null,{"$f":"'1-2a'!$I$185","v":0},null,null,{"$f":"'1-2a'!$L$185","v":0},null,null,{"$f":"'1-2a'!$O$185","v":0}]
[{"$f":"IF(A176=52,1,A176+1)","v":50},{"$f":"N176+3","v":"2020-12-07"},null,null,{"$f":"B186+1","v":"2020-12-08"},null,null,{"$f":"E186+1","v":"2020-12-09"},null,null,{"$f":"H186+1","v":"2020-12-10"},null,null,{"$f":"K186+1","v":"2020-12-11"}]
[null,{"$f":"B177","v":0},null,null,{"$f":"E177","v":0},null,null,{"$f":"H177","v":0},null,null,{"$f":"K177","v":0},null,null,{"$f":"N177","v":0}]
[19,0,null,null,0,null,null,0,null,null,0,null,null,0]
[null,0,null,null,0,null,null,0,null,null,0,null,null,0]
[null,0,null,null,0,null,null,0,null,null,0,null,null,0]
[null,0,null,null,0,null,null,0,null,null,{"$f":"K181","v":0},null,null,0]
[null,0,null,null,0,null,null,0,null,null,0,null,null,0]
[]
[]
[null,null,{"$f":"'1-2a'!$C$195","v":0},null,null,{"$f":"'1-2a'!$F$195","v":0},null,null,{"$f":"'1-2a'!$I$195","v":0},null,null,{"$f":"'1-2a'!$L$195","v":0},null,null,{"$f":"'1-2a'!$O$195","v":0}]
[{"$f":"IF(A186=52,1,A186+1)","v":51},{"$f":"N186+3","v":"2020-12-14"},null,null,{"$f":"B196+1","v":"2020-12-15"},null,null,{"$f":"E196+1","v":"2020-12-16"},null,null,{"$f":"H196+1","v":"2020-12-17"},null,null,{"$f":"K196+1","v":"2020-12-18"}]
[null,{"$f":"B187","v":0},null,null,{"$f":"E187","v":0},null,null,{"$f":"H187","v":0},null,null,{"$f":"K187","v":0},null,null,{"$f":"N187","v":0}]
[20,0,null,null,0,null,null,0,null,null,0,null,null,0]
[null,0,null,null,0,null,null,0,null,null,0,null,null,0]
[null,0,null,null,0,null,null,0,null,null,0,null,null,0]
[null,0,null,null,0,null,null,0,null,null,{"$f":"K191","v":0},null,null,0]
[null,0,null,null,0,null,null,0,null,null,0,null,null,0]
[]
[]
[null,null,{"$f":"'1-2a'!$C$205","v":0},null,null,{"$f":"'1-2a'!$F$205","v":0},null,null,{"$f":"'1-2a'!$I$205","v":0},null,null,{"$f":"'1-2a'!$L$205","v":0},null,null,{"$f":"'1-2a'!$O$205","v":0}]
[{"$f":"IF(A196=52,1,A196+1)","v":52},{"$f":"N196+3","v":"2020-12-21"},null,null,{"$f":"B206+1","v":"2020-12-22"},null,null,{"$f":"E206+1","v":"2020-12-23"},null,null,{"$f":"H206+1","v":"2020-12-24"},null,null,{"$f":"K206+1","v":"2020-12-25"}]
[null,{"$f":"B197","v":0},null,null,{"$f":"E197","v":0},null,null,{"$f":"H197","v":0},null,null,{"$f":"K197","v":0},null,null,{"$f":"N197","v":0}]
[21,0,null,null,0,null,null,0,null,null,0,null,null,0]
[null,0,null,null,0,null,null,0,null,null,0,null,null,0]
[null,0,null,null,0,null,null,0,null,null,0,null,null,0]
[null,0,null,null,0,null,null,0,null,null,{"$f":"K201","v":0},null,null,0]
[null,0,null,null,0,null,null,0,null,null,0,null,null,0]
[]
[]
[null,null,{"$f":"'1-2a'!$C$215","v":0},null,null,{"$f":"'1-2a'!$F$215","v":0},null,null,{"$f":"'1-2a'!$I$215","v":0},null,null,{"$f":"'1-2a'!$L$215","v":0},null,null,{"$f":"'1-2a'!$O$215","v":0}]
[{"$f":"IF(A206=52,1,A206+1)","v":1},{"$f":"N206+3","v":"2020-12-28"},null,null,{"$f":"B216+1","v":"2020-12-29"},null,null,{"$f":"E216+1","v":"2020-12-30"},null,null,{"$f":"H216+1","v":"2020-12-31"},null,null,{"$f":"K216+1","v":"2021-01-01"}]
[null,{"$f":"B207","v":0},null,null,{"$f":"E207","v":0},null,null,{"$f":"H207","v":0},null,null,{"$f":"K207","v":0},null,null,{"$f":"N207","v":0}]
[22,0,null,null,0,null,null,0,null,null,0,null,null,0]
[null,0,null,null,0,null,null,0,null,null,0,null,null,0]
[null,0,null,null,0,null,null,0,null,null,0,null,null,0]
[null,0,null,null,0,null,null,0,null,null,{"$f":"K211","v":0},null,null,0]
[null,0,null,null,0,null,null,0,null,null,0,null,null,0]
[]
[]
[null,null,{"$f":"'1-2a'!$C$225","v":0},null,null,{"$f":"'1-2a'!$F$225","v":0},null,null,{"$f":"'1-2a'!$I$225","v":0},null,null,{"$f":"'1-2a'!$L$225","v":0},null,null,{"$f":"'1-2a'!$O$225","v":0}]
[{"$f":"IF(A216=52,1,A216+1)","v":2},{"$f":"N216+3","v":"2021-01-04"},null,null,{"$f":"B226+1","v":"2021-01-05"},null,null,{"$f":"E226+1","v":"2021-01-06"},null,null,{"$f":"H226+1","v":"2021-01-07"},null,null,{"$f":"K226+1","v":"2021-01-08"}]
[null,{"$f":"B217","v":0},null,null,{"$f":"E217","v":0},null,null,{"$f":"H217","v":0},null,null,{"$f":"K217","v":0},null,null,{"$f":"N217","v":0}]
[23,0,null,null,0,null,null,0,null,null,0,null,null,0]
[null,0,null,null,0,null,null,0,null,null,0,null,null,0]
[null,0,null,null,0,null,null,0,null,null,0,null,null,0]
[null,0,null,null,0,null,null,0,null,null,{"$f":"K221","v":0},null,null,0]
[null,0,null,null,0,null,null,0,null,null,0,null,null,0]
[]
[]
[null,null,{"$f":"'1-2a'!$C$235","v":0},null,null,{"$f":"'1-2a'!$F$235","v":0},null,null,{"$f":"'1-2a'!$I$235","v":0},null,null,{"$f":"'1-2a'!$L$235","v":0},null,null,{"$f":"'1-2a'!$O$235","v":0}]
[{"$f":"IF(A226=52,1,A226+1)","v":3},{"$f":"N226+3","v":"2021-01-11"},null,null,{"$f":"B236+1","v":"2021-01-12"},null,null,{"$f":"E236+1","v":"2021-01-13"},null,null,{"$f":"H236+1","v":"2021-01-14"},null,null,{"$f":"K236+1","v":"2021-01-15"}]
[null,{"$f":"B227","v":0},null,null,{"$f":"E227","v":0},null,null,{"$f":"H227","v":0},null,null,{"$f":"K227","v":0},null,null,{"$f":"N227","v":0}]
[24,0,null,null,0,null,null,0,null,null,0,null,null,0]
[null,0,null,null,0,null,null,0,null,null,0,null,null,0]
[null,0,null,null,0,null,null,0,null,null,0,null,null,0]
[null,0,null,null,0,null,null,0,null,null,{"$f":"K231","v":0},null,null,0]
[null,0,null,null,0,null,null,0,null,null,0,null,null,0]
[]
[]
[null,null,{"$f":"'1-2a'!$C$245","v":0},null,null,{"$f":"'1-2a'!$F$245","v":0},null,null,{"$f":"'1-2a'!$I$245","v":0},null,null,{"$f":"'1-2a'!$L$245","v":0},null,null,{"$f":"'1-2a'!$O$245","v":0}]
[{"$f":"IF(A236=52,1,A236+1)","v":4},{"$f":"N236+3","v":"2021-01-18"},null,null,{"$f":"B246+1","v":"2021-01-19"},null,null,{"$f":"E246+1","v":"2021-01-20"},null,null,{"$f":"H246+1","v":"2021-01-21"},null,null,{"$f":"K246+1","v":"2021-01-22"}]
[null,{"$f":"B237","v":0},null,null,{"$f":"E237","v":0},null,null,{"$f":"H237","v":0},null,null,{"$f":"K237","v":0},null,null,{"$f":"N237","v":0}]
[25,0,null,null,0,null,null,0,null,null,0,null,null,0]
[null,0,null,null,0,null,null,0,null,null,0,null,null,0]
[null,0,null,null,0,null,null,0,null,null,0,null,null,0]
[null,0,null,null,0,null,null,0,null,null,0,null,null,0]
[null,0,null,null,0,null,null,0,null,null,0,null,null,0]
[]
[]
[null,null,{"$f":"'1-2a'!$C$255","v":0},null,null,{"$f":"'1-2a'!$F$255","v":0},null,null,{"$f":"'1-2a'!$I$255","v":0},null,null,{"$f":"'1-2a'!$L$255","v":0},null,null,{"$f":"'1-2a'!$O$255","v":0}]
[{"$f":"IF(A246=52,1,A246+1)","v":5},{"$f":"N246+3","v":"2021-01-25"},null,null,{"$f":"B256+1","v":"2021-01-26"},null,null,{"$f":"E256+1","v":"2021-01-27"},null,null,{"$f":"H256+1","v":"2021-01-28"},null,null,{"$f":"K256+1","v":"2021-01-29"}]
[null,{"$f":"B247","v":0},null,null,{"$f":"E247","v":0},null,null,{"$f":"H247","v":0},null,null,{"$f":"K247","v":0},null,null,{"$f":"N247","v":0}]
[26,0,null,null,0,null,null,0,null,null,0,null,null,0]
[null,0,null,null,0,null,null,0,null,null,0,null,null,0]
[null,0,null,null,0,null,null,0,null,null,0,null,null,0]
[null,0,null,null,0,null,null,0,null,null,{"$f":"K251","v":0},null,null,0]
[null,0,null,null,0,null,null,0,null,null,0,null,null,0]
[]
[]
[null,null,{"$f":"'1-2a'!$C$265","v":0},null,null,{"$f":"'1-2a'!$F$265","v":0},null,null,{"$f":"'1-2a'!$I$265","v":0},null,null,{"$f":"'1-2a'!$L$265","v":0},null,null,{"$f":"'1-2a'!$O$265","v":0}]
[{"$f":"IF(A256=52,1,A256+1)","v":6},{"$f":"N256+3","v":"2021-02-01"},null,null,{"$f":"B266+1","v":"2021-02-02"},null,null,{"$f":"E266+1","v":"2021-02-03"},null,null,{"$f":"H266+1","v":"2021-02-04"},null,null,{"$f":"K266+1","v":"2021-02-05"}]
[null,{"$f":"B257","v":0},null,null,{"$f":"E257","v":0},null,null,{"$f":"H257","v":0},null,null,{"$f":"K257","v":0},null,null,{"$f":"N257","v":0}]
[27,0,null,null,0,null,null,0,null,null,0,null,null,0]
[null,0,null,null,0,null,null,0,null,null,0,null,null,0]
[null,0,null,null,0,null,null,0,null,null,0,null,null,0]
[null,0,null,null,0,null,null,0,null,null,{"$f":"K261","v":0},null,null,0]
[null,0,null,null,0,null,null,0,null,null,0,null,null,0]
[]
[]
[null,null,{"$f":"'1-2a'!$C$275","v":0},null,null,{"$f":"'1-2a'!$F$275","v":0},null,null,{"$f":"'1-2a'!$I$275","v":0},null,null,{"$f":"'1-2a'!$L$275","v":0},null,null,{"$f":"'1-2a'!$O$275","v":0}]
[{"$f":"IF(A266=52,1,A266+1)","v":7},{"$f":"N266+3","v":"2021-02-08"},null,null,{"$f":"B276+1","v":"2021-02-09"},null,null,{"$f":"E276+1","v":"2021-02-10"},null,null,{"$f":"H276+1","v":"2021-02-11"},null,null,{"$f":"K276+1","v":"2021-02-12"}]
[null,{"$f":"B267","v":0},null,null,{"$f":"E267","v":0},null,null,{"$f":"H267","v":0},null,null,{"$f":"K267","v":0},null,null,{"$f":"N267","v":0}]
[28,0,null,null,0,null,null,0,null,null,0,null,null,0]
[null,0,null,null,0,null,null,0,null,null,0,null,null,0]
[null,0,null,null,0,null,null,0,null,null,0,null,null,0]
[null,0,null,null,0,null,null,0,null,null,{"$f":"K271","v":0},null,null,0]
[null,0,null,null,0,null,null,0,null,null,0,null,null,0]
[]
[]
[null,null,{"$f":"'1-2a'!$C$285","v":0},null,null,{"$f":"'1-2a'!$F$285","v":0},null,null,{"$f":"'1-2a'!$I$285","v":0},null,null,{"$f":"'1-2a'!$L$285","v":0},null,null,{"$f":"'1-2a'!$O$285","v":0}]
[{"$f":"IF(A276=52,1,A276+1)","v":8},{"$f":"N276+3","v":"2021-02-15"},null,null,{"$f":"B286+1","v":"2021-02-16"},null,null,{"$f":"E286+1","v":"2021-02-17"},null,null,{"$f":"H286+1","v":"2021-02-18"},null,null,{"$f":"K286+1","v":"2021-02-19"}]
[null,{"$f":"B277","v":0},null,null,{"$f":"E277","v":0},null,null,{"$f":"H277","v":0},null,null,{"$f":"K277","v":0},null,null,{"$f":"N277","v":0}]
[29,0,null,null,0,null,null,0,null,null,0,null,null,0]
[null,0,null,null,0,null,null,0,null,null,0,null,null,0]
[null,0,null,null,0,null,null,0,null,null,0,null,null,0]
[null,0,null,null,0,null,null,0,null,null,{"$f":"K281","v":0},null,null,0]
[null,0,null,null,0,null,null,0,null,null,0,null,null,0]
[]
[]
[null,null,{"$f":"'1-2a'!$C$295","v":0},null,null,{"$f":"'1-2a'!$F$295","v":0},null,null,{"$f":"'1-2a'!$I$295","v":0},null,null,{"$f":"'1-2a'!$L$295","v":0},null,null,{"$f":"'1-2a'!$O$295","v":0}]
[{"$f":"IF(A286=52,1,A286+1)","v":9},{"$f":"N286+3","v":"2021-02-22"},null,null,{"$f":"B296+1","v":"2021-02-23"},null,null,{"$f":"E296+1","v":"2021-02-24"},null,null,{"$f":"H296+1","v":"2021-02-25"},null,null,{"$f":"K296+1","v":"2021-02-26"}]
[null,{"$f":"B287","v":0},null,null,{"$f":"E287","v":0},null,null,{"$f":"H287","v":0},null,null,{"$f":"K287","v":0},null,null,{"$f":"N287","v":0}]
[30,0,null,null,0,null,null,0,null,null,0,null,null,0]
[null,0,null,null,0,null,null,0,null,null,0,null,null,0]
[null,0,null,null,0,null,null,0,null,null,0,null,null,0]
[null,0,null,null,0,null,null,0,null,null,{"$f":"K291","v":0},null,null,0]
[null,0,null,null,0,null,null,0,null,null,0,null,null,0]
[]
[]
[null,null,{"$f":"'1-2a'!$C$305","v":0},null,null,{"$f":"'1-2a'!$F$305","v":0},null,null,{"$f":"'1-2a'!$I$305","v":0},null,null,{"$f":"'1-2a'!$L$305","v":0},null,null,{"$f":"'1-2a'!$O$305","v":0}]
[{"$f":"IF(A296=52,1,A296+1)","v":10},{"$f":"N296+3","v":"2021-03-01"},null,null,{"$f":"B306+1","v":"2021-03-02"},null,null,{"$f":"E306+1","v":"2021-03-03"},null,null,{"$f":"H306+1","v":"2021-03-04"},null,null,{"$f":"K306+1","v":"2021-03-05"}]
[null,{"$f":"B297","v":0},null,null,{"$f":"E297","v":0},null,null,{"$f":"H297","v":0},null,null,{"$f":"K297","v":0},null,null,{"$f":"N297","v":0}]
[31,0,null,null,0,null,null,0,null,null,0,null,null,0]
[null,0,null,null,0,null,null,0,null,null,0,null,null,0]
[null,0,null,null,0,null,null,0,null,null,0,null,null,0]
[null,0,null,null,0,null,null,0,null,null,{"$f":"K301","v":0},null,null,0]
[null,0,null,null,0,null,null,0,null,null,0,null,null,0]
[]
[]
[null,null,{"$f":"'1-2a'!$C$315","v":0},null,null,{"$f":"'1-2a'!$F$315","v":0},null,null,{"$f":"'1-2a'!$I$315","v":0},null,null,{"$f":"'1-2a'!$L$315","v":0},null,null,{"$f":"'1-2a'!$O$315","v":0}]
[{"$f":"IF(A306=52,1,A306+1)","v":11},{"$f":"N306+3","v":"2021-03-08"},null,null,{"$f":"B316+1","v":"2021-03-09"},null,null,{"$f":"E316+1","v":"2021-03-10"},null,null,{"$f":"H316+1","v":"2021-03-11"},null,null,{"$f":"K316+1","v":"2021-03-12"}]
[null,{"$f":"B307","v":0},null,null,{"$f":"E307","v":0},null,null,{"$f":"H307","v":0},null,null,{"$f":"K307","v":0},null,null,{"$f":"N307","v":0}]
[32,0,null,null,0,null,null,0,null,null,0,null,null,0]
[null,0,null,null,0,null,null,0,null,null,0,null,null,0]
[null,0,null,null,0,null,null,0,null,null,0,null,null,0]
[null,0,null,null,0,null,null,0,null,null,{"$f":"K311","v":0},null,null,0]
[null,0,null,null,0,null,null,0,null,null,0,null,null,0]
[]
[]
[null,null,{"$f":"'1-2a'!$C$325","v":0},null,null,{"$f":"'1-2a'!$F$325","v":0},null,null,{"$f":"'1-2a'!$I$325","v":0},null,null,{"$f":"'1-2a'!$L$325","v":0},null,null,{"$f":"'1-2a'!$O$325","v":0}]
[{"$f":"IF(A316=52,1,A316+1)","v":12},{"$f":"N316+3","v":"2021-03-15"},null,null,{"$f":"B326+1","v":"2021-03-16"},null,null,{"$f":"E326+1","v":"2021-03-17"},null,null,{"$f":"H326+1","v":"2021-03-18"},null,null,{"$f":"K326+1","v":"2021-03-19"}]
[null,{"$f":"B317","v":0},null,null,{"$f":"E317","v":0},null,null,{"$f":"H317","v":0},null,null,{"$f":"K317","v":0},null,null,{"$f":"N317","v":0}]
[33,0,null,null,0,null,null,0,null,null,0,null,null,0]
[null,0,null,null,0,null,null,0,null,null,0,null,null,0]
[null,0,null,null,0,null,null,0,null,null,0,null,null,0]
[null,0,null,null,0,null,null,0,null,null,0,null,null,0]
[null,0,null,null,0,null,null,0,null,null,0,null,null,0]
[]
[]
[null,null,{"$f":"'1-2a'!$C$335","v":0},null,null,{"$f":"'1-2a'!$F$335","v":0},null,null,{"$f":"'1-2a'!$I$335","v":0},null,null,{"$f":"'1-2a'!$L$335","v":0},null,null,{"$f":"'1-2a'!$O$335","v":0}]
[{"$f":"IF(A326=52,1,A326+1)","v":13},{"$f":"N326+3","v":"2021-03-22"},null,null,{"$f":"B336+1","v":"2021-03-23"},null,null,{"$f":"E336+1","v":"2021-03-24"},null,null,{"$f":"H336+1","v":"2021-03-25"},null,null,{"$f":"K336+1","v":"2021-03-26"}]
[null,{"$f":"B327","v":0},null,null,{"$f":"E327","v":0},null,null,{"$f":"H327","v":0},null,null,{"$f":"K327","v":0},null,null,{"$f":"N327","v":0}]
[34,0,null,null,0,null,null,0,null,null,0,null,null,0]
[null,0,null,null,0,null,null,0,null,null,0,null,null,0]
[null,0,null,null,0,null,null,0,null,null,0,null,null,0]
[null,0,null,null,0,null,null,0,null,null,{"$f":"K331","v":0},null,null,0]
[null,0,null,null,0,null,null,0,null,null,0,null,null,0]
[]
[]
[null,null,{"$f":"'1-2a'!$C$345","v":0},null,null,{"$f":"'1-2a'!$F$345","v":0},null,null,{"$f":"'1-2a'!$I$345","v":0},null,null,{"$f":"'1-2a'!$L$345","v":0},null,null,{"$f":"'1-2a'!$O$345","v":0}]
[{"$f":"IF(A336=52,1,A336+1)","v":14},{"$f":"N336+3","v":"2021-03-29"},null,null,{"$f":"B346+1","v":"2021-03-30"},null,null,{"$f":"E346+1","v":"2021-03-31"},null,null,{"$f":"H346+1","v":"2021-04-01"},null,null,{"$f":"K346+1","v":"2021-04-02"}]
[null,{"$f":"B337","v":0},null,null,{"$f":"E337","v":0},null,null,{"$f":"H337","v":0},null,null,{"$f":"K337","v":0},null,null,{"$f":"N337","v":0}]
[35,0,null,null,0,null,null,0,null,null,0,null,null,0]
[null,0,null,null,0,null,null,0,null,null,0,null,null,0]
[null,0,null,null,0,null,null,0,null,null,0,null,null,0]
[null,0,null,null,0,null,null,0,null,null,{"$f":"K341","v":0},null,null,0]
[null,0,null,null,0,null,null,0,null,null,0,null,null,0]
[]
[]
[null,null,{"$f":"'1-2a'!$C$355","v":0},null,null,{"$f":"'1-2a'!$F$355","v":0},null,null,{"$f":"'1-2a'!$I$355","v":0},null,null,{"$f":"'1-2a'!$L$355","v":0},null,null,{"$f":"'1-2a'!$O$355","v":0}]
[{"$f":"IF(A346=52,1,A346+1)","v":15},{"$f":"N346+3","v":"2021-04-05"},null,null,{"$f":"B356+1","v":"2021-04-06"},null,null,{"$f":"E356+1","v":"2021-04-07"},null,null,{"$f":"H356+1","v":"2021-04-08"},null,null,{"$f":"K356+1","v":"2021-04-09"}]
[null,{"$f":"B347","v":0},null,null,{"$f":"E347","v":0},null,null,{"$f":"H347","v":0},null,null,{"$f":"K347","v":0},null,null,{"$f":"N347","v":0}]
[36,0,null,null,0,null,null,0,null,null,0,null,null,0]
[null,0,null,null,0,null,null,0,null,null,0,null,null,0]
[null,0,null,null,0,null,null,0,null,null,0,null,null,0]
[null,0,null,null,0,null,null,0,null,null,{"$f":"K351","v":0},null,null,0]
[null,0,null,null,0,null,null,0,null,null,0,null,null,0]
[]
[]
[null,null,{"$f":"'1-2a'!$C$365","v":0},null,null,{"$f":"'1-2a'!$F$365","v":0},null,null,{"$f":"'1-2a'!$I$365","v":0},null,null,{"$f":"'1-2a'!$L$365","v":0},null,null,{"$f":"'1-2a'!$O$365","v":0}]
[{"$f":"IF(A356=52,1,A356+1)","v":16},{"$f":"N356+3","v":"2021-04-12"},null,null,{"$f":"B366+1","v":"2021-04-13"},null,null,{"$f":"E366+1","v":"2021-04-14"},null,null,{"$f":"H366+1","v":"2021-04-15"},null,null,{"$f":"K366+1","v":"2021-04-16"}]
[null,{"$f":"B357","v":0},null,null,{"$f":"E357","v":0},null,null,{"$f":"H357","v":0},null,null,{"$f":"K357","v":0},null,null,{"$f":"N357","v":0}]
[37,0,null,null,0,null,null,0,null,null,0,null,null,0]
[null,0,null,null,0,null,null,0,null,null,0,null,null,0]
[null,0,null,null,0,null,null,0,null,null,0,null,null,0]
[null,0,null,null,0,null,null,0,null,null,{"$f":"K361","v":0},null,null,0]
[null,0,null,null,0,null,null,0,null,null,0,null,null,0]
[]
[]
[null,null,{"$f":"'1-2a'!$C$375","v":0},null,null,{"$f":"'1-2a'!$F$375","v":0},null,null,{"$f":"'1-2a'!$I$375","v":0},null,null,{"$f":"'1-2a'!$L$375","v":0},null,null,{"$f":"'1-2a'!$O$375","v":0}]
[{"$f":"IF(A366=52,1,A366+1)","v":17},{"$f":"N366+3","v":"2021-04-19"},null,null,{"$f":"B376+1","v":"2021-04-20"},null,null,{"$f":"E376+1","v":"2021-04-21"},null,null,{"$f":"H376+1","v":"2021-04-22"},null,null,{"$f":"K376+1","v":"2021-04-23"}]
[null,{"$f":"B367","v":0},null,null,{"$f":"E367","v":0},null,null,{"$f":"H367","v":0},null,null,{"$f":"K367","v":0},null,null,{"$f":"N367","v":0}]
[38,0,null,null,0,null,null,0,null,null,0,null,null,0]
[null,0,null,null,0,null,null,0,null,null,0,null,null,0]
[null,0,null,null,0,null,null,0,null,null,0,null,null,0]
[null,0,null,null,0,null,null,0,null,null,{"$f":"K371","v":0},null,null,0]
[null,0,null,null,0,null,null,0,null,null,0,null,null,0]
[]
[]
[null,null,{"$f":"'1-2a'!$C$385","v":0},null,null,{"$f":"'1-2a'!$F$385","v":0},null,null,{"$f":"'1-2a'!$I$385","v":0},null,null,{"$f":"'1-2a'!$L$385","v":0},null,null,{"$f":"'1-2a'!$O$385","v":0}]
[{"$f":"IF(A376=52,1,A376+1)","v":18},{"$f":"N376+3","v":"2021-04-26"},null,null,{"$f":"B386+1","v":"2021-04-27"},null,null,{"$f":"E386+1","v":"2021-04-28"},null,null,{"$f":"H386+1","v":"2021-04-29"},null,null,{"$f":"K386+1","v":"2021-04-30"}]
[null,{"$f":"B377","v":0},null,null,{"$f":"E377","v":0},null,null,{"$f":"H377","v":0},null,null,{"$f":"K377","v":0},null,null,{"$f":"N377","v":0}]
[39,0,null,null,0,null,null,0,null,null,0,null,null,0]
[null,0,null,null,0,null,null,0,null,null,0,null,null,0]
[null,0,null,null,0,null,null,0,null,null,0,null,null,0]
[null,0,null,null,0,null,null,0,null,null,{"$f":"K381","v":0},null,null,0]
[null,0,null,null,0,null,null,0,null,null,0,null,null,0]
[]
[]
[null,null,{"$f":"'1-2a'!$C$395","v":0},null,null,{"$f":"'1-2a'!$F$395","v":0},null,null,{"$f":"'1-2a'!$I$395","v":0},null,null,{"$f":"'1-2a'!$L$395","v":0},null,null,{"$f":"'1-2a'!$O$395","v":0}]
[{"$f":"IF(A386=52,1,A386+1)","v":19},{"$f":"N386+3","v":"2021-05-03"},null,null,{"$f":"B396+1","v":"2021-05-04"},null,null,{"$f":"E396+1","v":"2021-05-05"},null,null,{"$f":"H396+1","v":"2021-05-06"},null,null,{"$f":"K396+1","v":"2021-05-07"}]
[null,{"$f":"B387","v":0},null,null,{"$f":"E387","v":0},null,null,{"$f":"H387","v":0},null,null,{"$f":"K387","v":0},null,null,{"$f":"N387","v":0}]
[40,0,null,null,0,null,null,0,null,null,0,null,null,0]
[null,0,null,null,0,null,null,0,null,null,0,null,null,0]
[null,0,null,null,0,null,null,0,null,null,0,null,null,0]
[null,0,null,null,0,null,null,0,null,null,{"$f":"K391","v":0},null,null,0]
[null,0,null,null,0,null,null,0,null,null,0,null,null,0]
[]
[]
[null,null,{"$f":"'1-2a'!$C$405","v":0},null,null,{"$f":"'1-2a'!$F$405","v":0},null,null,{"$f":"'1-2a'!$I$405","v":0},null,null,{"$f":"'1-2a'!$L$405","v":0},null,null,{"$f":"'1-2a'!$O$405","v":0}]
[{"$f":"IF(A396=52,1,A396+1)","v":20},{"$f":"N396+3","v":"2021-05-10"},null,null,{"$f":"B406+1","v":"2021-05-11"},null,null,{"$f":"E406+1","v":"2021-05-12"},null,null,{"$f":"H406+1","v":"2021-05-13"},null,null,{"$f":"K406+1","v":"2021-05-14"}]
[null,{"$f":"B397","v":0},null,null,{"$f":"E397","v":0},null,null,{"$f":"H397","v":0},null,null,{"$f":"K397","v":0},null,null,{"$f":"N397","v":0}]
[41,0,null,null,0,null,null,0,null,null,0,null,null,0]
[null,0,null,null,0,null,null,0,null,null,0,null,null,0]
[null,0,null,null,0,null,null,0,null,null,0,null,null,0]
[null,0,null,null,0,null,null,0,null,null,0,null,null,0]
[null,0,null,null,0,null,null,0,null,null,0,null,null,0]
[]
[]
[null,null,{"$f":"'1-2a'!$C$415","v":0},null,null,{"$f":"'1-2a'!$F$415","v":0},null,null,{"$f":"'1-2a'!$I$415","v":0},null,null,{"$f":"'1-2a'!$L$415","v":0},null,null,{"$f":"'1-2a'!$O$415","v":0}]
[{"$f":"IF(A406=52,1,A406+1)","v":21},{"$f":"N406+3","v":"2021-05-17"},null,null,{"$f":"B416+1","v":"2021-05-18"},null,null,{"$f":"E416+1","v":"2021-05-19"},null,null,{"$f":"H416+1","v":"2021-05-20"},null,null,{"$f":"K416+1","v":"2021-05-21"}]
[null,{"$f":"B407","v":0},null,null,{"$f":"E407","v":0},null,null,{"$f":"H407","v":0},null,null,{"$f":"K407","v":0},null,null,{"$f":"N407","v":0}]
[42,0,null,null,0,null,null,0,null,null,0,null,null,0]
[null,0,null,null,0,null,null,0,null,null,0,null,null,0]
[null,0,null,null,0,null,null,0,null,null,0,null,null,0]
[null,0,null,null,0,null,null,0,null,null,{"$f":"K411","v":0},null,null,0]
[null,0,null,null,0,null,null,0,null,null,0,null,null,0]
[]
[]
[null,null,{"$f":"'1-2a'!$C$425","v":0},null,null,{"$f":"'1-2a'!$F$425","v":0},null,null,{"$f":"'1-2a'!$I$425","v":0},null,null,{"$f":"'1-2a'!$L$425","v":0},null,null,{"$f":"'1-2a'!$O$425","v":0}]
[{"$f":"IF(A416=52,1,A416+1)","v":22},{"$f":"N416+3","v":"2021-05-24"},null,null,{"$f":"B426+1","v":"2021-05-25"},null,null,{"$f":"E426+1","v":"2021-05-26"},null,null,{"$f":"H426+1","v":"2021-05-27"},null,null,{"$f":"K426+1","v":"2021-05-28"}]
[null,{"$f":"B417","v":0},null,null,{"$f":"E417","v":0},null,null,{"$f":"H417","v":0},null,null,{"$f":"K417","v":0},null,null,{"$f":"N417","v":0}]
[43,0,null,null,0,null,null,0,null,null,0,null,null,0]
[null,0,null,null,0,null,null,0,null,null,0,null,null,0]
[null,0,null,null,0,null,null,0,null,null,0,null,null,0]
[null,0,null,null,0,null,null,0,null,null,{"$f":"K421","v":0},null,null,0]
[null,0,null,null,0,null,null,0,null,null,0,null,null,0]
[]
[]
[null,null,{"$f":"'1-2a'!$C$435","v":0},null,null,{"$f":"'1-2a'!$F$435","v":0},null,null,{"$f":"'1-2a'!$I$435","v":0},null,null,{"$f":"'1-2a'!$L$435","v":0},null,null,{"$f":"'1-2a'!$O$435","v":0}]
[{"$f":"IF(A426=52,1,A426+1)","v":23},{"$f":"N426+3","v":"2021-05-31"},null,null,{"$f":"B436+1","v":"2021-06-01"},null,null,{"$f":"E436+1","v":"2021-06-02"},null,null,{"$f":"H436+1","v":"2021-06-03"},null,null,{"$f":"K436+1","v":"2021-06-04"}]
[null,{"$f":"B427","v":0},null,null,{"$f":"E427","v":0},null,null,{"$f":"H427","v":0},null,null,{"$f":"K427","v":0},null,null,{"$f":"N427","v":0}]
[44,0,null,null,0,null,null,0,null,null,0,null,null,0]
[null,0,null,null,0,null,null,0,null,null,0,null,null,0]
[null,0,null,null,0,null,null,0,null,null,0,null,null,0]
[null,0,null,null,0,null,null,0,null,null,{"$f":"K431","v":0},null,null,0]
[null,0,null,null,0,null,null,0,null,null,0,null,null,0]
[]
[]
[null,null,{"$f":"'1-2a'!$C$445","v":0},null,null,{"$f":"'1-2a'!$F$445","v":0},null,null,{"$f":"'1-2a'!$I$445","v":0},null,null,{"$f":"'1-2a'!$L$445","v":0},null,null,{"$f":"'1-2a'!$O$445","v":0}]
[{"$f":"IF(A436=52,1,A436+1)","v":24},{"$f":"N436+3","v":"2021-06-07"},null,null,{"$f":"B446+1","v":"2021-06-08"},null,null,{"$f":"E446+1","v":"2021-06-09"},null,null,{"$f":"H446+1","v":"2021-06-10"},null,null,{"$f":"K446+1","v":"2021-06-11"}]
[null,{"$f":"B437","v":0},null,null,{"$f":"E437","v":0},null,null,{"$f":"H437","v":0},null,null,{"$f":"K437","v":0},null,null,{"$f":"N437","v":0}]
[45,0,null,null,0,null,null,0,null,null,0,null,null,0]
[null,0,null,null,0,null,null,0,null,null,0,null,null,0]
[null,0,null,null,0,null,null,0,null,null,0,null,null,0]
[null,0,null,null,0,null,null,0,null,null,{"$f":"K441","v":0},null,null,0]
[null,0,null,null,0,null,null,0,null,null,0,null,null,0]
[]
[]
[null,null,{"$f":"'1-2a'!$C$455","v":0},null,null,{"$f":"'1-2a'!$F$455","v":0},null,null,{"$f":"'1-2a'!$I$455","v":0},null,null,{"$f":"'1-2a'!$L$455","v":0},null,null,{"$f":"'1-2a'!$O$455","v":0}]
[{"$f":"IF(A446=52,1,A446+1)","v":25},{"$f":"N446+3","v":"2021-06-14"},null,null,{"$f":"B456+1","v":"2021-06-15"},null,null,{"$f":"E456+1","v":"2021-06-16"},null,null,{"$f":"H456+1","v":"2021-06-17"},null,null,{"$f":"K456+1","v":"2021-06-18"}]
[null,{"$f":"B447","v":0},null,null,{"$f":"E447","v":0},null,null,{"$f":"H447","v":0},null,null,{"$f":"K447","v":0},null,null,{"$f":"N447","v":0}]
[46,0,null,null,0,null,null,0,null,null,0,null,null,0]
[null,0,null,null,0,null,null,0,null,null,0,null,null,0]
[null,0,null,null,0,null,null,0,null,null,0,null,null,0]
[null,0,null,null,0,null,null,0,null,null,{"$f":"K451","v":0},null,null,0]
[null,0,null,null,0,null,null,0,null,null,0,null,null,0]
[]
[]
[null,null,{"$f":"'1-2a'!$C$465","v":0},null,null,{"$f":"'1-2a'!$F$465","v":0},null,null,{"$f":"'1-2a'!$I$465","v":0},null,null,{"$f":"'1-2a'!$L$465","v":0},null,null,{"$f":"'1-2a'!$O$465","v":0}]
[{"$f":"IF(A456=52,1,A456+1)","v":26},{"$f":"N456+3","v":"2021-06-21"},null,null,{"$f":"B466+1","v":"2021-06-22"},null,null,{"$f":"E466+1","v":"2021-06-23"},null,null,{"$f":"H466+1","v":"2021-06-24"},null,null,{"$f":"K466+1","v":"2021-06-25"}]
[null,{"$f":"B457","v":0},null,null,{"$f":"E457","v":0},null,null,{"$f":"H457","v":0},null,null,{"$f":"K457","v":0},null,null,{"$f":"N457","v":0}]
[47,0,null,null,0,null,null,0,null,null,0,null,null,0]
[null,0,null,null,0,null,null,0,null,null,0,null,null,0]
[null,0,null,null,0,null,null,0,null,null,0,null,null,0]
[null,0,null,null,0,null,null,0,null,null,{"$f":"K461","v":0},null,null,0]
[null,0,null,null,0,null,null,0,null,null,0,null,null,0]
[]
[]
[null,null,{"$f":"'1-2a'!$C$475","v":0},null,null,{"$f":"'1-2a'!$F$475","v":0},null,null,{"$f":"'1-2a'!$I$475","v":0},null,null,{"$f":"'1-2a'!$L$475","v":0},null,null,{"$f":"'1-2a'!$O$475","v":0}]
[{"$f":"IF(A466=52,1,A466+1)","v":27},{"$f":"N466+3","v":"2021-06-28"},null,null,{"$f":"B476+1","v":"2021-06-29"},null,null,{"$f":"E476+1","v":"2021-06-30"},null,null,{"$f":"H476+1","v":"2021-07-01"},null,null,{"$f":"K476+1","v":"2021-07-02"}]
[null,{"$f":"B467","v":0},null,null,{"$f":"E467","v":0},null,null,{"$f":"H467","v":0},null,null,{"$f":"K467","v":0},null,null,{"$f":"N467","v":0}]
[48,0,null,null,0,null,null,0,null,null,0,null,null,0]
[null,0,null,null,0,null,null,0,null,null,0,null,null,0]
[null,0,null,null,0,null,null,0,null,null,0,null,null,0]
[null,0,null,null,0,null,null,0,null,null,{"$f":"K471","v":0},null,null,0]
[null,0,null,null,0,null,null,0,null,null,0,null,null,0]
[]
[]
[null,null,{"$f":"'1-2a'!$C$485","v":0},null,null,{"$f":"'1-2a'!$F$485","v":0},null,null,{"$f":"'1-2a'!$I$485","v":0},null,null,{"$f":"'1-2a'!$L$485","v":0},null,null,{"$f":"'1-2a'!$O$485","v":0}]
[{"$f":"IF(A476=52,1,A476+1)","v":28},{"$f":"N476+3","v":"2021-07-05"},null,null,{"$f":"B486+1","v":"2021-07-06"},null,null,{"$f":"E486+1","v":"2021-07-07"},null,null,{"$f":"H486+1","v":"2021-07-08"},null,null,{"$f":"K486+1","v":"2021-07-09"}]
[null,{"$f":"B477","v":0},null,null,{"$f":"E477","v":0},null,null,{"$f":"H477","v":0},null,null,{"$f":"K477","v":0},null,null,{"$f":"N477","v":0}]
[49,0,null,null,0,null,null,0,null,null,0,null,null,0]
[null,0,null,null,0,null,null,0,null,null,0,null,null,0]
[null,0,null,null,0,null,null,0,null,null,0,null,null,0]
[null,0,null,null,0,null,null,0,null,null,0,null,null,0]
[null,0,null,null,0,null,null,0,null,null,0,null,null,0]
[]
[]
[null,null,{"$f":"'1-2a'!$C$495","v":0},null,null,{"$f":"'1-2a'!$F$495","v":0},null,null,{"$f":"'1-2a'!$I$495","v":0},null,null,{"$f":"'1-2a'!$L$495","v":0},null,null,{"$f":"'1-2a'!$O$495","v":0}]
[{"$f":"IF(A486=52,1,A486+1)","v":29},{"$f":"N486+3","v":"2021-07-12"},null,null,{"$f":"B496+1","v":"2021-07-13"},null,null,{"$f":"E496+1","v":"2021-07-14"},null,null,{"$f":"H496+1","v":"2021-07-15"},null,null,{"$f":"K496+1","v":"2021-07-16"}]
[null,{"$f":"B487","v":0},null,null,{"$f":"E487","v":0},null,null,{"$f":"H487","v":0},null,null,{"$f":"K487","v":0},null,null,{"$f":"N487","v":0}]
[50,0,null,null,0,null,null,0,null,null,0]
[null,0,null,null,0,null,null,0,null,null,0,null,null,0]
[null,0,null,null,0,null,null,0,null,null,0,null,null,0]
[null,0,null,null,0,null,null,0,null,null,{"$f":"K491","v":0},null,null,0]
[null,0,null,null,0,null,null,0,null,null,0]

{"sheet":"9","index":9,"n_rows":502,"n_cols":15,"rows_kept":502,"cut":false,"hidden":false,"merged":[[5,1,5,3],[5,4,5,6],[5,7,5,9],[5,10,5,12],[5,13,5,15],[7,0,8,0],[1,1,2,7],[1,9,2,12],[1,13,2,15],[3,1,3,3],[3,4,3,6],[3,7,3,9],[3,10,3,12],[3,13,3,15],[12,1,13,3],[12,4,13,6],[12,7,13,9],[12,10,13,12],[12,13,13,15],[15,1,15,3],[15,4,15,6],[15,7,15,9],[15,10,15,12],[15,13,15,15],[25,1,25,3],[25,4,25,6],[25,7,25,9],[25,10,25,12],[25,13,25,15],[27,0,28,0],[17,0,18,0],[22,1,23,3],[22,4,23,6],[22,7,23,9],[22,10,23,12],[22,13,23,15],[32,1,33,3],[32,4,33,6],[32,7,33,9],[32,10,33,12],[32,13,33,15],[35,1,35,3],[35,4,35,6],[35,7,35,9],[35,10,35,12],[35,13,35,15],[45,1,45,3],[45,4,45,6],[45,7,45,9],[45,10,45,12],[45,13,45,15],[47,0,48,0],[37,0,38,0],[42,1,43,3],[42,4,43,6],[42,7,43,9],[42,10,43,12],[42,13,43,15],[52,1,53,3],[52,4,53,6],[52,7,53,9],[52,10,53,12],[52,13,53,15],[55,1,55,3],[55,4,55,6],[55,7,55,9],[55,10,55,12],[55,13,55,15],[65,1,65,3],[65,4,65,6],[65,7,65,9],[65,10,65,12],[65,13,65,15],[67,0,68,0],[57,0,58,0],[62,1,63,3],[62,4,63,6],[62,7,63,9],[62,10,63,12],[62,13,63,15],[72,1,73,3],[72,4,73,6],[72,7,73,9],[72,10,73,12],[72,13,73,15],[75,1,75,3],[75,4,75,6],[75,7,75,9],[75,10,75,12],[75,13,75,15],[85,1,85,3],[85,4,85,6],[85,7,85,9],[85,10,85,12],[85,13,85,15],[87,0,88,0],[77,0,78,0],[82,1,83,3],[82,4,83,6],[82,7,83,9],[82,10,83,12],[82,13,83,15],[92,1,93,3],[92,4,93,6],[92,7,93,9],[92,10,93,12],[92,13,93,15],[95,1,95,3],[95,4,95,6],[95,7,95,9],[95,10,95,12],[95,13,95,15],[105,1,105,3],[105,4,105,6],[105,7,105,9],[105,10,105,12],[105,13,105,15],[107,0,108,0],[97,0,98,0],[99,16,100,19],[102,1,103,3],[102,4,103,6],[102,7,103,9],[102,10,103,12],[102,13,103,15],[112,1,113,3],[112,4,113,6],[112,7,113,9],[112,10,113,12],[112,13,113,15],[115,1,115,3],[115,4,115,6],[115,7,115,9],[115,10,115,12],[115,13,115,15],[125,1,125,3],[125,4,125,6],[125,7,125,9],[125,10,125,12],[125,13,125,15],[127,0,128,0],[117,0,118,0],[122,1,123,3],[122,4,123,6],[122,7,123,9],[122,10,123,12],[122,13,123,15],[132,1,133,3],[132,4,133,6],[132,7,133,9],[132,10,133,12],[132,13,133,15],[135,1,135,3],[135,4,135,6],[135,7,135,9],[135,10,135,12],[135,13,135,15],[145,1,145,3],[145,4,145,6],[145,7,145,9],[145,10,145,12],[145,13,145,15],[147,0,148,0],[137,0,138,0],[142,1,143,3],[142,4,143,6],[142,7,143,9],[142,10,143,12],[142,13,143,15],[152,1,153,3],[152,4,153,6],[152,7,153,9],[152,10,153,12],[152,13,153,15],[155,1,155,3],[155,4,155,6],[155,7,155,9],[155,10,155,12],[155,13,155,15],[165,1,165,3],[165,4,165,6],[165,7,165,9],[165,10,165,12],[165,13,165,15],[167,0,168,0],[157,0,158,0],[162,1,163,3],[162,4,163,6],[162,7,163,9],[162,10,163,12],[162,13,163,15],[172,1,173,3],[172,4,173,6],[172,7,173,9],[172,10,173,12],[172,13,173,15],[175,1,175,3],[175,4,175,6],[175,7,175,9],[175,10,175,12],[175,13,175,15],[185,1,185,3],[185,4,185,6],[185,7,185,9],[185,10,185,12],[185,13,185,15],[187,0,188,0],[177,0,178,0],[179,16,180,19],[182,1,183,3],[182,4,183,6],[182,7,183,9],[182,10,183,12],[182,13,183,15],[192,1,193,3],[192,4,193,6],[192,7,193,9],[192,10,193,12],[192,13,193,15],[195,1,195,3],[195,4,195,6],[195,7,195,9],[195,10,195,12],[195,13,195,15],[205,1,205,3],[205,4,205,6],[205,7,205,9],[205,10,205,12],[205,13,205,15],[207,0,208,0],[197,0,198,0],[202,1,203,3],[202,4,203,6],[202,7,203,9],[202,10,203,12],[202,13,203,15],[212,1,213,3],[212,4,213,6],[212,7,213,9],[212,10,213,12],[212,13,213,15],[215,1,215,3],[215,4,215,6],[215,7,215,9],[215,10,215,12],[215,13,215,15],[225,1,225,3],[225,4,225,6],[225,7,225,9],[225,10,225,12],[225,13,225,15],[227,0,228,0],[217,0,218,0],[222,1,223,3],[222,4,223,6],[222,7,223,9],[222,10,223,12],[222,13,223,15],[232,1,233,3],[232,4,233,6],[232,7,233,9],[232,10,233,12],[232,13,233,15],[235,1,235,3],[235,4,235,6],[235,7,235,9],[235,10,235,12],[235,13,235,15],[245,1,245,3],[245,4,245,6],[245,7,245,9],[245,10,245,12],[245,13,245,15],[247,0,248,0],[237,0,238,0],[242,1,243,3],[242,4,243,6],[242,7,243,9],[242,10,243,12],[242,13,243,15],[252,1,253,3],[252,4,253,6],[252,7,253,9],[252,10,253,12],[252,13,253,15],[255,1,255,3],[255,4,255,6],[255,7,255,9],[255,10,255,12],[255,13,255,15],[265,1,265,3],[265,4,265,6],[265,7,265,9],[265,10,265,12],[265,13,265,15],[267,0,268,0],[257,0,258,0],[259,16,260,19],[262,1,263,3],[262,4,263,6],[262,7,263,9],[262,10,263,12],[262,13,263,15],[272,1,273,3],[272,4,273,6],[272,7,273,9],[272,10,273,12],[272,13,273,15],[275,1,275,3],[275,4,275,6],[275,7,275,9],[275,10,275,12],[275,13,275,15],[285,1,285,3],[285,4,285,6],[285,7,285,9],[285,10,285,12],[285,13,285,15],[287,0,288,0],[277,0,278,0],[282,1,283,3],[282,4,283,6],[282,7,283,9],[282,10,283,12],[282,13,283,15],[292,1,293,3],[292,4,293,6],[292,7,293,9],[292,10,293,12],[292,13,293,15],[295,1,295,3],[295,4,295,6],[295,7,295,9],[295,10,295,12],[295,13,295,15],[305,1,305,3],[305,4,305,6],[305,7,305,9],[305,10,305,12],[305,13,305,15],[307,0,308,0],[297,0,298,0],[302,1,303,3],[302,4,303,6],[302,7,303,9],[302,10,303,12],[302,13,303,15],[312,1,313,3],[312,4,313,6],[312,7,313,9],[312,10,313,12],[312,13,313,15],[315,1,315,3],[315,4,315,6],[315,7,315,9],[315,10,315,12],[315,13,315,15],[325,1,325,3],[325,4,325,6],[325,7,325,9],[325,10,325,12],[325,13,325,15],[327,0,328,0],[317,0,318,0],[322,1,323,3],[322,4,323,6],[322,7,323,9],[322,10,323,12],[322,13,323,15],[332,1,333,3],[332,4,333,6],[332,7,333,9],[332,10,333,12],[332,13,333,15],[335,1,335,3],[335,4,335,6],[335,7,335,9],[335,10,335,12],[335,13,335,15],[345,1,345,3],[345,4,345,6],[345,7,345,9],[345,10,345,12],[345,13,345,15],[347,0,348,0],[337,0,338,0],[339,16,340,19],[342,1,343,3],[342,4,343,6],[342,7,343,9],[342,10,343,12],[342,13,343,15],[352,1,353,3],[352,4,353,6],[352,7,353,9],[352,10,353,12],[352,13,353,15],[355,1,355,3],[355,4,355,6],[355,7,355,9],[355,10,355,12],[355,13,355,15],[365,1,365,3],[365,4,365,6],[365,7,365,9],[365,10,365,12],[365,13,365,15],[367,0,368,0],[357,0,358,0],[362,1,363,3],[362,4,363,6],[362,7,363,9],[362,10,363,12],[362,13,363,15],[372,1,373,3],[372,4,373,6],[372,7,373,9],[372,10,373,12],[372,13,373,15],[375,1,375,3],[375,4,375,6],[375,7,375,9],[375,10,375,12],[375,13,375,15],[385,1,385,3],[385,4,385,6],[385,7,385,9],[385,10,385,12],[385,13,385,15],[387,0,388,0],[377,0,378,0],[382,1,383,3],[382,4,383,6],[382,7,383,9],[382,10,383,12],[382,13,383,15],[392,1,393,3],[392,4,393,6],[392,7,393,9],[392,10,393,12],[392,13,393,15],[395,1,395,3],[395,4,395,6],[395,7,395,9],[395,10,395,12],[395,13,395,15],[405,1,405,3],[405,4,405,6],[405,7,405,9],[405,10,405,12],[405,13,405,15],[407,0,408,0],[397,0,398,0],[402,1,403,3],[402,4,403,6],[402,7,403,9],[402,10,403,12],[402,13,403,15],[412,1,413,3],[412,4,413,6],[412,7,413,9],[412,10,413,12],[412,13,413,15],[415,1,415,3],[415,4,415,6],[415,7,415,9],[415,10,415,12],[415,13,415,15],[425,1,425,3],[425,4,425,6],[425,7,425,9],[425,10,425,12],[425,13,425,15],[427,0,428,0],[417,0,418,0],[419,16,420,19],[422,1,423,3],[422,4,423,6],[422,7,423,9],[422,10,423,12],[422,13,423,15],[432,1,433,3],[432,4,433,6],[432,7,433,9],[432,10,433,12],[432,13,433,15],[435,1,435,3],[435,4,435,6],[435,7,435,9],[435,10,435,12],[435,13,435,15],[445,1,445,3],[445,4,445,6],[445,7,445,9],[445,10,445,12],[445,13,445,15],[447,0,448,0],[437,0,438,0],[442,1,443,3],[442,4,443,6],[442,7,443,9],[442,10,443,12],[442,13,443,15],[452,1,453,3],[452,4,453,6],[452,7,453,9],[452,10,453,12],[452,13,453,15],[455,1,455,3],[455,4,455,6],[455,7,455,9],[455,10,455,12],[455,13,455,15],[465,1,465,3],[465,4,465,6],[465,7,465,9],[465,10,465,12],[465,13,465,15],[467,0,468,0],[457,0,458,0],[462,1,463,3],[462,4,463,6],[462,7,463,9],[462,10,463,12],[462,13,463,15],[472,1,473,3],[472,4,473,6],[472,7,473,9],[472,10,473,12],[472,13,473,15],[475,1,475,3],[475,4,475,6],[475,7,475,9],[475,10,475,12],[475,13,475,15],[485,1,485,3],[485,4,485,6],[485,7,485,9],[485,10,485,12],[485,13,485,15],[487,0,488,0],[477,0,478,0],[482,1,483,3],[482,4,483,6],[482,7,483,9],[482,10,483,12],[482,13,483,15],[497,0,498,0],[499,16,500,19],[502,1,503,3],[502,4,503,6],[502,7,503,9],[502,10,503,12],[502,13,503,15],[492,1,493,3],[492,4,493,6],[492,7,493,9],[492,10,493,12],[492,13,493,15],[495,1,495,3],[495,4,495,6],[495,7,495,9],[495,10,495,12],[495,13,495,15]]}
[]
[null,{"$f":"'1-2a'!B2:H3","v":"Basisschool De Grote Beer        schooljaar 2020/2021"},null,null,null,null,null,null,null,"Groepsplanner van groep:",null,null,null,"9"]
[]
[null,"maandag 1e schoolweek",null,null,"dinsdag",null,null,"woensdag",null,null,"donderdag",null,null,"vrijdag"]
[null,null,{"$f":"'1-2a'!C$5","v":0},null,null,{"$f":"'1-2a'!F5","v":0},null,null,{"$f":"'1-2a'!I$5","v":0},null,null,{"$f":"'1-2a'!L$5","v":"s"},null,null,{"$f":"'1-2a'!O$5","v":0}]
[{"$f":"(B6-WEEKDAY(B6-1)+4-(TRUNC(DATE(YEAR(B6-WEEKDAY(B6-1)+4),1,2)/7)*7-2))/7","v":32},{"$f":"'1-2a'!B6:D6","v":"2020-08-03"},null,null,{"$f":"B6+1","v":"2020-08-04"},null,null,{"$f":"E6+1","v":"2020-08-05"},null,null,{"$f":"H6+1","v":"2020-08-06"},null,null,{"$f":"K6+1","v":"2020-08-07"}]
[]
[1]
[]
[]
[]
[]
[]
[]
[null,null,{"$f":"'1-2a'!C$15","v":0},null,null,{"$f":"'1-2a'!F$15","v":0},null,null,{"$f":"'1-2a'!I$15","v":0},null,null,{"$f":"'1-2a'!L$15","v":0},null,null,{"$f":"'1-2a'!O15","v":0}]
[{"$f":"IF(A6=52,1,A6+1)","v":33},{"$f":"N6+3","v":"2020-08-10"},null,null,{"$f":"B16+1","v":"2020-08-11"},null,null,{"$f":"E16+1","v":"2020-08-12"},null,null,{"$f":"H16+1","v":"2020-08-13"},null,null,{"$f":"K16+1","v":"2020-08-14"}]
[null,{"$f":"B7","v":0},null,null,{"$f":"E7","v":0},null,null,{"$f":"H7","v":0},null,null,{"$f":"K7","v":0},null,null,{"$f":"N7","v":0}]
[2,0,null,null,0,null,null,0,null,null,0,null,null,0]
[null,0,null,null,0,null,null,0,null,null,0,null,null,0]
[null,0,null,null,0,null,null,0,null,null,0,null,null,0]
[null,0,null,null,0,null,null,0,null,null,0,null,null,0]
[null,0,null,null,0,null,null,0,null,null,0,null,null,0]
[]
[]
[null,null,{"$f":"'1-2a'!C$25","v":0},null,null,{"$f":"'1-2a'!F$25","v":0},null,null,{"$f":"'1-2a'!I25","v":0},null,null,{"$f":"'1-2a'!L25","v":0},null,null,{"$f":"'1-2a'!O25","v":0}]
[{"$f":"IF(A16=52,1,A16+1)","v":34},{"$f":"N16+3","v":"2020-08-17"},null,null,{"$f":"B26+1","v":"2020-08-18"},null,null,{"$f":"E26+1","v":"2020-08-19"},null,null,{"$f":"H26+1","v":"2020-08-20"},null,null,{"$f":"K26+1","v":"2020-08-21"}]
[null,{"$f":"B17","v":0},null,null,{"$f":"E17","v":0},null,null,{"$f":"H17","v":0},null,null,{"$f":"K17","v":0},null,null,{"$f":"N17","v":0}]
[3,0,null,null,0,null,null,0,null,null,0,null,null,0]
[null,0,null,null,0,null,null,0,null,null,0,null,null,0]
[null,0,null,null,0,null,null,0,null,null,0,null,null,0]
[null,0,null,null,0,null,null,0,null,null,{"$f":"K21","v":0},null,null,0]
[null,0,null,null,0,null,null,0,null,null,0,null,null,0]
[]
[]
[null,null,{"$f":"'1-2a'!$C$35","v":0},null,null,{"$f":"'1-2a'!$F$35","v":0},null,null,{"$f":"'1-2a'!$I$35","v":0},null,null,{"$f":"'1-2a'!$L$35","v":0},null,null,{"$f":"'1-2a'!$O$35","v":0}]
[{"$f":"IF(A26=52,1,A26+1)","v":35},{"$f":"N26+3","v":"2020-08-24"},null,null,{"$f":"B36+1","v":"2020-08-25"},null,null,{"$f":"E36+1","v":"2020-08-26"},null,null,{"$f":"H36+1","v":"2020-08-27"},null,null,{"$f":"K36+1","v":"2020-08-28"}]
[null,{"$f":"B27","v":0},null,null,{"$f":"E27","v":0},null,null,{"$f":"H27","v":0},null,null,{"$f":"K27","v":0},null,null,{"$f":"N27","v":0}]
[4,0,null,null,0,null,null,0,null,null,0,null,null,0]
[null,0,null,null,0,null,null,0,null,null,0,null,null,0]
[null,0,null,null,0,null,null,0,null,null,0,null,null,0]
[null,0,null,null,0,null,null,0,null,null,{"$f":"K31","v":0},null,null,0]
[null,0,null,null,0,null,null,0,null,null,0,null,null,0]
[]
[]
[null,null,{"$f":"'1-2a'!$C$45","v":0},null,null,{"$f":"'1-2a'!$F$45","v":0},null,null,{"$f":"'1-2a'!$I$45","v":0},null,null,{"$f":"'1-2a'!$L$45","v":0},null,null,{"$f":"'1-2a'!$O$45","v":0}]
[{"$f":"IF(A36=52,1,A36+1)","v":36},{"$f":"N36+3","v":"2020-08-31"},null,null,{"$f":"B46+1","v":"2020-09-01"},null,null,{"$f":"E46+1","v":"2020-09-02"},null,null,{"$f":"H46+1","v":"2020-09-03"},null,null,{"$f":"K46+1","v":"2020-09-04"}]
[null,{"$f":"B37","v":0},null,null,{"$f":"E37","v":0},null,null,{"$f":"H37","v":0},null,null,{"$f":"K37","v":0},null,null,{"$f":"N37","v":0}]
[5,0,null,null,0,null,null,0,null,null,0,null,null,0]
[null,0,null,null,0,null,null,0,null,null,0,null,null,0]
[null,0,null,null,0,null,null,0,null,null,0,null,null,0]
[null,0,null,null,0,null,null,0,null,null,{"$f":"K41","v":0},null,null,0]
[null,0,null,null,0,null,null,0,null,null,0,null,null,0]
[]
[]
[null,null,{"$f":"'1-2a'!$C$55","v":0},null,null,{"$f":"'1-2a'!$F$55","v":0},null,null,{"$f":"'1-2a'!$I$55","v":0},null,null,{"$f":"'1-2a'!$L$55","v":0},null,null,{"$f":"'1-2a'!O55","v":0}]
[{"$f":"IF(A46=52,1,A46+1)","v":37},{"$f":"N46+3","v":"2020-09-07"},null,null,{"$f":"B56+1","v":"2020-09-08"},null,null,{"$f":"E56+1","v":"2020-09-09"},null,null,{"$f":"H56+1","v":"2020-09-10"},null,null,{"$f":"K56+1","v":"2020-09-11"}]
[null,{"$f":"B47","v":0},null,null,{"$f":"E47","v":0},null,null,{"$f":"H47","v":0},null,null,{"$f":"K47","v":0},null,null,{"$f":"N47","v":0}]
[6,0,null,null,0,null,null,0,null,null,0,null,null,0]
[null,0,null,null,0,null,null,0,null,null,0,null,null,0]
[null,0,null,null,0,null,null,0,null,null,0,null,null,0]
[null,0,null,null,0,null,null,0,null,null,{"$f":"K51","v":0},null,null,0]
[null,0,null,null,0,null,null,0,null,null,0,null,null,0]
[]
[]
[null,null,{"$f":"'1-2a'!$C$65","v":0},null,null,{"$f":"'1-2a'!$F$65","v":0},null,null,{"$f":"'1-2a'!$I$65","v":0},null,null,{"$f":"'1-2a'!$L$65","v":0},null,null,{"$f":"'1-2a'!$O$65","v":0}]
[{"$f":"IF(A56=52,1,A56+1)","v":38},{"$f":"N56+3","v":"2020-09-14"},null,null,{"$f":"B66+1","v":"2020-09-15"},null,null,{"$f":"E66+1","v":"2020-09-16"},null,null,{"$f":"H66+1","v":"2020-09-17"},null,null,{"$f":"K66+1","v":"2020-09-18"}]
[null,{"$f":"B57","v":0},null,null,{"$f":"E57","v":0},null,null,{"$f":"H57","v":0},null,null,{"$f":"K57","v":0},null,null,{"$f":"N57","v":0}]
[7,0,null,null,0,null,null,0,null,null,0,null,null,0]
[null,0,null,null,0,null,null,0,null,null,0,null,null,0]
[null,0,null,null,0,null,null,0,null,null,0,null,null,0]
[null,0,null,null,0,null,null,0,null,null,{"$f":"K61","v":0},null,null,0]
[null,0,null,null,0,null,null,0,null,null,0,null,null,0]
[]
[]
[null,null,{"$f":"'1-2a'!$C$75","v":0},null,null,{"$f":"'1-2a'!$F$75","v":0},null,null,{"$f":"'1-2a'!$I$75","v":0},null,null,{"$f":"'1-2a'!$L$75","v":0},null,null,{"$f":"'1-2a'!$O$75","v":0}]
[{"$f":"IF(A66=52,1,A66+1)","v":39},{"$f":"N66+3","v":"2020-09-21"},null,null,{"$f":"B76+1","v":"2020-09-22"},null,null,{"$f":"E76+1","v":"2020-09-23"},null,null,{"$f":"H76+1","v":"2020-09-24"},null,null,{"$f":"K76+1","v":"2020-09-25"}]
[null,{"$f":"B67","v":0},null,null,{"$f":"E67","v":0},null,null,{"$f":"H67","v":0},null,null,{"$f":"K67","v":0},null,null,{"$f":"N67","v":0}]
[8,0,null,null,0,null,null,0,null,null,0,null,null,0]
[null,0,null,null,0,null,null,0,null,null,0,null,null,0]
[null,0,null,null,0,null,null,0,null,null,0,null,null,0]
[null,0,null,null,0,null,null,0,null,null,{"$f":"K71","v":0},null,null,0]
[null,0,null,null,0,null,null,0,null,null,0,null,null,0]
[]
[]
[null,null,{"$f":"'1-2a'!$C$85","v":0},null,null,{"$f":"'1-2a'!$F$85","v":0},null,null,{"$f":"'1-2a'!$I$85","v":0},null,null,{"$f":"'1-2a'!$L$85","v":0},null,null,{"$f":"'1-2a'!$O$85","v":0}]
[{"$f":"IF(A76=52,1,A76+1)","v":40},{"$f":"N76+3","v":"2020-09-28"},null,null,{"$f":"B86+1","v":"2020-09-29"},null,null,{"$f":"E86+1","v":"2020-09-30"},null,null,{"$f":"H86+1","v":"2020-10-01"},null,null,{"$f":"K86+1","v":"2020-10-02"}]
[null,{"$f":"B77","v":0},null,null,{"$f":"E77","v":0},null,null,{"$f":"H77","v":0},null,null,{"$f":"K77","v":0},null,null,{"$f":"N77","v":0}]
[9,0,null,null,0,null,null,0,null,null,0,null,null,0]
[null,0,null,null,0,null,null,0,null,null,0,null,null,0]
[null,0,null,null,0,null,null,0,null,null,0,null,null,0]
[null,0,null,null,0,null,null,0,null,null,0,null,null,0]
[null,0,null,null,0,null,null,0,null,null,0,null,null,0]
[]
[]
[null,null,{"$f":"'1-2a'!$C$95","v":0},null,null,{"$f":"'1-2a'!$F$95","v":0},null,null,{"$f":"'1-2a'!$I$95","v":0},null,null,{"$f":"'1-2a'!$L$95","v":0},null,null,{"$f":"'1-2a'!$O$95","v":0}]
[{"$f":"IF(A86=52,1,A86+1)","v":41},{"$f":"N86+3","v":"2020-10-05"},null,null,{"$f":"B96+1","v":"2020-10-06"},null,null,{"$f":"E96+1","v":"2020-10-07"},null,null,{"$f":"H96+1","v":"2020-10-08"},null,null,{"$f":"K96+1","v":"2020-10-09"}]
[null,{"$f":"B87","v":0},null,null,{"$f":"E87","v":0},null,null,{"$f":"H87","v":0},null,null,{"$f":"K87","v":0},null,null,{"$f":"N87","v":0}]
[10,0,null,null,0,null,null,0,null,null,0,null,null,0]
[null,0,null,null,0,null,null,0,null,null,0,null,null,0]
[null,0,null,null,0,null,null,0,null,null,0,null,null,0]
[null,0,null,null,0,null,null,0,null,null,{"$f":"K91","v":0},null,null,0]
[null,0,null,null,0,null,null,0,null,null,0,null,null,0]
[]
[]
[null,null,{"$f":"'1-2a'!$C$105","v":0},null,null,{"$f":"'1-2a'!$F$105","v":0},null,null,{"$f":"'1-2a'!$I$105","v":0},null,null,{"$f":"'1-2a'!$L$105","v":0},null,null,{"$f":"'1-2a'!$O$105","v":0}]
[{"$f":"IF(A96=52,1,A96+1)","v":42},{"$f":"N96+3","v":"2020-10-12"},null,null,{"$f":"B106+1","v":"2020-10-13"},null,null,{"$f":"E106+1","v":"2020-10-14"},null,null,{"$f":"H106+1","v":"2020-10-15"},null,null,{"$f":"K106+1","v":"2020-10-16"}]
[null,{"$f":"B97","v":0},null,null,{"$f":"E97","v":0},null,null,{"$f":"H97","v":0},null,null,{"$f":"K97","v":0},null,null,{"$f":"N97","v":0}]
[11,0,null,null,0,null,null,0,null,null,0,null,null,0]
[null,0,null,null,0,null,null,0,null,null,0,null,null,0]
[null,0,null,null,0,null,null,0,null,null,0,null,null,0]
[null,0,null,null,0,null,null,0,null,null,{"$f":"K101","v":0},null,null,0]
[null,0,null,null,0,null,null,0,null,null,0,null,null,0]
[]
[]
[null,null,{"$f":"'1-2a'!$C$115","v":0},null,null,{"$f":"'1-2a'!$F$115","v":0},null,null,{"$f":"'1-2a'!$I$115","v":0},null,null,{"$f":"'1-2a'!$L$115","v":0},null,null,{"$f":"'1-2a'!$O$115","v":0}]
[{"$f":"IF(A106=52,1,A106+1)","v":43},{"$f":"N106+3","v":"2020-10-19"},null,null,{"$f":"B116+1","v":"2020-10-20"},null,null,{"$f":"E116+1","v":"2020-10-21"},null,null,{"$f":"H116+1","v":"2020-10-22"},null,null,{"$f":"K116+1","v":"2020-10-23"}]
[null,{"$f":"B107","v":0},null,null,{"$f":"E107","v":0},null,null,{"$f":"H107","v":0},null,null,{"$f":"K107","v":0},null,null,{"$f":"N107","v":0}]
[12,0,null,null,0,null,null,0,null,null,0,null,null,0]
[null,0,null,null,0,null,null,0,null,null,0,null,null,0]
[null,0,null,null,0,null,null,0,null,null,0,null,null,0]
[null,0,null,null,0,null,null,0,null,null,{"$f":"K111","v":0},null,null,0]
[null,0,null,null,0,null,null,0,null,null,0,null,null,0]
[]
[]
[null,null,{"$f":"'1-2a'!$C$125","v":0},null,null,{"$f":"'1-2a'!$F$125","v":0},null,null,{"$f":"'1-2a'!$I$125","v":0},null,null,{"$f":"'1-2a'!$L$125","v":0},null,null,{"$f":"'1-2a'!$O$125","v":0}]
[{"$f":"IF(A116=52,1,A116+1)","v":44},{"$f":"N116+3","v":"2020-10-26"},null,null,{"$f":"B126+1","v":"2020-10-27"},null,null,{"$f":"E126+1","v":"2020-10-28"},null,null,{"$f":"H126+1","v":"2020-10-29"},null,null,{"$f":"K126+1","v":"2020-10-30"}]
[null,{"$f":"B117","v":0},null,null,{"$f":"E117","v":0},null,null,{"$f":"H117","v":0},null,null,{"$f":"K117","v":0},null,null,{"$f":"N117","v":0}]
[13,0,null,null,0,null,null,0,null,null,0,null,null,0]
[null,0,null,null,0,null,null,0,null,null,0,null,null,0]
[null,0,null,null,0,null,null,0,null,null,0,null,null,0]
[null,0,null,null,0,null,null,0,null,null,{"$f":"K121","v":0},null,null,0]
[null,0,null,null,0,null,null,0,null,null,0,null,null,0]
[]
[]
[null,null,{"$f":"'1-2a'!$C$135","v":0},null,null,{"$f":"'1-2a'!$F$135","v":0},null,null,{"$f":"'1-2a'!$I$135","v":0},null,null,{"$f":"'1-2a'!$L$135","v":0},null,null,{"$f":"'1-2a'!$O$135","v":0}]
[{"$f":"IF(A126=52,1,A126+1)","v":45},{"$f":"N126+3","v":"2020-11-02"},null,null,{"$f":"B136+1","v":"2020-11-03"},null,null,{"$f":"E136+1","v":"2020-11-04"},null,null,{"$f":"H136+1","v":"2020-11-05"},null,null,{"$f":"K136+1","v":"2020-11-06"}]
[null,{"$f":"B127","v":0},null,null,{"$f":"E127","v":0},null,null,{"$f":"H127","v":0},null,null,{"$f":"K127","v":0},null,null,{"$f":"N127","v":0}]
[14,0,null,null,0,null,null,0,null,null,0,null,null,0]
[null,0,null,null,0,null,null,0,null,null,0,null,null,0]
[null,0,null,null,0,null,null,0,null,null,0,null,null,0]
[null,0,null,null,0,null,null,0,null,null,{"$f":"K131","v":0},null,null,0]
[null,0,null,null,0,null,null,0,null,null,0,null,null,0]
[]
[]
[null,null,{"$f":"'1-2a'!$C$145","v":0},null,null,{"$f":"'1-2a'!$F$145","v":0},null,null,{"$f":"'1-2a'!$I$145","v":0},null,null,{"$f":"'1-2a'!$L$145","v":0},null,null,{"$f":"'1-2a'!$O$145","v":0}]
[{"$f":"IF(A136=52,1,A136+1)","v":46},{"$f":"N136+3","v":"2020-11-09"},null,null,{"$f":"B146+1","v":"2020-11-10"},null,null,{"$f":"E146+1","v":"2020-11-11"},null,null,{"$f":"H146+1","v":"2020-11-12"},null,null,{"$f":"K146+1","v":"2020-11-13"}]
[null,{"$f":"B137","v":0},null,null,{"$f":"E137","v":0},null,null,{"$f":"H137","v":0},null,null,{"$f":"K137","v":0},null,null,{"$f":"N137","v":0}]
[15,0,null,null,0,null,null,0,null,null,0,null,null,0]
[null,0,null,null,0,null,null,0,null,null,0,null,null,0]
[null,0,null,null,0,null,null,0,null,null,0,null,null,0]
[null,0,null,null,0,null,null,0,null,null,{"$f":"K141","v":0},null,null,0]
[null,0,null,null,0,null,null,0,null,null,0,null,null,0]
[]
[]
[null,null,{"$f":"'1-2a'!$C$155","v":0},null,null,{"$f":"'1-2a'!$F$155","v":0},null,null,{"$f":"'1-2a'!$I$155","v":0},null,null,{"$f":"'1-2a'!$L$155","v":0},null,null,{"$f":"'1-2a'!$O$155","v":0}]
[{"$f":"IF(A146=52,1,A146+1)","v":47},{"$f":"N146+3","v":"2020-11-16"},null,null,{"$f":"B156+1","v":"2020-11-17"},null,null,{"$f":"E156+1","v":"2020-11-18"},null,null,{"$f":"H156+1","v":"2020-11-19"},null,null,{"$f":"K156+1","v":"2020-11-20"}]
[null,{"$f":"B147","v":0},null,null,{"$f":"E147","v":0},null,null,{"$f":"H147","v":0},null,null,{"$f":"K147","v":0},null,null,{"$f":"N147","v":0}]
[16,0,null,null,0,null,null,0,null,null,0,null,null,0]
[null,0,null,null,0,null,null,0,null,null,0,null,null,0]
[null,0,null,null,0,null,null,0,null,null,0,null,null,0]
[null,0,null,null,0,null,null,0,null,null,{"$f":"K151","v":0},null,null,0]
[null,0,null,null,0,null,null,0,null,null,0,null,null,0]
[]
[]
[null,null,{"$f":"'1-2a'!$C$165","v":0},null,null,{"$f":"'1-2a'!$F$165","v":0},null,null,{"$f":"'1-2a'!$I$165","v":0},null,null,{"$f":"'1-2a'!$L$165","v":0},null,null,{"$f":"'1-2a'!$O$165","v":0}]
[{"$f":"IF(A156=52,1,A156+1)","v":48},{"$f":"N156+3","v":"2020-11-23"},null,null,{"$f":"B166+1","v":"2020-11-24"},null,null,{"$f":"E166+1","v":"2020-11-25"},null,null,{"$f":"H166+1","v":"2020-11-26"},null,null,{"$f":"K166+1","v":"2020-11-27"}]
[null,{"$f":"B157","v":0},null,null,{"$f":"E157","v":0},null,null,{"$f":"H157","v":0},null,null,{"$f":"K157","v":0},null,null,{"$f":"N157","v":0}]
[17,0,null,null,0,null,null,0,null,null,0,null,null,0]
[null,0,null,null,0,null,null,0,null,null,0,null,null,0]
[null,0,null,null,0,null,null,0,null,null,0,null,null,0]
[null,0,null,null,0,null,null,0,null,null,0,null,null,0]
[null,0,null,null,0,null,null,0,null,null,0,null,null,0]
[]
[]
[null,null,{"$f":"'1-2a'!$C$175","v":0},null,null,{"$f":"'1-2a'!$F$175","v":0},null,null,{"$f":"'1-2a'!$I$175","v":0},null,null,{"$f":"'1-2a'!$L$175","v":0},null,null,{"$f":"'1-2a'!$O$175","v":0}]
[{"$f":"IF(A166=52,1,A166+1)","v":49},{"$f":"N166+3","v":"2020-11-30"},null,null,{"$f":"B176+1","v":"2020-12-01"},null,null,{"$f":"E176+1","v":"2020-12-02"},null,null,{"$f":"H176+1","v":"2020-12-03"},null,null,{"$f":"K176+1","v":"2020-12-04"}]
[null,{"$f":"B167","v":0},null,null,{"$f":"E167","v":0},null,null,{"$f":"H167","v":0},null,null,{"$f":"K167","v":0},null,null,{"$f":"N167","v":0}]
[18,0,null,null,0,null,null,0,null,null,0,null,null,0]
[null,0,null,null,0,null,null,0,null,null,0,null,null,0]
[null,0,null,null,0,null,null,0,null,null,0,null,null,0]
[null,0,null,null,0,null,null,0,null,null,{"$f":"K171","v":0},null,null,0]
[null,0,null,null,0,null,null,0,null,null,0,null,null,0]
[]
[]
[null,null,{"$f":"'1-2a'!$C$185","v":0},null,null,{"$f":"'1-2a'!$F$185","v":0},null,null,{"$f":"'1-2a'!$I$185","v":0},null,null,{"$f":"'1-2a'!$L$185","v":0},null,null,{"$f":"'1-2a'!$O$185","v":0}]
[{"$f":"IF(A176=52,1,A176+1)","v":50},{"$f":"N176+3","v":"2020-12-07"},null,null,{"$f":"B186+1","v":"2020-12-08"},null,null,{"$f":"E186+1","v":"2020-12-09"},null,null,{"$f":"H186+1","v":"2020-12-10"},null,null,{"$f":"K186+1","v":"2020-12-11"}]
[null,{"$f":"B177","v":0},null,null,{"$f":"E177","v":0},null,null,{"$f":"H177","v":0},null,null,{"$f":"K177","v":0},null,null,{"$f":"N177","v":0}]
[19,0,null,null,0,null,null,0,null,null,0,null,null,0]
[null,0,null,null,0,null,null,0,null,null,0,null,null,0]
[null,0,null,null,0,null,null,0,null,null,0,null,null,0]
[null,0,null,null,0,null,null,0,null,null,{"$f":"K181","v":0},null,null,0]
[null,0,null,null,0,null,null,0,null,null,0,null,null,0]
[]
[]
[null,null,{"$f":"'1-2a'!$C$195","v":0},null,null,{"$f":"'1-2a'!$F$195","v":0},null,null,{"$f":"'1-2a'!$I$195","v":0},null,null,{"$f":"'1-2a'!$L$195","v":0},null,null,{"$f":"'1-2a'!$O$195","v":0}]
[{"$f":"IF(A186=52,1,A186+1)","v":51},{"$f":"N186+3","v":"2020-12-14"},null,null,{"$f":"B196+1","v":"2020-12-15"},null,null,{"$f":"E196+1","v":"2020-12-16"},null,null,{"$f":"H196+1","v":"2020-12-17"},null,null,{"$f":"K196+1","v":"2020-12-18"}]
[null,{"$f":"B187","v":0},null,null,{"$f":"E187","v":0},null,null,{"$f":"H187","v":0},null,null,{"$f":"K187","v":0},null,null,{"$f":"N187","v":0}]
[20,0,null,null,0,null,null,0,null,null,0,null,null,0]
[null,0,null,null,0,null,null,0,null,null,0,null,null,0]
[null,0,null,null,0,null,null,0,null,null,0,null,null,0]
[null,0,null,null,0,null,null,0,null,null,{"$f":"K191","v":0},null,null,0]
[null,0,null,null,0,null,null,0,null,null,0,null,null,0]
[]
[]
[null,null,{"$f":"'1-2a'!$C$205","v":0},null,null,{"$f":"'1-2a'!$F$205","v":0},null,null,{"$f":"'1-2a'!$I$205","v":0},null,null,{"$f":"'1-2a'!$L$205","v":0},null,null,{"$f":"'1-2a'!$O$205","v":0}]
[{"$f":"IF(A196=52,1,A196+1)","v":52},{"$f":"N196+3","v":"2020-12-21"},null,null,{"$f":"B206+1","v":"2020-12-22"},null,null,{"$f":"E206+1","v":"2020-12-23"},null,null,{"$f":"H206+1","v":"2020-12-24"},null,null,{"$f":"K206+1","v":"2020-12-25"}]
[null,{"$f":"B197","v":0},null,null,{"$f":"E197","v":0},null,null,{"$f":"H197","v":0},null,null,{"$f":"K197","v":0},null,null,{"$f":"N197","v":0}]
[21,0,null,null,0,null,null,0,null,null,0,null,null,0]
[null,0,null,null,0,null,null,0,null,null,0,null,null,0]
[null,0,null,null,0,null,null,0,null,null,0,null,null,0]
[null,0,null,null,0,null,null,0,null,null,{"$f":"K201","v":0},null,null,0]
[null,0,null,null,0,null,null,0,null,null,0,null,null,0]
[]
[]
[null,null,{"$f":"'1-2a'!$C$215","v":0},null,null,{"$f":"'1-2a'!$F$215","v":0},null,null,{"$f":"'1-2a'!$I$215","v":0},null,null,{"$f":"'1-2a'!$L$215","v":0},null,null,{"$f":"'1-2a'!$O$215","v":0}]
[{"$f":"IF(A206=52,1,A206+1)","v":1},{"$f":"N206+3","v":"2020-12-28"},null,null,{"$f":"B216+1","v":"2020-12-29"},null,null,{"$f":"E216+1","v":"2020-12-30"},null,null,{"$f":"H216+1","v":"2020-12-31"},null,null,{"$f":"K216+1","v":"2021-01-01"}]
[null,{"$f":"B207","v":0},null,null,{"$f":"E207","v":0},null,null,{"$f":"H207","v":0},null,null,{"$f":"K207","v":0},null,null,{"$f":"N207","v":0}]
[22,0,null,null,0,null,null,0,null,null,0,null,null,0]
[null,0,null,null,0,null,null,0,null,null,0,null,null,0]
[null,0,null,null,0,null,null,0,null,null,0,null,null,0]
[null,0,null,null,0,null,null,0,null,null,{"$f":"K211","v":0},null,null,0]
[null,0,null,null,0,null,null,0,null,null,0,null,null,0]
[]
[]
[null,null,{"$f":"'1-2a'!$C$225","v":0},null,null,{"$f":"'1-2a'!$F$225","v":0},null,null,{"$f":"'1-2a'!$I$225","v":0},null,null,{"$f":"'1-2a'!$L$225","v":0},null,null,{"$f":"'1-2a'!$O$225","v":0}]
[{"$f":"IF(A216=52,1,A216+1)","v":2},{"$f":"N216+3","v":"2021-01-04"},null,null,{"$f":"B226+1","v":"2021-01-05"},null,null,{"$f":"E226+1","v":"2021-01-06"},null,null,{"$f":"H226+1","v":"2021-01-07"},null,null,{"$f":"K226+1","v":"2021-01-08"}]
[null,{"$f":"B217","v":0},null,null,{"$f":"E217","v":0},null,null,{"$f":"H217","v":0},null,null,{"$f":"K217","v":0},null,null,{"$f":"N217","v":0}]
[23,0,null,null,0,null,null,0,null,null,0,null,null,0]
[null,0,null,null,0,null,null,0,null,null,0,null,null,0]
[null,0,null,null,0,null,null,0,null,null,0,null,null,0]
[null,0,null,null,0,null,null,0,null,null,{"$f":"K221","v":0},null,null,0]
[null,0,null,null,0,null,null,0,null,null,0,null,null,0]
[]
[]
[null,null,{"$f":"'1-2a'!$C$235","v":0},null,null,{"$f":"'1-2a'!$F$235","v":0},null,null,{"$f":"'1-2a'!$I$235","v":0},null,null,{"$f":"'1-2a'!$L$235","v":0},null,null,{"$f":"'1-2a'!$O$235","v":0}]
[{"$f":"IF(A226=52,1,A226+1)","v":3},{"$f":"N226+3","v":"2021-01-11"},null,null,{"$f":"B236+1","v":"2021-01-12"},null,null,{"$f":"E236+1","v":"2021-01-13"},null,null,{"$f":"H236+1","v":"2021-01-14"},null,null,{"$f":"K236+1","v":"2021-01-15"}]
[null,{"$f":"B227","v":0},null,null,{"$f":"E227","v":0},null,null,{"$f":"H227","v":0},null,null,{"$f":"K227","v":0},null,null,{"$f":"N227","v":0}]
[24,0,null,null,0,null,null,0,null,null,0,null,null,0]
[null,0,null,null,0,null,null,0,null,null,0,null,null,0]
[null,0,null,null,0,null,null,0,null,null,0,null,null,0]
[null,0,null,null,0,null,null,0,null,null,{"$f":"K231","v":0},null,null,0]
[null,0,null,null,0,null,null,0,null,null,0,null,null,0]
[]
[]
[null,null,{"$f":"'1-2a'!$C$245","v":0},null,null,{"$f":"'1-2a'!$F$245","v":0},null,null,{"$f":"'1-2a'!$I$245","v":0},null,null,{"$f":"'1-2a'!$L$245","v":0},null,null,{"$f":"'1-2a'!$O$245","v":0}]
[{"$f":"IF(A236=52,1,A236+1)","v":4},{"$f":"N236+3","v":"2021-01-18"},null,null,{"$f":"B246+1","v":"2021-01-19"},null,null,{"$f":"E246+1","v":"2021-01-20"},null,null,{"$f":"H246+1","v":"2021-01-21"},null,null,{"$f":"K246+1","v":"2021-01-22"}]
[null,{"$f":"B237","v":0},null,null,{"$f":"E237","v":0},null,null,{"$f":"H237","v":0},null,null,{"$f":"K237","v":0},null,null,{"$f":"N237","v":0}]
[25,0,null,null,0,null,null,0,null,null,0,null,null,0]
[null,0,null,null,0,null,null,0,null,null,0,null,null,0]
[null,0,null,null,0,null,null,0,null,null,0,null,null,0]
[null,0,null,null,0,null,null,0,null,null,0,null,null,0]
[null,0,null,null,0,null,null,0,null,null,0,null,null,0]
[]
[]
[null,null,{"$f":"'1-2a'!$C$255","v":0},null,null,{"$f":"'1-2a'!$F$255","v":0},null,null,{"$f":"'1-2a'!$I$255","v":0},null,null,{"$f":"'1-2a'!$L$255","v":0},null,null,{"$f":"'1-2a'!$O$255","v":0}]
[{"$f":"IF(A246=52,1,A246+1)","v":5},{"$f":"N246+3","v":"2021-01-25"},null,null,{"$f":"B256+1","v":"2021-01-26"},null,null,{"$f":"E256+1","v":"2021-01-27"},null,null,{"$f":"H256+1","v":"2021-01-28"},null,null,{"$f":"K256+1","v":"2021-01-29"}]
[null,{"$f":"B247","v":0},null,null,{"$f":"E247","v":0},null,null,{"$f":"H247","v":0},null,null,{"$f":"K247","v":0},null,null,{"$f":"N247","v":0}]
[26,0,null,null,0,null,null,0,null,null,0,null,null,0]
[null,0,null,null,0,null,null,0,null,null,0,null,null,0]
[null,0,null,null,0,null,null,0,null,null,0,null,null,0]
[null,0,null,null,0,null,null,0,null,null,{"$f":"K251","v":0},null,null,0]
[null,0,null,null,0,null,null,0,null,null,0,null,null,0]
[]
[]
[null,null,{"$f":"'1-2a'!$C$265","v":0},null,null,{"$f":"'1-2a'!$F$265","v":0},null,null,{"$f":"'1-2a'!$I$265","v":0},null,null,{"$f":"'1-2a'!$L$265","v":0},null,null,{"$f":"'1-2a'!$O$265","v":0}]
[{"$f":"IF(A256=52,1,A256+1)","v":6},{"$f":"N256+3","v":"2021-02-01"},null,null,{"$f":"B266+1","v":"2021-02-02"},null,null,{"$f":"E266+1","v":"2021-02-03"},null,null,{"$f":"H266+1","v":"2021-02-04"},null,null,{"$f":"K266+1","v":"2021-02-05"}]
[null,{"$f":"B257","v":0},null,null,{"$f":"E257","v":0},null,null,{"$f":"H257","v":0},null,null,{"$f":"K257","v":0},null,null,{"$f":"N257","v":0}]
[27,0,null,null,0,null,null,0,null,null,0,null,null,0]
[null,0,null,null,0,null,null,0,null,null,0,null,null,0]
[null,0,null,null,0,null,null,0,null,null,0,null,null,0]
[null,0,null,null,0,null,null,0,null,null,{"$f":"K261","v":0},null,null,0]
[null,0,null,null,0,null,null,0,null,null,0,null,null,0]
[]
[]
[null,null,{"$f":"'1-2a'!$C$275","v":0},null,null,{"$f":"'1-2a'!$F$275","v":0},null,null,{"$f":"'1-2a'!$I$275","v":0},null,null,{"$f":"'1-2a'!$L$275","v":0},null,null,{"$f":"'1-2a'!$O$275","v":0}]
[{"$f":"IF(A266=52,1,A266+1)","v":7},{"$f":"N266+3","v":"2021-02-08"},null,null,{"$f":"B276+1","v":"2021-02-09"},null,null,{"$f":"E276+1","v":"2021-02-10"},null,null,{"$f":"H276+1","v":"2021-02-11"},null,null,{"$f":"K276+1","v":"2021-02-12"}]
[null,{"$f":"B267","v":0},null,null,{"$f":"E267","v":0},null,null,{"$f":"H267","v":0},null,null,{"$f":"K267","v":0},null,null,{"$f":"N267","v":0}]
[28,0,null,null,0,null,null,0,null,null,0,null,null,0]
[null,0,null,null,0,null,null,0,null,null,0,null,null,0]
[null,0,null,null,0,null,null,0,null,null,0,null,null,0]
[null,0,null,null,0,null,null,0,null,null,{"$f":"K271","v":0},null,null,0]
[null,0,null,null,0,null,null,0,null,null,0,null,null,0]
[]
[]
[null,null,{"$f":"'1-2a'!$C$285","v":0},null,null,{"$f":"'1-2a'!$F$285","v":0},null,null,{"$f":"'1-2a'!$I$285","v":0},null,null,{"$f":"'1-2a'!$L$285","v":0},null,null,{"$f":"'1-2a'!$O$285","v":0}]
[{"$f":"IF(A276=52,1,A276+1)","v":8},{"$f":"N276+3","v":"2021-02-15"},null,null,{"$f":"B286+1","v":"2021-02-16"},null,null,{"$f":"E286+1","v":"2021-02-17"},null,null,{"$f":"H286+1","v":"2021-02-18"},null,null,{"$f":"K286+1","v":"2021-02-19"}]
[null,{"$f":"B277","v":0},null,null,{"$f":"E277","v":0},null,null,{"$f":"H277","v":0},null,null,{"$f":"K277","v":0},null,null,{"$f":"N277","v":0}]
[29,0,null,null,0,null,null,0,null,null,0,null,null,0]
[null,0,null,null,0,null,null,0,null,null,0,null,null,0]
[null,0,null,null,0,null,null,0,null,null,0,null,null,0]
[null,0,null,null,0,null,null,0,null,null,{"$f":"K281","v":0},null,null,0]
[null,0,null,null,0,null,null,0,null,null,0,null,null,0]
[]
[]
[null,null,{"$f":"'1-2a'!$C$295","v":0},null,null,{"$f":"'1-2a'!$F$295","v":0},null,null,{"$f":"'1-2a'!$I$295","v":0},null,null,{"$f":"'1-2a'!$L$295","v":0},null,null,{"$f":"'1-2a'!$O$295","v":0}]
[{"$f":"IF(A286=52,1,A286+1)","v":9},{"$f":"N286+3","v":"2021-02-22"},null,null,{"$f":"B296+1","v":"2021-02-23"},null,null,{"$f":"E296+1","v":"2021-02-24"},null,null,{"$f":"H296+1","v":"2021-02-25"},null,null,{"$f":"K296+1","v":"2021-02-26"}]
[null,{"$f":"B287","v":0},null,null,{"$f":"E287","v":0},null,null,{"$f":"H287","v":0},null,null,{"$f":"K287","v":0},null,null,{"$f":"N287","v":0}]
[30,0,null,null,0,null,null,0,null,null,0,null,null,0]
[null,0,null,null,0,null,null,0,null,null,0,null,null,0]
[null,0,null,null,0,null,null,0,null,null,0,null,null,0]
[null,0,null,null,0,null,null,0,null,null,{"$f":"K291","v":0},null,null,0]
[null,0,null,null,0,null,null,0,null,null,0,null,null,0]
[]
[]
[null,null,{"$f":"'1-2a'!$C$305","v":0},null,null,{"$f":"'1-2a'!$F$305","v":0},null,null,{"$f":"'1-2a'!$I$305","v":0},null,null,{"$f":"'1-2a'!$L$305","v":0},null,null,{"$f":"'1-2a'!$O$305","v":0}]
[{"$f":"IF(A296=52,1,A296+1)","v":10},{"$f":"N296+3","v":"2021-03-01"},null,null,{"$f":"B306+1","v":"2021-03-02"},null,null,{"$f":"E306+1","v":"2021-03-03"},null,null,{"$f":"H306+1","v":"2021-03-04"},null,null,{"$f":"K306+1","v":"2021-03-05"}]
[null,{"$f":"B297","v":0},null,null,{"$f":"E297","v":0},null,null,{"$f":"H297","v":0},null,null,{"$f":"K297","v":0},null,null,{"$f":"N297","v":0}]
[31,0,null,null,0,null,null,0,null,null,0,null,null,0]
[null,0,null,null,0,null,null,0,null,null,0,null,null,0]
[null,0,null,null,0,null,null,0,null,null,0,null,null,0]
[null,0,null,null,0,null,null,0,null,null,{"$f":"K301","v":0},null,null,0]
[null,0,null,null,0,null,null,0,null,null,0,null,null,0]
[]
[]
[null,null,{"$f":"'1-2a'!$C$315","v":0},null,null,{"$f":"'1-2a'!$F$315","v":0},null,null,{"$f":"'1-2a'!$I$315","v":0},null,null,{"$f":"'1-2a'!$L$315","v":0},null,null,{"$f":"'1-2a'!$O$315","v":0}]
[{"$f":"IF(A306=52,1,A306+1)","v":11},{"$f":"N306+3","v":"2021-03-08"},null,null,{"$f":"B316+1","v":"2021-03-09"},null,null,{"$f":"E316+1","v":"2021-03-10"},null,null,{"$f":"H316+1","v":"2021-03-11"},null,null,{"$f":"K316+1","v":"2021-03-12"}]
[null,{"$f":"B307","v":0},null,null,{"$f":"E307","v":0},null,null,{"$f":"H307","v":0},null,null,{"$f":"K307","v":0},null,null,{"$f":"N307","v":0}]
[32,0,null,null,0,null,null,0,null,null,0,null,null,0]
[null,0,null,null,0,null,null,0,null,null,0,null,null,0]
[null,0,null,null,0,null,null,0,null,null,0,null,null,0]
[null,0,null,null,0,null,null,0,null,null,{"$f":"K311","v":0},null,null,0]
[null,0,null,null,0,null,null,0,null,null,0,null,null,0]
[]
[]
[null,null,{"$f":"'1-2a'!$C$325","v":0},null,null,{"$f":"'1-2a'!$F$325","v":0},null,null,{"$f":"'1-2a'!$I$325","v":0},null,null,{"$f":"'1-2a'!$L$325","v":0},null,null,{"$f":"'1-2a'!$O$325","v":0}]
[{"$f":"IF(A316=52,1,A316+1)","v":12},{"$f":"N316+3","v":"2021-03-15"},null,null,{"$f":"B326+1","v":"2021-03-16"},null,null,{"$f":"E326+1","v":"2021-03-17"},null,null,{"$f":"H326+1","v":"2021-03-18"},null,null,{"$f":"K326+1","v":"2021-03-19"}]
[null,{"$f":"B317","v":0},null,null,{"$f":"E317","v":0},null,null,{"$f":"H317","v":0},null,null,{"$f":"K317","v":0},null,null,{"$f":"N317","v":0}]
[33,0,null,null,0,null,null,0,null,null,0,null,null,0]
[null,0,null,null,0,null,null,0,null,null,0,null,null,0]
[null,0,null,null,0,null,null,0,null,null,0,null,null,0]
[null,0,null,null,0,null,null,0,null,null,0,null,null,0]
[null,0,null,null,0,null,null,0,null,null,0,null,null,0]
[]
[]
[null,null,{"$f":"'1-2a'!$C$335","v":0},null,null,{"$f":"'1-2a'!$F$335","v":0},null,null,{"$f":"'1-2a'!$I$335","v":0},null,null,{"$f":"'1-2a'!$L$335","v":0},null,null,{"$f":"'1-2a'!$O$335","v":0}]
[{"$f":"IF(A326=52,1,A326+1)","v":13},{"$f":"N326+3","v":"2021-03-22"},null,null,{"$f":"B336+1","v":"2021-03-23"},null,null,{"$f":"E336+1","v":"2021-03-24"},null,null,{"$f":"H336+1","v":"2021-03-25"},null,null,{"$f":"K336+1","v":"2021-03-26"}]
[null,{"$f":"B327","v":0},null,null,{"$f":"E327","v":0},null,null,{"$f":"H327","v":0},null,null,{"$f":"K327","v":0},null,null,{"$f":"N327","v":0}]
[34,0,null,null,0,null,null,0,null,null,0,null,null,0]
[null,0,null,null,0,null,null,0,null,null,0,null,null,0]
[null,0,null,null,0,null,null,0,null,null,0,null,null,0]
[null,0,null,null,0,null,null,0,null,null,{"$f":"K331","v":0},null,null,0]
[null,0,null,null,0,null,null,0,null,null,0,null,null,0]
[]
[]
[null,null,{"$f":"'1-2a'!$C$345","v":0},null,null,{"$f":"'1-2a'!$F$345","v":0},null,null,{"$f":"'1-2a'!$I$345","v":0},null,null,{"$f":"'1-2a'!$L$345","v":0},null,null,{"$f":"'1-2a'!$O$345","v":0}]
[{"$f":"IF(A336=52,1,A336+1)","v":14},{"$f":"N336+3","v":"2021-03-29"},null,null,{"$f":"B346+1","v":"2021-03-30"},null,null,{"$f":"E346+1","v":"2021-03-31"},null,null,{"$f":"H346+1","v":"2021-04-01"},null,null,{"$f":"K346+1","v":"2021-04-02"}]
[null,{"$f":"B337","v":0},null,null,{"$f":"E337","v":0},null,null,{"$f":"H337","v":0},null,null,{"$f":"K337","v":0},null,null,{"$f":"N337","v":0}]
[35,0,null,null,0,null,null,0,null,null,0,null,null,0]
[null,0,null,null,0,null,null,0,null,null,0,null,null,0]
[null,0,null,null,0,null,null,0,null,null,0,null,null,0]
[null,0,null,null,0,null,null,0,null,null,{"$f":"K341","v":0},null,null,0]
[null,0,null,null,0,null,null,0,null,null,0,null,null,0]
[]
[]
[null,null,{"$f":"'1-2a'!$C$355","v":0},null,null,{"$f":"'1-2a'!$F$355","v":0},null,null,{"$f":"'1-2a'!$I$355","v":0},null,null,{"$f":"'1-2a'!$L$355","v":0},null,null,{"$f":"'1-2a'!$O$355","v":0}]
[{"$f":"IF(A346=52,1,A346+1)","v":15},{"$f":"N346+3","v":"2021-04-05"},null,null,{"$f":"B356+1","v":"2021-04-06"},null,null,{"$f":"E356+1","v":"2021-04-07"},null,null,{"$f":"H356+1","v":"2021-04-08"},null,null,{"$f":"K356+1","v":"2021-04-09"}]
[null,{"$f":"B347","v":0},null,null,{"$f":"E347","v":0},null,null,{"$f":"H347","v":0},null,null,{"$f":"K347","v":0},null,null,{"$f":"N347","v":0}]
[36,0,null,null,0,null,null,0,null,null,0,null,null,0]
[null,0,null,null,0,null,null,0,null,null,0,null,null,0]
[null,0,null,null,0,null,null,0,null,null,0,null,null,0]
[null,0,null,null,0,null,null,0,null,null,{"$f":"K351","v":0},null,null,0]
[null,0,null,null,0,null,null,0,null,null,0,null,null,0]
[]
[]
[null,null,{"$f":"'1-2a'!$C$365","v":0},null,null,{"$f":"'1-2a'!$F$365","v":0},null,null,{"$f":"'1-2a'!$I$365","v":0},null,null,{"$f":"'1-2a'!$L$365","v":0},null,null,{"$f":"'1-2a'!$O$365","v":0}]
[{"$f":"IF(A356=52,1,A356+1)","v":16},{"$f":"N356+3","v":"2021-04-12"},null,null,{"$f":"B366+1","v":"2021-04-13"},null,null,{"$f":"E366+1","v":"2021-04-14"},null,null,{"$f":"H366+1","v":"2021-04-15"},null,null,{"$f":"K366+1","v":"2021-04-16"}]
[null,{"$f":"B357","v":0},null,null,{"$f":"E357","v":0},null,null,{"$f":"H357","v":0},null,null,{"$f":"K357","v":0},null,null,{"$f":"N357","v":0}]
[37,0,null,null,0,null,null,0,null,null,0,null,null,0]
[null,0,null,null,0,null,null,0,null,null,0,null,null,0]
[null,0,null,null,0,null,null,0,null,null,0,null,null,0]
[null,0,null,null,0,null,null,0,null,null,{"$f":"K361","v":0},null,null,0]
[null,0,null,null,0,null,null,0,null,null,0,null,null,0]
[]
[]
[null,null,{"$f":"'1-2a'!$C$375","v":0},null,null,{"$f":"'1-2a'!$F$375","v":0},null,null,{"$f":"'1-2a'!$I$375","v":0},null,null,{"$f":"'1-2a'!$L$375","v":0},null,null,{"$f":"'1-2a'!$O$375","v":0}]
[{"$f":"IF(A366=52,1,A366+1)","v":17},{"$f":"N366+3","v":"2021-04-19"},null,null,{"$f":"B376+1","v":"2021-04-20"},null,null,{"$f":"E376+1","v":"2021-04-21"},null,null,{"$f":"H376+1","v":"2021-04-22"},null,null,{"$f":"K376+1","v":"2021-04-23"}]
[null,{"$f":"B367","v":0},null,null,{"$f":"E367","v":0},null,null,{"$f":"H367","v":0},null,null,{"$f":"K367","v":0},null,null,{"$f":"N367","v":0}]
[38,0,null,null,0,null,null,0,null,null,0,null,null,0]
[null,0,null,null,0,null,null,0,null,null,0,null,null,0]
[null,0,null,null,0,null,null,0,null,null,0,null,null,0]
[null,0,null,null,0,null,null,0,null,null,{"$f":"K371","v":0},null,null,0]
[null,0,null,null,0,null,null,0,null,null,0,null,null,0]
[]
[]
[null,null,{"$f":"'1-2a'!$C$385","v":0},null,null,{"$f":"'1-2a'!$F$385","v":0},null,null,{"$f":"'1-2a'!$I$385","v":0},null,null,{"$f":"'1-2a'!$L$385","v":0},null,null,{"$f":"'1-2a'!$O$385","v":0}]
[{"$f":"IF(A376=52,1,A376+1)","v":18},{"$f":"N376+3","v":"2021-04-26"},null,null,{"$f":"B386+1","v":"2021-04-27"},null,null,{"$f":"E386+1","v":"2021-04-28"},null,null,{"$f":"H386+1","v":"2021-04-29"},null,null,{"$f":"K386+1","v":"2021-04-30"}]
[null,{"$f":"B377","v":0},null,null,{"$f":"E377","v":0},null,null,{"$f":"H377","v":0},null,null,{"$f":"K377","v":0},null,null,{"$f":"N377","v":0}]
[39,0,null,null,0,null,null,0,null,null,0,null,null,0]
[null,0,null,null,0,null,null,0,null,null,0,null,null,0]
[null,0,null,null,0,null,null,0,null,null,0,null,null,0]
[null,0,null,null,0,null,null,0,null,null,{"$f":"K381","v":0},null,null,0]
[null,0,null,null,0,null,null,0,null,null,0,null,null,0]
[]
[]
[null,null,{"$f":"'1-2a'!$C$395","v":0},null,null,{"$f":"'1-2a'!$F$395","v":0},null,null,{"$f":"'1-2a'!$I$395","v":0},null,null,{"$f":"'1-2a'!$L$395","v":0},null,null,{"$f":"'1-2a'!$O$395","v":0}]
[{"$f":"IF(A386=52,1,A386+1)","v":19},{"$f":"N386+3","v":"2021-05-03"},null,null,{"$f":"B396+1","v":"2021-05-04"},null,null,{"$f":"E396+1","v":"2021-05-05"},null,null,{"$f":"H396+1","v":"2021-05-06"},null,null,{"$f":"K396+1","v":"2021-05-07"}]
[null,{"$f":"B387","v":0},null,null,{"$f":"E387","v":0},null,null,{"$f":"H387","v":0},null,null,{"$f":"K387","v":0},null,null,{"$f":"N387","v":0}]
[40,0,null,null,0,null,null,0,null,null,0,null,null,0]
[null,0,null,null,0,null,null,0,null,null,0,null,null,0]
[null,0,null,null,0,null,null,0,null,null,0,null,null,0]
[null,0,null,null,0,null,null,0,null,null,{"$f":"K391","v":0},null,null,0]
[null,0,null,null,0,null,null,0,null,null,0,null,null,0]
[]
[]
[null,null,{"$f":"'1-2a'!$C$405","v":0},null,null,{"$f":"'1-2a'!$F$405","v":0},null,null,{"$f":"'1-2a'!$I$405","v":0},null,null,{"$f":"'1-2a'!$L$405","v":0},null,null,{"$f":"'1-2a'!$O$405","v":0}]
[{"$f":"IF(A396=52,1,A396+1)","v":20},{"$f":"N396+3","v":"2021-05-10"},null,null,{"$f":"B406+1","v":"2021-05-11"},null,null,{"$f":"E406+1","v":"2021-05-12"},null,null,{"$f":"H406+1","v":"2021-05-13"},null,null,{"$f":"K406+1","v":"2021-05-14"}]
[null,{"$f":"B397","v":0},null,null,{"$f":"E397","v":0},null,null,{"$f":"H397","v":0},null,null,{"$f":"K397","v":0},null,null,{"$f":"N397","v":0}]
[41,0,null,null,0,null,null,0,null,null,0,null,null,0]
[null,0,null,null,0,null,null,0,null,null,0,null,null,0]
[null,0,null,null,0,null,null,0,null,null,0,null,null,0]
[null,0,null,null,0,null,null,0,null,null,0,null,null,0]
[null,0,null,null,0,null,null,0,null,null,0,null,null,0]
[]
[]
[null,null,{"$f":"'1-2a'!$C$415","v":0},null,null,{"$f":"'1-2a'!$F$415","v":0},null,null,{"$f":"'1-2a'!$I$415","v":0},null,null,{"$f":"'1-2a'!$L$415","v":0},null,null,{"$f":"'1-2a'!$O$415","v":0}]
[{"$f":"IF(A406=52,1,A406+1)","v":21},{"$f":"N406+3","v":"2021-05-17"},null,null,{"$f":"B416+1","v":"2021-05-18"},null,null,{"$f":"E416+1","v":"2021-05-19"},null,null,{"$f":"H416+1","v":"2021-05-20"},null,null,{"$f":"K416+1","v":"2021-05-21"}]
[null,{"$f":"B407","v":0},null,null,{"$f":"E407","v":0},null,null,{"$f":"H407","v":0},null,null,{"$f":"K407","v":0},null,null,{"$f":"N407","v":0}]
[42,0,null,null,0,null,null,0,null,null,0,null,null,0]
[null,0,null,null,0,null,null,0,null,null,0,null,null,0]
[null,0,null,null,0,null,null,0,null,null,0,null,null,0]
[null,0,null,null,0,null,null,0,null,null,{"$f":"K411","v":0},null,null,0]
[null,0,null,null,0,null,null,0,null,null,0,null,null,0]
[]
[]
[null,null,{"$f":"'1-2a'!$C$425","v":0},null,null,{"$f":"'1-2a'!$F$425","v":0},null,null,{"$f":"'1-2a'!$I$425","v":0},null,null,{"$f":"'1-2a'!$L$425","v":0},null,null,{"$f":"'1-2a'!$O$425","v":0}]
[{"$f":"IF(A416=52,1,A416+1)","v":22},{"$f":"N416+3","v":"2021-05-24"},null,null,{"$f":"B426+1","v":"2021-05-25"},null,null,{"$f":"E426+1","v":"2021-05-26"},null,null,{"$f":"H426+1","v":"2021-05-27"},null,null,{"$f":"K426+1","v":"2021-05-28"}]
[null,{"$f":"B417","v":0},null,null,{"$f":"E417","v":0},null,null,{"$f":"H417","v":0},null,null,{"$f":"K417","v":0},null,null,{"$f":"N417","v":0}]
[43,0,null,null,0,null,null,0,null,null,0,null,null,0]
[null,0,null,null,0,null,null,0,null,null,0,null,null,0]
[null,0,null,null,0,null,null,0,null,null,0,null,null,0]
[null,0,null,null,0,null,null,0,null,null,{"$f":"K421","v":0},null,null,0]
[null,0,null,null,0,null,null,0,null,null,0,null,null,0]
[]
[]
[null,null,{"$f":"'1-2a'!$C$435","v":0},null,null,{"$f":"'1-2a'!$F$435","v":0},null,null,{"$f":"'1-2a'!$I$435","v":0},null,null,{"$f":"'1-2a'!$L$435","v":0},null,null,{"$f":"'1-2a'!$O$435","v":0}]
[{"$f":"IF(A426=52,1,A426+1)","v":23},{"$f":"N426+3","v":"2021-05-31"},null,null,{"$f":"B436+1","v":"2021-06-01"},null,null,{"$f":"E436+1","v":"2021-06-02"},null,null,{"$f":"H436+1","v":"2021-06-03"},null,null,{"$f":"K436+1","v":"2021-06-04"}]
[null,{"$f":"B427","v":0},null,null,{"$f":"E427","v":0},null,null,{"$f":"H427","v":0},null,null,{"$f":"K427","v":0},null,null,{"$f":"N427","v":0}]
[44,0,null,null,0,null,null,0,null,null,0,null,null,0]
[null,0,null,null,0,null,null,0,null,null,0,null,null,0]
[null,0,null,null,0,null,null,0,null,null,0,null,null,0]
[null,0,null,null,0,null,null,0,null,null,{"$f":"K431","v":0},null,null,0]
[null,0,null,null,0,null,null,0,null,null,0,null,null,0]
[]
[]
[null,null,{"$f":"'1-2a'!$C$445","v":0},null,null,{"$f":"'1-2a'!$F$445","v":0},null,null,{"$f":"'1-2a'!$I$445","v":0},null,null,{"$f":"'1-2a'!$L$445","v":0},null,null,{"$f":"'1-2a'!$O$445","v":0}]
[{"$f":"IF(A436=52,1,A436+1)","v":24},{"$f":"N436+3","v":"2021-06-07"},null,null,{"$f":"B446+1","v":"2021-06-08"},null,null,{"$f":"E446+1","v":"2021-06-09"},null,null,{"$f":"H446+1","v":"2021-06-10"},null,null,{"$f":"K446+1","v":"2021-06-11"}]
[null,{"$f":"B437","v":0},null,null,{"$f":"E437","v":0},null,null,{"$f":"H437","v":0},null,null,{"$f":"K437","v":0},null,null,{"$f":"N437","v":0}]
[45,0,null,null,0,null,null,0,null,null,0,null,null,0]
[null,0,null,null,0,null,null,0,null,null,0,null,null,0]
[null,0,null,null,0,null,null,0,null,null,0,null,null,0]
[null,0,null,null,0,null,null,0,null,null,{"$f":"K441","v":0},null,null,0]
[null,0,null,null,0,null,null,0,null,null,0,null,null,0]
[]
[]
[null,null,{"$f":"'1-2a'!$C$455","v":0},null,null,{"$f":"'1-2a'!$F$455","v":0},null,null,{"$f":"'1-2a'!$I$455","v":0},null,null,{"$f":"'1-2a'!$L$455","v":0},null,null,{"$f":"'1-2a'!$O$455","v":0}]
[{"$f":"IF(A446=52,1,A446+1)","v":25},{"$f":"N446+3","v":"2021-06-14"},null,null,{"$f":"B456+1","v":"2021-06-15"},null,null,{"$f":"E456+1","v":"2021-06-16"},null,null,{"$f":"H456+1","v":"2021-06-17"},null,null,{"$f":"K456+1","v":"2021-06-18"}]
[null,{"$f":"B447","v":0},null,null,{"$f":"E447","v":0},null,null,{"$f":"H447","v":0},null,null,{"$f":"K447","v":0},null,null,{"$f":"N447","v":0}]
[46,0,null,null,0,null,null,0,null,null,0,null,null,0]
[null,0,null,null,0,null,null,0,null,null,0,null,null,0]
[null,0,null,null,0,null,null,0,null,null,0,null,null,0]
[null,0,null,null,0,null,null,0,null,null,{"$f":"K451","v":0},null,null,0]
[null,0,null,null,0,null,null,0,null,null,0,null,null,0]
[]
[]
[null,null,{"$f":"'1-2a'!$C$465","v":0},null,null,{"$f":"'1-2a'!$F$465","v":0},null,null,{"$f":"'1-2a'!$I$465","v":0},null,null,{"$f":"'1-2a'!$L$465","v":0},null,null,{"$f":"'1-2a'!$O$465","v":0}]
[{"$f":"IF(A456=52,1,A456+1)","v":26},{"$f":"N456+3","v":"2021-06-21"},null,null,{"$f":"B466+1","v":"2021-06-22"},null,null,{"$f":"E466+1","v":"2021-06-23"},null,null,{"$f":"H466+1","v":"2021-06-24"},null,null,{"$f":"K466+1","v":"2021-06-25"}]
[null,{"$f":"B457","v":0},null,null,{"$f":"E457","v":0},null,null,{"$f":"H457","v":0},null,null,{"$f":"K457","v":0},null,null,{"$f":"N457","v":0}]
[47,0,null,null,0,null,null,0,null,null,0,null,null,0]
[null,0,null,null,0,null,null,0,null,null,0,null,null,0]
[null,0,null,null,0,null,null,0,null,null,0,null,null,0]
[null,0,null,null,0,null,null,0,null,null,{"$f":"K461","v":0},null,null,0]
[null,0,null,null,0,null,null,0,null,null,0,null,null,0]
[]
[]
[null,null,{"$f":"'1-2a'!$C$475","v":0},null,null,{"$f":"'1-2a'!$F$475","v":0},null,null,{"$f":"'1-2a'!$I$475","v":0},null,null,{"$f":"'1-2a'!$L$475","v":0},null,null,{"$f":"'1-2a'!$O$475","v":0}]
[{"$f":"IF(A466=52,1,A466+1)","v":27},{"$f":"N466+3","v":"2021-06-28"},null,null,{"$f":"B476+1","v":"2021-06-29"},null,null,{"$f":"E476+1","v":"2021-06-30"},null,null,{"$f":"H476+1","v":"2021-07-01"},null,null,{"$f":"K476+1","v":"2021-07-02"}]
[null,{"$f":"B467","v":0},null,null,{"$f":"E467","v":0},null,null,{"$f":"H467","v":0},null,null,{"$f":"K467","v":0},null,null,{"$f":"N467","v":0}]
[48,0,null,null,0,null,null,0,null,null,0,null,null,0]
[null,0,null,null,0,null,null,0,null,null,0,null,null,0]
[null,0,null,null,0,null,null,0,null,null,0,null,null,0]
[null,0,null,null,0,null,null,0,null,null,{"$f":"K471","v":0},null,null,0]
[null,0,null,null,0,null,null,0,null,null,0,null,null,0]
[]
[]
[null,null,{"$f":"'1-2a'!$C$485","v":0},null,null,{"$f":"'1-2a'!$F$485","v":0},null,null,{"$f":"'1-2a'!$I$485","v":0},null,null,{"$f":"'1-2a'!$L$485","v":0},null,null,{"$f":"'1-2a'!$O$485","v":0}]
[{"$f":"IF(A476=52,1,A476+1)","v":28},{"$f":"N476+3","v":"2021-07-05"},null,null,{"$f":"B486+1","v":"2021-07-06"},null,null,{"$f":"E486+1","v":"2021-07-07"},null,null,{"$f":"H486+1","v":"2021-07-08"},null,null,{"$f":"K486+1","v":"2021-07-09"}]
[null,{"$f":"B477","v":0},null,null,{"$f":"E477","v":0},null,null,{"$f":"H477","v":0},null,null,{"$f":"K477","v":0},null,null,{"$f":"N477","v":0}]
[49,0,null,null,0,null,null,0,null,null,0,null,null,0]
[null,0,null,null,0,null,null,0,null,null,0,null,null,0]
[null,0,null,null,0,null,null,0,null,null,0,null,null,0]
[null,0,null,null,0,null,null,0,null,null,0,null,null,0]
[null,0,null,null,0,null,null,0,null,null,0,null,null,0]
[]
[]
[null,null,{"$f":"'1-2a'!$C$495","v":0},null,null,{"$f":"'1-2a'!$F$495","v":0},null,null,{"$f":"'1-2a'!$I$495","v":0},null,null,{"$f":"'1-2a'!$L$495","v":0},null,null,{"$f":"'1-2a'!$O$495","v":0}]
[{"$f":"IF(A486=52,1,A486+1)","v":29},{"$f":"N486+3","v":"2021-07-12"},null,null,{"$f":"B496+1","v":"2021-07-13"},null,null,{"$f":"E496+1","v":"2021-07-14"},null,null,{"$f":"H496+1","v":"2021-07-15"},null,null,{"$f":"K496+1","v":"2021-07-16"}]
[null,{"$f":"B487","v":0},null,null,{"$f":"E487","v":0},null,null,{"$f":"H487","v":0},null,null,{"$f":"K487","v":0},null,null,{"$f":"N487","v":0}]
[50,0,null,null,0,null,null,0,null,null,0]
[null,0,null,null,0,null,null,0,null,null,0,null,null,0]
[null,0,null,null,0,null,null,0,null,null,0,null,null,0]
[null,0,null,null,0,null,null,0,null,null,{"$f":"K491","v":0},null,null,0]
[null,0,null,null,0,null,null,0,null,null,0]

{"sheet":"10","index":10,"n_rows":502,"n_cols":15,"rows_kept":502,"cut":false,"hidden":false,"merged":[[5,1,5,3],[5,4,5,6],[5,7,5,9],[5,10,5,12],[5,13,5,15],[7,0,8,0],[1,1,2,7],[1,9,2,12],[1,13,2,15],[3,1,3,3],[3,4,3,6],[3,7,3,9],[3,10,3,12],[3,13,3,15],[12,1,13,3],[12,4,13,6],[12,7,13,9],[12,10,13,12],[12,13,13,15],[15,1,15,3],[15,4,15,6],[15,7,15,9],[15,10,15,12],[15,13,15,15],[25,1,25,3],[25,4,25,6],[25,7,25,9],[25,10,25,12],[25,13,25,15],[27,0,28,0],[17,0,18,0],[22,1,23,3],[22,4,23,6],[22,7,23,9],[22,10,23,12],[22,13,23,15],[32,1,33,3],[32,4,33,6],[32,7,33,9],[32,10,33,12],[32,13,33,15],[35,1,35,3],[35,4,35,6],[35,7,35,9],[35,10,35,12],[35,13,35,15],[45,1,45,3],[45,4,45,6],[45,7,45,9],[45,10,45,12],[45,13,45,15],[47,0,48,0],[37,0,38,0],[42,1,43,3],[42,4,43,6],[42,7,43,9],[42,10,43,12],[42,13,43,15],[52,1,53,3],[52,4,53,6],[52,7,53,9],[52,10,53,12],[52,13,53,15],[55,1,55,3],[55,4,55,6],[55,7,55,9],[55,10,55,12],[55,13,55,15],[65,1,65,3],[65,4,65,6],[65,7,65,9],[65,10,65,12],[65,13,65,15],[67,0,68,0],[57,0,58,0],[62,1,63,3],[62,4,63,6],[62,7,63,9],[62,10,63,12],[62,13,63,15],[72,1,73,3],[72,4,73,6],[72,7,73,9],[72,10,73,12],[72,13,73,15],[75,1,75,3],[75,4,75,6],[75,7,75,9],[75,10,75,12],[75,13,75,15],[85,1,85,3],[85,4,85,6],[85,7,85,9],[85,10,85,12],[85,13,85,15],[87,0,88,0],[77,0,78,0],[82,1,83,3],[82,4,83,6],[82,7,83,9],[82,10,83,12],[82,13,83,15],[92,1,93,3],[92,4,93,6],[92,7,93,9],[92,10,93,12],[92,13,93,15],[95,1,95,3],[95,4,95,6],[95,7,95,9],[95,10,95,12],[95,13,95,15],[105,1,105,3],[105,4,105,6],[105,7,105,9],[105,10,105,12],[105,13,105,15],[107,0,108,0],[97,0,98,0],[99,16,100,19],[102,1,103,3],[102,4,103,6],[102,7,103,9],[102,10,103,12],[102,13,103,15],[112,1,113,3],[112,4,113,6],[112,7,113,9],[112,10,113,12],[112,13,113,15],[115,1,115,3],[115,4,115,6],[115,7,115,9],[115,10,115,12],[115,13,115,15],[125,1,125,3],[125,4,125,6],[125,7,125,9],[125,10,125,12],[125,13,125,15],[127,0,128,0],[117,0,118,0],[122,1,123,3],[122,4,123,6],[122,7,123,9],[122,10,123,12],[122,13,123,15],[132,1,133,3],[132,4,133,6],[132,7,133,9],[132,10,133,12],[132,13,133,15],[135,1,135,3],[135,4,135,6],[135,7,135,9],[135,10,135,12],[135,13,135,15],[145,1,145,3],[145,4,145,6],[145,7,145,9],[145,10,145,12],[145,13,145,15],[147,0,148,0],[137,0,138,0],[142,1,143,3],[142,4,143,6],[142,7,143,9],[142,10,143,12],[142,13,143,15],[152,1,153,3],[152,4,153,6],[152,7,153,9],[152,10,153,12],[152,13,153,15],[155,1,155,3],[155,4,155,6],[155,7,155,9],[155,10,155,12],[155,13,155,15],[165,1,165,3],[165,4,165,6],[165,7,165,9],[165,10,165,12],[165,13,165,15],[167,0,168,0],[157,0,158,0],[162,1,163,3],[162,4,163,6],[162,7,163,9],[162,10,163,12],[162,13,163,15],[172,1,173,3],[172,4,173,6],[172,7,173,9],[172,10,173,12],[172,13,173,15],[175,1,175,3],[175,4,175,6],[175,7,175,9],[175,10,175,12],[175,13,175,15],[185,1,185,3],[185,4,185,6],[185,7,185,9],[185,10,185,12],[185,13,185,15],[187,0,188,0],[177,0,178,0],[179,16,180,19],[182,1,183,3],[182,4,183,6],[182,7,183,9],[182,10,183,12],[182,13,183,15],[192,1,193,3],[192,4,193,6],[192,7,193,9],[192,10,193,12],[192,13,193,15],[195,1,195,3],[195,4,195,6],[195,7,195,9],[195,10,195,12],[195,13,195,15],[205,1,205,3],[205,4,205,6],[205,7,205,9],[205,10,205,12],[205,13,205,15],[207,0,208,0],[197,0,198,0],[202,1,203,3],[202,4,203,6],[202,7,203,9],[202,10,203,12],[202,13,203,15],[212,1,213,3],[212,4,213,6],[212,7,213,9],[212,10,213,12],[212,13,213,15],[215,1,215,3],[215,4,215,6],[215,7,215,9],[215,10,215,12],[215,13,215,15],[225,1,225,3],[225,4,225,6],[225,7,225,9],[225,10,225,12],[225,13,225,15],[227,0,228,0],[217,0,218,0],[222,1,223,3],[222,4,223,6],[222,7,223,9],[222,10,223,12],[222,13,223,15],[232,1,233,3],[232,4,233,6],[232,7,233,9],[232,10,233,12],[232,13,233,15],[235,1,235,3],[235,4,235,6],[235,7,235,9],[235,10,235,12],[235,13,235,15],[245,1,245,3],[245,4,245,6],[245,7,245,9],[245,10,245,12],[245,13,245,15],[247,0,248,0],[237,0,238,0],[242,1,243,3],[242,4,243,6],[242,7,243,9],[242,10,243,12],[242,13,243,15],[252,1,253,3],[252,4,253,6],[252,7,253,9],[252,10,253,12],[252,13,253,15],[255,1,255,3],[255,4,255,6],[255,7,255,9],[255,10,255,12],[255,13,255,15],[265,1,265,3],[265,4,265,6],[265,7,265,9],[265,10,265,12],[265,13,265,15],[267,0,268,0],[257,0,258,0],[259,16,260,19],[262,1,263,3],[262,4,263,6],[262,7,263,9],[262,10,263,12],[262,13,263,15],[272,1,273,3],[272,4,273,6],[272,7,273,9],[272,10,273,12],[272,13,273,15],[275,1,275,3],[275,4,275,6],[275,7,275,9],[275,10,275,12],[275,13,275,15],[285,1,285,3],[285,4,285,6],[285,7,285,9],[285,10,285,12],[285,13,285,15],[287,0,288,0],[277,0,278,0],[282,1,283,3],[282,4,283,6],[282,7,283,9],[282,10,283,12],[282,13,283,15],[292,1,293,3],[292,4,293,6],[292,7,293,9],[292,10,293,12],[292,13,293,15],[295,1,295,3],[295,4,295,6],[295,7,295,9],[295,10,295,12],[295,13,295,15],[305,1,305,3],[305,4,305,6],[305,7,305,9],[305,10,305,12],[305,13,305,15],[307,0,308,0],[297,0,298,0],[302,1,303,3],[302,4,303,6],[302,7,303,9],[302,10,303,12],[302,13,303,15],[312,1,313,3],[312,4,313,6],[312,7,313,9],[312,10,313,12],[312,13,313,15],[315,1,315,3],[315,4,315,6],[315,7,315,9],[315,10,315,12],[315,13,315,15],[325,1,325,3],[325,4,325,6],[325,7,325,9],[325,10,325,12],[325,13,325,15],[327,0,328,0],[317,0,318,0],[322,1,323,3],[322,4,323,6],[322,7,323,9],[322,10,323,12],[322,13,323,15],[332,1,333,3],[332,4,333,6],[332,7,333,9],[332,10,333,12],[332,13,333,15],[335,1,335,3],[335,4,335,6],[335,7,335,9],[335,10,335,12],[335,13,335,15],[345,1,345,3],[345,4,345,6],[345,7,345,9],[345,10,345,12],[345,13,345,15],[347,0,348,0],[337,0,338,0],[339,16,340,19],[342,1,343,3],[342,4,343,6],[342,7,343,9],[342,10,343,12],[342,13,343,15],[352,1,353,3],[352,4,353,6],[352,7,353,9],[352,10,353,12],[352,13,353,15],[355,1,355,3],[355,4,355,6],[355,7,355,9],[355,10,355,12],[355,13,355,15],[365,1,365,3],[365,4,365,6],[365,7,365,9],[365,10,365,12],[365,13,365,15],[367,0,368,0],[357,0,358,0],[362,1,363,3],[362,4,363,6],[362,7,363,9],[362,10,363,12],[362,13,363,15],[372,1,373,3],[372,4,373,6],[372,7,373,9],[372,10,373,12],[372,13,373,15],[375,1,375,3],[375,4,375,6],[375,7,375,9],[375,10,375,12],[375,13,375,15],[385,1,385,3],[385,4,385,6],[385,7,385,9],[385,10,385,12],[385,13,385,15],[387,0,388,0],[377,0,378,0],[382,1,383,3],[382,4,383,6],[382,7,383,9],[382,10,383,12],[382,13,383,15],[392,1,393,3],[392,4,393,6],[392,7,393,9],[392,10,393,12],[392,13,393,15],[395,1,395,3],[395,4,395,6],[395,7,395,9],[395,10,395,12],[395,13,395,15],[405,1,405,3],[405,4,405,6],[405,7,405,9],[405,10,405,12],[405,13,405,15],[407,0,408,0],[397,0,398,0],[402,1,403,3],[402,4,403,6],[402,7,403,9],[402,10,403,12],[402,13,403,15],[412,1,413,3],[412,4,413,6],[412,7,413,9],[412,10,413,12],[412,13,413,15],[415,1,415,3],[415,4,415,6],[415,7,415,9],[415,10,415,12],[415,13,415,15],[425,1,425,3],[425,4,425,6],[425,7,425,9],[425,10,425,12],[425,13,425,15],[427,0,428,0],[417,0,418,0],[419,16,420,19],[422,1,423,3],[422,4,423,6],[422,7,423,9],[422,10,423,12],[422,13,423,15],[432,1,433,3],[432,4,433,6],[432,7,433,9],[432,10,433,12],[432,13,433,15],[435,1,435,3],[435,4,435,6],[435,7,435,9],[435,10,435,12],[435,13,435,15],[445,1,445,3],[445,4,445,6],[445,7,445,9],[445,10,445,12],[445,13,445,15],[447,0,448,0],[437,0,438,0],[442,1,443,3],[442,4,443,6],[442,7,443,9],[442,10,443,12],[442,13,443,15],[452,1,453,3],[452,4,453,6],[452,7,453,9],[452,10,453,12],[452,13,453,15],[455,1,455,3],[455,4,455,6],[455,7,455,9],[455,10,455,12],[455,13,455,15],[465,1,465,3],[465,4,465,6],[465,7,465,9],[465,10,465,12],[465,13,465,15],[467,0,468,0],[457,0,458,0],[462,1,463,3],[462,4,463,6],[462,7,463,9],[462,10,463,12],[462,13,463,15],[472,1,473,3],[472,4,473,6],[472,7,473,9],[472,10,473,12],[472,13,473,15],[475,1,475,3],[475,4,475,6],[475,7,475,9],[475,10,475,12],[475,13,475,15],[485,1,485,3],[485,4,485,6],[485,7,485,9],[485,10,485,12],[485,13,485,15],[487,0,488,0],[477,0,478,0],[482,1,483,3],[482,4,483,6],[482,7,483,9],[482,10,483,12],[482,13,483,15],[497,0,498,0],[499,16,500,19],[502,1,503,3],[502,4,503,6],[502,7,503,9],[502,10,503,12],[502,13,503,15],[492,1,493,3],[492,4,493,6],[492,7,493,9],[492,10,493,12],[492,13,493,15],[495,1,495,3],[495,4,495,6],[495,7,495,9],[495,10,495,12],[495,13,495,15]]}
[]
[null,{"$f":"'1-2a'!B2:H3","v":"Basisschool De Grote Beer        schooljaar 2020/2021"},null,null,null,null,null,null,null,"Groepsplanner van groep:",null,null,null,"10"]
[]
[null,"maandag 1e schoolweek",null,null,"dinsdag",null,null,"woensdag",null,null,"donderdag",null,null,"vrijdag"]
[null,null,{"$f":"'1-2a'!C$5","v":0},null,null,{"$f":"'1-2a'!F5","v":0},null,null,{"$f":"'1-2a'!I$5","v":0},null,null,{"$f":"'1-2a'!L$5","v":"s"},null,null,{"$f":"'1-2a'!O$5","v":0}]
[{"$f":"(B6-WEEKDAY(B6-1)+4-(TRUNC(DATE(YEAR(B6-WEEKDAY(B6-1)+4),1,2)/7)*7-2))/7","v":32},{"$f":"'1-2a'!B6:D6","v":"2020-08-03"},null,null,{"$f":"B6+1","v":"2020-08-04"},null,null,{"$f":"E6+1","v":"2020-08-05"},null,null,{"$f":"H6+1","v":"2020-08-06"},null,null,{"$f":"K6+1","v":"2020-08-07"}]
[null,null,null,null,null,null,null,"henk"]
[1]
[]
[]
[]
[]
[]
[]
[null,null,{"$f":"'1-2a'!C$15","v":0},null,null,{"$f":"'1-2a'!F$15","v":0},null,null,{"$f":"'1-2a'!I$15","v":0},null,null,{"$f":"'1-2a'!L$15","v":0},null,null,{"$f":"'1-2a'!O15","v":0}]
[{"$f":"IF(A6=52,1,A6+1)","v":33},{"$f":"N6+3","v":"2020-08-10"},null,null,{"$f":"B16+1","v":"2020-08-11"},null,null,{"$f":"E16+1","v":"2020-08-12"},null,null,{"$f":"H16+1","v":"2020-08-13"},null,null,{"$f":"K16+1","v":"2020-08-14"}]
[null,{"$f":"B7","v":0},null,null,{"$f":"E7","v":0},null,null,{"$f":"H7","v":"henk"},null,null,{"$f":"K7","v":0},null,null,{"$f":"N7","v":0}]
[2,0,null,null,0,null,null,0,null,null,0,null,null,0]
[null,0,null,null,0,null,null,0,null,null,0,null,null,0]
[null,0,null,null,0,null,null,0,null,null,0,null,null,0]
[null,0,null,null,0,null,null,0,null,null,0,null,null,0]
[null,0,null,null,0,null,null,0,null,null,0,null,null,0]
[]
[]
[null,null,{"$f":"'1-2a'!C$25","v":0},null,null,{"$f":"'1-2a'!F$25","v":0},null,null,{"$f":"'1-2a'!I25","v":0},null,null,{"$f":"'1-2a'!L25","v":0},null,null,{"$f":"'1-2a'!O25","v":0}]
[{"$f":"IF(A16=52,1,A16+1)","v":34},{"$f":"N16+3","v":"2020-08-17"},null,null,{"$f":"B26+1","v":"2020-08-18"},null,null,{"$f":"E26+1","v":"2020-08-19"},null,null,{"$f":"H26+1","v":"2020-08-20"},null,null,{"$f":"K26+1","v":"2020-08-21"}]
[null,{"$f":"B17","v":0},null,null,{"$f":"E17","v":0},null,null,{"$f":"H17","v":"henk"},null,null,{"$f":"K17","v":0},null,null,{"$f":"N17","v":0}]
[3,0,null,null,0,null,null,0,null,null,0,null,null,0]
[null,0,null,null,0,null,null,0,null,null,0,null,null,0]
[null,0,null,null,0,null,null,0,null,null,0,null,null,0]
[null,0,null,null,0,null,null,0,null,null,{"$f":"K21","v":0},null,null,0]
[null,0,null,null,0,null,null,0,null,null,0,null,null,0]
[]
[]
[null,null,{"$f":"'1-2a'!$C$35","v":0},null,null,{"$f":"'1-2a'!$F$35","v":0},null,null,{"$f":"'1-2a'!$I$35","v":0},null,null,{"$f":"'1-2a'!$L$35","v":0},null,null,{"$f":"'1-2a'!$O$35","v":0}]
[{"$f":"IF(A26=52,1,A26+1)","v":35},{"$f":"N26+3","v":"2020-08-24"},null,null,{"$f":"B36+1","v":"2020-08-25"},null,null,{"$f":"E36+1","v":"2020-08-26"},null,null,{"$f":"H36+1","v":"2020-08-27"},null,null,{"$f":"K36+1","v":"2020-08-28"}]
[null,{"$f":"B27","v":0},null,null,{"$f":"E27","v":0},null,null,{"$f":"H27","v":"henk"},null,null,{"$f":"K27","v":0},null,null,{"$f":"N27","v":0}]
[4,0,null,null,0,null,null,0,null,null,0,null,null,0]
[null,0,null,null,0,null,null,0,null,null,0,null,null,0]
[null,0,null,null,0,null,null,0,null,null,0,null,null,0]
[null,0,null,null,0,null,null,0,null,null,{"$f":"K31","v":0},null,null,0]
[null,0,null,null,0,null,null,0,null,null,0,null,null,0]
[]
[]
[null,null,{"$f":"'1-2a'!$C$45","v":0},null,null,{"$f":"'1-2a'!$F$45","v":0},null,null,{"$f":"'1-2a'!$I$45","v":0},null,null,{"$f":"'1-2a'!$L$45","v":0},null,null,{"$f":"'1-2a'!$O$45","v":0}]
[{"$f":"IF(A36=52,1,A36+1)","v":36},{"$f":"N36+3","v":"2020-08-31"},null,null,{"$f":"B46+1","v":"2020-09-01"},null,null,{"$f":"E46+1","v":"2020-09-02"},null,null,{"$f":"H46+1","v":"2020-09-03"},null,null,{"$f":"K46+1","v":"2020-09-04"}]
[null,{"$f":"B37","v":0},null,null,{"$f":"E37","v":0},null,null,{"$f":"H37","v":"henk"},null,null,{"$f":"K37","v":0},null,null,{"$f":"N37","v":0}]
[5,0,null,null,0,null,null,0,null,null,0,null,null,0]
[null,0,null,null,0,null,null,0,null,null,0,null,null,0]
[null,0,null,null,0,null,null,0,null,null,0,null,null,0]
[null,0,null,null,0,null,null,0,null,null,{"$f":"K41","v":0},null,null,0]
[null,0,null,null,0,null,null,0,null,null,0,null,null,0]
[]
[]
[null,null,{"$f":"'1-2a'!$C$55","v":0},null,null,{"$f":"'1-2a'!$F$55","v":0},null,null,{"$f":"'1-2a'!$I$55","v":0},null,null,{"$f":"'1-2a'!$L$55","v":0},null,null,{"$f":"'1-2a'!O55","v":0}]
[{"$f":"IF(A46=52,1,A46+1)","v":37},{"$f":"N46+3","v":"2020-09-07"},null,null,{"$f":"B56+1","v":"2020-09-08"},null,null,{"$f":"E56+1","v":"2020-09-09"},null,null,{"$f":"H56+1","v":"2020-09-10"},null,null,{"$f":"K56+1","v":"2020-09-11"}]
[null,{"$f":"B47","v":0},null,null,{"$f":"E47","v":0},null,null,{"$f":"H47","v":"henk"},null,null,{"$f":"K47","v":0},null,null,{"$f":"N47","v":0}]
[6,0,null,null,0,null,null,0,null,null,0,null,null,0]
[null,0,null,null,0,null,null,0,null,null,0,null,null,0]
[null,0,null,null,0,null,null,0,null,null,0,null,null,0]
[null,0,null,null,0,null,null,0,null,null,{"$f":"K51","v":0},null,null,0]
[null,0,null,null,0,null,null,0,null,null,0,null,null,0]
[]
[]
[null,null,{"$f":"'1-2a'!$C$65","v":0},null,null,{"$f":"'1-2a'!$F$65","v":0},null,null,{"$f":"'1-2a'!$I$65","v":0},null,null,{"$f":"'1-2a'!$L$65","v":0},null,null,{"$f":"'1-2a'!$O$65","v":0}]
[{"$f":"IF(A56=52,1,A56+1)","v":38},{"$f":"N56+3","v":"2020-09-14"},null,null,{"$f":"B66+1","v":"2020-09-15"},null,null,{"$f":"E66+1","v":"2020-09-16"},null,null,{"$f":"H66+1","v":"2020-09-17"},null,null,{"$f":"K66+1","v":"2020-09-18"}]
[null,{"$f":"B57","v":0},null,null,{"$f":"E57","v":0},null,null,{"$f":"H57","v":"henk"},null,null,{"$f":"K57","v":0},null,null,{"$f":"N57","v":0}]
[7,0,null,null,0,null,null,0,null,null,0,null,null,0]
[null,0,null,null,0,null,null,0,null,null,0,null,null,0]
[null,0,null,null,0,null,null,0,null,null,0,null,null,0]
[null,0,null,null,0,null,null,0,null,null,{"$f":"K61","v":0},null,null,0]
[null,0,null,null,0,null,null,0,null,null,0,null,null,0]
[]
[]
[null,null,{"$f":"'1-2a'!$C$75","v":0},null,null,{"$f":"'1-2a'!$F$75","v":0},null,null,{"$f":"'1-2a'!$I$75","v":0},null,null,{"$f":"'1-2a'!$L$75","v":0},null,null,{"$f":"'1-2a'!$O$75","v":0}]
[{"$f":"IF(A66=52,1,A66+1)","v":39},{"$f":"N66+3","v":"2020-09-21"},null,null,{"$f":"B76+1","v":"2020-09-22"},null,null,{"$f":"E76+1","v":"2020-09-23"},null,null,{"$f":"H76+1","v":"2020-09-24"},null,null,{"$f":"K76+1","v":"2020-09-25"}]
[null,{"$f":"B67","v":0},null,null,{"$f":"E67","v":0},null,null,{"$f":"H67","v":"henk"},null,null,{"$f":"K67","v":0},null,null,{"$f":"N67","v":0}]
[8,0,null,null,0,null,null,0,null,null,0,null,null,0]
[null,0,null,null,0,null,null,0,null,null,0,null,null,0]
[null,0,null,null,0,null,null,0,null,null,0,null,null,0]
[null,0,null,null,0,null,null,0,null,null,{"$f":"K71","v":0},null,null,0]
[null,0,null,null,0,null,null,0,null,null,0,null,null,0]
[]
[]
[null,null,{"$f":"'1-2a'!$C$85","v":0},null,null,{"$f":"'1-2a'!$F$85","v":0},null,null,{"$f":"'1-2a'!$I$85","v":0},null,null,{"$f":"'1-2a'!$L$85","v":0},null,null,{"$f":"'1-2a'!$O$85","v":0}]
[{"$f":"IF(A76=52,1,A76+1)","v":40},{"$f":"N76+3","v":"2020-09-28"},null,null,{"$f":"B86+1","v":"2020-09-29"},null,null,{"$f":"E86+1","v":"2020-09-30"},null,null,{"$f":"H86+1","v":"2020-10-01"},null,null,{"$f":"K86+1","v":"2020-10-02"}]
[null,{"$f":"B77","v":0},null,null,{"$f":"E77","v":0},null,null,{"$f":"H77","v":"henk"},null,null,{"$f":"K77","v":0},null,null,{"$f":"N77","v":0}]
[9,0,null,null,0,null,null,0,null,null,0,null,null,0]
[null,0,null,null,0,null,null,0,null,null,0,null,null,0]
[null,0,null,null,0,null,null,0,null,null,0,null,null,0]
[null,0,null,null,0,null,null,0,null,null,0,null,null,0]
[null,0,null,null,0,null,null,0,null,null,0,null,null,0]
[]
[]
[null,null,{"$f":"'1-2a'!$C$95","v":0},null,null,{"$f":"'1-2a'!$F$95","v":0},null,null,{"$f":"'1-2a'!$I$95","v":0},null,null,{"$f":"'1-2a'!$L$95","v":0},null,null,{"$f":"'1-2a'!$O$95","v":0}]
[{"$f":"IF(A86=52,1,A86+1)","v":41},{"$f":"N86+3","v":"2020-10-05"},null,null,{"$f":"B96+1","v":"2020-10-06"},null,null,{"$f":"E96+1","v":"2020-10-07"},null,null,{"$f":"H96+1","v":"2020-10-08"},null,null,{"$f":"K96+1","v":"2020-10-09"}]
[null,{"$f":"B87","v":0},null,null,{"$f":"E87","v":0},null,null,{"$f":"H87","v":"henk"},null,null,{"$f":"K87","v":0},null,null,{"$f":"N87","v":0}]
[10,0,null,null,0,null,null,0,null,null,0,null,null,0]
[null,0,null,null,0,null,null,0,null,null,0,null,null,0]
[null,0,null,null,0,null,null,0,null,null,0,null,null,0]
[null,0,null,null,0,null,null,0,null,null,{"$f":"K91","v":0},null,null,0]
[null,0,null,null,0,null,null,0,null,null,0,null,null,0]
[]
[]
[null,null,{"$f":"'1-2a'!$C$105","v":0},null,null,{"$f":"'1-2a'!$F$105","v":0},null,null,{"$f":"'1-2a'!$I$105","v":0},null,null,{"$f":"'1-2a'!$L$105","v":0},null,null,{"$f":"'1-2a'!$O$105","v":0}]
[{"$f":"IF(A96=52,1,A96+1)","v":42},{"$f":"N96+3","v":"2020-10-12"},null,null,{"$f":"B106+1","v":"2020-10-13"},null,null,{"$f":"E106+1","v":"2020-10-14"},null,null,{"$f":"H106+1","v":"2020-10-15"},null,null,{"$f":"K106+1","v":"2020-10-16"}]
[null,{"$f":"B97","v":0},null,null,{"$f":"E97","v":0},null,null,{"$f":"H97","v":"henk"},null,null,{"$f":"K97","v":0},null,null,{"$f":"N97","v":0}]
[11,0,null,null,0,null,null,0,null,null,0,null,null,0]
[null,0,null,null,0,null,null,0,null,null,0,null,null,0]
[null,0,null,null,0,null,null,0,null,null,0,null,null,0]
[null,0,null,null,0,null,null,0,null,null,{"$f":"K101","v":0},null,null,0]
[null,0,null,null,0,null,null,0,null,null,0,null,null,0]
[]
[]
[null,null,{"$f":"'1-2a'!$C$115","v":0},null,null,{"$f":"'1-2a'!$F$115","v":0},null,null,{"$f":"'1-2a'!$I$115","v":0},null,null,{"$f":"'1-2a'!$L$115","v":0},null,null,{"$f":"'1-2a'!$O$115","v":0}]
[{"$f":"IF(A106=52,1,A106+1)","v":43},{"$f":"N106+3","v":"2020-10-19"},null,null,{"$f":"B116+1","v":"2020-10-20"},null,null,{"$f":"E116+1","v":"2020-10-21"},null,null,{"$f":"H116+1","v":"2020-10-22"},null,null,{"$f":"K116+1","v":"2020-10-23"}]
[null,{"$f":"B107","v":0},null,null,{"$f":"E107","v":0},null,null,{"$f":"H107","v":"henk"},null,null,{"$f":"K107","v":0},null,null,{"$f":"N107","v":0}]
[12,0,null,null,0,null,null,0,null,null,0,null,null,0]
[null,0,null,null,0,null,null,0,null,null,0,null,null,0]
[null,0,null,null,0,null,null,0,null,null,0,null,null,0]
[null,0,null,null,0,null,null,0,null,null,{"$f":"K111","v":0},null,null,0]
[null,0,null,null,0,null,null,0,null,null,0,null,null,0]
[]
[]
[null,null,{"$f":"'1-2a'!$C$125","v":0},null,null,{"$f":"'1-2a'!$F$125","v":0},null,null,{"$f":"'1-2a'!$I$125","v":0},null,null,{"$f":"'1-2a'!$L$125","v":0},null,null,{"$f":"'1-2a'!$O$125","v":0}]
[{"$f":"IF(A116=52,1,A116+1)","v":44},{"$f":"N116+3","v":"2020-10-26"},null,null,{"$f":"B126+1","v":"2020-10-27"},null,null,{"$f":"E126+1","v":"2020-10-28"},null,null,{"$f":"H126+1","v":"2020-10-29"},null,null,{"$f":"K126+1","v":"2020-10-30"}]
[null,{"$f":"B117","v":0},null,null,{"$f":"E117","v":0},null,null,{"$f":"H117","v":"henk"},null,null,{"$f":"K117","v":0},null,null,{"$f":"N117","v":0}]
[13,0,null,null,0,null,null,0,null,null,0,null,null,0]
[null,0,null,null,0,null,null,0,null,null,0,null,null,0]
[null,0,null,null,0,null,null,0,null,null,0,null,null,0]
[null,0,null,null,0,null,null,0,null,null,{"$f":"K121","v":0},null,null,0]
[null,0,null,null,0,null,null,0,null,null,0,null,null,0]
[]
[]
[null,null,{"$f":"'1-2a'!$C$135","v":0},null,null,{"$f":"'1-2a'!$F$135","v":0},null,null,{"$f":"'1-2a'!$I$135","v":0},null,null,{"$f":"'1-2a'!$L$135","v":0},null,null,{"$f":"'1-2a'!$O$135","v":0}]
[{"$f":"IF(A126=52,1,A126+1)","v":45},{"$f":"N126+3","v":"2020-11-02"},null,null,{"$f":"B136+1","v":"2020-11-03"},null,null,{"$f":"E136+1","v":"2020-11-04"},null,null,{"$f":"H136+1","v":"2020-11-05"},null,null,{"$f":"K136+1","v":"2020-11-06"}]
[null,{"$f":"B127","v":0},null,null,{"$f":"E127","v":0},null,null,{"$f":"H127","v":"henk"},null,null,{"$f":"K127","v":0},null,null,{"$f":"N127","v":0}]
[14,0,null,null,0,null,null,0,null,null,0,null,null,0]
[null,0,null,null,0,null,null,0,null,null,0,null,null,0]
[null,0,null,null,0,null,null,0,null,null,0,null,null,0]
[null,0,null,null,0,null,null,0,null,null,{"$f":"K131","v":0},null,null,0]
[null,0,null,null,0,null,null,0,null,null,0,null,null,0]
[]
[]
[null,null,{"$f":"'1-2a'!$C$145","v":0},null,null,{"$f":"'1-2a'!$F$145","v":0},null,null,{"$f":"'1-2a'!$I$145","v":0},null,null,{"$f":"'1-2a'!$L$145","v":0},null,null,{"$f":"'1-2a'!$O$145","v":0}]
[{"$f":"IF(A136=52,1,A136+1)","v":46},{"$f":"N136+3","v":"2020-11-09"},null,null,{"$f":"B146+1","v":"2020-11-10"},null,null,{"$f":"E146+1","v":"2020-11-11"},null,null,{"$f":"H146+1","v":"2020-11-12"},null,null,{"$f":"K146+1","v":"2020-11-13"}]
[null,{"$f":"B137","v":0},null,null,{"$f":"E137","v":0},null,null,{"$f":"H137","v":"henk"},null,null,{"$f":"K137","v":0},null,null,{"$f":"N137","v":0}]
[15,0,null,null,0,null,null,0,null,null,0,null,null,0]
[null,0,null,null,0,null,null,0,null,null,0,null,null,0]
[null,0,null,null,0,null,null,0,null,null,0,null,null,0]
[null,0,null,null,0,null,null,0,null,null,{"$f":"K141","v":0},null,null,0]
[null,0,null,null,0,null,null,0,null,null,0,null,null,0]
[]
[]
[null,null,{"$f":"'1-2a'!$C$155","v":0},null,null,{"$f":"'1-2a'!$F$155","v":0},null,null,{"$f":"'1-2a'!$I$155","v":0},null,null,{"$f":"'1-2a'!$L$155","v":0},null,null,{"$f":"'1-2a'!$O$155","v":0}]
[{"$f":"IF(A146=52,1,A146+1)","v":47},{"$f":"N146+3","v":"2020-11-16"},null,null,{"$f":"B156+1","v":"2020-11-17"},null,null,{"$f":"E156+1","v":"2020-11-18"},null,null,{"$f":"H156+1","v":"2020-11-19"},null,null,{"$f":"K156+1","v":"2020-11-20"}]
[null,{"$f":"B147","v":0},null,null,{"$f":"E147","v":0},null,null,{"$f":"H147","v":"henk"},null,null,{"$f":"K147","v":0},null,null,{"$f":"N147","v":0}]
[16,0,null,null,0,null,null,0,null,null,0,null,null,0]
[null,0,null,null,0,null,null,0,null,null,0,null,null,0]
[null,0,null,null,0,null,null,0,null,null,0,null,null,0]
[null,0,null,null,0,null,null,0,null,null,{"$f":"K151","v":0},null,null,0]
[null,0,null,null,0,null,null,0,null,null,0,null,null,0]
[]
[]
[null,null,{"$f":"'1-2a'!$C$165","v":0},null,null,{"$f":"'1-2a'!$F$165","v":0},null,null,{"$f":"'1-2a'!$I$165","v":0},null,null,{"$f":"'1-2a'!$L$165","v":0},null,null,{"$f":"'1-2a'!$O$165","v":0}]
[{"$f":"IF(A156=52,1,A156+1)","v":48},{"$f":"N156+3","v":"2020-11-23"},null,null,{"$f":"B166+1","v":"2020-11-24"},null,null,{"$f":"E166+1","v":"2020-11-25"},null,null,{"$f":"H166+1","v":"2020-11-26"},null,null,{"$f":"K166+1","v":"2020-11-27"}]
[null,{"$f":"B157","v":0},null,null,{"$f":"E157","v":0},null,null,{"$f":"H157","v":"henk"},null,null,{"$f":"K157","v":0},null,null,{"$f":"N157","v":0}]
[17,0,null,null,0,null,null,0,null,null,0,null,null,0]
[null,0,null,null,0,null,null,0,null,null,0,null,null,0]
[null,0,null,null,0,null,null,0,null,null,0,null,null,0]
[null,0,null,null,0,null,null,0,null,null,0,null,null,0]
[null,0,null,null,0,null,null,0,null,null,0,null,null,0]
[]
[]
[null,null,{"$f":"'1-2a'!$C$175","v":0},null,null,{"$f":"'1-2a'!$F$175","v":0},null,null,{"$f":"'1-2a'!$I$175","v":0},null,null,{"$f":"'1-2a'!$L$175","v":0},null,null,{"$f":"'1-2a'!$O$175","v":0}]
[{"$f":"IF(A166=52,1,A166+1)","v":49},{"$f":"N166+3","v":"2020-11-30"},null,null,{"$f":"B176+1","v":"2020-12-01"},null,null,{"$f":"E176+1","v":"2020-12-02"},null,null,{"$f":"H176+1","v":"2020-12-03"},null,null,{"$f":"K176+1","v":"2020-12-04"}]
[null,{"$f":"B167","v":0},null,null,{"$f":"E167","v":0},null,null,{"$f":"H167","v":"henk"},null,null,{"$f":"K167","v":0},null,null,{"$f":"N167","v":0}]
[18,0,null,null,0,null,null,0,null,null,0,null,null,0]
[null,0,null,null,0,null,null,0,null,null,0,null,null,0]
[null,0,null,null,0,null,null,0,null,null,0,null,null,0]
[null,0,null,null,0,null,null,0,null,null,{"$f":"K171","v":0},null,null,0]
[null,0,null,null,0,null,null,0,null,null,0,null,null,0]
[]
[]
[null,null,{"$f":"'1-2a'!$C$185","v":0},null,null,{"$f":"'1-2a'!$F$185","v":0},null,null,{"$f":"'1-2a'!$I$185","v":0},null,null,{"$f":"'1-2a'!$L$185","v":0},null,null,{"$f":"'1-2a'!$O$185","v":0}]
[{"$f":"IF(A176=52,1,A176+1)","v":50},{"$f":"N176+3","v":"2020-12-07"},null,null,{"$f":"B186+1","v":"2020-12-08"},null,null,{"$f":"E186+1","v":"2020-12-09"},null,null,{"$f":"H186+1","v":"2020-12-10"},null,null,{"$f":"K186+1","v":"2020-12-11"}]
[null,{"$f":"B177","v":0},null,null,{"$f":"E177","v":0},null,null,{"$f":"H177","v":"henk"},null,null,{"$f":"K177","v":0},null,null,{"$f":"N177","v":0}]
[19,0,null,null,0,null,null,0,null,null,0,null,null,0]
[null,0,null,null,0,null,null,0,null,null,0,null,null,0]
[null,0,null,null,0,null,null,0,null,null,0,null,null,0]
[null,0,null,null,0,null,null,0,null,null,{"$f":"K181","v":0},null,null,0]
[null,0,null,null,0,null,null,0,null,null,0,null,null,0]
[]
[]
[null,null,{"$f":"'1-2a'!$C$195","v":0},null,null,{"$f":"'1-2a'!$F$195","v":0},null,null,{"$f":"'1-2a'!$I$195","v":0},null,null,{"$f":"'1-2a'!$L$195","v":0},null,null,{"$f":"'1-2a'!$O$195","v":0}]
[{"$f":"IF(A186=52,1,A186+1)","v":51},{"$f":"N186+3","v":"2020-12-14"},null,null,{"$f":"B196+1","v":"2020-12-15"},null,null,{"$f":"E196+1","v":"2020-12-16"},null,null,{"$f":"H196+1","v":"2020-12-17"},null,null,{"$f":"K196+1","v":"2020-12-18"}]
[null,{"$f":"B187","v":0},null,null,{"$f":"E187","v":0},null,null,{"$f":"H187","v":"henk"},null,null,{"$f":"K187","v":0},null,null,{"$f":"N187","v":0}]
[20,0,null,null,0,null,null,0,null,null,0,null,null,0]
[null,0,null,null,0,null,null,0,null,null,0,null,null,0]
[null,0,null,null,0,null,null,0,null,null,0,null,null,0]
[null,0,null,null,0,null,null,0,null,null,{"$f":"K191","v":0},null,null,0]
[null,0,null,null,0,null,null,0,null,null,0,null,null,0]
[]
[]
[null,null,{"$f":"'1-2a'!$C$205","v":0},null,null,{"$f":"'1-2a'!$F$205","v":0},null,null,{"$f":"'1-2a'!$I$205","v":0},null,null,{"$f":"'1-2a'!$L$205","v":0},null,null,{"$f":"'1-2a'!$O$205","v":0}]
[{"$f":"IF(A196=52,1,A196+1)","v":52},{"$f":"N196+3","v":"2020-12-21"},null,null,{"$f":"B206+1","v":"2020-12-22"},null,null,{"$f":"E206+1","v":"2020-12-23"},null,null,{"$f":"H206+1","v":"2020-12-24"},null,null,{"$f":"K206+1","v":"2020-12-25"}]
[null,{"$f":"B197","v":0},null,null,{"$f":"E197","v":0},null,null,{"$f":"H197","v":"henk"},null,null,{"$f":"K197","v":0},null,null,{"$f":"N197","v":0}]
[21,0,null,null,0,null,null,0,null,null,0,null,null,0]
[null,0,null,null,0,null,null,0,null,null,0,null,null,0]
[null,0,null,null,0,null,null,0,null,null,0,null,null,0]
[null,0,null,null,0,null,null,0,null,null,{"$f":"K201","v":0},null,null,0]
[null,0,null,null,0,null,null,0,null,null,0,null,null,0]
[]
[]
[null,null,{"$f":"'1-2a'!$C$215","v":0},null,null,{"$f":"'1-2a'!$F$215","v":0},null,null,{"$f":"'1-2a'!$I$215","v":0},null,null,{"$f":"'1-2a'!$L$215","v":0},null,null,{"$f":"'1-2a'!$O$215","v":0}]
[{"$f":"IF(A206=52,1,A206+1)","v":1},{"$f":"N206+3","v":"2020-12-28"},null,null,{"$f":"B216+1","v":"2020-12-29"},null,null,{"$f":"E216+1","v":"2020-12-30"},null,null,{"$f":"H216+1","v":"2020-12-31"},null,null,{"$f":"K216+1","v":"2021-01-01"}]
[null,{"$f":"B207","v":0},null,null,{"$f":"E207","v":0},null,null,{"$f":"H207","v":"henk"},null,null,{"$f":"K207","v":0},null,null,{"$f":"N207","v":0}]
[22,0,null,null,0,null,null,0,null,null,0,null,null,0]
[null,0,null,null,0,null,null,0,null,null,0,null,null,0]
[null,0,null,null,0,null,null,0,null,null,0,null,null,0]
[null,0,null,null,0,null,null,0,null,null,{"$f":"K211","v":0},null,null,0]
[null,0,null,null,0,null,null,0,null,null,0,null,null,0]
[]
[]
[null,null,{"$f":"'1-2a'!$C$225","v":0},null,null,{"$f":"'1-2a'!$F$225","v":0},null,null,{"$f":"'1-2a'!$I$225","v":0},null,null,{"$f":"'1-2a'!$L$225","v":0},null,null,{"$f":"'1-2a'!$O$225","v":0}]
[{"$f":"IF(A216=52,1,A216+1)","v":2},{"$f":"N216+3","v":"2021-01-04"},null,null,{"$f":"B226+1","v":"2021-01-05"},null,null,{"$f":"E226+1","v":"2021-01-06"},null,null,{"$f":"H226+1","v":"2021-01-07"},null,null,{"$f":"K226+1","v":"2021-01-08"}]
[null,{"$f":"B217","v":0},null,null,{"$f":"E217","v":0},null,null,{"$f":"H217","v":"henk"},null,null,{"$f":"K217","v":0},null,null,{"$f":"N217","v":0}]
[23,0,null,null,0,null,null,0,null,null,0,null,null,0]
[null,0,null,null,0,null,null,0,null,null,0,null,null,0]
[null,0,null,null,0,null,null,0,null,null,0,null,null,0]
[null,0,null,null,0,null,null,0,null,null,{"$f":"K221","v":0},null,null,0]
[null,0,null,null,0,null,null,0,null,null,0,null,null,0]
[]
[]
[null,null,{"$f":"'1-2a'!$C$235","v":0},null,null,{"$f":"'1-2a'!$F$235","v":0},null,null,{"$f":"'1-2a'!$I$235","v":0},null,null,{"$f":"'1-2a'!$L$235","v":0},null,null,{"$f":"'1-2a'!$O$235","v":0}]
[{"$f":"IF(A226=52,1,A226+1)","v":3},{"$f":"N226+3","v":"2021-01-11"},null,null,{"$f":"B236+1","v":"2021-01-12"},null,null,{"$f":"E236+1","v":"2021-01-13"},null,null,{"$f":"H236+1","v":"2021-01-14"},null,null,{"$f":"K236+1","v":"2021-01-15"}]
[null,{"$f":"B227","v":0},null,null,{"$f":"E227","v":0},null,null,{"$f":"H227","v":"henk"},null,null,{"$f":"K227","v":0},null,null,{"$f":"N227","v":0}]
[24,0,null,null,0,null,null,0,null,null,0,null,null,0]
[null,0,null,null,0,null,null,0,null,null,0,null,null,0]
[null,0,null,null,0,null,null,0,null,null,0,null,null,0]
[null,0,null,null,0,null,null,0,null,null,{"$f":"K231","v":0},null,null,0]
[null,0,null,null,0,null,null,0,null,null,0,null,null,0]
[]
[]
[null,null,{"$f":"'1-2a'!$C$245","v":0},null,null,{"$f":"'1-2a'!$F$245","v":0},null,null,{"$f":"'1-2a'!$I$245","v":0},null,null,{"$f":"'1-2a'!$L$245","v":0},null,null,{"$f":"'1-2a'!$O$245","v":0}]
[{"$f":"IF(A236=52,1,A236+1)","v":4},{"$f":"N236+3","v":"2021-01-18"},null,null,{"$f":"B246+1","v":"2021-01-19"},null,null,{"$f":"E246+1","v":"2021-01-20"},null,null,{"$f":"H246+1","v":"2021-01-21"},null,null,{"$f":"K246+1","v":"2021-01-22"}]
[null,{"$f":"B237","v":0},null,null,{"$f":"E237","v":0},null,null,{"$f":"H237","v":"henk"},null,null,{"$f":"K237","v":0},null,null,{"$f":"N237","v":0}]
[25,0,null,null,0,null,null,0,null,null,0,null,null,0]
[null,0,null,null,0,null,null,0,null,null,0,null,null,0]
[null,0,null,null,0,null,null,0,null,null,0,null,null,0]
[null,0,null,null,0,null,null,0,null,null,0,null,null,0]
[null,0,null,null,0,null,null,0,null,null,0,null,null,0]
[]
[]
[null,null,{"$f":"'1-2a'!$C$255","v":0},null,null,{"$f":"'1-2a'!$F$255","v":0},null,null,{"$f":"'1-2a'!$I$255","v":0},null,null,{"$f":"'1-2a'!$L$255","v":0},null,null,{"$f":"'1-2a'!$O$255","v":0}]
[{"$f":"IF(A246=52,1,A246+1)","v":5},{"$f":"N246+3","v":"2021-01-25"},null,null,{"$f":"B256+1","v":"2021-01-26"},null,null,{"$f":"E256+1","v":"2021-01-27"},null,null,{"$f":"H256+1","v":"2021-01-28"},null,null,{"$f":"K256+1","v":"2021-01-29"}]
[null,{"$f":"B247","v":0},null,null,{"$f":"E247","v":0},null,null,{"$f":"H247","v":"henk"},null,null,{"$f":"K247","v":0},null,null,{"$f":"N247","v":0}]
[26,0,null,null,0,null,null,0,null,null,0,null,null,0]
[null,0,null,null,0,null,null,0,null,null,0,null,null,0]
[null,0,null,null,0,null,null,0,null,null,0,null,null,0]
[null,0,null,null,0,null,null,0,null,null,{"$f":"K251","v":0},null,null,0]
[null,0,null,null,0,null,null,0,null,null,0,null,null,0]
[]
[]
[null,null,{"$f":"'1-2a'!$C$265","v":0},null,null,{"$f":"'1-2a'!$F$265","v":0},null,null,{"$f":"'1-2a'!$I$265","v":0},null,null,{"$f":"'1-2a'!$L$265","v":0},null,null,{"$f":"'1-2a'!$O$265","v":0}]
[{"$f":"IF(A256=52,1,A256+1)","v":6},{"$f":"N256+3","v":"2021-02-01"},null,null,{"$f":"B266+1","v":"2021-02-02"},null,null,{"$f":"E266+1","v":"2021-02-03"},null,null,{"$f":"H266+1","v":"2021-02-04"},null,null,{"$f":"K266+1","v":"2021-02-05"}]
[null,{"$f":"B257","v":0},null,null,{"$f":"E257","v":0},null,null,{"$f":"H257","v":"henk"},null,null,{"$f":"K257","v":0},null,null,{"$f":"N257","v":0}]
[27,0,null,null,0,null,null,0,null,null,0,null,null,0]
[null,0,null,null,0,null,null,0,null,null,0,null,null,0]
[null,0,null,null,0,null,null,0,null,null,0,null,null,0]
[null,0,null,null,0,null,null,0,null,null,{"$f":"K261","v":0},null,null,0]
[null,0,null,null,0,null,null,0,null,null,0,null,null,0]
[]
[]
[null,null,{"$f":"'1-2a'!$C$275","v":0},null,null,{"$f":"'1-2a'!$F$275","v":0},null,null,{"$f":"'1-2a'!$I$275","v":0},null,null,{"$f":"'1-2a'!$L$275","v":0},null,null,{"$f":"'1-2a'!$O$275","v":0}]
[{"$f":"IF(A266=52,1,A266+1)","v":7},{"$f":"N266+3","v":"2021-02-08"},null,null,{"$f":"B276+1","v":"2021-02-09"},null,null,{"$f":"E276+1","v":"2021-02-10"},null,null,{"$f":"H276+1","v":"2021-02-11"},null,null,{"$f":"K276+1","v":"2021-02-12"}]
[null,{"$f":"B267","v":0},null,null,{"$f":"E267","v":0},null,null,{"$f":"H267","v":"henk"},null,null,{"$f":"K267","v":0},null,null,{"$f":"N267","v":0}]
[28,0,null,null,0,null,null,0,null,null,0,null,null,0]
[null,0,null,null,0,null,null,0,null,null,0,null,null,0]
[null,0,null,null,0,null,null,0,null,null,0,null,null,0]
[null,0,null,null,0,null,null,0,null,null,{"$f":"K271","v":0},null,null,0]
[null,0,null,null,0,null,null,0,null,null,0,null,null,0]
[]
[]
[null,null,{"$f":"'1-2a'!$C$285","v":0},null,null,{"$f":"'1-2a'!$F$285","v":0},null,null,{"$f":"'1-2a'!$I$285","v":0},null,null,{"$f":"'1-2a'!$L$285","v":0},null,null,{"$f":"'1-2a'!$O$285","v":0}]
[{"$f":"IF(A276=52,1,A276+1)","v":8},{"$f":"N276+3","v":"2021-02-15"},null,null,{"$f":"B286+1","v":"2021-02-16"},null,null,{"$f":"E286+1","v":"2021-02-17"},null,null,{"$f":"H286+1","v":"2021-02-18"},null,null,{"$f":"K286+1","v":"2021-02-19"}]
[null,{"$f":"B277","v":0},null,null,{"$f":"E277","v":0},null,null,{"$f":"H277","v":"henk"},null,null,{"$f":"K277","v":0},null,null,{"$f":"N277","v":0}]
[29,0,null,null,0,null,null,0,null,null,0,null,null,0]
[null,0,null,null,0,null,null,0,null,null,0,null,null,0]
[null,0,null,null,0,null,null,0,null,null,0,null,null,0]
[null,0,null,null,0,null,null,0,null,null,{"$f":"K281","v":0},null,null,0]
[null,0,null,null,0,null,null,0,null,null,0,null,null,0]
[]
[]
[null,null,{"$f":"'1-2a'!$C$295","v":0},null,null,{"$f":"'1-2a'!$F$295","v":0},null,null,{"$f":"'1-2a'!$I$295","v":0},null,null,{"$f":"'1-2a'!$L$295","v":0},null,null,{"$f":"'1-2a'!$O$295","v":0}]
[{"$f":"IF(A286=52,1,A286+1)","v":9},{"$f":"N286+3","v":"2021-02-22"},null,null,{"$f":"B296+1","v":"2021-02-23"},null,null,{"$f":"E296+1","v":"2021-02-24"},null,null,{"$f":"H296+1","v":"2021-02-25"},null,null,{"$f":"K296+1","v":"2021-02-26"}]
[null,{"$f":"B287","v":0},null,null,{"$f":"E287","v":0},null,null,{"$f":"H287","v":"henk"},null,null,{"$f":"K287","v":0},null,null,{"$f":"N287","v":0}]
[30,0,null,null,0,null,null,0,null,null,0,null,null,0]
[null,0,null,null,0,null,null,0,null,null,0,null,null,0]
[null,0,null,null,0,null,null,0,null,null,0,null,null,0]
[null,0,null,null,0,null,null,0,null,null,{"$f":"K291","v":0},null,null,0]
[null,0,null,null,0,null,null,0,null,null,0,null,null,0]
[]
[]
[null,null,{"$f":"'1-2a'!$C$305","v":0},null,null,{"$f":"'1-2a'!$F$305","v":0},null,null,{"$f":"'1-2a'!$I$305","v":0},null,null,{"$f":"'1-2a'!$L$305","v":0},null,null,{"$f":"'1-2a'!$O$305","v":0}]
[{"$f":"IF(A296=52,1,A296+1)","v":10},{"$f":"N296+3","v":"2021-03-01"},null,null,{"$f":"B306+1","v":"2021-03-02"},null,null,{"$f":"E306+1","v":"2021-03-03"},null,null,{"$f":"H306+1","v":"2021-03-04"},null,null,{"$f":"K306+1","v":"2021-03-05"}]
[null,{"$f":"B297","v":0},null,null,{"$f":"E297","v":0},null,null,{"$f":"H297","v":"henk"},null,null,{"$f":"K297","v":0},null,null,{"$f":"N297","v":0}]
[31,0,null,null,0,null,null,0,null,null,0,null,null,0]
[null,0,null,null,0,null,null,0,null,null,0,null,null,0]
[null,0,null,null,0,null,null,0,null,null,0,null,null,0]
[null,0,null,null,0,null,null,0,null,null,{"$f":"K301","v":0},null,null,0]
[null,0,null,null,0,null,null,0,null,null,0,null,null,0]
[]
[]
[null,null,{"$f":"'1-2a'!$C$315","v":0},null,null,{"$f":"'1-2a'!$F$315","v":0},null,null,{"$f":"'1-2a'!$I$315","v":0},null,null,{"$f":"'1-2a'!$L$315","v":0},null,null,{"$f":"'1-2a'!$O$315","v":0}]
[{"$f":"IF(A306=52,1,A306+1)","v":11},{"$f":"N306+3","v":"2021-03-08"},null,null,{"$f":"B316+1","v":"2021-03-09"},null,null,{"$f":"E316+1","v":"2021-03-10"},null,null,{"$f":"H316+1","v":"2021-03-11"},null,null,{"$f":"K316+1","v":"2021-03-12"}]
[null,{"$f":"B307","v":0},null,null,{"$f":"E307","v":0},null,null,{"$f":"H307","v":"henk"},null,null,{"$f":"K307","v":0},null,null,{"$f":"N307","v":0}]
[32,0,null,null,0,null,null,0,null,null,0,null,null,0]
[null,0,null,null,0,null,null,0,null,null,0,null,null,0]
[null,0,null,null,0,null,null,0,null,null,0,null,null,0]
[null,0,null,null,0,null,null,0,null,null,{"$f":"K311","v":0},null,null,0]
[null,0,null,null,0,null,null,0,null,null,0,null,null,0]
[]
[]
[null,null,{"$f":"'1-2a'!$C$325","v":0},null,null,{"$f":"'1-2a'!$F$325","v":0},null,null,{"$f":"'1-2a'!$I$325","v":0},null,null,{"$f":"'1-2a'!$L$325","v":0},null,null,{"$f":"'1-2a'!$O$325","v":0}]
[{"$f":"IF(A316=52,1,A316+1)","v":12},{"$f":"N316+3","v":"2021-03-15"},null,null,{"$f":"B326+1","v":"2021-03-16"},null,null,{"$f":"E326+1","v":"2021-03-17"},null,null,{"$f":"H326+1","v":"2021-03-18"},null,null,{"$f":"K326+1","v":"2021-03-19"}]
[null,{"$f":"B317","v":0},null,null,{"$f":"E317","v":0},null,null,{"$f":"H317","v":"henk"},null,null,{"$f":"K317","v":0},null,null,{"$f":"N317","v":0}]
[33,0,null,null,0,null,null,0,null,null,0,null,null,0]
[null,0,null,null,0,null,null,0,null,null,0,null,null,0]
[null,0,null,null,0,null,null,0,null,null,0,null,null,0]
[null,0,null,null,0,null,null,0,null,null,0,null,null,0]
[null,0,null,null,0,null,null,0,null,null,0,null,null,0]
[]
[]
[null,null,{"$f":"'1-2a'!$C$335","v":0},null,null,{"$f":"'1-2a'!$F$335","v":0},null,null,{"$f":"'1-2a'!$I$335","v":0},null,null,{"$f":"'1-2a'!$L$335","v":0},null,null,{"$f":"'1-2a'!$O$335","v":0}]
[{"$f":"IF(A326=52,1,A326+1)","v":13},{"$f":"N326+3","v":"2021-03-22"},null,null,{"$f":"B336+1","v":"2021-03-23"},null,null,{"$f":"E336+1","v":"2021-03-24"},null,null,{"$f":"H336+1","v":"2021-03-25"},null,null,{"$f":"K336+1","v":"2021-03-26"}]
[null,{"$f":"B327","v":0},null,null,{"$f":"E327","v":0},null,null,{"$f":"H327","v":"henk"},null,null,{"$f":"K327","v":0},null,null,{"$f":"N327","v":0}]
[34,0,null,null,0,null,null,0,null,null,0,null,null,0]
[null,0,null,null,0,null,null,0,null,null,0,null,null,0]
[null,0,null,null,0,null,null,0,null,null,0,null,null,0]
[null,0,null,null,0,null,null,0,null,null,{"$f":"K331","v":0},null,null,0]
[null,0,null,null,0,null,null,0,null,null,0,null,null,0]
[]
[]
[null,null,{"$f":"'1-2a'!$C$345","v":0},null,null,{"$f":"'1-2a'!$F$345","v":0},null,null,{"$f":"'1-2a'!$I$345","v":0},null,null,{"$f":"'1-2a'!$L$345","v":0},null,null,{"$f":"'1-2a'!$O$345","v":0}]
[{"$f":"IF(A336=52,1,A336+1)","v":14},{"$f":"N336+3","v":"2021-03-29"},null,null,{"$f":"B346+1","v":"2021-03-30"},null,null,{"$f":"E346+1","v":"2021-03-31"},null,null,{"$f":"H346+1","v":"2021-04-01"},null,null,{"$f":"K346+1","v":"2021-04-02"}]
[null,{"$f":"B337","v":0},null,null,{"$f":"E337","v":0},null,null,{"$f":"H337","v":"henk"},null,null,{"$f":"K337","v":0},null,null,{"$f":"N337","v":0}]
[35,0,null,null,0,null,null,0,null,null,0,null,null,0]
[null,0,null,null,0,null,null,0,null,null,0,null,null,0]
[null,0,null,null,0,null,null,0,null,null,0,null,null,0]
[null,0,null,null,0,null,null,0,null,null,{"$f":"K341","v":0},null,null,0]
[null,0,null,null,0,null,null,0,null,null,0,null,null,0]
[]
[]
[null,null,{"$f":"'1-2a'!$C$355","v":0},null,null,{"$f":"'1-2a'!$F$355","v":0},null,null,{"$f":"'1-2a'!$I$355","v":0},null,null,{"$f":"'1-2a'!$L$355","v":0},null,null,{"$f":"'1-2a'!$O$355","v":0}]
[{"$f":"IF(A346=52,1,A346+1)","v":15},{"$f":"N346+3","v":"2021-04-05"},null,null,{"$f":"B356+1","v":"2021-04-06"},null,null,{"$f":"E356+1","v":"2021-04-07"},null,null,{"$f":"H356+1","v":"2021-04-08"},null,null,{"$f":"K356+1","v":"2021-04-09"}]
[null,{"$f":"B347","v":0},null,null,{"$f":"E347","v":0},null,null,{"$f":"H347","v":"henk"},null,null,{"$f":"K347","v":0},null,null,{"$f":"N347","v":0}]
[36,0,null,null,0,null,null,0,null,null,0,null,null,0]
[null,0,null,null,0,null,null,0,null,null,0,null,null,0]
[null,0,null,null,0,null,null,0,null,null,0,null,null,0]
[null,0,null,null,0,null,null,0,null,null,{"$f":"K351","v":0},null,null,0]
[null,0,null,null,0,null,null,0,null,null,0,null,null,0]
[]
[]
[null,null,{"$f":"'1-2a'!$C$365","v":0},null,null,{"$f":"'1-2a'!$F$365","v":0},null,null,{"$f":"'1-2a'!$I$365","v":0},null,null,{"$f":"'1-2a'!$L$365","v":0},null,null,{"$f":"'1-2a'!$O$365","v":0}]
[{"$f":"IF(A356=52,1,A356+1)","v":16},{"$f":"N356+3","v":"2021-04-12"},null,null,{"$f":"B366+1","v":"2021-04-13"},null,null,{"$f":"E366+1","v":"2021-04-14"},null,null,{"$f":"H366+1","v":"2021-04-15"},null,null,{"$f":"K366+1","v":"2021-04-16"}]
[null,{"$f":"B357","v":0},null,null,{"$f":"E357","v":0},null,null,{"$f":"H357","v":"henk"},null,null,{"$f":"K357","v":0},null,null,{"$f":"N357","v":0}]
[37,0,null,null,0,null,null,0,null,null,0,null,null,0]
[null,0,null,null,0,null,null,0,null,null,0,null,null,0]
[null,0,null,null,0,null,null,0,null,null,0,null,null,0]
[null,0,null,null,0,null,null,0,null,null,{"$f":"K361","v":0},null,null,0]
[null,0,null,null,0,null,null,0,null,null,0,null,null,0]
[]
[]
[null,null,{"$f":"'1-2a'!$C$375","v":0},null,null,{"$f":"'1-2a'!$F$375","v":0},null,null,{"$f":"'1-2a'!$I$375","v":0},null,null,{"$f":"'1-2a'!$L$375","v":0},null,null,{"$f":"'1-2a'!$O$375","v":0}]
[{"$f":"IF(A366=52,1,A366+1)","v":17},{"$f":"N366+3","v":"2021-04-19"},null,null,{"$f":"B376+1","v":"2021-04-20"},null,null,{"$f":"E376+1","v":"2021-04-21"},null,null,{"$f":"H376+1","v":"2021-04-22"},null,null,{"$f":"K376+1","v":"2021-04-23"}]
[null,{"$f":"B367","v":0},null,null,{"$f":"E367","v":0},null,null,{"$f":"H367","v":"henk"},null,null,{"$f":"K367","v":0},null,null,{"$f":"N367","v":0}]
[38,0,null,null,0,null,null,0,null,null,0,null,null,0]
[null,0,null,null,0,null,null,0,null,null,0,null,null,0]
[null,0,null,null,0,null,null,0,null,null,0,null,null,0]
[null,0,null,null,0,null,null,0,null,null,{"$f":"K371","v":0},null,null,0]
[null,0,null,null,0,null,null,0,null,null,0,null,null,0]
[]
[]
[null,null,{"$f":"'1-2a'!$C$385","v":0},null,null,{"$f":"'1-2a'!$F$385","v":0},null,null,{"$f":"'1-2a'!$I$385","v":0},null,null,{"$f":"'1-2a'!$L$385","v":0},null,null,{"$f":"'1-2a'!$O$385","v":0}]
[{"$f":"IF(A376=52,1,A376+1)","v":18},{"$f":"N376+3","v":"2021-04-26"},null,null,{"$f":"B386+1","v":"2021-04-27"},null,null,{"$f":"E386+1","v":"2021-04-28"},null,null,{"$f":"H386+1","v":"2021-04-29"},null,null,{"$f":"K386+1","v":"2021-04-30"}]
[null,{"$f":"B377","v":0},null,null,{"$f":"E377","v":0},null,null,{"$f":"H377","v":"henk"},null,null,{"$f":"K377","v":0},null,null,{"$f":"N377","v":0}]
[39,0,null,null,0,null,null,0,null,null,0,null,null,0]
[null,0,null,null,0,null,null,0,null,null,0,null,null,0]
[null,0,null,null,0,null,null,0,null,null,0,null,null,0]
[null,0,null,null,0,null,null,0,null,null,{"$f":"K381","v":0},null,null,0]
[null,0,null,null,0,null,null,0,null,null,0,null,null,0]
[]
[]
[null,null,{"$f":"'1-2a'!$C$395","v":0},null,null,{"$f":"'1-2a'!$F$395","v":0},null,null,{"$f":"'1-2a'!$I$395","v":0},null,null,{"$f":"'1-2a'!$L$395","v":0},null,null,{"$f":"'1-2a'!$O$395","v":0}]
[{"$f":"IF(A386=52,1,A386+1)","v":19},{"$f":"N386+3","v":"2021-05-03"},null,null,{"$f":"B396+1","v":"2021-05-04"},null,null,{"$f":"E396+1","v":"2021-05-05"},null,null,{"$f":"H396+1","v":"2021-05-06"},null,null,{"$f":"K396+1","v":"2021-05-07"}]
[null,{"$f":"B387","v":0},null,null,{"$f":"E387","v":0},null,null,{"$f":"H387","v":"henk"},null,null,{"$f":"K387","v":0},null,null,{"$f":"N387","v":0}]
[40,0,null,null,0,null,null,0,null,null,0,null,null,0]
[null,0,null,null,0,null,null,0,null,null,0,null,null,0]
[null,0,null,null,0,null,null,0,null,null,0,null,null,0]
[null,0,null,null,0,null,null,0,null,null,{"$f":"K391","v":0},null,null,0]
[null,0,null,null,0,null,null,0,null,null,0,null,null,0]
[]
[]
[null,null,{"$f":"'1-2a'!$C$405","v":0},null,null,{"$f":"'1-2a'!$F$405","v":0},null,null,{"$f":"'1-2a'!$I$405","v":0},null,null,{"$f":"'1-2a'!$L$405","v":0},null,null,{"$f":"'1-2a'!$O$405","v":0}]
[{"$f":"IF(A396=52,1,A396+1)","v":20},{"$f":"N396+3","v":"2021-05-10"},null,null,{"$f":"B406+1","v":"2021-05-11"},null,null,{"$f":"E406+1","v":"2021-05-12"},null,null,{"$f":"H406+1","v":"2021-05-13"},null,null,{"$f":"K406+1","v":"2021-05-14"}]
[null,{"$f":"B397","v":0},null,null,{"$f":"E397","v":0},null,null,{"$f":"H397","v":"henk"},null,null,{"$f":"K397","v":0},null,null,{"$f":"N397","v":0}]
[41,0,null,null,0,null,null,0,null,null,0,null,null,0]
[null,0,null,null,0,null,null,0,null,null,0,null,null,0]
[null,0,null,null,0,null,null,0,null,null,0,null,null,0]
[null,0,null,null,0,null,null,0,null,null,0,null,null,0]
[null,0,null,null,0,null,null,0,null,null,0,null,null,0]
[]
[]
[null,null,{"$f":"'1-2a'!$C$415","v":0},null,null,{"$f":"'1-2a'!$F$415","v":0},null,null,{"$f":"'1-2a'!$I$415","v":0},null,null,{"$f":"'1-2a'!$L$415","v":0},null,null,{"$f":"'1-2a'!$O$415","v":0}]
[{"$f":"IF(A406=52,1,A406+1)","v":21},{"$f":"N406+3","v":"2021-05-17"},null,null,{"$f":"B416+1","v":"2021-05-18"},null,null,{"$f":"E416+1","v":"2021-05-19"},null,null,{"$f":"H416+1","v":"2021-05-20"},null,null,{"$f":"K416+1","v":"2021-05-21"}]
[null,{"$f":"B407","v":0},null,null,{"$f":"E407","v":0},null,null,{"$f":"H407","v":"henk"},null,null,{"$f":"K407","v":0},null,null,{"$f":"N407","v":0}]
[42,0,null,null,0,null,null,0,null,null,0,null,null,0]
[null,0,null,null,0,null,null,0,null,null,0,null,null,0]
[null,0,null,null,0,null,null,0,null,null,0,null,null,0]
[null,0,null,null,0,null,null,0,null,null,{"$f":"K411","v":0},null,null,0]
[null,0,null,null,0,null,null,0,null,null,0,null,null,0]
[]
[]
[null,null,{"$f":"'1-2a'!$C$425","v":0},null,null,{"$f":"'1-2a'!$F$425","v":0},null,null,{"$f":"'1-2a'!$I$425","v":0},null,null,{"$f":"'1-2a'!$L$425","v":0},null,null,{"$f":"'1-2a'!$O$425","v":0}]
[{"$f":"IF(A416=52,1,A416+1)","v":22},{"$f":"N416+3","v":"2021-05-24"},null,null,{"$f":"B426+1","v":"2021-05-25"},null,null,{"$f":"E426+1","v":"2021-05-26"},null,null,{"$f":"H426+1","v":"2021-05-27"},null,null,{"$f":"K426+1","v":"2021-05-28"}]
[null,{"$f":"B417","v":0},null,null,{"$f":"E417","v":0},null,null,{"$f":"H417","v":"henk"},null,null,{"$f":"K417","v":0},null,null,{"$f":"N417","v":0}]
[43,0,null,null,0,null,null,0,null,null,0,null,null,0]
[null,0,null,null,0,null,null,0,null,null,0,null,null,0]
[null,0,null,null,0,null,null,0,null,null,0,null,null,0]
[null,0,null,null,0,null,null,0,null,null,{"$f":"K421","v":0},null,null,0]
[null,0,null,null,0,null,null,0,null,null,0,null,null,0]
[]
[]
[null,null,{"$f":"'1-2a'!$C$435","v":0},null,null,{"$f":"'1-2a'!$F$435","v":0},null,null,{"$f":"'1-2a'!$I$435","v":0},null,null,{"$f":"'1-2a'!$L$435","v":0},null,null,{"$f":"'1-2a'!$O$435","v":0}]
[{"$f":"IF(A426=52,1,A426+1)","v":23},{"$f":"N426+3","v":"2021-05-31"},null,null,{"$f":"B436+1","v":"2021-06-01"},null,null,{"$f":"E436+1","v":"2021-06-02"},null,null,{"$f":"H436+1","v":"2021-06-03"},null,null,{"$f":"K436+1","v":"2021-06-04"}]
[null,{"$f":"B427","v":0},null,null,{"$f":"E427","v":0},null,null,{"$f":"H427","v":"henk"},null,null,{"$f":"K427","v":0},null,null,{"$f":"N427","v":0}]
[44,0,null,null,0,null,null,0,null,null,0,null,null,0]
[null,0,null,null,0,null,null,0,null,null,0,null,null,0]
[null,0,null,null,0,null,null,0,null,null,0,null,null,0]
[null,0,null,null,0,null,null,0,null,null,{"$f":"K431","v":0},null,null,0]
[null,0,null,null,0,null,null,0,null,null,0,null,null,0]
[]
[]
[null,null,{"$f":"'1-2a'!$C$445","v":0},null,null,{"$f":"'1-2a'!$F$445","v":0},null,null,{"$f":"'1-2a'!$I$445","v":0},null,null,{"$f":"'1-2a'!$L$445","v":0},null,null,{"$f":"'1-2a'!$O$445","v":0}]
[{"$f":"IF(A436=52,1,A436+1)","v":24},{"$f":"N436+3","v":"2021-06-07"},null,null,{"$f":"B446+1","v":"2021-06-08"},null,null,{"$f":"E446+1","v":"2021-06-09"},null,null,{"$f":"H446+1","v":"2021-06-10"},null,null,{"$f":"K446+1","v":"2021-06-11"}]
[null,{"$f":"B437","v":0},null,null,{"$f":"E437","v":0},null,null,{"$f":"H437","v":"henk"},null,null,{"$f":"K437","v":0},null,null,{"$f":"N437","v":0}]
[45,0,null,null,0,null,null,0,null,null,0,null,null,0]
[null,0,null,null,0,null,null,0,null,null,0,null,null,0]
[null,0,null,null,0,null,null,0,null,null,0,null,null,0]
[null,0,null,null,0,null,null,0,null,null,{"$f":"K441","v":0},null,null,0]
[null,0,null,null,0,null,null,0,null,null,0,null,null,0]
[]
[]
[null,null,{"$f":"'1-2a'!$C$455","v":0},null,null,{"$f":"'1-2a'!$F$455","v":0},null,null,{"$f":"'1-2a'!$I$455","v":0},null,null,{"$f":"'1-2a'!$L$455","v":0},null,null,{"$f":"'1-2a'!$O$455","v":0}]
[{"$f":"IF(A446=52,1,A446+1)","v":25},{"$f":"N446+3","v":"2021-06-14"},null,null,{"$f":"B456+1","v":"2021-06-15"},null,null,{"$f":"E456+1","v":"2021-06-16"},null,null,{"$f":"H456+1","v":"2021-06-17"},null,null,{"$f":"K456+1","v":"2021-06-18"}]
[null,{"$f":"B447","v":0},null,null,{"$f":"E447","v":0},null,null,{"$f":"H447","v":"henk"},null,null,{"$f":"K447","v":0},null,null,{"$f":"N447","v":0}]
[46,0,null,null,0,null,null,0,null,null,0,null,null,0]
[null,0,null,null,0,null,null,0,null,null,0,null,null,0]
[null,0,null,null,0,null,null,0,null,null,0,null,null,0]
[null,0,null,null,0,null,null,0,null,null,{"$f":"K451","v":0},null,null,0]
[null,0,null,null,0,null,null,0,null,null,0,null,null,0]
[]
[]
[null,null,{"$f":"'1-2a'!$C$465","v":0},null,null,{"$f":"'1-2a'!$F$465","v":0},null,null,{"$f":"'1-2a'!$I$465","v":0},null,null,{"$f":"'1-2a'!$L$465","v":0},null,null,{"$f":"'1-2a'!$O$465","v":0}]
[{"$f":"IF(A456=52,1,A456+1)","v":26},{"$f":"N456+3","v":"2021-06-21"},null,null,{"$f":"B466+1","v":"2021-06-22"},null,null,{"$f":"E466+1","v":"2021-06-23"},null,null,{"$f":"H466+1","v":"2021-06-24"},null,null,{"$f":"K466+1","v":"2021-06-25"}]
[null,{"$f":"B457","v":0},null,null,{"$f":"E457","v":0},null,null,{"$f":"H457","v":"henk"},null,null,{"$f":"K457","v":0},null,null,{"$f":"N457","v":0}]
[47,0,null,null,0,null,null,0,null,null,0,null,null,0]
[null,0,null,null,0,null,null,0,null,null,0,null,null,0]
[null,0,null,null,0,null,null,0,null,null,0,null,null,0]
[null,0,null,null,0,null,null,0,null,null,{"$f":"K461","v":0},null,null,0]
[null,0,null,null,0,null,null,0,null,null,0,null,null,0]
[]
[]
[null,null,{"$f":"'1-2a'!$C$475","v":0},null,null,{"$f":"'1-2a'!$F$475","v":0},null,null,{"$f":"'1-2a'!$I$475","v":0},null,null,{"$f":"'1-2a'!$L$475","v":0},null,null,{"$f":"'1-2a'!$O$475","v":0}]
[{"$f":"IF(A466=52,1,A466+1)","v":27},{"$f":"N466+3","v":"2021-06-28"},null,null,{"$f":"B476+1","v":"2021-06-29"},null,null,{"$f":"E476+1","v":"2021-06-30"},null,null,{"$f":"H476+1","v":"2021-07-01"},null,null,{"$f":"K476+1","v":"2021-07-02"}]
[null,{"$f":"B467","v":0},null,null,{"$f":"E467","v":0},null,null,{"$f":"H467","v":"henk"},null,null,{"$f":"K467","v":0},null,null,{"$f":"N467","v":0}]
[48,0,null,null,0,null,null,0,null,null,0,null,null,0]
[null,0,null,null,0,null,null,0,null,null,0,null,null,0]
[null,0,null,null,0,null,null,0,null,null,0,null,null,0]
[null,0,null,null,0,null,null,0,null,null,{"$f":"K471","v":0},null,null,0]
[null,0,null,null,0,null,null,0,null,null,0,null,null,0]
[]
[]
[null,null,{"$f":"'1-2a'!$C$485","v":0},null,null,{"$f":"'1-2a'!$F$485","v":0},null,null,{"$f":"'1-2a'!$I$485","v":0},null,null,{"$f":"'1-2a'!$L$485","v":0},null,null,{"$f":"'1-2a'!$O$485","v":0}]
[{"$f":"IF(A476=52,1,A476+1)","v":28},{"$f":"N476+3","v":"2021-07-05"},null,null,{"$f":"B486+1","v":"2021-07-06"},null,null,{"$f":"E486+1","v":"2021-07-07"},null,null,{"$f":"H486+1","v":"2021-07-08"},null,null,{"$f":"K486+1","v":"2021-07-09"}]
[null,{"$f":"B477","v":0},null,null,{"$f":"E477","v":0},null,null,{"$f":"H477","v":"henk"},null,null,{"$f":"K477","v":0},null,null,{"$f":"N477","v":0}]
[49,0,null,null,0,null,null,0,null,null,0,null,null,0]
[null,0,null,null,0,null,null,0,null,null,0,null,null,0]
[null,0,null,null,0,null,null,0,null,null,0,null,null,0]
[null,0,null,null,0,null,null,0,null,null,0,null,null,0]
[null,0,null,null,0,null,null,0,null,null,0,null,null,0]
[]
[]
[null,null,{"$f":"'1-2a'!$C$495","v":0},null,null,{"$f":"'1-2a'!$F$495","v":0},null,null,{"$f":"'1-2a'!$I$495","v":0},null,null,{"$f":"'1-2a'!$L$495","v":0},null,null,{"$f":"'1-2a'!$O$495","v":0}]
[{"$f":"IF(A486=52,1,A486+1)","v":29},{"$f":"N486+3","v":"2021-07-12"},null,null,{"$f":"B496+1","v":"2021-07-13"},null,null,{"$f":"E496+1","v":"2021-07-14"},null,null,{"$f":"H496+1","v":"2021-07-15"},null,null,{"$f":"K496+1","v":"2021-07-16"}]
[null,{"$f":"B487","v":0},null,null,{"$f":"E487","v":0},null,null,{"$f":"H487","v":"henk"},null,null,{"$f":"K487","v":0},null,null,{"$f":"N487","v":0}]
[50,0,null,null,0,null,null,0,null,null,0]
[null,0,null,null,0,null,null,0,null,null,0,null,null,0]
[null,0,null,null,0,null,null,0,null,null,0,null,null,0]
[null,0,null,null,0,null,null,0,null,null,{"$f":"K491","v":0},null,null,0]
[null,0,null,null,0,null,null,0,null,null,0]

{"sheet":"11","index":11,"n_rows":502,"n_cols":15,"rows_kept":502,"cut":false,"hidden":false,"merged":[[5,1,5,3],[5,4,5,6],[5,7,5,9],[5,10,5,12],[5,13,5,15],[7,0,8,0],[1,1,2,7],[1,9,2,12],[1,13,2,15],[3,1,3,3],[3,4,3,6],[3,7,3,9],[3,10,3,12],[3,13,3,15],[12,1,13,3],[12,4,13,6],[12,7,13,9],[12,10,13,12],[12,13,13,15],[15,1,15,3],[15,4,15,6],[15,7,15,9],[15,10,15,12],[15,13,15,15],[25,1,25,3],[25,4,25,6],[25,7,25,9],[25,10,25,12],[25,13,25,15],[27,0,28,0],[17,0,18,0],[22,1,23,3],[22,4,23,6],[22,7,23,9],[22,10,23,12],[22,13,23,15],[32,1,33,3],[32,4,33,6],[32,7,33,9],[32,10,33,12],[32,13,33,15],[35,1,35,3],[35,4,35,6],[35,7,35,9],[35,10,35,12],[35,13,35,15],[45,1,45,3],[45,4,45,6],[45,7,45,9],[45,10,45,12],[45,13,45,15],[47,0,48,0],[37,0,38,0],[42,1,43,3],[42,4,43,6],[42,7,43,9],[42,10,43,12],[42,13,43,15],[52,1,53,3],[52,4,53,6],[52,7,53,9],[52,10,53,12],[52,13,53,15],[55,1,55,3],[55,4,55,6],[55,7,55,9],[55,10,55,12],[55,13,55,15],[65,1,65,3],[65,4,65,6],[65,7,65,9],[65,10,65,12],[65,13,65,15],[67,0,68,0],[57,0,58,0],[62,1,63,3],[62,4,63,6],[62,7,63,9],[62,10,63,12],[62,13,63,15],[72,1,73,3],[72,4,73,6],[72,7,73,9],[72,10,73,12],[72,13,73,15],[75,1,75,3],[75,4,75,6],[75,7,75,9],[75,10,75,12],[75,13,75,15],[85,1,85,3],[85,4,85,6],[85,7,85,9],[85,10,85,12],[85,13,85,15],[87,0,88,0],[77,0,78,0],[82,1,83,3],[82,4,83,6],[82,7,83,9],[82,10,83,12],[82,13,83,15],[92,1,93,3],[92,4,93,6],[92,7,93,9],[92,10,93,12],[92,13,93,15],[95,1,95,3],[95,4,95,6],[95,7,95,9],[95,10,95,12],[95,13,95,15],[105,1,105,3],[105,4,105,6],[105,7,105,9],[105,10,105,12],[105,13,105,15],[107,0,108,0],[97,0,98,0],[99,16,100,19],[102,1,103,3],[102,4,103,6],[102,7,103,9],[102,10,103,12],[102,13,103,15],[112,1,113,3],[112,4,113,6],[112,7,113,9],[112,10,113,12],[112,13,113,15],[115,1,115,3],[115,4,115,6],[115,7,115,9],[115,10,115,12],[115,13,115,15],[125,1,125,3],[125,4,125,6],[125,7,125,9],[125,10,125,12],[125,13,125,15],[127,0,128,0],[117,0,118,0],[122,1,123,3],[122,4,123,6],[122,7,123,9],[122,10,123,12],[122,13,123,15],[132,1,133,3],[132,4,133,6],[132,7,133,9],[132,10,133,12],[132,13,133,15],[135,1,135,3],[135,4,135,6],[135,7,135,9],[135,10,135,12],[135,13,135,15],[145,1,145,3],[145,4,145,6],[145,7,145,9],[145,10,145,12],[145,13,145,15],[147,0,148,0],[137,0,138,0],[142,1,143,3],[142,4,143,6],[142,7,143,9],[142,10,143,12],[142,13,143,15],[152,1,153,3],[152,4,153,6],[152,7,153,9],[152,10,153,12],[152,13,153,15],[155,1,155,3],[155,4,155,6],[155,7,155,9],[155,10,155,12],[155,13,155,15],[165,1,165,3],[165,4,165,6],[165,7,165,9],[165,10,165,12],[165,13,165,15],[167,0,168,0],[157,0,158,0],[162,1,163,3],[162,4,163,6],[162,7,163,9],[162,10,163,12],[162,13,163,15],[172,1,173,3],[172,4,173,6],[172,7,173,9],[172,10,173,12],[172,13,173,15],[175,1,175,3],[175,4,175,6],[175,7,175,9],[175,10,175,12],[175,13,175,15],[185,1,185,3],[185,4,185,6],[185,7,185,9],[185,10,185,12],[185,13,185,15],[187,0,188,0],[177,0,178,0],[179,16,180,19],[182,1,183,3],[182,4,183,6],[182,7,183,9],[182,10,183,12],[182,13,183,15],[192,1,193,3],[192,4,193,6],[192,7,193,9],[192,10,193,12],[192,13,193,15],[195,1,195,3],[195,4,195,6],[195,7,195,9],[195,10,195,12],[195,13,195,15],[205,1,205,3],[205,4,205,6],[205,7,205,9],[205,10,205,12],[205,13,205,15],[207,0,208,0],[197,0,198,0],[202,1,203,3],[202,4,203,6],[202,7,203,9],[202,10,203,12],[202,13,203,15],[212,1,213,3],[212,4,213,6],[212,7,213,9],[212,10,213,12],[212,13,213,15],[215,1,215,3],[215,4,215,6],[215,7,215,9],[215,10,215,12],[215,13,215,15],[225,1,225,3],[225,4,225,6],[225,7,225,9],[225,10,225,12],[225,13,225,15],[227,0,228,0],[217,0,218,0],[222,1,223,3],[222,4,223,6],[222,7,223,9],[222,10,223,12],[222,13,223,15],[232,1,233,3],[232,4,233,6],[232,7,233,9],[232,10,233,12],[232,13,233,15],[235,1,235,3],[235,4,235,6],[235,7,235,9],[235,10,235,12],[235,13,235,15],[245,1,245,3],[245,4,245,6],[245,7,245,9],[245,10,245,12],[245,13,245,15],[247,0,248,0],[237,0,238,0],[242,1,243,3],[242,4,243,6],[242,7,243,9],[242,10,243,12],[242,13,243,15],[252,1,253,3],[252,4,253,6],[252,7,253,9],[252,10,253,12],[252,13,253,15],[255,1,255,3],[255,4,255,6],[255,7,255,9],[255,10,255,12],[255,13,255,15],[265,1,265,3],[265,4,265,6],[265,7,265,9],[265,10,265,12],[265,13,265,15],[267,0,268,0],[257,0,258,0],[259,16,260,19],[262,1,263,3],[262,4,263,6],[262,7,263,9],[262,10,263,12],[262,13,263,15],[272,1,273,3],[272,4,273,6],[272,7,273,9],[272,10,273,12],[272,13,273,15],[275,1,275,3],[275,4,275,6],[275,7,275,9],[275,10,275,12],[275,13,275,15],[285,1,285,3],[285,4,285,6],[285,7,285,9],[285,10,285,12],[285,13,285,15],[287,0,288,0],[277,0,278,0],[282,1,283,3],[282,4,283,6],[282,7,283,9],[282,10,283,12],[282,13,283,15],[292,1,293,3],[292,4,293,6],[292,7,293,9],[292,10,293,12],[292,13,293,15],[295,1,295,3],[295,4,295,6],[295,7,295,9],[295,10,295,12],[295,13,295,15],[305,1,305,3],[305,4,305,6],[305,7,305,9],[305,10,305,12],[305,13,305,15],[307,0,308,0],[297,0,298,0],[302,1,303,3],[302,4,303,6],[302,7,303,9],[302,10,303,12],[302,13,303,15],[312,1,313,3],[312,4,313,6],[312,7,313,9],[312,10,313,12],[312,13,313,15],[315,1,315,3],[315,4,315,6],[315,7,315,9],[315,10,315,12],[315,13,315,15],[325,1,325,3],[325,4,325,6],[325,7,325,9],[325,10,325,12],[325,13,325,15],[327,0,328,0],[317,0,318,0],[322,1,323,3],[322,4,323,6],[322,7,323,9],[322,10,323,12],[322,13,323,15],[332,1,333,3],[332,4,333,6],[332,7,333,9],[332,10,333,12],[332,13,333,15],[335,1,335,3],[335,4,335,6],[335,7,335,9],[335,10,335,12],[335,13,335,15],[345,1,345,3],[345,4,345,6],[345,7,345,9],[345,10,345,12],[345,13,345,15],[347,0,348,0],[337,0,338,0],[339,16,340,19],[342,1,343,3],[342,4,343,6],[342,7,343,9],[342,10,343,12],[342,13,343,15],[352,1,353,3],[352,4,353,6],[352,7,353,9],[352,10,353,12],[352,13,353,15],[355,1,355,3],[355,4,355,6],[355,7,355,9],[355,10,355,12],[355,13,355,15],[365,1,365,3],[365,4,365,6],[365,7,365,9],[365,10,365,12],[365,13,365,15],[367,0,368,0],[357,0,358,0],[362,1,363,3],[362,4,363,6],[362,7,363,9],[362,10,363,12],[362,13,363,15],[372,1,373,3],[372,4,373,6],[372,7,373,9],[372,10,373,12],[372,13,373,15],[375,1,375,3],[375,4,375,6],[375,7,375,9],[375,10,375,12],[375,13,375,15],[385,1,385,3],[385,4,385,6],[385,7,385,9],[385,10,385,12],[385,13,385,15],[387,0,388,0],[377,0,378,0],[382,1,383,3],[382,4,383,6],[382,7,383,9],[382,10,383,12],[382,13,383,15],[392,1,393,3],[392,4,393,6],[392,7,393,9],[392,10,393,12],[392,13,393,15],[395,1,395,3],[395,4,395,6],[395,7,395,9],[395,10,395,12],[395,13,395,15],[405,1,405,3],[405,4,405,6],[405,7,405,9],[405,10,405,12],[405,13,405,15],[407,0,408,0],[397,0,398,0],[402,1,403,3],[402,4,403,6],[402,7,403,9],[402,10,403,12],[402,13,403,15],[412,1,413,3],[412,4,413,6],[412,7,413,9],[412,10,413,12],[412,13,413,15],[415,1,415,3],[415,4,415,6],[415,7,415,9],[415,10,415,12],[415,13,415,15],[425,1,425,3],[425,4,425,6],[425,7,425,9],[425,10,425,12],[425,13,425,15],[427,0,428,0],[417,0,418,0],[419,16,420,19],[422,1,423,3],[422,4,423,6],[422,7,423,9],[422,10,423,12],[422,13,423,15],[432,1,433,3],[432,4,433,6],[432,7,433,9],[432,10,433,12],[432,13,433,15],[435,1,435,3],[435,4,435,6],[435,7,435,9],[435,10,435,12],[435,13,435,15],[445,1,445,3],[445,4,445,6],[445,7,445,9],[445,10,445,12],[445,13,445,15],[447,0,448,0],[437,0,438,0],[442,1,443,3],[442,4,443,6],[442,7,443,9],[442,10,443,12],[442,13,443,15],[452,1,453,3],[452,4,453,6],[452,7,453,9],[452,10,453,12],[452,13,453,15],[455,1,455,3],[455,4,455,6],[455,7,455,9],[455,10,455,12],[455,13,455,15],[465,1,465,3],[465,4,465,6],[465,7,465,9],[465,10,465,12],[465,13,465,15],[467,0,468,0],[457,0,458,0],[462,1,463,3],[462,4,463,6],[462,7,463,9],[462,10,463,12],[462,13,463,15],[472,1,473,3],[472,4,473,6],[472,7,473,9],[472,10,473,12],[472,13,473,15],[475,1,475,3],[475,4,475,6],[475,7,475,9],[475,10,475,12],[475,13,475,15],[485,1,485,3],[485,4,485,6],[485,7,485,9],[485,10,485,12],[485,13,485,15],[487,0,488,0],[477,0,478,0],[482,1,483,3],[482,4,483,6],[482,7,483,9],[482,10,483,12],[482,13,483,15],[497,0,498,0],[499,16,500,19],[502,1,503,3],[502,4,503,6],[502,7,503,9],[502,10,503,12],[502,13,503,15],[492,1,493,3],[492,4,493,6],[492,7,493,9],[492,10,493,12],[492,13,493,15],[495,1,495,3],[495,4,495,6],[495,7,495,9],[495,10,495,12],[495,13,495,15]]}
[]
[null,{"$f":"'1-2a'!B2:H3","v":"Basisschool De Grote Beer        schooljaar 2020/2021"},null,null,null,null,null,null,null,"Groepsplanner van groep:",null,null,null,"11"]
[]
[null,"maandag 1e schoolweek",null,null,"dinsdag",null,null,"woensdag",null,null,"donderdag",null,null,"vrijdag"]
[null,null,{"$f":"'1-2a'!C$5","v":0},null,null,{"$f":"'1-2a'!F5","v":0},null,null,{"$f":"'1-2a'!I$5","v":0},null,null,{"$f":"'1-2a'!L$5","v":"s"},null,null,{"$f":"'1-2a'!O$5","v":0}]
[{"$f":"(B6-WEEKDAY(B6-1)+4-(TRUNC(DATE(YEAR(B6-WEEKDAY(B6-1)+4),1,2)/7)*7-2))/7","v":32},{"$f":"'1-2a'!B6:D6","v":"2020-08-03"},null,null,{"$f":"B6+1","v":"2020-08-04"},null,null,{"$f":"E6+1","v":"2020-08-05"},null,null,{"$f":"H6+1","v":"2020-08-06"},null,null,{"$f":"K6+1","v":"2020-08-07"}]
[]
[1]
[]
[]
[]
[]
[]
[]
[null,null,{"$f":"'1-2a'!C$15","v":0},null,null,{"$f":"'1-2a'!F$15","v":0},null,null,{"$f":"'1-2a'!I$15","v":0},null,null,{"$f":"'1-2a'!L$15","v":0},null,null,{"$f":"'1-2a'!O15","v":0}]
[{"$f":"IF(A6=52,1,A6+1)","v":33},{"$f":"N6+3","v":"2020-08-10"},null,null,{"$f":"B16+1","v":"2020-08-11"},null,null,{"$f":"E16+1","v":"2020-08-12"},null,null,{"$f":"H16+1","v":"2020-08-13"},null,null,{"$f":"K16+1","v":"2020-08-14"}]
[null,{"$f":"B7","v":0},null,null,{"$f":"E7","v":0},null,null,{"$f":"H7","v":0},null,null,{"$f":"K7","v":0},null,null,{"$f":"N7","v":0}]
[2,0,null,null,0,null,null,0,null,null,0,null,null,0]
[null,0,null,null,0,null,null,0,null,null,0,null,null,0]
[null,0,null,null,0,null,null,0,null,null,0,null,null,0]
[null,0,null,null,0,null,null,0,null,null,0,null,null,0]
[null,0,null,null,0,null,null,0,null,null,0,null,null,0]
[]
[]
[null,null,{"$f":"'1-2a'!C$25","v":0},null,null,{"$f":"'1-2a'!F$25","v":0},null,null,{"$f":"'1-2a'!I25","v":0},null,null,{"$f":"'1-2a'!L25","v":0},null,null,{"$f":"'1-2a'!O25","v":0}]
[{"$f":"IF(A16=52,1,A16+1)","v":34},{"$f":"N16+3","v":"2020-08-17"},null,null,{"$f":"B26+1","v":"2020-08-18"},null,null,{"$f":"E26+1","v":"2020-08-19"},null,null,{"$f":"H26+1","v":"2020-08-20"},null,null,{"$f":"K26+1","v":"2020-08-21"}]
[null,{"$f":"B17","v":0},null,null,{"$f":"E17","v":0},null,null,{"$f":"H17","v":0},null,null,{"$f":"K17","v":0},null,null,{"$f":"N17","v":0}]
[3,0,null,null,0,null,null,0,null,null,0,null,null,0]
[null,0,null,null,0,null,null,0,null,null,0,null,null,0]
[null,0,null,null,0,null,null,0,null,null,0,null,null,0]
[null,0,null,null,0,null,null,0,null,null,{"$f":"K21","v":0},null,null,0]
[null,0,null,null,0,null,null,0,null,null,0,null,null,0]
[]
[]
[null,null,{"$f":"'1-2a'!$C$35","v":0},null,null,{"$f":"'1-2a'!$F$35","v":0},null,null,{"$f":"'1-2a'!$I$35","v":0},null,null,{"$f":"'1-2a'!$L$35","v":0},null,null,{"$f":"'1-2a'!$O$35","v":0}]
[{"$f":"IF(A26=52,1,A26+1)","v":35},{"$f":"N26+3","v":"2020-08-24"},null,null,{"$f":"B36+1","v":"2020-08-25"},null,null,{"$f":"E36+1","v":"2020-08-26"},null,null,{"$f":"H36+1","v":"2020-08-27"},null,null,{"$f":"K36+1","v":"2020-08-28"}]
[null,{"$f":"B27","v":0},null,null,{"$f":"E27","v":0},null,null,{"$f":"H27","v":0},null,null,{"$f":"K27","v":0},null,null,{"$f":"N27","v":0}]
[4,0,null,null,0,null,null,0,null,null,0,null,null,0]
[null,0,null,null,0,null,null,0,null,null,0,null,null,0]
[null,0,null,null,0,null,null,0,null,null,0,null,null,0]
[null,0,null,null,0,null,null,0,null,null,{"$f":"K31","v":0},null,null,0]
[null,0,null,null,0,null,null,0,null,null,0,null,null,0]
[]
[]
[null,null,{"$f":"'1-2a'!$C$45","v":0},null,null,{"$f":"'1-2a'!$F$45","v":0},null,null,{"$f":"'1-2a'!$I$45","v":0},null,null,{"$f":"'1-2a'!$L$45","v":0},null,null,{"$f":"'1-2a'!$O$45","v":0}]
[{"$f":"IF(A36=52,1,A36+1)","v":36},{"$f":"N36+3","v":"2020-08-31"},null,null,{"$f":"B46+1","v":"2020-09-01"},null,null,{"$f":"E46+1","v":"2020-09-02"},null,null,{"$f":"H46+1","v":"2020-09-03"},null,null,{"$f":"K46+1","v":"2020-09-04"}]
[null,{"$f":"B37","v":0},null,null,{"$f":"E37","v":0},null,null,{"$f":"H37","v":0},null,null,{"$f":"K37","v":0},null,null,{"$f":"N37","v":0}]
[5,0,null,null,0,null,null,0,null,null,0,null,null,0]
[null,0,null,null,0,null,null,0,null,null,0,null,null,0]
[null,0,null,null,0,null,null,0,null,null,0,null,null,0]
[null,0,null,null,0,null,null,0,null,null,{"$f":"K41","v":0},null,null,0]
[null,0,null,null,0,null,null,0,null,null,0,null,null,0]
[]
[]
[null,null,{"$f":"'1-2a'!$C$55","v":0},null,null,{"$f":"'1-2a'!$F$55","v":0},null,null,{"$f":"'1-2a'!$I$55","v":0},null,null,{"$f":"'1-2a'!$L$55","v":0},null,null,{"$f":"'1-2a'!O55","v":0}]
[{"$f":"IF(A46=52,1,A46+1)","v":37},{"$f":"N46+3","v":"2020-09-07"},null,null,{"$f":"B56+1","v":"2020-09-08"},null,null,{"$f":"E56+1","v":"2020-09-09"},null,null,{"$f":"H56+1","v":"2020-09-10"},null,null,{"$f":"K56+1","v":"2020-09-11"}]
[null,{"$f":"B47","v":0},null,null,{"$f":"E47","v":0},null,null,{"$f":"H47","v":0},null,null,{"$f":"K47","v":0},null,null,{"$f":"N47","v":0}]
[6,0,null,null,0,null,null,0,null,null,0,null,null,0]
[null,0,null,null,0,null,null,0,null,null,0,null,null,0]
[null,0,null,null,0,null,null,0,null,null,0,null,null,0]
[null,0,null,null,0,null,null,0,null,null,{"$f":"K51","v":0},null,null,0]
[null,0,null,null,0,null,null,0,null,null,0,null,null,0]
[]
[]
[null,null,{"$f":"'1-2a'!$C$65","v":0},null,null,{"$f":"'1-2a'!$F$65","v":0},null,null,{"$f":"'1-2a'!$I$65","v":0},null,null,{"$f":"'1-2a'!$L$65","v":0},null,null,{"$f":"'1-2a'!$O$65","v":0}]
[{"$f":"IF(A56=52,1,A56+1)","v":38},{"$f":"N56+3","v":"2020-09-14"},null,null,{"$f":"B66+1","v":"2020-09-15"},null,null,{"$f":"E66+1","v":"2020-09-16"},null,null,{"$f":"H66+1","v":"2020-09-17"},null,null,{"$f":"K66+1","v":"2020-09-18"}]
[null,{"$f":"B57","v":0},null,null,{"$f":"E57","v":0},null,null,{"$f":"H57","v":0},null,null,{"$f":"K57","v":0},null,null,{"$f":"N57","v":0}]
[7,0,null,null,0,null,null,0,null,null,0,null,null,0]
[null,0,null,null,0,null,null,0,null,null,0,null,null,0]
[null,0,null,null,0,null,null,0,null,null,0,null,null,0]
[null,0,null,null,0,null,null,0,null,null,{"$f":"K61","v":0},null,null,0]
[null,0,null,null,0,null,null,0,null,null,0,null,null,0]
[]
[]
[null,null,{"$f":"'1-2a'!$C$75","v":0},null,null,{"$f":"'1-2a'!$F$75","v":0},null,null,{"$f":"'1-2a'!$I$75","v":0},null,null,{"$f":"'1-2a'!$L$75","v":0},null,null,{"$f":"'1-2a'!$O$75","v":0}]
[{"$f":"IF(A66=52,1,A66+1)","v":39},{"$f":"N66+3","v":"2020-09-21"},null,null,{"$f":"B76+1","v":"2020-09-22"},null,null,{"$f":"E76+1","v":"2020-09-23"},null,null,{"$f":"H76+1","v":"2020-09-24"},null,null,{"$f":"K76+1","v":"2020-09-25"}]
[null,{"$f":"B67","v":0},null,null,{"$f":"E67","v":0},null,null,{"$f":"H67","v":0},null,null,{"$f":"K67","v":0},null,null,{"$f":"N67","v":0}]
[8,0,null,null,0,null,null,0,null,null,0,null,null,0]
[null,0,null,null,0,null,null,0,null,null,0,null,null,0]
[null,0,null,null,0,null,null,0,null,null,0,null,null,0]
[null,0,null,null,0,null,null,0,null,null,{"$f":"K71","v":0},null,null,0]
[null,0,null,null,0,null,null,0,null,null,0,null,null,0]
[]
[]
[null,null,{"$f":"'1-2a'!$C$85","v":0},null,null,{"$f":"'1-2a'!$F$85","v":0},null,null,{"$f":"'1-2a'!$I$85","v":0},null,null,{"$f":"'1-2a'!$L$85","v":0},null,null,{"$f":"'1-2a'!$O$85","v":0}]
[{"$f":"IF(A76=52,1,A76+1)","v":40},{"$f":"N76+3","v":"2020-09-28"},null,null,{"$f":"B86+1","v":"2020-09-29"},null,null,{"$f":"E86+1","v":"2020-09-30"},null,null,{"$f":"H86+1","v":"2020-10-01"},null,null,{"$f":"K86+1","v":"2020-10-02"}]
[null,{"$f":"B77","v":0},null,null,{"$f":"E77","v":0},null,null,{"$f":"H77","v":0},null,null,{"$f":"K77","v":0},null,null,{"$f":"N77","v":0}]
[9,0,null,null,0,null,null,0,null,null,0,null,null,0]
[null,0,null,null,0,null,null,0,null,null,0,null,null,0]
[null,0,null,null,0,null,null,0,null,null,0,null,null,0]
[null,0,null,null,0,null,null,0,null,null,0,null,null,0]
[null,0,null,null,0,null,null,0,null,null,0,null,null,0]
[]
[]
[null,null,{"$f":"'1-2a'!$C$95","v":0},null,null,{"$f":"'1-2a'!$F$95","v":0},null,null,{"$f":"'1-2a'!$I$95","v":0},null,null,{"$f":"'1-2a'!$L$95","v":0},null,null,{"$f":"'1-2a'!$O$95","v":0}]
[{"$f":"IF(A86=52,1,A86+1)","v":41},{"$f":"N86+3","v":"2020-10-05"},null,null,{"$f":"B96+1","v":"2020-10-06"},null,null,{"$f":"E96+1","v":"2020-10-07"},null,null,{"$f":"H96+1","v":"2020-10-08"},null,null,{"$f":"K96+1","v":"2020-10-09"}]
[null,{"$f":"B87","v":0},null,null,{"$f":"E87","v":0},null,null,{"$f":"H87","v":0},null,null,{"$f":"K87","v":0},null,null,{"$f":"N87","v":0}]
[10,0,null,null,0,null,null,0,null,null,0,null,null,0]
[null,0,null,null,0,null,null,0,null,null,0,null,null,0]
[null,0,null,null,0,null,null,0,null,null,0,null,null,0]
[null,0,null,null,0,null,null,0,null,null,{"$f":"K91","v":0},null,null,0]
[null,0,null,null,0,null,null,0,null,null,0,null,null,0]
[]
[]
[null,null,{"$f":"'1-2a'!$C$105","v":0},null,null,{"$f":"'1-2a'!$F$105","v":0},null,null,{"$f":"'1-2a'!$I$105","v":0},null,null,{"$f":"'1-2a'!$L$105","v":0},null,null,{"$f":"'1-2a'!$O$105","v":0}]
[{"$f":"IF(A96=52,1,A96+1)","v":42},{"$f":"N96+3","v":"2020-10-12"},null,null,{"$f":"B106+1","v":"2020-10-13"},null,null,{"$f":"E106+1","v":"2020-10-14"},null,null,{"$f":"H106+1","v":"2020-10-15"},null,null,{"$f":"K106+1","v":"2020-10-16"}]
[null,{"$f":"B97","v":0},null,null,{"$f":"E97","v":0},null,null,{"$f":"H97","v":0},null,null,{"$f":"K97","v":0},null,null,{"$f":"N97","v":0}]
[11,0,null,null,0,null,null,0,null,null,0,null,null,0]
[null,0,null,null,0,null,null,0,null,null,0,null,null,0]
[null,0,null,null,0,null,null,0,null,null,0,null,null,0]
[null,0,null,null,0,null,null,0,null,null,{"$f":"K101","v":0},null,null,0]
[null,0,null,null,0,null,null,0,null,null,0,null,null,0]
[]
[]
[null,null,{"$f":"'1-2a'!$C$115","v":0},null,null,{"$f":"'1-2a'!$F$115","v":0},null,null,{"$f":"'1-2a'!$I$115","v":0},null,null,{"$f":"'1-2a'!$L$115","v":0},null,null,{"$f":"'1-2a'!$O$115","v":0}]
[{"$f":"IF(A106=52,1,A106+1)","v":43},{"$f":"N106+3","v":"2020-10-19"},null,null,{"$f":"B116+1","v":"2020-10-20"},null,null,{"$f":"E116+1","v":"2020-10-21"},null,null,{"$f":"H116+1","v":"2020-10-22"},null,null,{"$f":"K116+1","v":"2020-10-23"}]
[null,{"$f":"B107","v":0},null,null,{"$f":"E107","v":0},null,null,{"$f":"H107","v":0},null,null,{"$f":"K107","v":0},null,null,{"$f":"N107","v":0}]
[12,0,null,null,0,null,null,0,null,null,0,null,null,0]
[null,0,null,null,0,null,null,0,null,null,0,null,null,0]
[null,0,null,null,0,null,null,0,null,null,0,null,null,0]
[null,0,null,null,0,null,null,0,null,null,{"$f":"K111","v":0},null,null,0]
[null,0,null,null,0,null,null,0,null,null,0,null,null,0]
[]
[]
[null,null,{"$f":"'1-2a'!$C$125","v":0},null,null,{"$f":"'1-2a'!$F$125","v":0},null,null,{"$f":"'1-2a'!$I$125","v":0},null,null,{"$f":"'1-2a'!$L$125","v":0},null,null,{"$f":"'1-2a'!$O$125","v":0}]
[{"$f":"IF(A116=52,1,A116+1)","v":44},{"$f":"N116+3","v":"2020-10-26"},null,null,{"$f":"B126+1","v":"2020-10-27"},null,null,{"$f":"E126+1","v":"2020-10-28"},null,null,{"$f":"H126+1","v":"2020-10-29"},null,null,{"$f":"K126+1","v":"2020-10-30"}]
[null,{"$f":"B117","v":0},null,null,{"$f":"E117","v":0},null,null,{"$f":"H117","v":0},null,null,{"$f":"K117","v":0},null,null,{"$f":"N117","v":0}]
[13,0,null,null,0,null,null,0,null,null,0,null,null,0]
[null,0,null,null,0,null,null,0,null,null,0,null,null,0]
[null,0,null,null,0,null,null,0,null,null,0,null,null,0]
[null,0,null,null,0,null,null,0,null,null,{"$f":"K121","v":0},null,null,0]
[null,0,null,null,0,null,null,0,null,null,0,null,null,0]
[]
[]
[null,null,{"$f":"'1-2a'!$C$135","v":0},null,null,{"$f":"'1-2a'!$F$135","v":0},null,null,{"$f":"'1-2a'!$I$135","v":0},null,null,{"$f":"'1-2a'!$L$135","v":0},null,null,{"$f":"'1-2a'!$O$135","v":0}]
[{"$f":"IF(A126=52,1,A126+1)","v":45},{"$f":"N126+3","v":"2020-11-02"},null,null,{"$f":"B136+1","v":"2020-11-03"},null,null,{"$f":"E136+1","v":"2020-11-04"},null,null,{"$f":"H136+1","v":"2020-11-05"},null,null,{"$f":"K136+1","v":"2020-11-06"}]
[null,{"$f":"B127","v":0},null,null,{"$f":"E127","v":0},null,null,{"$f":"H127","v":0},null,null,{"$f":"K127","v":0},null,null,{"$f":"N127","v":0}]
[14,0,null,null,0,null,null,0,null,null,0,null,null,0]
[null,0,null,null,0,null,null,0,null,null,0,null,null,0]
[null,0,null,null,0,null,null,0,null,null,0,null,null,0]
[null,0,null,null,0,null,null,0,null,null,{"$f":"K131","v":0},null,null,0]
[null,0,null,null,0,null,null,0,null,null,0,null,null,0]
[]
[]
[null,null,{"$f":"'1-2a'!$C$145","v":0},null,null,{"$f":"'1-2a'!$F$145","v":0},null,null,{"$f":"'1-2a'!$I$145","v":0},null,null,{"$f":"'1-2a'!$L$145","v":0},null,null,{"$f":"'1-2a'!$O$145","v":0}]
[{"$f":"IF(A136=52,1,A136+1)","v":46},{"$f":"N136+3","v":"2020-11-09"},null,null,{"$f":"B146+1","v":"2020-11-10"},null,null,{"$f":"E146+1","v":"2020-11-11"},null,null,{"$f":"H146+1","v":"2020-11-12"},null,null,{"$f":"K146+1","v":"2020-11-13"}]
[null,{"$f":"B137","v":0},null,null,{"$f":"E137","v":0},null,null,{"$f":"H137","v":0},null,null,{"$f":"K137","v":0},null,null,{"$f":"N137","v":0}]
[15,0,null,null,0,null,null,0,null,null,0,null,null,0]
[null,0,null,null,0,null,null,0,null,null,0,null,null,0]
[null,0,null,null,0,null,null,0,null,null,0,null,null,0]
[null,0,null,null,0,null,null,0,null,null,{"$f":"K141","v":0},null,null,0]
[null,0,null,null,0,null,null,0,null,null,0,null,null,0]
[]
[]
[null,null,{"$f":"'1-2a'!$C$155","v":0},null,null,{"$f":"'1-2a'!$F$155","v":0},null,null,{"$f":"'1-2a'!$I$155","v":0},null,null,{"$f":"'1-2a'!$L$155","v":0},null,null,{"$f":"'1-2a'!$O$155","v":0}]
[{"$f":"IF(A146=52,1,A146+1)","v":47},{"$f":"N146+3","v":"2020-11-16"},null,null,{"$f":"B156+1","v":"2020-11-17"},null,null,{"$f":"E156+1","v":"2020-11-18"},null,null,{"$f":"H156+1","v":"2020-11-19"},null,null,{"$f":"K156+1","v":"2020-11-20"}]
[null,{"$f":"B147","v":0},null,null,{"$f":"E147","v":0},null,null,{"$f":"H147","v":0},null,null,{"$f":"K147","v":0},null,null,{"$f":"N147","v":0}]
[16,0,null,null,0,null,null,0,null,null,0,null,null,0]
[null,0,null,null,0,null,null,0,null,null,0,null,null,0]
[null,0,null,null,0,null,null,0,null,null,0,null,null,0]
[null,0,null,null,0,null,null,0,null,null,{"$f":"K151","v":0},null,null,0]
[null,0,null,null,0,null,null,0,null,null,0,null,null,0]
[]
[]
[null,null,{"$f":"'1-2a'!$C$165","v":0},null,null,{"$f":"'1-2a'!$F$165","v":0},null,null,{"$f":"'1-2a'!$I$165","v":0},null,null,{"$f":"'1-2a'!$L$165","v":0},null,null,{"$f":"'1-2a'!$O$165","v":0}]
[{"$f":"IF(A156=52,1,A156+1)","v":48},{"$f":"N156+3","v":"2020-11-23"},null,null,{"$f":"B166+1","v":"2020-11-24"},null,null,{"$f":"E166+1","v":"2020-11-25"},null,null,{"$f":"H166+1","v":"2020-11-26"},null,null,{"$f":"K166+1","v":"2020-11-27"}]
[null,{"$f":"B157","v":0},null,null,{"$f":"E157","v":0},null,null,{"$f":"H157","v":0},null,null,{"$f":"K157","v":0},null,null,{"$f":"N157","v":0}]
[17,0,null,null,0,null,null,0,null,null,0,null,null,0]
[null,0,null,null,0,null,null,0,null,null,0,null,null,0]
[null,0,null,null,0,null,null,0,null,null,0,null,null,0]
[null,0,null,null,0,null,null,0,null,null,0,null,null,0]
[null,0,null,null,0,null,null,0,null,null,0,null,null,0]
[]
[]
[null,null,{"$f":"'1-2a'!$C$175","v":0},null,null,{"$f":"'1-2a'!$F$175","v":0},null,null,{"$f":"'1-2a'!$I$175","v":0},null,null,{"$f":"'1-2a'!$L$175","v":0},null,null,{"$f":"'1-2a'!$O$175","v":0}]
[{"$f":"IF(A166=52,1,A166+1)","v":49},{"$f":"N166+3","v":"2020-11-30"},null,null,{"$f":"B176+1","v":"2020-12-01"},null,null,{"$f":"E176+1","v":"2020-12-02"},null,null,{"$f":"H176+1","v":"2020-12-03"},null,null,{"$f":"K176+1","v":"2020-12-04"}]
[null,{"$f":"B167","v":0},null,null,{"$f":"E167","v":0},null,null,{"$f":"H167","v":0},null,null,{"$f":"K167","v":0},null,null,{"$f":"N167","v":0}]
[18,0,null,null,0,null,null,0,null,null,0,null,null,0]
[null,0,null,null,0,null,null,0,null,null,0,null,null,0]
[null,0,null,null,0,null,null,0,null,null,0,null,null,0]
[null,0,null,null,0,null,null,0,null,null,{"$f":"K171","v":0},null,null,0]
[null,0,null,null,0,null,null,0,null,null,0,null,null,0]
[]
[]
[null,null,{"$f":"'1-2a'!$C$185","v":0},null,null,{"$f":"'1-2a'!$F$185","v":0},null,null,{"$f":"'1-2a'!$I$185","v":0},null,null,{"$f":"'1-2a'!$L$185","v":0},null,null,{"$f":"'1-2a'!$O$185","v":0}]
[{"$f":"IF(A176=52,1,A176+1)","v":50},{"$f":"N176+3","v":"2020-12-07"},null,null,{"$f":"B186+1","v":"2020-12-08"},null,null,{"$f":"E186+1","v":"2020-12-09"},null,null,{"$f":"H186+1","v":"2020-12-10"},null,null,{"$f":"K186+1","v":"2020-12-11"}]
[null,{"$f":"B177","v":0},null,null,{"$f":"E177","v":0},null,null,{"$f":"H177","v":0},null,null,{"$f":"K177","v":0},null,null,{"$f":"N177","v":0}]
[19,0,null,null,0,null,null,0,null,null,0,null,null,0]
[null,0,null,null,0,null,null,0,null,null,0,null,null,0]
[null,0,null,null,0,null,null,0,null,null,0,null,null,0]
[null,0,null,null,0,null,null,0,null,null,{"$f":"K181","v":0},null,null,0]
[null,0,null,null,0,null,null,0,null,null,0,null,null,0]
[]
[]
[null,null,{"$f":"'1-2a'!$C$195","v":0},null,null,{"$f":"'1-2a'!$F$195","v":0},null,null,{"$f":"'1-2a'!$I$195","v":0},null,null,{"$f":"'1-2a'!$L$195","v":0},null,null,{"$f":"'1-2a'!$O$195","v":0}]
[{"$f":"IF(A186=52,1,A186+1)","v":51},{"$f":"N186+3","v":"2020-12-14"},null,null,{"$f":"B196+1","v":"2020-12-15"},null,null,{"$f":"E196+1","v":"2020-12-16"},null,null,{"$f":"H196+1","v":"2020-12-17"},null,null,{"$f":"K196+1","v":"2020-12-18"}]
[null,{"$f":"B187","v":0},null,null,{"$f":"E187","v":0},null,null,{"$f":"H187","v":0},null,null,{"$f":"K187","v":0},null,null,{"$f":"N187","v":0}]
[20,0,null,null,0,null,null,0,null,null,0,null,null,0]
[null,0,null,null,0,null,null,0,null,null,0,null,null,0]
[null,0,null,null,0,null,null,0,null,null,0,null,null,0]
[null,0,null,null,0,null,null,0,null,null,{"$f":"K191","v":0},null,null,0]
[null,0,null,null,0,null,null,0,null,null,0,null,null,0]
[]
[]
[null,null,{"$f":"'1-2a'!$C$205","v":0},null,null,{"$f":"'1-2a'!$F$205","v":0},null,null,{"$f":"'1-2a'!$I$205","v":0},null,null,{"$f":"'1-2a'!$L$205","v":0},null,null,{"$f":"'1-2a'!$O$205","v":0}]
[{"$f":"IF(A196=52,1,A196+1)","v":52},{"$f":"N196+3","v":"2020-12-21"},null,null,{"$f":"B206+1","v":"2020-12-22"},null,null,{"$f":"E206+1","v":"2020-12-23"},null,null,{"$f":"H206+1","v":"2020-12-24"},null,null,{"$f":"K206+1","v":"2020-12-25"}]
[null,{"$f":"B197","v":0},null,null,{"$f":"E197","v":0},null,null,{"$f":"H197","v":0},null,null,{"$f":"K197","v":0},null,null,{"$f":"N197","v":0}]
[21,0,null,null,0,null,null,0,null,null,0,null,null,0]
[null,0,null,null,0,null,null,0,null,null,0,null,null,0]
[null,0,null,null,0,null,null,0,null,null,0,null,null,0]
[null,0,null,null,0,null,null,0,null,null,{"$f":"K201","v":0},null,null,0]
[null,0,null,null,0,null,null,0,null,null,0,null,null,0]
[]
[]
[null,null,{"$f":"'1-2a'!$C$215","v":0},null,null,{"$f":"'1-2a'!$F$215","v":0},null,null,{"$f":"'1-2a'!$I$215","v":0},null,null,{"$f":"'1-2a'!$L$215","v":0},null,null,{"$f":"'1-2a'!$O$215","v":0}]
[{"$f":"IF(A206=52,1,A206+1)","v":1},{"$f":"N206+3","v":"2020-12-28"},null,null,{"$f":"B216+1","v":"2020-12-29"},null,null,{"$f":"E216+1","v":"2020-12-30"},null,null,{"$f":"H216+1","v":"2020-12-31"},null,null,{"$f":"K216+1","v":"2021-01-01"}]
[null,{"$f":"B207","v":0},null,null,{"$f":"E207","v":0},null,null,{"$f":"H207","v":0},null,null,{"$f":"K207","v":0},null,null,{"$f":"N207","v":0}]
[22,0,null,null,0,null,null,0,null,null,0,null,null,0]
[null,0,null,null,0,null,null,0,null,null,0,null,null,0]
[null,0,null,null,0,null,null,0,null,null,0,null,null,0]
[null,0,null,null,0,null,null,0,null,null,{"$f":"K211","v":0},null,null,0]
[null,0,null,null,0,null,null,0,null,null,0,null,null,0]
[]
[]
[null,null,{"$f":"'1-2a'!$C$225","v":0},null,null,{"$f":"'1-2a'!$F$225","v":0},null,null,{"$f":"'1-2a'!$I$225","v":0},null,null,{"$f":"'1-2a'!$L$225","v":0},null,null,{"$f":"'1-2a'!$O$225","v":0}]
[{"$f":"IF(A216=52,1,A216+1)","v":2},{"$f":"N216+3","v":"2021-01-04"},null,null,{"$f":"B226+1","v":"2021-01-05"},null,null,{"$f":"E226+1","v":"2021-01-06"},null,null,{"$f":"H226+1","v":"2021-01-07"},null,null,{"$f":"K226+1","v":"2021-01-08"}]
[null,{"$f":"B217","v":0},null,null,{"$f":"E217","v":0},null,null,{"$f":"H217","v":0},null,null,{"$f":"K217","v":0},null,null,{"$f":"N217","v":0}]
[23,0,null,null,0,null,null,0,null,null,0,null,null,0]
[null,0,null,null,0,null,null,0,null,null,0,null,null,0]
[null,0,null,null,0,null,null,0,null,null,0,null,null,0]
[null,0,null,null,0,null,null,0,null,null,{"$f":"K221","v":0},null,null,0]
[null,0,null,null,0,null,null,0,null,null,0,null,null,0]
[]
[]
[null,null,{"$f":"'1-2a'!$C$235","v":0},null,null,{"$f":"'1-2a'!$F$235","v":0},null,null,{"$f":"'1-2a'!$I$235","v":0},null,null,{"$f":"'1-2a'!$L$235","v":0},null,null,{"$f":"'1-2a'!$O$235","v":0}]
[{"$f":"IF(A226=52,1,A226+1)","v":3},{"$f":"N226+3","v":"2021-01-11"},null,null,{"$f":"B236+1","v":"2021-01-12"},null,null,{"$f":"E236+1","v":"2021-01-13"},null,null,{"$f":"H236+1","v":"2021-01-14"},null,null,{"$f":"K236+1","v":"2021-01-15"}]
[null,{"$f":"B227","v":0},null,null,{"$f":"E227","v":0},null,null,{"$f":"H227","v":0},null,null,{"$f":"K227","v":0},null,null,{"$f":"N227","v":0}]
[24,0,null,null,0,null,null,0,null,null,0,null,null,0]
[null,0,null,null,0,null,null,0,null,null,0,null,null,0]
[null,0,null,null,0,null,null,0,null,null,0,null,null,0]
[null,0,null,null,0,null,null,0,null,null,{"$f":"K231","v":0},null,null,0]
[null,0,null,null,0,null,null,0,null,null,0,null,null,0]
[]
[]
[null,null,{"$f":"'1-2a'!$C$245","v":0},null,null,{"$f":"'1-2a'!$F$245","v":0},null,null,{"$f":"'1-2a'!$I$245","v":0},null,null,{"$f":"'1-2a'!$L$245","v":0},null,null,{"$f":"'1-2a'!$O$245","v":0}]
[{"$f":"IF(A236=52,1,A236+1)","v":4},{"$f":"N236+3","v":"2021-01-18"},null,null,{"$f":"B246+1","v":"2021-01-19"},null,null,{"$f":"E246+1","v":"2021-01-20"},null,null,{"$f":"H246+1","v":"2021-01-21"},null,null,{"$f":"K246+1","v":"2021-01-22"}]
[null,{"$f":"B237","v":0},null,null,{"$f":"E237","v":0},null,null,{"$f":"H237","v":0},null,null,{"$f":"K237","v":0},null,null,{"$f":"N237","v":0}]
[25,0,null,null,0,null,null,0,null,null,0,null,null,0]
[null,0,null,null,0,null,null,0,null,null,0,null,null,0]
[null,0,null,null,0,null,null,0,null,null,0,null,null,0]
[null,0,null,null,0,null,null,0,null,null,0,null,null,0]
[null,0,null,null,0,null,null,0,null,null,0,null,null,0]
[]
[]
[null,null,{"$f":"'1-2a'!$C$255","v":0},null,null,{"$f":"'1-2a'!$F$255","v":0},null,null,{"$f":"'1-2a'!$I$255","v":0},null,null,{"$f":"'1-2a'!$L$255","v":0},null,null,{"$f":"'1-2a'!$O$255","v":0}]
[{"$f":"IF(A246=52,1,A246+1)","v":5},{"$f":"N246+3","v":"2021-01-25"},null,null,{"$f":"B256+1","v":"2021-01-26"},null,null,{"$f":"E256+1","v":"2021-01-27"},null,null,{"$f":"H256+1","v":"2021-01-28"},null,null,{"$f":"K256+1","v":"2021-01-29"}]
[null,{"$f":"B247","v":0},null,null,{"$f":"E247","v":0},null,null,{"$f":"H247","v":0},null,null,{"$f":"K247","v":0},null,null,{"$f":"N247","v":0}]
[26,0,null,null,0,null,null,0,null,null,0,null,null,0]
[null,0,null,null,0,null,null,0,null,null,0,null,null,0]
[null,0,null,null,0,null,null,0,null,null,0,null,null,0]
[null,0,null,null,0,null,null,0,null,null,{"$f":"K251","v":0},null,null,0]
[null,0,null,null,0,null,null,0,null,null,0,null,null,0]
[]
[]
[null,null,{"$f":"'1-2a'!$C$265","v":0},null,null,{"$f":"'1-2a'!$F$265","v":0},null,null,{"$f":"'1-2a'!$I$265","v":0},null,null,{"$f":"'1-2a'!$L$265","v":0},null,null,{"$f":"'1-2a'!$O$265","v":0}]
[{"$f":"IF(A256=52,1,A256+1)","v":6},{"$f":"N256+3","v":"2021-02-01"},null,null,{"$f":"B266+1","v":"2021-02-02"},null,null,{"$f":"E266+1","v":"2021-02-03"},null,null,{"$f":"H266+1","v":"2021-02-04"},null,null,{"$f":"K266+1","v":"2021-02-05"}]
[null,{"$f":"B257","v":0},null,null,{"$f":"E257","v":0},null,null,{"$f":"H257","v":0},null,null,{"$f":"K257","v":0},null,null,{"$f":"N257","v":0}]
[27,0,null,null,0,null,null,0,null,null,0,null,null,0]
[null,0,null,null,0,null,null,0,null,null,0,null,null,0]
[null,0,null,null,0,null,null,0,null,null,0,null,null,0]
[null,0,null,null,0,null,null,0,null,null,{"$f":"K261","v":0},null,null,0]
[null,0,null,null,0,null,null,0,null,null,0,null,null,0]
[]
[]
[null,null,{"$f":"'1-2a'!$C$275","v":0},null,null,{"$f":"'1-2a'!$F$275","v":0},null,null,{"$f":"'1-2a'!$I$275","v":0},null,null,{"$f":"'1-2a'!$L$275","v":0},null,null,{"$f":"'1-2a'!$O$275","v":0}]
[{"$f":"IF(A266=52,1,A266+1)","v":7},{"$f":"N266+3","v":"2021-02-08"},null,null,{"$f":"B276+1","v":"2021-02-09"},null,null,{"$f":"E276+1","v":"2021-02-10"},null,null,{"$f":"H276+1","v":"2021-02-11"},null,null,{"$f":"K276+1","v":"2021-02-12"}]
[null,{"$f":"B267","v":0},null,null,{"$f":"E267","v":0},null,null,{"$f":"H267","v":0},null,null,{"$f":"K267","v":0},null,null,{"$f":"N267","v":0}]
[28,0,null,null,0,null,null,0,null,null,0,null,null,0]
[null,0,null,null,0,null,null,0,null,null,0,null,null,0]
[null,0,null,null,0,null,null,0,null,null,0,null,null,0]
[null,0,null,null,0,null,null,0,null,null,{"$f":"K271","v":0},null,null,0]
[null,0,null,null,0,null,null,0,null,null,0,null,null,0]
[]
[]
[null,null,{"$f":"'1-2a'!$C$285","v":0},null,null,{"$f":"'1-2a'!$F$285","v":0},null,null,{"$f":"'1-2a'!$I$285","v":0},null,null,{"$f":"'1-2a'!$L$285","v":0},null,null,{"$f":"'1-2a'!$O$285","v":0}]
[{"$f":"IF(A276=52,1,A276+1)","v":8},{"$f":"N276+3","v":"2021-02-15"},null,null,{"$f":"B286+1","v":"2021-02-16"},null,null,{"$f":"E286+1","v":"2021-02-17"},null,null,{"$f":"H286+1","v":"2021-02-18"},null,null,{"$f":"K286+1","v":"2021-02-19"}]
[null,{"$f":"B277","v":0},null,null,{"$f":"E277","v":0},null,null,{"$f":"H277","v":0},null,null,{"$f":"K277","v":0},null,null,{"$f":"N277","v":0}]
[29,0,null,null,0,null,null,0,null,null,0,null,null,0]
[null,0,null,null,0,null,null,0,null,null,0,null,null,0]
[null,0,null,null,0,null,null,0,null,null,0,null,null,0]
[null,0,null,null,0,null,null,0,null,null,{"$f":"K281","v":0},null,null,0]
[null,0,null,null,0,null,null,0,null,null,0,null,null,0]
[]
[]
[null,null,{"$f":"'1-2a'!$C$295","v":0},null,null,{"$f":"'1-2a'!$F$295","v":0},null,null,{"$f":"'1-2a'!$I$295","v":0},null,null,{"$f":"'1-2a'!$L$295","v":0},null,null,{"$f":"'1-2a'!$O$295","v":0}]
[{"$f":"IF(A286=52,1,A286+1)","v":9},{"$f":"N286+3","v":"2021-02-22"},null,null,{"$f":"B296+1","v":"2021-02-23"},null,null,{"$f":"E296+1","v":"2021-02-24"},null,null,{"$f":"H296+1","v":"2021-02-25"},null,null,{"$f":"K296+1","v":"2021-02-26"}]
[null,{"$f":"B287","v":0},null,null,{"$f":"E287","v":0},null,null,{"$f":"H287","v":0},null,null,{"$f":"K287","v":0},null,null,{"$f":"N287","v":0}]
[30,0,null,null,0,null,null,0,null,null,0,null,null,0]
[null,0,null,null,0,null,null,0,null,null,0,null,null,0]
[null,0,null,null,0,null,null,0,null,null,0,null,null,0]
[null,0,null,null,0,null,null,0,null,null,{"$f":"K291","v":0},null,null,0]
[null,0,null,null,0,null,null,0,null,null,0,null,null,0]
[]
[]
[null,null,{"$f":"'1-2a'!$C$305","v":0},null,null,{"$f":"'1-2a'!$F$305","v":0},null,null,{"$f":"'1-2a'!$I$305","v":0},null,null,{"$f":"'1-2a'!$L$305","v":0},null,null,{"$f":"'1-2a'!$O$305","v":0}]
[{"$f":"IF(A296=52,1,A296+1)","v":10},{"$f":"N296+3","v":"2021-03-01"},null,null,{"$f":"B306+1","v":"2021-03-02"},null,null,{"$f":"E306+1","v":"2021-03-03"},null,null,{"$f":"H306+1","v":"2021-03-04"},null,null,{"$f":"K306+1","v":"2021-03-05"}]
[null,{"$f":"B297","v":0},null,null,{"$f":"E297","v":0},null,null,{"$f":"H297","v":0},null,null,{"$f":"K297","v":0},null,null,{"$f":"N297","v":0}]
[31,0,null,null,0,null,null,0,null,null,0,null,null,0]
[null,0,null,null,0,null,null,0,null,null,0,null,null,0]
[null,0,null,null,0,null,null,0,null,null,0,null,null,0]
[null,0,null,null,0,null,null,0,null,null,{"$f":"K301","v":0},null,null,0]
[null,0,null,null,0,null,null,0,null,null,0,null,null,0]
[]
[]
[null,null,{"$f":"'1-2a'!$C$315","v":0},null,null,{"$f":"'1-2a'!$F$315","v":0},null,null,{"$f":"'1-2a'!$I$315","v":0},null,null,{"$f":"'1-2a'!$L$315","v":0},null,null,{"$f":"'1-2a'!$O$315","v":0}]
[{"$f":"IF(A306=52,1,A306+1)","v":11},{"$f":"N306+3","v":"2021-03-08"},null,null,{"$f":"B316+1","v":"2021-03-09"},null,null,{"$f":"E316+1","v":"2021-03-10"},null,null,{"$f":"H316+1","v":"2021-03-11"},null,null,{"$f":"K316+1","v":"2021-03-12"}]
[null,{"$f":"B307","v":0},null,null,{"$f":"E307","v":0},null,null,{"$f":"H307","v":0},null,null,{"$f":"K307","v":0},null,null,{"$f":"N307","v":0}]
[32,0,null,null,0,null,null,0,null,null,0,null,null,0]
[null,0,null,null,0,null,null,0,null,null,0,null,null,0]
[null,0,null,null,0,null,null,0,null,null,0,null,null,0]
[null,0,null,null,0,null,null,0,null,null,{"$f":"K311","v":0},null,null,0]
[null,0,null,null,0,null,null,0,null,null,0,null,null,0]
[]
[]
[null,null,{"$f":"'1-2a'!$C$325","v":0},null,null,{"$f":"'1-2a'!$F$325","v":0},null,null,{"$f":"'1-2a'!$I$325","v":0},null,null,{"$f":"'1-2a'!$L$325","v":0},null,null,{"$f":"'1-2a'!$O$325","v":0}]
[{"$f":"IF(A316=52,1,A316+1)","v":12},{"$f":"N316+3","v":"2021-03-15"},null,null,{"$f":"B326+1","v":"2021-03-16"},null,null,{"$f":"E326+1","v":"2021-03-17"},null,null,{"$f":"H326+1","v":"2021-03-18"},null,null,{"$f":"K326+1","v":"2021-03-19"}]
[null,{"$f":"B317","v":0},null,null,{"$f":"E317","v":0},null,null,{"$f":"H317","v":0},null,null,{"$f":"K317","v":0},null,null,{"$f":"N317","v":0}]
[33,0,null,null,0,null,null,0,null,null,0,null,null,0]
[null,0,null,null,0,null,null,0,null,null,0,null,null,0]
[null,0,null,null,0,null,null,0,null,null,0,null,null,0]
[null,0,null,null,0,null,null,0,null,null,0,null,null,0]
[null,0,null,null,0,null,null,0,null,null,0,null,null,0]
[]
[]
[null,null,{"$f":"'1-2a'!$C$335","v":0},null,null,{"$f":"'1-2a'!$F$335","v":0},null,null,{"$f":"'1-2a'!$I$335","v":0},null,null,{"$f":"'1-2a'!$L$335","v":0},null,null,{"$f":"'1-2a'!$O$335","v":0}]
[{"$f":"IF(A326=52,1,A326+1)","v":13},{"$f":"N326+3","v":"2021-03-22"},null,null,{"$f":"B336+1","v":"2021-03-23"},null,null,{"$f":"E336+1","v":"2021-03-24"},null,null,{"$f":"H336+1","v":"2021-03-25"},null,null,{"$f":"K336+1","v":"2021-03-26"}]
[null,{"$f":"B327","v":0},null,null,{"$f":"E327","v":0},null,null,{"$f":"H327","v":0},null,null,{"$f":"K327","v":0},null,null,{"$f":"N327","v":0}]
[34,0,null,null,0,null,null,0,null,null,0,null,null,0]
[null,0,null,null,0,null,null,0,null,null,0,null,null,0]
[null,0,null,null,0,null,null,0,null,null,0,null,null,0]
[null,0,null,null,0,null,null,0,null,null,{"$f":"K331","v":0},null,null,0]
[null,0,null,null,0,null,null,0,null,null,0,null,null,0]
[]
[]
[null,null,{"$f":"'1-2a'!$C$345","v":0},null,null,{"$f":"'1-2a'!$F$345","v":0},null,null,{"$f":"'1-2a'!$I$345","v":0},null,null,{"$f":"'1-2a'!$L$345","v":0},null,null,{"$f":"'1-2a'!$O$345","v":0}]
[{"$f":"IF(A336=52,1,A336+1)","v":14},{"$f":"N336+3","v":"2021-03-29"},null,null,{"$f":"B346+1","v":"2021-03-30"},null,null,{"$f":"E346+1","v":"2021-03-31"},null,null,{"$f":"H346+1","v":"2021-04-01"},null,null,{"$f":"K346+1","v":"2021-04-02"}]
[null,{"$f":"B337","v":0},null,null,{"$f":"E337","v":0},null,null,{"$f":"H337","v":0},null,null,{"$f":"K337","v":0},null,null,{"$f":"N337","v":0}]
[35,0,null,null,0,null,null,0,null,null,0,null,null,0]
[null,0,null,null,0,null,null,0,null,null,0,null,null,0]
[null,0,null,null,0,null,null,0,null,null,0,null,null,0]
[null,0,null,null,0,null,null,0,null,null,{"$f":"K341","v":0},null,null,0]
[null,0,null,null,0,null,null,0,null,null,0,null,null,0]
[]
[]
[null,null,{"$f":"'1-2a'!$C$355","v":0},null,null,{"$f":"'1-2a'!$F$355","v":0},null,null,{"$f":"'1-2a'!$I$355","v":0},null,null,{"$f":"'1-2a'!$L$355","v":0},null,null,{"$f":"'1-2a'!$O$355","v":0}]
[{"$f":"IF(A346=52,1,A346+1)","v":15},{"$f":"N346+3","v":"2021-04-05"},null,null,{"$f":"B356+1","v":"2021-04-06"},null,null,{"$f":"E356+1","v":"2021-04-07"},null,null,{"$f":"H356+1","v":"2021-04-08"},null,null,{"$f":"K356+1","v":"2021-04-09"}]
[null,{"$f":"B347","v":0},null,null,{"$f":"E347","v":0},null,null,{"$f":"H347","v":0},null,null,{"$f":"K347","v":0},null,null,{"$f":"N347","v":0}]
[36,0,null,null,0,null,null,0,null,null,0,null,null,0]
[null,0,null,null,0,null,null,0,null,null,0,null,null,0]
[null,0,null,null,0,null,null,0,null,null,0,null,null,0]
[null,0,null,null,0,null,null,0,null,null,{"$f":"K351","v":0},null,null,0]
[null,0,null,null,0,null,null,0,null,null,0,null,null,0]
[]
[]
[null,null,{"$f":"'1-2a'!$C$365","v":0},null,null,{"$f":"'1-2a'!$F$365","v":0},null,null,{"$f":"'1-2a'!$I$365","v":0},null,null,{"$f":"'1-2a'!$L$365","v":0},null,null,{"$f":"'1-2a'!$O$365","v":0}]
[{"$f":"IF(A356=52,1,A356+1)","v":16},{"$f":"N356+3","v":"2021-04-12"},null,null,{"$f":"B366+1","v":"2021-04-13"},null,null,{"$f":"E366+1","v":"2021-04-14"},null,null,{"$f":"H366+1","v":"2021-04-15"},null,null,{"$f":"K366+1","v":"2021-04-16"}]
[null,{"$f":"B357","v":0},null,null,{"$f":"E357","v":0},null,null,{"$f":"H357","v":0},null,null,{"$f":"K357","v":0},null,null,{"$f":"N357","v":0}]
[37,0,null,null,0,null,null,0,null,null,0,null,null,0]
[null,0,null,null,0,null,null,0,null,null,0,null,null,0]
[null,0,null,null,0,null,null,0,null,null,0,null,null,0]
[null,0,null,null,0,null,null,0,null,null,{"$f":"K361","v":0},null,null,0]
[null,0,null,null,0,null,null,0,null,null,0,null,null,0]
[]
[]
[null,null,{"$f":"'1-2a'!$C$375","v":0},null,null,{"$f":"'1-2a'!$F$375","v":0},null,null,{"$f":"'1-2a'!$I$375","v":0},null,null,{"$f":"'1-2a'!$L$375","v":0},null,null,{"$f":"'1-2a'!$O$375","v":0}]
[{"$f":"IF(A366=52,1,A366+1)","v":17},{"$f":"N366+3","v":"2021-04-19"},null,null,{"$f":"B376+1","v":"2021-04-20"},null,null,{"$f":"E376+1","v":"2021-04-21"},null,null,{"$f":"H376+1","v":"2021-04-22"},null,null,{"$f":"K376+1","v":"2021-04-23"}]
[null,{"$f":"B367","v":0},null,null,{"$f":"E367","v":0},null,null,{"$f":"H367","v":0},null,null,{"$f":"K367","v":0},null,null,{"$f":"N367","v":0}]
[38,0,null,null,0,null,null,0,null,null,0,null,null,0]
[null,0,null,null,0,null,null,0,null,null,0,null,null,0]
[null,0,null,null,0,null,null,0,null,null,0,null,null,0]
[null,0,null,null,0,null,null,0,null,null,{"$f":"K371","v":0},null,null,0]
[null,0,null,null,0,null,null,0,null,null,0,null,null,0]
[]
[]
[null,null,{"$f":"'1-2a'!$C$385","v":0},null,null,{"$f":"'1-2a'!$F$385","v":0},null,null,{"$f":"'1-2a'!$I$385","v":0},null,null,{"$f":"'1-2a'!$L$385","v":0},null,null,{"$f":"'1-2a'!$O$385","v":0}]
[{"$f":"IF(A376=52,1,A376+1)","v":18},{"$f":"N376+3","v":"2021-04-26"},null,null,{"$f":"B386+1","v":"2021-04-27"},null,null,{"$f":"E386+1","v":"2021-04-28"},null,null,{"$f":"H386+1","v":"2021-04-29"},null,null,{"$f":"K386+1","v":"2021-04-30"}]
[null,{"$f":"B377","v":0},null,null,{"$f":"E377","v":0},null,null,{"$f":"H377","v":0},null,null,{"$f":"K377","v":0},null,null,{"$f":"N377","v":0}]
[39,0,null,null,0,null,null,0,null,null,0,null,null,0]
[null,0,null,null,0,null,null,0,null,null,0,null,null,0]
[null,0,null,null,0,null,null,0,null,null,0,null,null,0]
[null,0,null,null,0,null,null,0,null,null,{"$f":"K381","v":0},null,null,0]
[null,0,null,null,0,null,null,0,null,null,0,null,null,0]
[]
[]
[null,null,{"$f":"'1-2a'!$C$395","v":0},null,null,{"$f":"'1-2a'!$F$395","v":0},null,null,{"$f":"'1-2a'!$I$395","v":0},null,null,{"$f":"'1-2a'!$L$395","v":0},null,null,{"$f":"'1-2a'!$O$395","v":0}]
[{"$f":"IF(A386=52,1,A386+1)","v":19},{"$f":"N386+3","v":"2021-05-03"},null,null,{"$f":"B396+1","v":"2021-05-04"},null,null,{"$f":"E396+1","v":"2021-05-05"},null,null,{"$f":"H396+1","v":"2021-05-06"},null,null,{"$f":"K396+1","v":"2021-05-07"}]
[null,{"$f":"B387","v":0},null,null,{"$f":"E387","v":0},null,null,{"$f":"H387","v":0},null,null,{"$f":"K387","v":0},null,null,{"$f":"N387","v":0}]
[40,0,null,null,0,null,null,0,null,null,0,null,null,0]
[null,0,null,null,0,null,null,0,null,null,0,null,null,0]
[null,0,null,null,0,null,null,0,null,null,0,null,null,0]
[null,0,null,null,0,null,null,0,null,null,{"$f":"K391","v":0},null,null,0]
[null,0,null,null,0,null,null,0,null,null,0,null,null,0]
[]
[]
[null,null,{"$f":"'1-2a'!$C$405","v":0},null,null,{"$f":"'1-2a'!$F$405","v":0},null,null,{"$f":"'1-2a'!$I$405","v":0},null,null,{"$f":"'1-2a'!$L$405","v":0},null,null,{"$f":"'1-2a'!$O$405","v":0}]
[{"$f":"IF(A396=52,1,A396+1)","v":20},{"$f":"N396+3","v":"2021-05-10"},null,null,{"$f":"B406+1","v":"2021-05-11"},null,null,{"$f":"E406+1","v":"2021-05-12"},null,null,{"$f":"H406+1","v":"2021-05-13"},null,null,{"$f":"K406+1","v":"2021-05-14"}]
[null,{"$f":"B397","v":0},null,null,{"$f":"E397","v":0},null,null,{"$f":"H397","v":0},null,null,{"$f":"K397","v":0},null,null,{"$f":"N397","v":0}]
[41,0,null,null,0,null,null,0,null,null,0,null,null,0]
[null,0,null,null,0,null,null,0,null,null,0,null,null,0]
[null,0,null,null,0,null,null,0,null,null,0,null,null,0]
[null,0,null,null,0,null,null,0,null,null,0,null,null,0]
[null,0,null,null,0,null,null,0,null,null,0,null,null,0]
[]
[]
[null,null,{"$f":"'1-2a'!$C$415","v":0},null,null,{"$f":"'1-2a'!$F$415","v":0},null,null,{"$f":"'1-2a'!$I$415","v":0},null,null,{"$f":"'1-2a'!$L$415","v":0},null,null,{"$f":"'1-2a'!$O$415","v":0}]
[{"$f":"IF(A406=52,1,A406+1)","v":21},{"$f":"N406+3","v":"2021-05-17"},null,null,{"$f":"B416+1","v":"2021-05-18"},null,null,{"$f":"E416+1","v":"2021-05-19"},null,null,{"$f":"H416+1","v":"2021-05-20"},null,null,{"$f":"K416+1","v":"2021-05-21"}]
[null,{"$f":"B407","v":0},null,null,{"$f":"E407","v":0},null,null,{"$f":"H407","v":0},null,null,{"$f":"K407","v":0},null,null,{"$f":"N407","v":0}]
[42,0,null,null,0,null,null,0,null,null,0,null,null,0]
[null,0,null,null,0,null,null,0,null,null,0,null,null,0]
[null,0,null,null,0,null,null,0,null,null,0,null,null,0]
[null,0,null,null,0,null,null,0,null,null,{"$f":"K411","v":0},null,null,0]
[null,0,null,null,0,null,null,0,null,null,0,null,null,0]
[]
[]
[null,null,{"$f":"'1-2a'!$C$425","v":0},null,null,{"$f":"'1-2a'!$F$425","v":0},null,null,{"$f":"'1-2a'!$I$425","v":0},null,null,{"$f":"'1-2a'!$L$425","v":0},null,null,{"$f":"'1-2a'!$O$425","v":0}]
[{"$f":"IF(A416=52,1,A416+1)","v":22},{"$f":"N416+3","v":"2021-05-24"},null,null,{"$f":"B426+1","v":"2021-05-25"},null,null,{"$f":"E426+1","v":"2021-05-26"},null,null,{"$f":"H426+1","v":"2021-05-27"},null,null,{"$f":"K426+1","v":"2021-05-28"}]
[null,{"$f":"B417","v":0},null,null,{"$f":"E417","v":0},null,null,{"$f":"H417","v":0},null,null,{"$f":"K417","v":0},null,null,{"$f":"N417","v":0}]
[43,0,null,null,0,null,null,0,null,null,0,null,null,0]
[null,0,null,null,0,null,null,0,null,null,0,null,null,0]
[null,0,null,null,0,null,null,0,null,null,0,null,null,0]
[null,0,null,null,0,null,null,0,null,null,{"$f":"K421","v":0},null,null,0]
[null,0,null,null,0,null,null,0,null,null,0,null,null,0]
[]
[]
[null,null,{"$f":"'1-2a'!$C$435","v":0},null,null,{"$f":"'1-2a'!$F$435","v":0},null,null,{"$f":"'1-2a'!$I$435","v":0},null,null,{"$f":"'1-2a'!$L$435","v":0},null,null,{"$f":"'1-2a'!$O$435","v":0}]
[{"$f":"IF(A426=52,1,A426+1)","v":23},{"$f":"N426+3","v":"2021-05-31"},null,null,{"$f":"B436+1","v":"2021-06-01"},null,null,{"$f":"E436+1","v":"2021-06-02"},null,null,{"$f":"H436+1","v":"2021-06-03"},null,null,{"$f":"K436+1","v":"2021-06-04"}]
[null,{"$f":"B427","v":0},null,null,{"$f":"E427","v":0},null,null,{"$f":"H427","v":0},null,null,{"$f":"K427","v":0},null,null,{"$f":"N427","v":0}]
[44,0,null,null,0,null,null,0,null,null,0,null,null,0]
[null,0,null,null,0,null,null,0,null,null,0,null,null,0]
[null,0,null,null,0,null,null,0,null,null,0,null,null,0]
[null,0,null,null,0,null,null,0,null,null,{"$f":"K431","v":0},null,null,0]
[null,0,null,null,0,null,null,0,null,null,0,null,null,0]
[]
[]
[null,null,{"$f":"'1-2a'!$C$445","v":0},null,null,{"$f":"'1-2a'!$F$445","v":0},null,null,{"$f":"'1-2a'!$I$445","v":0},null,null,{"$f":"'1-2a'!$L$445","v":0},null,null,{"$f":"'1-2a'!$O$445","v":0}]
[{"$f":"IF(A436=52,1,A436+1)","v":24},{"$f":"N436+3","v":"2021-06-07"},null,null,{"$f":"B446+1","v":"2021-06-08"},null,null,{"$f":"E446+1","v":"2021-06-09"},null,null,{"$f":"H446+1","v":"2021-06-10"},null,null,{"$f":"K446+1","v":"2021-06-11"}]
[null,{"$f":"B437","v":0},null,null,{"$f":"E437","v":0},null,null,{"$f":"H437","v":0},null,null,{"$f":"K437","v":0},null,null,{"$f":"N437","v":0}]
[45,0,null,null,0,null,null,0,null,null,0,null,null,0]
[null,0,null,null,0,null,null,0,null,null,0,null,null,0]
[null,0,null,null,0,null,null,0,null,null,0,null,null,0]
[null,0,null,null,0,null,null,0,null,null,{"$f":"K441","v":0},null,null,0]
[null,0,null,null,0,null,null,0,null,null,0,null,null,0]
[]
[]
[null,null,{"$f":"'1-2a'!$C$455","v":0},null,null,{"$f":"'1-2a'!$F$455","v":0},null,null,{"$f":"'1-2a'!$I$455","v":0},null,null,{"$f":"'1-2a'!$L$455","v":0},null,null,{"$f":"'1-2a'!$O$455","v":0}]
[{"$f":"IF(A446=52,1,A446+1)","v":25},{"$f":"N446+3","v":"2021-06-14"},null,null,{"$f":"B456+1","v":"2021-06-15"},null,null,{"$f":"E456+1","v":"2021-06-16"},null,null,{"$f":"H456+1","v":"2021-06-17"},null,null,{"$f":"K456+1","v":"2021-06-18"}]
[null,{"$f":"B447","v":0},null,null,{"$f":"E447","v":0},null,null,{"$f":"H447","v":0},null,null,{"$f":"K447","v":0},null,null,{"$f":"N447","v":0}]
[46,0,null,null,0,null,null,0,null,null,0,null,null,0]
[null,0,null,null,0,null,null,0,null,null,0,null,null,0]
[null,0,null,null,0,null,null,0,null,null,0,null,null,0]
[null,0,null,null,0,null,null,0,null,null,{"$f":"K451","v":0},null,null,0]
[null,0,null,null,0,null,null,0,null,null,0,null,null,0]
[]
[]
[null,null,{"$f":"'1-2a'!$C$465","v":0},null,null,{"$f":"'1-2a'!$F$465","v":0},null,null,{"$f":"'1-2a'!$I$465","v":0},null,null,{"$f":"'1-2a'!$L$465","v":0},null,null,{"$f":"'1-2a'!$O$465","v":0}]
[{"$f":"IF(A456=52,1,A456+1)","v":26},{"$f":"N456+3","v":"2021-06-21"},null,null,{"$f":"B466+1","v":"2021-06-22"},null,null,{"$f":"E466+1","v":"2021-06-23"},null,null,{"$f":"H466+1","v":"2021-06-24"},null,null,{"$f":"K466+1","v":"2021-06-25"}]
[null,{"$f":"B457","v":0},null,null,{"$f":"E457","v":0},null,null,{"$f":"H457","v":0},null,null,{"$f":"K457","v":0},null,null,{"$f":"N457","v":0}]
[47,0,null,null,0,null,null,0,null,null,0,null,null,0]
[null,0,null,null,0,null,null,0,null,null,0,null,null,0]
[null,0,null,null,0,null,null,0,null,null,0,null,null,0]
[null,0,null,null,0,null,null,0,null,null,{"$f":"K461","v":0},null,null,0]
[null,0,null,null,0,null,null,0,null,null,0,null,null,0]
[]
[]
[null,null,{"$f":"'1-2a'!$C$475","v":0},null,null,{"$f":"'1-2a'!$F$475","v":0},null,null,{"$f":"'1-2a'!$I$475","v":0},null,null,{"$f":"'1-2a'!$L$475","v":0},null,null,{"$f":"'1-2a'!$O$475","v":0}]
[{"$f":"IF(A466=52,1,A466+1)","v":27},{"$f":"N466+3","v":"2021-06-28"},null,null,{"$f":"B476+1","v":"2021-06-29"},null,null,{"$f":"E476+1","v":"2021-06-30"},null,null,{"$f":"H476+1","v":"2021-07-01"},null,null,{"$f":"K476+1","v":"2021-07-02"}]
[null,{"$f":"B467","v":0},null,null,{"$f":"E467","v":0},null,null,{"$f":"H467","v":0},null,null,{"$f":"K467","v":0},null,null,{"$f":"N467","v":0}]
[48,0,null,null,0,null,null,0,null,null,0,null,null,0]
[null,0,null,null,0,null,null,0,null,null,0,null,null,0]
[null,0,null,null,0,null,null,0,null,null,0,null,null,0]
[null,0,null,null,0,null,null,0,null,null,{"$f":"K471","v":0},null,null,0]
[null,0,null,null,0,null,null,0,null,null,0,null,null,0]
[]
[]
[null,null,{"$f":"'1-2a'!$C$485","v":0},null,null,{"$f":"'1-2a'!$F$485","v":0},null,null,{"$f":"'1-2a'!$I$485","v":0},null,null,{"$f":"'1-2a'!$L$485","v":0},null,null,{"$f":"'1-2a'!$O$485","v":0}]
[{"$f":"IF(A476=52,1,A476+1)","v":28},{"$f":"N476+3","v":"2021-07-05"},null,null,{"$f":"B486+1","v":"2021-07-06"},null,null,{"$f":"E486+1","v":"2021-07-07"},null,null,{"$f":"H486+1","v":"2021-07-08"},null,null,{"$f":"K486+1","v":"2021-07-09"}]
[null,{"$f":"B477","v":0},null,null,{"$f":"E477","v":0},null,null,{"$f":"H477","v":0},null,null,{"$f":"K477","v":0},null,null,{"$f":"N477","v":0}]
[49,0,null,null,0,null,null,0,null,null,0,null,null,0]
[null,0,null,null,0,null,null,0,null,null,0,null,null,0]
[null,0,null,null,0,null,null,0,null,null,0,null,null,0]
[null,0,null,null,0,null,null,0,null,null,0,null,null,0]
[null,0,null,null,0,null,null,0,null,null,0,null,null,0]
[]
[]
[null,null,{"$f":"'1-2a'!$C$495","v":0},null,null,{"$f":"'1-2a'!$F$495","v":0},null,null,{"$f":"'1-2a'!$I$495","v":0},null,null,{"$f":"'1-2a'!$L$495","v":0},null,null,{"$f":"'1-2a'!$O$495","v":0}]
[{"$f":"IF(A486=52,1,A486+1)","v":29},{"$f":"N486+3","v":"2021-07-12"},null,null,{"$f":"B496+1","v":"2021-07-13"},null,null,{"$f":"E496+1","v":"2021-07-14"},null,null,{"$f":"H496+1","v":"2021-07-15"},null,null,{"$f":"K496+1","v":"2021-07-16"}]
[null,{"$f":"B487","v":0},null,null,{"$f":"E487","v":0},null,null,{"$f":"H487","v":0},null,null,{"$f":"K487","v":0},null,null,{"$f":"N487","v":0}]
[50,0,null,null,0,null,null,0,null,null,0]
[null,0,null,null,0,null,null,0,null,null,0,null,null,0]
[null,0,null,null,0,null,null,0,null,null,0,null,null,0]
[null,0,null,null,0,null,null,0,null,null,{"$f":"K491","v":0},null,null,0]
[null,0,null,null,0,null,null,0,null,null,0]

{"sheet":"12","index":12,"n_rows":502,"n_cols":15,"rows_kept":502,"cut":false,"hidden":false,"merged":[[5,1,5,3],[5,4,5,6],[5,7,5,9],[5,10,5,12],[5,13,5,15],[7,0,8,0],[1,1,2,7],[1,9,2,12],[1,13,2,15],[3,1,3,3],[3,4,3,6],[3,7,3,9],[3,10,3,12],[3,13,3,15],[12,1,13,3],[12,4,13,6],[12,7,13,9],[12,10,13,12],[12,13,13,15],[15,1,15,3],[15,4,15,6],[15,7,15,9],[15,10,15,12],[15,13,15,15],[25,1,25,3],[25,4,25,6],[25,7,25,9],[25,10,25,12],[25,13,25,15],[27,0,28,0],[17,0,18,0],[22,1,23,3],[22,4,23,6],[22,7,23,9],[22,10,23,12],[22,13,23,15],[32,1,33,3],[32,4,33,6],[32,7,33,9],[32,10,33,12],[32,13,33,15],[35,1,35,3],[35,4,35,6],[35,7,35,9],[35,10,35,12],[35,13,35,15],[45,1,45,3],[45,4,45,6],[45,7,45,9],[45,10,45,12],[45,13,45,15],[47,0,48,0],[37,0,38,0],[42,1,43,3],[42,4,43,6],[42,7,43,9],[42,10,43,12],[42,13,43,15],[52,1,53,3],[52,4,53,6],[52,7,53,9],[52,10,53,12],[52,13,53,15],[55,1,55,3],[55,4,55,6],[55,7,55,9],[55,10,55,12],[55,13,55,15],[65,1,65,3],[65,4,65,6],[65,7,65,9],[65,10,65,12],[65,13,65,15],[67,0,68,0],[57,0,58,0],[62,1,63,3],[62,4,63,6],[62,7,63,9],[62,10,63,12],[62,13,63,15],[72,1,73,3],[72,4,73,6],[72,7,73,9],[72,10,73,12],[72,13,73,15],[75,1,75,3],[75,4,75,6],[75,7,75,9],[75,10,75,12],[75,13,75,15],[85,1,85,3],[85,4,85,6],[85,7,85,9],[85,10,85,12],[85,13,85,15],[87,0,88,0],[77,0,78,0],[82,1,83,3],[82,4,83,6],[82,7,83,9],[82,10,83,12],[82,13,83,15],[92,1,93,3],[92,4,93,6],[92,7,93,9],[92,10,93,12],[92,13,93,15],[95,1,95,3],[95,4,95,6],[95,7,95,9],[95,10,95,12],[95,13,95,15],[105,1,105,3],[105,4,105,6],[105,7,105,9],[105,10,105,12],[105,13,105,15],[107,0,108,0],[97,0,98,0],[99,16,100,19],[102,1,103,3],[102,4,103,6],[102,7,103,9],[102,10,103,12],[102,13,103,15],[112,1,113,3],[112,4,113,6],[112,7,113,9],[112,10,113,12],[112,13,113,15],[115,1,115,3],[115,4,115,6],[115,7,115,9],[115,10,115,12],[115,13,115,15],[125,1,125,3],[125,4,125,6],[125,7,125,9],[125,10,125,12],[125,13,125,15],[127,0,128,0],[117,0,118,0],[122,1,123,3],[122,4,123,6],[122,7,123,9],[122,10,123,12],[122,13,123,15],[132,1,133,3],[132,4,133,6],[132,7,133,9],[132,10,133,12],[132,13,133,15],[135,1,135,3],[135,4,135,6],[135,7,135,9],[135,10,135,12],[135,13,135,15],[145,1,145,3],[145,4,145,6],[145,7,145,9],[145,10,145,12],[145,13,145,15],[147,0,148,0],[137,0,138,0],[142,1,143,3],[142,4,143,6],[142,7,143,9],[142,10,143,12],[142,13,143,15],[152,1,153,3],[152,4,153,6],[152,7,153,9],[152,10,153,12],[152,13,153,15],[155,1,155,3],[155,4,155,6],[155,7,155,9],[155,10,155,12],[155,13,155,15],[165,1,165,3],[165,4,165,6],[165,7,165,9],[165,10,165,12],[165,13,165,15],[167,0,168,0],[157,0,158,0],[162,1,163,3],[162,4,163,6],[162,7,163,9],[162,10,163,12],[162,13,163,15],[172,1,173,3],[172,4,173,6],[172,7,173,9],[172,10,173,12],[172,13,173,15],[175,1,175,3],[175,4,175,6],[175,7,175,9],[175,10,175,12],[175,13,175,15],[185,1,185,3],[185,4,185,6],[185,7,185,9],[185,10,185,12],[185,13,185,15],[187,0,188,0],[177,0,178,0],[179,16,180,19],[182,1,183,3],[182,4,183,6],[182,7,183,9],[182,10,183,12],[182,13,183,15],[192,1,193,3],[192,4,193,6],[192,7,193,9],[192,10,193,12],[192,13,193,15],[195,1,195,3],[195,4,195,6],[195,7,195,9],[195,10,195,12],[195,13,195,15],[205,1,205,3],[205,4,205,6],[205,7,205,9],[205,10,205,12],[205,13,205,15],[207,0,208,0],[197,0,198,0],[202,1,203,3],[202,4,203,6],[202,7,203,9],[202,10,203,12],[202,13,203,15],[212,1,213,3],[212,4,213,6],[212,7,213,9],[212,10,213,12],[212,13,213,15],[215,1,215,3],[215,4,215,6],[215,7,215,9],[215,10,215,12],[215,13,215,15],[225,1,225,3],[225,4,225,6],[225,7,225,9],[225,10,225,12],[225,13,225,15],[227,0,228,0],[217,0,218,0],[222,1,223,3],[222,4,223,6],[222,7,223,9],[222,10,223,12],[222,13,223,15],[232,1,233,3],[232,4,233,6],[232,7,233,9],[232,10,233,12],[232,13,233,15],[235,1,235,3],[235,4,235,6],[235,7,235,9],[235,10,235,12],[235,13,235,15],[245,1,245,3],[245,4,245,6],[245,7,245,9],[245,10,245,12],[245,13,245,15],[247,0,248,0],[237,0,238,0],[242,1,243,3],[242,4,243,6],[242,7,243,9],[242,10,243,12],[242,13,243,15],[252,1,253,3],[252,4,253,6],[252,7,253,9],[252,10,253,12],[252,13,253,15],[255,1,255,3],[255,4,255,6],[255,7,255,9],[255,10,255,12],[255,13,255,15],[265,1,265,3],[265,4,265,6],[265,7,265,9],[265,10,265,12],[265,13,265,15],[267,0,268,0],[257,0,258,0],[259,16,260,19],[262,1,263,3],[262,4,263,6],[262,7,263,9],[262,10,263,12],[262,13,263,15],[272,1,273,3],[272,4,273,6],[272,7,273,9],[272,10,273,12],[272,13,273,15],[275,1,275,3],[275,4,275,6],[275,7,275,9],[275,10,275,12],[275,13,275,15],[285,1,285,3],[285,4,285,6],[285,7,285,9],[285,10,285,12],[285,13,285,15],[287,0,288,0],[277,0,278,0],[282,1,283,3],[282,4,283,6],[282,7,283,9],[282,10,283,12],[282,13,283,15],[292,1,293,3],[292,4,293,6],[292,7,293,9],[292,10,293,12],[292,13,293,15],[295,1,295,3],[295,4,295,6],[295,7,295,9],[295,10,295,12],[295,13,295,15],[305,1,305,3],[305,4,305,6],[305,7,305,9],[305,10,305,12],[305,13,305,15],[307,0,308,0],[297,0,298,0],[302,1,303,3],[302,4,303,6],[302,7,303,9],[302,10,303,12],[302,13,303,15],[312,1,313,3],[312,4,313,6],[312,7,313,9],[312,10,313,12],[312,13,313,15],[315,1,315,3],[315,4,315,6],[315,7,315,9],[315,10,315,12],[315,13,315,15],[325,1,325,3],[325,4,325,6],[325,7,325,9],[325,10,325,12],[325,13,325,15],[327,0,328,0],[317,0,318,0],[322,1,323,3],[322,4,323,6],[322,7,323,9],[322,10,323,12],[322,13,323,15],[332,1,333,3],[332,4,333,6],[332,7,333,9],[332,10,333,12],[332,13,333,15],[335,1,335,3],[335,4,335,6],[335,7,335,9],[335,10,335,12],[335,13,335,15],[345,1,345,3],[345,4,345,6],[345,7,345,9],[345,10,345,12],[345,13,345,15],[347,0,348,0],[337,0,338,0],[339,16,340,19],[342,1,343,3],[342,4,343,6],[342,7,343,9],[342,10,343,12],[342,13,343,15],[352,1,353,3],[352,4,353,6],[352,7,353,9],[352,10,353,12],[352,13,353,15],[355,1,355,3],[355,4,355,6],[355,7,355,9],[355,10,355,12],[355,13,355,15],[365,1,365,3],[365,4,365,6],[365,7,365,9],[365,10,365,12],[365,13,365,15],[367,0,368,0],[357,0,358,0],[362,1,363,3],[362,4,363,6],[362,7,363,9],[362,10,363,12],[362,13,363,15],[372,1,373,3],[372,4,373,6],[372,7,373,9],[372,10,373,12],[372,13,373,15],[375,1,375,3],[375,4,375,6],[375,7,375,9],[375,10,375,12],[375,13,375,15],[385,1,385,3],[385,4,385,6],[385,7,385,9],[385,10,385,12],[385,13,385,15],[387,0,388,0],[377,0,378,0],[382,1,383,3],[382,4,383,6],[382,7,383,9],[382,10,383,12],[382,13,383,15],[392,1,393,3],[392,4,393,6],[392,7,393,9],[392,10,393,12],[392,13,393,15],[395,1,395,3],[395,4,395,6],[395,7,395,9],[395,10,395,12],[395,13,395,15],[405,1,405,3],[405,4,405,6],[405,7,405,9],[405,10,405,12],[405,13,405,15],[407,0,408,0],[397,0,398,0],[402,1,403,3],[402,4,403,6],[402,7,403,9],[402,10,403,12],[402,13,403,15],[412,1,413,3],[412,4,413,6],[412,7,413,9],[412,10,413,12],[412,13,413,15],[415,1,415,3],[415,4,415,6],[415,7,415,9],[415,10,415,12],[415,13,415,15],[425,1,425,3],[425,4,425,6],[425,7,425,9],[425,10,425,12],[425,13,425,15],[427,0,428,0],[417,0,418,0],[419,16,420,19],[422,1,423,3],[422,4,423,6],[422,7,423,9],[422,10,423,12],[422,13,423,15],[432,1,433,3],[432,4,433,6],[432,7,433,9],[432,10,433,12],[432,13,433,15],[435,1,435,3],[435,4,435,6],[435,7,435,9],[435,10,435,12],[435,13,435,15],[445,1,445,3],[445,4,445,6],[445,7,445,9],[445,10,445,12],[445,13,445,15],[447,0,448,0],[437,0,438,0],[442,1,443,3],[442,4,443,6],[442,7,443,9],[442,10,443,12],[442,13,443,15],[452,1,453,3],[452,4,453,6],[452,7,453,9],[452,10,453,12],[452,13,453,15],[455,1,455,3],[455,4,455,6],[455,7,455,9],[455,10,455,12],[455,13,455,15],[465,1,465,3],[465,4,465,6],[465,7,465,9],[465,10,465,12],[465,13,465,15],[467,0,468,0],[457,0,458,0],[462,1,463,3],[462,4,463,6],[462,7,463,9],[462,10,463,12],[462,13,463,15],[472,1,473,3],[472,4,473,6],[472,7,473,9],[472,10,473,12],[472,13,473,15],[475,1,475,3],[475,4,475,6],[475,7,475,9],[475,10,475,12],[475,13,475,15],[485,1,485,3],[485,4,485,6],[485,7,485,9],[485,10,485,12],[485,13,485,15],[487,0,488,0],[477,0,478,0],[482,1,483,3],[482,4,483,6],[482,7,483,9],[482,10,483,12],[482,13,483,15],[497,0,498,0],[499,16,500,19],[502,1,503,3],[502,4,503,6],[502,7,503,9],[502,10,503,12],[502,13,503,15],[492,1,493,3],[492,4,493,6],[492,7,493,9],[492,10,493,12],[492,13,493,15],[495,1,495,3],[495,4,495,6],[495,7,495,9],[495,10,495,12],[495,13,495,15]]}
[]
[null,{"$f":"'1-2a'!B2:H3","v":"Basisschool De Grote Beer        schooljaar 2020/2021"},null,null,null,null,null,null,null,"Groepsplanner van groep:",null,null,null,"12"]
[]
[null,"maandag 1e schoolweek",null,null,"dinsdag",null,null,"woensdag",null,null,"donderdag",null,null,"vrijdag"]
[null,null,{"$f":"'1-2a'!C$5","v":0},null,null,{"$f":"'1-2a'!F5","v":0},null,null,{"$f":"'1-2a'!I$5","v":0},null,null,{"$f":"'1-2a'!L$5","v":"s"},null,null,{"$f":"'1-2a'!O$5","v":0}]
[{"$f":"(B6-WEEKDAY(B6-1)+4-(TRUNC(DATE(YEAR(B6-WEEKDAY(B6-1)+4),1,2)/7)*7-2))/7","v":32},{"$f":"'1-2a'!B6:D6","v":"2020-08-03"},null,null,{"$f":"B6+1","v":"2020-08-04"},null,null,{"$f":"E6+1","v":"2020-08-05"},null,null,{"$f":"H6+1","v":"2020-08-06"},null,null,{"$f":"K6+1","v":"2020-08-07"}]
[]
[1]
[]
[]
[]
[]
[]
[]
[null,null,{"$f":"'1-2a'!C$15","v":0},null,null,{"$f":"'1-2a'!F$15","v":0},null,null,{"$f":"'1-2a'!I$15","v":0},null,null,{"$f":"'1-2a'!L$15","v":0},null,null,{"$f":"'1-2a'!O15","v":0}]
[{"$f":"IF(A6=52,1,A6+1)","v":33},{"$f":"N6+3","v":"2020-08-10"},null,null,{"$f":"B16+1","v":"2020-08-11"},null,null,{"$f":"E16+1","v":"2020-08-12"},null,null,{"$f":"H16+1","v":"2020-08-13"},null,null,{"$f":"K16+1","v":"2020-08-14"}]
[null,{"$f":"B7","v":0},null,null,{"$f":"E7","v":0},null,null,{"$f":"H7","v":0},null,null,{"$f":"K7","v":0},null,null,{"$f":"N7","v":0}]
[2,0,null,null,0,null,null,0,null,null,0,null,null,0]
[null,0,null,null,0,null,null,0,null,null,0,null,null,0]
[null,0,null,null,0,null,null,0,null,null,0,null,null,0]
[null,0,null,null,0,null,null,0,null,null,0,null,null,0]
[null,0,null,null,0,null,null,0,null,null,0,null,null,0]
[]
[]
[null,null,{"$f":"'1-2a'!C$25","v":0},null,null,{"$f":"'1-2a'!F$25","v":0},null,null,{"$f":"'1-2a'!I25","v":0},null,null,{"$f":"'1-2a'!L25","v":0},null,null,{"$f":"'1-2a'!O25","v":0}]
[{"$f":"IF(A16=52,1,A16+1)","v":34},{"$f":"N16+3","v":"2020-08-17"},null,null,{"$f":"B26+1","v":"2020-08-18"},null,null,{"$f":"E26+1","v":"2020-08-19"},null,null,{"$f":"H26+1","v":"2020-08-20"},null,null,{"$f":"K26+1","v":"2020-08-21"}]
[null,{"$f":"B17","v":0},null,null,{"$f":"E17","v":0},null,null,{"$f":"H17","v":0},null,null,{"$f":"K17","v":0},null,null,{"$f":"N17","v":0}]
[3,0,null,null,0,null,null,0,null,null,0,null,null,0]
[null,0,null,null,0,null,null,0,null,null,0,null,null,0]
[null,0,null,null,0,null,null,0,null,null,0,null,null,0]
[null,0,null,null,0,null,null,0,null,null,{"$f":"K21","v":0},null,null,0]
[null,0,null,null,0,null,null,0,null,null,0,null,null,0]
[]
[]
[null,null,{"$f":"'1-2a'!$C$35","v":0},null,null,{"$f":"'1-2a'!$F$35","v":0},null,null,{"$f":"'1-2a'!$I$35","v":0},null,null,{"$f":"'1-2a'!$L$35","v":0},null,null,{"$f":"'1-2a'!$O$35","v":0}]
[{"$f":"IF(A26=52,1,A26+1)","v":35},{"$f":"N26+3","v":"2020-08-24"},null,null,{"$f":"B36+1","v":"2020-08-25"},null,null,{"$f":"E36+1","v":"2020-08-26"},null,null,{"$f":"H36+1","v":"2020-08-27"},null,null,{"$f":"K36+1","v":"2020-08-28"}]
[null,{"$f":"B27","v":0},null,null,{"$f":"E27","v":0},null,null,{"$f":"H27","v":0},null,null,{"$f":"K27","v":0},null,null,{"$f":"N27","v":0}]
[4,0,null,null,0,null,null,0,null,null,0,null,null,0]
[null,0,null,null,0,null,null,0,null,null,0,null,null,0]
[null,0,null,null,0,null,null,0,null,null,0,null,null,0]
[null,0,null,null,0,null,null,0,null,null,{"$f":"K31","v":0},null,null,0]
[null,0,null,null,0,null,null,0,null,null,0,null,null,0]
[]
[]
[null,null,{"$f":"'1-2a'!$C$45","v":0},null,null,{"$f":"'1-2a'!$F$45","v":0},null,null,{"$f":"'1-2a'!$I$45","v":0},null,null,{"$f":"'1-2a'!$L$45","v":0},null,null,{"$f":"'1-2a'!$O$45","v":0}]
[{"$f":"IF(A36=52,1,A36+1)","v":36},{"$f":"N36+3","v":"2020-08-31"},null,null,{"$f":"B46+1","v":"2020-09-01"},null,null,{"$f":"E46+1","v":"2020-09-02"},null,null,{"$f":"H46+1","v":"2020-09-03"},null,null,{"$f":"K46+1","v":"2020-09-04"}]
[null,{"$f":"B37","v":0},null,null,{"$f":"E37","v":0},null,null,{"$f":"H37","v":0},null,null,{"$f":"K37","v":0},null,null,{"$f":"N37","v":0}]
[5,0,null,null,0,null,null,0,null,null,0,null,null,0]
[null,0,null,null,0,null,null,0,null,null,0,null,null,0]
[null,0,null,null,0,null,null,0,null,null,0,null,null,0]
[null,0,null,null,0,null,null,0,null,null,{"$f":"K41","v":0},null,null,0]
[null,0,null,null,0,null,null,0,null,null,0,null,null,0]
[]
[]
[null,null,{"$f":"'1-2a'!$C$55","v":0},null,null,{"$f":"'1-2a'!$F$55","v":0},null,null,{"$f":"'1-2a'!$I$55","v":0},null,null,{"$f":"'1-2a'!$L$55","v":0},null,null,{"$f":"'1-2a'!O55","v":0}]
[{"$f":"IF(A46=52,1,A46+1)","v":37},{"$f":"N46+3","v":"2020-09-07"},null,null,{"$f":"B56+1","v":"2020-09-08"},null,null,{"$f":"E56+1","v":"2020-09-09"},null,null,{"$f":"H56+1","v":"2020-09-10"},null,null,{"$f":"K56+1","v":"2020-09-11"}]
[null,{"$f":"B47","v":0},null,null,{"$f":"E47","v":0},null,null,{"$f":"H47","v":0},null,null,{"$f":"K47","v":0},null,null,{"$f":"N47","v":0}]
[6,0,null,null,0,null,null,0,null,null,0,null,null,0]
[null,0,null,null,0,null,null,0,null,null,0,null,null,0]
[null,0,null,null,0,null,null,0,null,null,0,null,null,0]
[null,0,null,null,0,null,null,0,null,null,{"$f":"K51","v":0},null,null,0]
[null,0,null,null,0,null,null,0,null,null,0,null,null,0]
[]
[]
[null,null,{"$f":"'1-2a'!$C$65","v":0},null,null,{"$f":"'1-2a'!$F$65","v":0},null,null,{"$f":"'1-2a'!$I$65","v":0},null,null,{"$f":"'1-2a'!$L$65","v":0},null,null,{"$f":"'1-2a'!$O$65","v":0}]
[{"$f":"IF(A56=52,1,A56+1)","v":38},{"$f":"N56+3","v":"2020-09-14"},null,null,{"$f":"B66+1","v":"2020-09-15"},null,null,{"$f":"E66+1","v":"2020-09-16"},null,null,{"$f":"H66+1","v":"2020-09-17"},null,null,{"$f":"K66+1","v":"2020-09-18"}]
[null,{"$f":"B57","v":0},null,null,{"$f":"E57","v":0},null,null,{"$f":"H57","v":0},null,null,{"$f":"K57","v":0},null,null,{"$f":"N57","v":0}]
[7,0,null,null,0,null,null,0,null,null,0,null,null,0]
[null,0,null,null,0,null,null,0,null,null,0,null,null,0]
[null,0,null,null,0,null,null,0,null,null,0,null,null,0]
[null,0,null,null,0,null,null,0,null,null,{"$f":"K61","v":0},null,null,0]
[null,0,null,null,0,null,null,0,null,null,0,null,null,0]
[]
[]
[null,null,{"$f":"'1-2a'!$C$75","v":0},null,null,{"$f":"'1-2a'!$F$75","v":0},null,null,{"$f":"'1-2a'!$I$75","v":0},null,null,{"$f":"'1-2a'!$L$75","v":0},null,null,{"$f":"'1-2a'!$O$75","v":0}]
[{"$f":"IF(A66=52,1,A66+1)","v":39},{"$f":"N66+3","v":"2020-09-21"},null,null,{"$f":"B76+1","v":"2020-09-22"},null,null,{"$f":"E76+1","v":"2020-09-23"},null,null,{"$f":"H76+1","v":"2020-09-24"},null,null,{"$f":"K76+1","v":"2020-09-25"}]
[null,{"$f":"B67","v":0},null,null,{"$f":"E67","v":0},null,null,{"$f":"H67","v":0},null,null,{"$f":"K67","v":0},null,null,{"$f":"N67","v":0}]
[8,0,null,null,0,null,null,0,null,null,0,null,null,0]
[null,0,null,null,0,null,null,0,null,null,0,null,null,0]
[null,0,null,null,0,null,null,0,null,null,0,null,null,0]
[null,0,null,null,0,null,null,0,null,null,{"$f":"K71","v":0},null,null,0]
[null,0,null,null,0,null,null,0,null,null,0,null,null,0]
[]
[]
[null,null,{"$f":"'1-2a'!$C$85","v":0},null,null,{"$f":"'1-2a'!$F$85","v":0},null,null,{"$f":"'1-2a'!$I$85","v":0},null,null,{"$f":"'1-2a'!$L$85","v":0},null,null,{"$f":"'1-2a'!$O$85","v":0}]
[{"$f":"IF(A76=52,1,A76+1)","v":40},{"$f":"N76+3","v":"2020-09-28"},null,null,{"$f":"B86+1","v":"2020-09-29"},null,null,{"$f":"E86+1","v":"2020-09-30"},null,null,{"$f":"H86+1","v":"2020-10-01"},null,null,{"$f":"K86+1","v":"2020-10-02"}]
[null,{"$f":"B77","v":0},null,null,{"$f":"E77","v":0},null,null,{"$f":"H77","v":0},null,null,{"$f":"K77","v":0},null,null,{"$f":"N77","v":0}]
[9,0,null,null,0,null,null,0,null,null,0,null,null,0]
[null,0,null,null,0,null,null,0,null,null,0,null,null,0]
[null,0,null,null,0,null,null,0,null,null,0,null,null,0]
[null,0,null,null,0,null,null,0,null,null,0,null,null,0]
[null,0,null,null,0,null,null,0,null,null,0,null,null,0]
[]
[]
[null,null,{"$f":"'1-2a'!$C$95","v":0},null,null,{"$f":"'1-2a'!$F$95","v":0},null,null,{"$f":"'1-2a'!$I$95","v":0},null,null,{"$f":"'1-2a'!$L$95","v":0},null,null,{"$f":"'1-2a'!$O$95","v":0}]
[{"$f":"IF(A86=52,1,A86+1)","v":41},{"$f":"N86+3","v":"2020-10-05"},null,null,{"$f":"B96+1","v":"2020-10-06"},null,null,{"$f":"E96+1","v":"2020-10-07"},null,null,{"$f":"H96+1","v":"2020-10-08"},null,null,{"$f":"K96+1","v":"2020-10-09"}]
[null,{"$f":"B87","v":0},null,null,{"$f":"E87","v":0},null,null,{"$f":"H87","v":0},null,null,{"$f":"K87","v":0},null,null,{"$f":"N87","v":0}]
[10,0,null,null,0,null,null,0,null,null,0,null,null,0]
[null,0,null,null,0,null,null,0,null,null,0,null,null,0]
[null,0,null,null,0,null,null,0,null,null,0,null,null,0]
[null,0,null,null,0,null,null,0,null,null,{"$f":"K91","v":0},null,null,0]
[null,0,null,null,0,null,null,0,null,null,0,null,null,0]
[]
[]
[null,null,{"$f":"'1-2a'!$C$105","v":0},null,null,{"$f":"'1-2a'!$F$105","v":0},null,null,{"$f":"'1-2a'!$I$105","v":0},null,null,{"$f":"'1-2a'!$L$105","v":0},null,null,{"$f":"'1-2a'!$O$105","v":0}]
[{"$f":"IF(A96=52,1,A96+1)","v":42},{"$f":"N96+3","v":"2020-10-12"},null,null,{"$f":"B106+1","v":"2020-10-13"},null,null,{"$f":"E106+1","v":"2020-10-14"},null,null,{"$f":"H106+1","v":"2020-10-15"},null,null,{"$f":"K106+1","v":"2020-10-16"}]
[null,{"$f":"B97","v":0},null,null,{"$f":"E97","v":0},null,null,{"$f":"H97","v":0},null,null,{"$f":"K97","v":0},null,null,{"$f":"N97","v":0}]
[11,0,null,null,0,null,null,0,null,null,0,null,null,0]
[null,0,null,null,0,null,null,0,null,null,0,null,null,0]
[null,0,null,null,0,null,null,0,null,null,0,null,null,0]
[null,0,null,null,0,null,null,0,null,null,{"$f":"K101","v":0},null,null,0]
[null,0,null,null,0,null,null,0,null,null,0,null,null,0]
[]
[]
[null,null,{"$f":"'1-2a'!$C$115","v":0},null,null,{"$f":"'1-2a'!$F$115","v":0},null,null,{"$f":"'1-2a'!$I$115","v":0},null,null,{"$f":"'1-2a'!$L$115","v":0},null,null,{"$f":"'1-2a'!$O$115","v":0}]
[{"$f":"IF(A106=52,1,A106+1)","v":43},{"$f":"N106+3","v":"2020-10-19"},null,null,{"$f":"B116+1","v":"2020-10-20"},null,null,{"$f":"E116+1","v":"2020-10-21"},null,null,{"$f":"H116+1","v":"2020-10-22"},null,null,{"$f":"K116+1","v":"2020-10-23"}]
[null,{"$f":"B107","v":0},null,null,{"$f":"E107","v":0},null,null,{"$f":"H107","v":0},null,null,{"$f":"K107","v":0},null,null,{"$f":"N107","v":0}]
[12,0,null,null,0,null,null,0,null,null,0,null,null,0]
[null,0,null,null,0,null,null,0,null,null,0,null,null,0]
[null,0,null,null,0,null,null,0,null,null,0,null,null,0]
[null,0,null,null,0,null,null,0,null,null,{"$f":"K111","v":0},null,null,0]
[null,0,null,null,0,null,null,0,null,null,0,null,null,0]
[]
[]
[null,null,{"$f":"'1-2a'!$C$125","v":0},null,null,{"$f":"'1-2a'!$F$125","v":0},null,null,{"$f":"'1-2a'!$I$125","v":0},null,null,{"$f":"'1-2a'!$L$125","v":0},null,null,{"$f":"'1-2a'!$O$125","v":0}]
[{"$f":"IF(A116=52,1,A116+1)","v":44},{"$f":"N116+3","v":"2020-10-26"},null,null,{"$f":"B126+1","v":"2020-10-27"},null,null,{"$f":"E126+1","v":"2020-10-28"},null,null,{"$f":"H126+1","v":"2020-10-29"},null,null,{"$f":"K126+1","v":"2020-10-30"}]
[null,{"$f":"B117","v":0},null,null,{"$f":"E117","v":0},null,null,{"$f":"H117","v":0},null,null,{"$f":"K117","v":0},null,null,{"$f":"N117","v":0}]
[13,0,null,null,0,null,null,0,null,null,0,null,null,0]
[null,0,null,null,0,null,null,0,null,null,0,null,null,0]
[null,0,null,null,0,null,null,0,null,null,0,null,null,0]
[null,0,null,null,0,null,null,0,null,null,{"$f":"K121","v":0},null,null,0]
[null,0,null,null,0,null,null,0,null,null,0,null,null,0]
[]
[]
[null,null,{"$f":"'1-2a'!$C$135","v":0},null,null,{"$f":"'1-2a'!$F$135","v":0},null,null,{"$f":"'1-2a'!$I$135","v":0},null,null,{"$f":"'1-2a'!$L$135","v":0},null,null,{"$f":"'1-2a'!$O$135","v":0}]
[{"$f":"IF(A126=52,1,A126+1)","v":45},{"$f":"N126+3","v":"2020-11-02"},null,null,{"$f":"B136+1","v":"2020-11-03"},null,null,{"$f":"E136+1","v":"2020-11-04"},null,null,{"$f":"H136+1","v":"2020-11-05"},null,null,{"$f":"K136+1","v":"2020-11-06"}]
[null,{"$f":"B127","v":0},null,null,{"$f":"E127","v":0},null,null,{"$f":"H127","v":0},null,null,{"$f":"K127","v":0},null,null,{"$f":"N127","v":0}]
[14,0,null,null,0,null,null,0,null,null,0,null,null,0]
[null,0,null,null,0,null,null,0,null,null,0,null,null,0]
[null,0,null,null,0,null,null,0,null,null,0,null,null,0]
[null,0,null,null,0,null,null,0,null,null,{"$f":"K131","v":0},null,null,0]
[null,0,null,null,0,null,null,0,null,null,0,null,null,0]
[]
[]
[null,null,{"$f":"'1-2a'!$C$145","v":0},null,null,{"$f":"'1-2a'!$F$145","v":0},null,null,{"$f":"'1-2a'!$I$145","v":0},null,null,{"$f":"'1-2a'!$L$145","v":0},null,null,{"$f":"'1-2a'!$O$145","v":0}]
[{"$f":"IF(A136=52,1,A136+1)","v":46},{"$f":"N136+3","v":"2020-11-09"},null,null,{"$f":"B146+1","v":"2020-11-10"},null,null,{"$f":"E146+1","v":"2020-11-11"},null,null,{"$f":"H146+1","v":"2020-11-12"},null,null,{"$f":"K146+1","v":"2020-11-13"}]
[null,{"$f":"B137","v":0},null,null,{"$f":"E137","v":0},null,null,{"$f":"H137","v":0},null,null,{"$f":"K137","v":0},null,null,{"$f":"N137","v":0}]
[15,0,null,null,0,null,null,0,null,null,0,null,null,0]
[null,0,null,null,0,null,null,0,null,null,0,null,null,0]
[null,0,null,null,0,null,null,0,null,null,0,null,null,0]
[null,0,null,null,0,null,null,0,null,null,{"$f":"K141","v":0},null,null,0]
[null,0,null,null,0,null,null,0,null,null,0,null,null,0]
[]
[]
[null,null,{"$f":"'1-2a'!$C$155","v":0},null,null,{"$f":"'1-2a'!$F$155","v":0},null,null,{"$f":"'1-2a'!$I$155","v":0},null,null,{"$f":"'1-2a'!$L$155","v":0},null,null,{"$f":"'1-2a'!$O$155","v":0}]
[{"$f":"IF(A146=52,1,A146+1)","v":47},{"$f":"N146+3","v":"2020-11-16"},null,null,{"$f":"B156+1","v":"2020-11-17"},null,null,{"$f":"E156+1","v":"2020-11-18"},null,null,{"$f":"H156+1","v":"2020-11-19"},null,null,{"$f":"K156+1","v":"2020-11-20"}]
[null,{"$f":"B147","v":0},null,null,{"$f":"E147","v":0},null,null,{"$f":"H147","v":0},null,null,{"$f":"K147","v":0},null,null,{"$f":"N147","v":0}]
[16,0,null,null,0,null,null,0,null,null,0,null,null,0]
[null,0,null,null,0,null,null,0,null,null,0,null,null,0]
[null,0,null,null,0,null,null,0,null,null,0,null,null,0]
[null,0,null,null,0,null,null,0,null,null,{"$f":"K151","v":0},null,null,0]
[null,0,null,null,0,null,null,0,null,null,0,null,null,0]
[]
[]
[null,null,{"$f":"'1-2a'!$C$165","v":0},null,null,{"$f":"'1-2a'!$F$165","v":0},null,null,{"$f":"'1-2a'!$I$165","v":0},null,null,{"$f":"'1-2a'!$L$165","v":0},null,null,{"$f":"'1-2a'!$O$165","v":0}]
[{"$f":"IF(A156=52,1,A156+1)","v":48},{"$f":"N156+3","v":"2020-11-23"},null,null,{"$f":"B166+1","v":"2020-11-24"},null,null,{"$f":"E166+1","v":"2020-11-25"},null,null,{"$f":"H166+1","v":"2020-11-26"},null,null,{"$f":"K166+1","v":"2020-11-27"}]
[null,{"$f":"B157","v":0},null,null,{"$f":"E157","v":0},null,null,{"$f":"H157","v":0},null,null,{"$f":"K157","v":0},null,null,{"$f":"N157","v":0}]
[17,0,null,null,0,null,null,0,null,null,0,null,null,0]
[null,0,null,null,0,null,null,0,null,null,0,null,null,0]
[null,0,null,null,0,null,null,0,null,null,0,null,null,0]
[null,0,null,null,0,null,null,0,null,null,0,null,null,0]
[null,0,null,null,0,null,null,0,null,null,0,null,null,0]
[]
[]
[null,null,{"$f":"'1-2a'!$C$175","v":0},null,null,{"$f":"'1-2a'!$F$175","v":0},null,null,{"$f":"'1-2a'!$I$175","v":0},null,null,{"$f":"'1-2a'!$L$175","v":0},null,null,{"$f":"'1-2a'!$O$175","v":0}]
[{"$f":"IF(A166=52,1,A166+1)","v":49},{"$f":"N166+3","v":"2020-11-30"},null,null,{"$f":"B176+1","v":"2020-12-01"},null,null,{"$f":"E176+1","v":"2020-12-02"},null,null,{"$f":"H176+1","v":"2020-12-03"},null,null,{"$f":"K176+1","v":"2020-12-04"}]
[null,{"$f":"B167","v":0},null,null,{"$f":"E167","v":0},null,null,{"$f":"H167","v":0},null,null,{"$f":"K167","v":0},null,null,{"$f":"N167","v":0}]
[18,0,null,null,0,null,null,0,null,null,0,null,null,0]
[null,0,null,null,0,null,null,0,null,null,0,null,null,0]
[null,0,null,null,0,null,null,0,null,null,0,null,null,0]
[null,0,null,null,0,null,null,0,null,null,{"$f":"K171","v":0},null,null,0]
[null,0,null,null,0,null,null,0,null,null,0,null,null,0]
[]
[]
[null,null,{"$f":"'1-2a'!$C$185","v":0},null,null,{"$f":"'1-2a'!$F$185","v":0},null,null,{"$f":"'1-2a'!$I$185","v":0},null,null,{"$f":"'1-2a'!$L$185","v":0},null,null,{"$f":"'1-2a'!$O$185","v":0}]
[{"$f":"IF(A176=52,1,A176+1)","v":50},{"$f":"N176+3","v":"2020-12-07"},null,null,{"$f":"B186+1","v":"2020-12-08"},null,null,{"$f":"E186+1","v":"2020-12-09"},null,null,{"$f":"H186+1","v":"2020-12-10"},null,null,{"$f":"K186+1","v":"2020-12-11"}]
[null,{"$f":"B177","v":0},null,null,{"$f":"E177","v":0},null,null,{"$f":"H177","v":0},null,null,{"$f":"K177","v":0},null,null,{"$f":"N177","v":0}]
[19,0,null,null,0,null,null,0,null,null,0,null,null,0]
[null,0,null,null,0,null,null,0,null,null,0,null,null,0]
[null,0,null,null,0,null,null,0,null,null,0,null,null,0]
[null,0,null,null,0,null,null,0,null,null,{"$f":"K181","v":0},null,null,0]
[null,0,null,null,0,null,null,0,null,null,0,null,null,0]
[]
[]
[null,null,{"$f":"'1-2a'!$C$195","v":0},null,null,{"$f":"'1-2a'!$F$195","v":0},null,null,{"$f":"'1-2a'!$I$195","v":0},null,null,{"$f":"'1-2a'!$L$195","v":0},null,null,{"$f":"'1-2a'!$O$195","v":0}]
[{"$f":"IF(A186=52,1,A186+1)","v":51},{"$f":"N186+3","v":"2020-12-14"},null,null,{"$f":"B196+1","v":"2020-12-15"},null,null,{"$f":"E196+1","v":"2020-12-16"},null,null,{"$f":"H196+1","v":"2020-12-17"},null,null,{"$f":"K196+1","v":"2020-12-18"}]
[null,{"$f":"B187","v":0},null,null,{"$f":"E187","v":0},null,null,{"$f":"H187","v":0},null,null,{"$f":"K187","v":0},null,null,{"$f":"N187","v":0}]
[20,0,null,null,0,null,null,0,null,null,0,null,null,0]
[null,0,null,null,0,null,null,0,null,null,0,null,null,0]
[null,0,null,null,0,null,null,0,null,null,0,null,null,0]
[null,0,null,null,0,null,null,0,null,null,{"$f":"K191","v":0},null,null,0]
[null,0,null,null,0,null,null,0,null,null,0,null,null,0]
[]
[]
[null,null,{"$f":"'1-2a'!$C$205","v":0},null,null,{"$f":"'1-2a'!$F$205","v":0},null,null,{"$f":"'1-2a'!$I$205","v":0},null,null,{"$f":"'1-2a'!$L$205","v":0},null,null,{"$f":"'1-2a'!$O$205","v":0}]
[{"$f":"IF(A196=52,1,A196+1)","v":52},{"$f":"N196+3","v":"2020-12-21"},null,null,{"$f":"B206+1","v":"2020-12-22"},null,null,{"$f":"E206+1","v":"2020-12-23"},null,null,{"$f":"H206+1","v":"2020-12-24"},null,null,{"$f":"K206+1","v":"2020-12-25"}]
[null,{"$f":"B197","v":0},null,null,{"$f":"E197","v":0},null,null,{"$f":"H197","v":0},null,null,{"$f":"K197","v":0},null,null,{"$f":"N197","v":0}]
[21,0,null,null,0,null,null,0,null,null,0,null,null,0]
[null,0,null,null,0,null,null,0,null,null,0,null,null,0]
[null,0,null,null,0,null,null,0,null,null,0,null,null,0]
[null,0,null,null,0,null,null,0,null,null,{"$f":"K201","v":0},null,null,0]
[null,0,null,null,0,null,null,0,null,null,0,null,null,0]
[]
[]
[null,null,{"$f":"'1-2a'!$C$215","v":0},null,null,{"$f":"'1-2a'!$F$215","v":0},null,null,{"$f":"'1-2a'!$I$215","v":0},null,null,{"$f":"'1-2a'!$L$215","v":0},null,null,{"$f":"'1-2a'!$O$215","v":0}]
[{"$f":"IF(A206=52,1,A206+1)","v":1},{"$f":"N206+3","v":"2020-12-28"},null,null,{"$f":"B216+1","v":"2020-12-29"},null,null,{"$f":"E216+1","v":"2020-12-30"},null,null,{"$f":"H216+1","v":"2020-12-31"},null,null,{"$f":"K216+1","v":"2021-01-01"}]
[null,{"$f":"B207","v":0},null,null,{"$f":"E207","v":0},null,null,{"$f":"H207","v":0},null,null,{"$f":"K207","v":0},null,null,{"$f":"N207","v":0}]
[22,0,null,null,0,null,null,0,null,null,0,null,null,0]
[null,0,null,null,0,null,null,0,null,null,0,null,null,0]
[null,0,null,null,0,null,null,0,null,null,0,null,null,0]
[null,0,null,null,0,null,null,0,null,null,{"$f":"K211","v":0},null,null,0]
[null,0,null,null,0,null,null,0,null,null,0,null,null,0]
[]
[]
[null,null,{"$f":"'1-2a'!$C$225","v":0},null,null,{"$f":"'1-2a'!$F$225","v":0},null,null,{"$f":"'1-2a'!$I$225","v":0},null,null,{"$f":"'1-2a'!$L$225","v":0},null,null,{"$f":"'1-2a'!$O$225","v":0}]
[{"$f":"IF(A216=52,1,A216+1)","v":2},{"$f":"N216+3","v":"2021-01-04"},null,null,{"$f":"B226+1","v":"2021-01-05"},null,null,{"$f":"E226+1","v":"2021-01-06"},null,null,{"$f":"H226+1","v":"2021-01-07"},null,null,{"$f":"K226+1","v":"2021-01-08"}]
[null,{"$f":"B217","v":0},null,null,{"$f":"E217","v":0},null,null,{"$f":"H217","v":0},null,null,{"$f":"K217","v":0},null,null,{"$f":"N217","v":0}]
[23,0,null,null,0,null,null,0,null,null,0,null,null,0]
[null,0,null,null,0,null,null,0,null,null,0,null,null,0]
[null,0,null,null,0,null,null,0,null,null,0,null,null,0]
[null,0,null,null,0,null,null,0,null,null,{"$f":"K221","v":0},null,null,0]
[null,0,null,null,0,null,null,0,null,null,0,null,null,0]
[]
[]
[null,null,{"$f":"'1-2a'!$C$235","v":0},null,null,{"$f":"'1-2a'!$F$235","v":0},null,null,{"$f":"'1-2a'!$I$235","v":0},null,null,{"$f":"'1-2a'!$L$235","v":0},null,null,{"$f":"'1-2a'!$O$235","v":0}]
[{"$f":"IF(A226=52,1,A226+1)","v":3},{"$f":"N226+3","v":"2021-01-11"},null,null,{"$f":"B236+1","v":"2021-01-12"},null,null,{"$f":"E236+1","v":"2021-01-13"},null,null,{"$f":"H236+1","v":"2021-01-14"},null,null,{"$f":"K236+1","v":"2021-01-15"}]
[null,{"$f":"B227","v":0},null,null,{"$f":"E227","v":0},null,null,{"$f":"H227","v":0},null,null,{"$f":"K227","v":0},null,null,{"$f":"N227","v":0}]
[24,0,null,null,0,null,null,0,null,null,0,null,null,0]
[null,0,null,null,0,null,null,0,null,null,0,null,null,0]
[null,0,null,null,0,null,null,0,null,null,0,null,null,0]
[null,0,null,null,0,null,null,0,null,null,{"$f":"K231","v":0},null,null,0]
[null,0,null,null,0,null,null,0,null,null,0,null,null,0]
[]
[]
[null,null,{"$f":"'1-2a'!$C$245","v":0},null,null,{"$f":"'1-2a'!$F$245","v":0},null,null,{"$f":"'1-2a'!$I$245","v":0},null,null,{"$f":"'1-2a'!$L$245","v":0},null,null,{"$f":"'1-2a'!$O$245","v":0}]
[{"$f":"IF(A236=52,1,A236+1)","v":4},{"$f":"N236+3","v":"2021-01-18"},null,null,{"$f":"B246+1","v":"2021-01-19"},null,null,{"$f":"E246+1","v":"2021-01-20"},null,null,{"$f":"H246+1","v":"2021-01-21"},null,null,{"$f":"K246+1","v":"2021-01-22"}]
[null,{"$f":"B237","v":0},null,null,{"$f":"E237","v":0},null,null,{"$f":"H237","v":0},null,null,{"$f":"K237","v":0},null,null,{"$f":"N237","v":0}]
[25,0,null,null,0,null,null,0,null,null,0,null,null,0]
[null,0,null,null,0,null,null,0,null,null,0,null,null,0]
[null,0,null,null,0,null,null,0,null,null,0,null,null,0]
[null,0,null,null,0,null,null,0,null,null,0,null,null,0]
[null,0,null,null,0,null,null,0,null,null,0,null,null,0]
[]
[]
[null,null,{"$f":"'1-2a'!$C$255","v":0},null,null,{"$f":"'1-2a'!$F$255","v":0},null,null,{"$f":"'1-2a'!$I$255","v":0},null,null,{"$f":"'1-2a'!$L$255","v":0},null,null,{"$f":"'1-2a'!$O$255","v":0}]
[{"$f":"IF(A246=52,1,A246+1)","v":5},{"$f":"N246+3","v":"2021-01-25"},null,null,{"$f":"B256+1","v":"2021-01-26"},null,null,{"$f":"E256+1","v":"2021-01-27"},null,null,{"$f":"H256+1","v":"2021-01-28"},null,null,{"$f":"K256+1","v":"2021-01-29"}]
[null,{"$f":"B247","v":0},null,null,{"$f":"E247","v":0},null,null,{"$f":"H247","v":0},null,null,{"$f":"K247","v":0},null,null,{"$f":"N247","v":0}]
[26,0,null,null,0,null,null,0,null,null,0,null,null,0]
[null,0,null,null,0,null,null,0,null,null,0,null,null,0]
[null,0,null,null,0,null,null,0,null,null,0,null,null,0]
[null,0,null,null,0,null,null,0,null,null,{"$f":"K251","v":0},null,null,0]
[null,0,null,null,0,null,null,0,null,null,0,null,null,0]
[]
[]
[null,null,{"$f":"'1-2a'!$C$265","v":0},null,null,{"$f":"'1-2a'!$F$265","v":0},null,null,{"$f":"'1-2a'!$I$265","v":0},null,null,{"$f":"'1-2a'!$L$265","v":0},null,null,{"$f":"'1-2a'!$O$265","v":0}]
[{"$f":"IF(A256=52,1,A256+1)","v":6},{"$f":"N256+3","v":"2021-02-01"},null,null,{"$f":"B266+1","v":"2021-02-02"},null,null,{"$f":"E266+1","v":"2021-02-03"},null,null,{"$f":"H266+1","v":"2021-02-04"},null,null,{"$f":"K266+1","v":"2021-02-05"}]
[null,{"$f":"B257","v":0},null,null,{"$f":"E257","v":0},null,null,{"$f":"H257","v":0},null,null,{"$f":"K257","v":0},null,null,{"$f":"N257","v":0}]
[27,0,null,null,0,null,null,0,null,null,0,null,null,0]
[null,0,null,null,0,null,null,0,null,null,0,null,null,0]
[null,0,null,null,0,null,null,0,null,null,0,null,null,0]
[null,0,null,null,0,null,null,0,null,null,{"$f":"K261","v":0},null,null,0]
[null,0,null,null,0,null,null,0,null,null,0,null,null,0]
[]
[]
[null,null,{"$f":"'1-2a'!$C$275","v":0},null,null,{"$f":"'1-2a'!$F$275","v":0},null,null,{"$f":"'1-2a'!$I$275","v":0},null,null,{"$f":"'1-2a'!$L$275","v":0},null,null,{"$f":"'1-2a'!$O$275","v":0}]
[{"$f":"IF(A266=52,1,A266+1)","v":7},{"$f":"N266+3","v":"2021-02-08"},null,null,{"$f":"B276+1","v":"2021-02-09"},null,null,{"$f":"E276+1","v":"2021-02-10"},null,null,{"$f":"H276+1","v":"2021-02-11"},null,null,{"$f":"K276+1","v":"2021-02-12"}]
[null,{"$f":"B267","v":0},null,null,{"$f":"E267","v":0},null,null,{"$f":"H267","v":0},null,null,{"$f":"K267","v":0},null,null,{"$f":"N267","v":0}]
[28,0,null,null,0,null,null,0,null,null,0,null,null,0]
[null,0,null,null,0,null,null,0,null,null,0,null,null,0]
[null,0,null,null,0,null,null,0,null,null,0,null,null,0]
[null,0,null,null,0,null,null,0,null,null,{"$f":"K271","v":0},null,null,0]
[null,0,null,null,0,null,null,0,null,null,0,null,null,0]
[]
[]
[null,null,{"$f":"'1-2a'!$C$285","v":0},null,null,{"$f":"'1-2a'!$F$285","v":0},null,null,{"$f":"'1-2a'!$I$285","v":0},null,null,{"$f":"'1-2a'!$L$285","v":0},null,null,{"$f":"'1-2a'!$O$285","v":0}]
[{"$f":"IF(A276=52,1,A276+1)","v":8},{"$f":"N276+3","v":"2021-02-15"},null,null,{"$f":"B286+1","v":"2021-02-16"},null,null,{"$f":"E286+1","v":"2021-02-17"},null,null,{"$f":"H286+1","v":"2021-02-18"},null,null,{"$f":"K286+1","v":"2021-02-19"}]
[null,{"$f":"B277","v":0},null,null,{"$f":"E277","v":0},null,null,{"$f":"H277","v":0},null,null,{"$f":"K277","v":0},null,null,{"$f":"N277","v":0}]
[29,0,null,null,0,null,null,0,null,null,0,null,null,0]
[null,0,null,null,0,null,null,0,null,null,0,null,null,0]
[null,0,null,null,0,null,null,0,null,null,0,null,null,0]
[null,0,null,null,0,null,null,0,null,null,{"$f":"K281","v":0},null,null,0]
[null,0,null,null,0,null,null,0,null,null,0,null,null,0]
[]
[]
[null,null,{"$f":"'1-2a'!$C$295","v":0},null,null,{"$f":"'1-2a'!$F$295","v":0},null,null,{"$f":"'1-2a'!$I$295","v":0},null,null,{"$f":"'1-2a'!$L$295","v":0},null,null,{"$f":"'1-2a'!$O$295","v":0}]
[{"$f":"IF(A286=52,1,A286+1)","v":9},{"$f":"N286+3","v":"2021-02-22"},null,null,{"$f":"B296+1","v":"2021-02-23"},null,null,{"$f":"E296+1","v":"2021-02-24"},null,null,{"$f":"H296+1","v":"2021-02-25"},null,null,{"$f":"K296+1","v":"2021-02-26"}]
[null,{"$f":"B287","v":0},null,null,{"$f":"E287","v":0},null,null,{"$f":"H287","v":0},null,null,{"$f":"K287","v":0},null,null,{"$f":"N287","v":0}]
[30,0,null,null,0,null,null,0,null,null,0,null,null,0]
[null,0,null,null,0,null,null,0,null,null,0,null,null,0]
[null,0,null,null,0,null,null,0,null,null,0,null,null,0]
[null,0,null,null,0,null,null,0,null,null,{"$f":"K291","v":0},null,null,0]
[null,0,null,null,0,null,null,0,null,null,0,null,null,0]
[]
[]
[null,null,{"$f":"'1-2a'!$C$305","v":0},null,null,{"$f":"'1-2a'!$F$305","v":0},null,null,{"$f":"'1-2a'!$I$305","v":0},null,null,{"$f":"'1-2a'!$L$305","v":0},null,null,{"$f":"'1-2a'!$O$305","v":0}]
[{"$f":"IF(A296=52,1,A296+1)","v":10},{"$f":"N296+3","v":"2021-03-01"},null,null,{"$f":"B306+1","v":"2021-03-02"},null,null,{"$f":"E306+1","v":"2021-03-03"},null,null,{"$f":"H306+1","v":"2021-03-04"},null,null,{"$f":"K306+1","v":"2021-03-05"}]
[null,{"$f":"B297","v":0},null,null,{"$f":"E297","v":0},null,null,{"$f":"H297","v":0},null,null,{"$f":"K297","v":0},null,null,{"$f":"N297","v":0}]
[31,0,null,null,0,null,null,0,null,null,0,null,null,0]
[null,0,null,null,0,null,null,0,null,null,0,null,null,0]
[null,0,null,null,0,null,null,0,null,null,0,null,null,0]
[null,0,null,null,0,null,null,0,null,null,{"$f":"K301","v":0},null,null,0]
[null,0,null,null,0,null,null,0,null,null,0,null,null,0]
[]
[]
[null,null,{"$f":"'1-2a'!$C$315","v":0},null,null,{"$f":"'1-2a'!$F$315","v":0},null,null,{"$f":"'1-2a'!$I$315","v":0},null,null,{"$f":"'1-2a'!$L$315","v":0},null,null,{"$f":"'1-2a'!$O$315","v":0}]
[{"$f":"IF(A306=52,1,A306+1)","v":11},{"$f":"N306+3","v":"2021-03-08"},null,null,{"$f":"B316+1","v":"2021-03-09"},null,null,{"$f":"E316+1","v":"2021-03-10"},null,null,{"$f":"H316+1","v":"2021-03-11"},null,null,{"$f":"K316+1","v":"2021-03-12"}]
[null,{"$f":"B307","v":0},null,null,{"$f":"E307","v":0},null,null,{"$f":"H307","v":0},null,null,{"$f":"K307","v":0},null,null,{"$f":"N307","v":0}]
[32,0,null,null,0,null,null,0,null,null,0,null,null,0]
[null,0,null,null,0,null,null,0,null,null,0,null,null,0]
[null,0,null,null,0,null,null,0,null,null,0,null,null,0]
[null,0,null,null,0,null,null,0,null,null,{"$f":"K311","v":0},null,null,0]
[null,0,null,null,0,null,null,0,null,null,0,null,null,0]
[]
[]
[null,null,{"$f":"'1-2a'!$C$325","v":0},null,null,{"$f":"'1-2a'!$F$325","v":0},null,null,{"$f":"'1-2a'!$I$325","v":0},null,null,{"$f":"'1-2a'!$L$325","v":0},null,null,{"$f":"'1-2a'!$O$325","v":0}]
[{"$f":"IF(A316=52,1,A316+1)","v":12},{"$f":"N316+3","v":"2021-03-15"},null,null,{"$f":"B326+1","v":"2021-03-16"},null,null,{"$f":"E326+1","v":"2021-03-17"},null,null,{"$f":"H326+1","v":"2021-03-18"},null,null,{"$f":"K326+1","v":"2021-03-19"}]
[null,{"$f":"B317","v":0},null,null,{"$f":"E317","v":0},null,null,{"$f":"H317","v":0},null,null,{"$f":"K317","v":0},null,null,{"$f":"N317","v":0}]
[33,0,null,null,0,null,null,0,null,null,0,null,null,0]
[null,0,null,null,0,null,null,0,null,null,0,null,null,0]
[null,0,null,null,0,null,null,0,null,null,0,null,null,0]
[null,0,null,null,0,null,null,0,null,null,0,null,null,0]
[null,0,null,null,0,null,null,0,null,null,0,null,null,0]
[]
[]
[null,null,{"$f":"'1-2a'!$C$335","v":0},null,null,{"$f":"'1-2a'!$F$335","v":0},null,null,{"$f":"'1-2a'!$I$335","v":0},null,null,{"$f":"'1-2a'!$L$335","v":0},null,null,{"$f":"'1-2a'!$O$335","v":0}]
[{"$f":"IF(A326=52,1,A326+1)","v":13},{"$f":"N326+3","v":"2021-03-22"},null,null,{"$f":"B336+1","v":"2021-03-23"},null,null,{"$f":"E336+1","v":"2021-03-24"},null,null,{"$f":"H336+1","v":"2021-03-25"},null,null,{"$f":"K336+1","v":"2021-03-26"}]
[null,{"$f":"B327","v":0},null,null,{"$f":"E327","v":0},null,null,{"$f":"H327","v":0},null,null,{"$f":"K327","v":0},null,null,{"$f":"N327","v":0}]
[34,0,null,null,0,null,null,0,null,null,0,null,null,0]
[null,0,null,null,0,null,null,0,null,null,0,null,null,0]
[null,0,null,null,0,null,null,0,null,null,0,null,null,0]
[null,0,null,null,0,null,null,0,null,null,{"$f":"K331","v":0},null,null,0]
[null,0,null,null,0,null,null,0,null,null,0,null,null,0]
[]
[]
[null,null,{"$f":"'1-2a'!$C$345","v":0},null,null,{"$f":"'1-2a'!$F$345","v":0},null,null,{"$f":"'1-2a'!$I$345","v":0},null,null,{"$f":"'1-2a'!$L$345","v":0},null,null,{"$f":"'1-2a'!$O$345","v":0}]
[{"$f":"IF(A336=52,1,A336+1)","v":14},{"$f":"N336+3","v":"2021-03-29"},null,null,{"$f":"B346+1","v":"2021-03-30"},null,null,{"$f":"E346+1","v":"2021-03-31"},null,null,{"$f":"H346+1","v":"2021-04-01"},null,null,{"$f":"K346+1","v":"2021-04-02"}]
[null,{"$f":"B337","v":0},null,null,{"$f":"E337","v":0},null,null,{"$f":"H337","v":0},null,null,{"$f":"K337","v":0},null,null,{"$f":"N337","v":0}]
[35,0,null,null,0,null,null,0,null,null,0,null,null,0]
[null,0,null,null,0,null,null,0,null,null,0,null,null,0]
[null,0,null,null,0,null,null,0,null,null,0,null,null,0]
[null,0,null,null,0,null,null,0,null,null,{"$f":"K341","v":0},null,null,0]
[null,0,null,null,0,null,null,0,null,null,0,null,null,0]
[]
[]
[null,null,{"$f":"'1-2a'!$C$355","v":0},null,null,{"$f":"'1-2a'!$F$355","v":0},null,null,{"$f":"'1-2a'!$I$355","v":0},null,null,{"$f":"'1-2a'!$L$355","v":0},null,null,{"$f":"'1-2a'!$O$355","v":0}]
[{"$f":"IF(A346=52,1,A346+1)","v":15},{"$f":"N346+3","v":"2021-04-05"},null,null,{"$f":"B356+1","v":"2021-04-06"},null,null,{"$f":"E356+1","v":"2021-04-07"},null,null,{"$f":"H356+1","v":"2021-04-08"},null,null,{"$f":"K356+1","v":"2021-04-09"}]
[null,{"$f":"B347","v":0},null,null,{"$f":"E347","v":0},null,null,{"$f":"H347","v":0},null,null,{"$f":"K347","v":0},null,null,{"$f":"N347","v":0}]
[36,0,null,null,0,null,null,0,null,null,0,null,null,0]
[null,0,null,null,0,null,null,0,null,null,0,null,null,0]
[null,0,null,null,0,null,null,0,null,null,0,null,null,0]
[null,0,null,null,0,null,null,0,null,null,{"$f":"K351","v":0},null,null,0]
[null,0,null,null,0,null,null,0,null,null,0,null,null,0]
[]
[]
[null,null,{"$f":"'1-2a'!$C$365","v":0},null,null,{"$f":"'1-2a'!$F$365","v":0},null,null,{"$f":"'1-2a'!$I$365","v":0},null,null,{"$f":"'1-2a'!$L$365","v":0},null,null,{"$f":"'1-2a'!$O$365","v":0}]
[{"$f":"IF(A356=52,1,A356+1)","v":16},{"$f":"N356+3","v":"2021-04-12"},null,null,{"$f":"B366+1","v":"2021-04-13"},null,null,{"$f":"E366+1","v":"2021-04-14"},null,null,{"$f":"H366+1","v":"2021-04-15"},null,null,{"$f":"K366+1","v":"2021-04-16"}]
[null,{"$f":"B357","v":0},null,null,{"$f":"E357","v":0},null,null,{"$f":"H357","v":0},null,null,{"$f":"K357","v":0},null,null,{"$f":"N357","v":0}]
[37,0,null,null,0,null,null,0,null,null,0,null,null,0]
[null,0,null,null,0,null,null,0,null,null,0,null,null,0]
[null,0,null,null,0,null,null,0,null,null,0,null,null,0]
[null,0,null,null,0,null,null,0,null,null,{"$f":"K361","v":0},null,null,0]
[null,0,null,null,0,null,null,0,null,null,0,null,null,0]
[]
[]
[null,null,{"$f":"'1-2a'!$C$375","v":0},null,null,{"$f":"'1-2a'!$F$375","v":0},null,null,{"$f":"'1-2a'!$I$375","v":0},null,null,{"$f":"'1-2a'!$L$375","v":0},null,null,{"$f":"'1-2a'!$O$375","v":0}]
[{"$f":"IF(A366=52,1,A366+1)","v":17},{"$f":"N366+3","v":"2021-04-19"},null,null,{"$f":"B376+1","v":"2021-04-20"},null,null,{"$f":"E376+1","v":"2021-04-21"},null,null,{"$f":"H376+1","v":"2021-04-22"},null,null,{"$f":"K376+1","v":"2021-04-23"}]
[null,{"$f":"B367","v":0},null,null,{"$f":"E367","v":0},null,null,{"$f":"H367","v":0},null,null,{"$f":"K367","v":0},null,null,{"$f":"N367","v":0}]
[38,0,null,null,0,null,null,0,null,null,0,null,null,0]
[null,0,null,null,0,null,null,0,null,null,0,null,null,0]
[null,0,null,null,0,null,null,0,null,null,0,null,null,0]
[null,0,null,null,0,null,null,0,null,null,{"$f":"K371","v":0},null,null,0]
[null,0,null,null,0,null,null,0,null,null,0,null,null,0]
[]
[]
[null,null,{"$f":"'1-2a'!$C$385","v":0},null,null,{"$f":"'1-2a'!$F$385","v":0},null,null,{"$f":"'1-2a'!$I$385","v":0},null,null,{"$f":"'1-2a'!$L$385","v":0},null,null,{"$f":"'1-2a'!$O$385","v":0}]
[{"$f":"IF(A376=52,1,A376+1)","v":18},{"$f":"N376+3","v":"2021-04-26"},null,null,{"$f":"B386+1","v":"2021-04-27"},null,null,{"$f":"E386+1","v":"2021-04-28"},null,null,{"$f":"H386+1","v":"2021-04-29"},null,null,{"$f":"K386+1","v":"2021-04-30"}]
[null,{"$f":"B377","v":0},null,null,{"$f":"E377","v":0},null,null,{"$f":"H377","v":0},null,null,{"$f":"K377","v":0},null,null,{"$f":"N377","v":0}]
[39,0,null,null,0,null,null,0,null,null,0,null,null,0]
[null,0,null,null,0,null,null,0,null,null,0,null,null,0]
[null,0,null,null,0,null,null,0,null,null,0,null,null,0]
[null,0,null,null,0,null,null,0,null,null,{"$f":"K381","v":0},null,null,0]
[null,0,null,null,0,null,null,0,null,null,0,null,null,0]
[]
[]
[null,null,{"$f":"'1-2a'!$C$395","v":0},null,null,{"$f":"'1-2a'!$F$395","v":0},null,null,{"$f":"'1-2a'!$I$395","v":0},null,null,{"$f":"'1-2a'!$L$395","v":0},null,null,{"$f":"'1-2a'!$O$395","v":0}]
[{"$f":"IF(A386=52,1,A386+1)","v":19},{"$f":"N386+3","v":"2021-05-03"},null,null,{"$f":"B396+1","v":"2021-05-04"},null,null,{"$f":"E396+1","v":"2021-05-05"},null,null,{"$f":"H396+1","v":"2021-05-06"},null,null,{"$f":"K396+1","v":"2021-05-07"}]
[null,{"$f":"B387","v":0},null,null,{"$f":"E387","v":0},null,null,{"$f":"H387","v":0},null,null,{"$f":"K387","v":0},null,null,{"$f":"N387","v":0}]
[40,0,null,null,0,null,null,0,null,null,0,null,null,0]
[null,0,null,null,0,null,null,0,null,null,0,null,null,0]
[null,0,null,null,0,null,null,0,null,null,0,null,null,0]
[null,0,null,null,0,null,null,0,null,null,{"$f":"K391","v":0},null,null,0]
[null,0,null,null,0,null,null,0,null,null,0,null,null,0]
[]
[]
[null,null,{"$f":"'1-2a'!$C$405","v":0},null,null,{"$f":"'1-2a'!$F$405","v":0},null,null,{"$f":"'1-2a'!$I$405","v":0},null,null,{"$f":"'1-2a'!$L$405","v":0},null,null,{"$f":"'1-2a'!$O$405","v":0}]
[{"$f":"IF(A396=52,1,A396+1)","v":20},{"$f":"N396+3","v":"2021-05-10"},null,null,{"$f":"B406+1","v":"2021-05-11"},null,null,{"$f":"E406+1","v":"2021-05-12"},null,null,{"$f":"H406+1","v":"2021-05-13"},null,null,{"$f":"K406+1","v":"2021-05-14"}]
[null,{"$f":"B397","v":0},null,null,{"$f":"E397","v":0},null,null,{"$f":"H397","v":0},null,null,{"$f":"K397","v":0},null,null,{"$f":"N397","v":0}]
[41,0,null,null,0,null,null,0,null,null,0,null,null,0]
[null,0,null,null,0,null,null,0,null,null,0,null,null,0]
[null,0,null,null,0,null,null,0,null,null,0,null,null,0]
[null,0,null,null,0,null,null,0,null,null,0,null,null,0]
[null,0,null,null,0,null,null,0,null,null,0,null,null,0]
[]
[]
[null,null,{"$f":"'1-2a'!$C$415","v":0},null,null,{"$f":"'1-2a'!$F$415","v":0},null,null,{"$f":"'1-2a'!$I$415","v":0},null,null,{"$f":"'1-2a'!$L$415","v":0},null,null,{"$f":"'1-2a'!$O$415","v":0}]
[{"$f":"IF(A406=52,1,A406+1)","v":21},{"$f":"N406+3","v":"2021-05-17"},null,null,{"$f":"B416+1","v":"2021-05-18"},null,null,{"$f":"E416+1","v":"2021-05-19"},null,null,{"$f":"H416+1","v":"2021-05-20"},null,null,{"$f":"K416+1","v":"2021-05-21"}]
[null,{"$f":"B407","v":0},null,null,{"$f":"E407","v":0},null,null,{"$f":"H407","v":0},null,null,{"$f":"K407","v":0},null,null,{"$f":"N407","v":0}]
[42,0,null,null,0,null,null,0,null,null,0,null,null,0]
[null,0,null,null,0,null,null,0,null,null,0,null,null,0]
[null,0,null,null,0,null,null,0,null,null,0,null,null,0]
[null,0,null,null,0,null,null,0,null,null,{"$f":"K411","v":0},null,null,0]
[null,0,null,null,0,null,null,0,null,null,0,null,null,0]
[]
[]
[null,null,{"$f":"'1-2a'!$C$425","v":0},null,null,{"$f":"'1-2a'!$F$425","v":0},null,null,{"$f":"'1-2a'!$I$425","v":0},null,null,{"$f":"'1-2a'!$L$425","v":0},null,null,{"$f":"'1-2a'!$O$425","v":0}]
[{"$f":"IF(A416=52,1,A416+1)","v":22},{"$f":"N416+3","v":"2021-05-24"},null,null,{"$f":"B426+1","v":"2021-05-25"},null,null,{"$f":"E426+1","v":"2021-05-26"},null,null,{"$f":"H426+1","v":"2021-05-27"},null,null,{"$f":"K426+1","v":"2021-05-28"}]
[null,{"$f":"B417","v":0},null,null,{"$f":"E417","v":0},null,null,{"$f":"H417","v":0},null,null,{"$f":"K417","v":0},null,null,{"$f":"N417","v":0}]
[43,0,null,null,0,null,null,0,null,null,0,null,null,0]
[null,0,null,null,0,null,null,0,null,null,0,null,null,0]
[null,0,null,null,0,null,null,0,null,null,0,null,null,0]
[null,0,null,null,0,null,null,0,null,null,{"$f":"K421","v":0},null,null,0]
[null,0,null,null,0,null,null,0,null,null,0,null,null,0]
[]
[]
[null,null,{"$f":"'1-2a'!$C$435","v":0},null,null,{"$f":"'1-2a'!$F$435","v":0},null,null,{"$f":"'1-2a'!$I$435","v":0},null,null,{"$f":"'1-2a'!$L$435","v":0},null,null,{"$f":"'1-2a'!$O$435","v":0}]
[{"$f":"IF(A426=52,1,A426+1)","v":23},{"$f":"N426+3","v":"2021-05-31"},null,null,{"$f":"B436+1","v":"2021-06-01"},null,null,{"$f":"E436+1","v":"2021-06-02"},null,null,{"$f":"H436+1","v":"2021-06-03"},null,null,{"$f":"K436+1","v":"2021-06-04"}]
[null,{"$f":"B427","v":0},null,null,{"$f":"E427","v":0},null,null,{"$f":"H427","v":0},null,null,{"$f":"K427","v":0},null,null,{"$f":"N427","v":0}]
[44,0,null,null,0,null,null,0,null,null,0,null,null,0]
[null,0,null,null,0,null,null,0,null,null,0,null,null,0]
[null,0,null,null,0,null,null,0,null,null,0,null,null,0]
[null,0,null,null,0,null,null,0,null,null,{"$f":"K431","v":0},null,null,0]
[null,0,null,null,0,null,null,0,null,null,0,null,null,0]
[]
[]
[null,null,{"$f":"'1-2a'!$C$445","v":0},null,null,{"$f":"'1-2a'!$F$445","v":0},null,null,{"$f":"'1-2a'!$I$445","v":0},null,null,{"$f":"'1-2a'!$L$445","v":0},null,null,{"$f":"'1-2a'!$O$445","v":0}]
[{"$f":"IF(A436=52,1,A436+1)","v":24},{"$f":"N436+3","v":"2021-06-07"},null,null,{"$f":"B446+1","v":"2021-06-08"},null,null,{"$f":"E446+1","v":"2021-06-09"},null,null,{"$f":"H446+1","v":"2021-06-10"},null,null,{"$f":"K446+1","v":"2021-06-11"}]
[null,{"$f":"B437","v":0},null,null,{"$f":"E437","v":0},null,null,{"$f":"H437","v":0},null,null,{"$f":"K437","v":0},null,null,{"$f":"N437","v":0}]
[45,0,null,null,0,null,null,0,null,null,0,null,null,0]
[null,0,null,null,0,null,null,0,null,null,0,null,null,0]
[null,0,null,null,0,null,null,0,null,null,0,null,null,0]
[null,0,null,null,0,null,null,0,null,null,{"$f":"K441","v":0},null,null,0]
[null,0,null,null,0,null,null,0,null,null,0,null,null,0]
[]
[]
[null,null,{"$f":"'1-2a'!$C$455","v":0},null,null,{"$f":"'1-2a'!$F$455","v":0},null,null,{"$f":"'1-2a'!$I$455","v":0},null,null,{"$f":"'1-2a'!$L$455","v":0},null,null,{"$f":"'1-2a'!$O$455","v":0}]
[{"$f":"IF(A446=52,1,A446+1)","v":25},{"$f":"N446+3","v":"2021-06-14"},null,null,{"$f":"B456+1","v":"2021-06-15"},null,null,{"$f":"E456+1","v":"2021-06-16"},null,null,{"$f":"H456+1","v":"2021-06-17"},null,null,{"$f":"K456+1","v":"2021-06-18"}]
[null,{"$f":"B447","v":0},null,null,{"$f":"E447","v":0},null,null,{"$f":"H447","v":0},null,null,{"$f":"K447","v":0},null,null,{"$f":"N447","v":0}]
[46,0,null,null,0,null,null,0,null,null,0,null,null,0]
[null,0,null,null,0,null,null,0,null,null,0,null,null,0]
[null,0,null,null,0,null,null,0,null,null,0,null,null,0]
[null,0,null,null,0,null,null,0,null,null,{"$f":"K451","v":0},null,null,0]
[null,0,null,null,0,null,null,0,null,null,0,null,null,0]
[]
[]
[null,null,{"$f":"'1-2a'!$C$465","v":0},null,null,{"$f":"'1-2a'!$F$465","v":0},null,null,{"$f":"'1-2a'!$I$465","v":0},null,null,{"$f":"'1-2a'!$L$465","v":0},null,null,{"$f":"'1-2a'!$O$465","v":0}]
[{"$f":"IF(A456=52,1,A456+1)","v":26},{"$f":"N456+3","v":"2021-06-21"},null,null,{"$f":"B466+1","v":"2021-06-22"},null,null,{"$f":"E466+1","v":"2021-06-23"},null,null,{"$f":"H466+1","v":"2021-06-24"},null,null,{"$f":"K466+1","v":"2021-06-25"}]
[null,{"$f":"B457","v":0},null,null,{"$f":"E457","v":0},null,null,{"$f":"H457","v":0},null,null,{"$f":"K457","v":0},null,null,{"$f":"N457","v":0}]
[47,0,null,null,0,null,null,0,null,null,0,null,null,0]
[null,0,null,null,0,null,null,0,null,null,0,null,null,0]
[null,0,null,null,0,null,null,0,null,null,0,null,null,0]
[null,0,null,null,0,null,null,0,null,null,{"$f":"K461","v":0},null,null,0]
[null,0,null,null,0,null,null,0,null,null,0,null,null,0]
[]
[]
[null,null,{"$f":"'1-2a'!$C$475","v":0},null,null,{"$f":"'1-2a'!$F$475","v":0},null,null,{"$f":"'1-2a'!$I$475","v":0},null,null,{"$f":"'1-2a'!$L$475","v":0},null,null,{"$f":"'1-2a'!$O$475","v":0}]
[{"$f":"IF(A466=52,1,A466+1)","v":27},{"$f":"N466+3","v":"2021-06-28"},null,null,{"$f":"B476+1","v":"2021-06-29"},null,null,{"$f":"E476+1","v":"2021-06-30"},null,null,{"$f":"H476+1","v":"2021-07-01"},null,null,{"$f":"K476+1","v":"2021-07-02"}]
[null,{"$f":"B467","v":0},null,null,{"$f":"E467","v":0},null,null,{"$f":"H467","v":0},null,null,{"$f":"K467","v":0},null,null,{"$f":"N467","v":0}]
[48,0,null,null,0,null,null,0,null,null,0,null,null,0]
[null,0,null,null,0,null,null,0,null,null,0,null,null,0]
[null,0,null,null,0,null,null,0,null,null,0,null,null,0]
[null,0,null,null,0,null,null,0,null,null,{"$f":"K471","v":0},null,null,0]
[null,0,null,null,0,null,null,0,null,null,0,null,null,0]
[]
[]
[null,null,{"$f":"'1-2a'!$C$485","v":0},null,null,{"$f":"'1-2a'!$F$485","v":0},null,null,{"$f":"'1-2a'!$I$485","v":0},null,null,{"$f":"'1-2a'!$L$485","v":0},null,null,{"$f":"'1-2a'!$O$485","v":0}]
[{"$f":"IF(A476=52,1,A476+1)","v":28},{"$f":"N476+3","v":"2021-07-05"},null,null,{"$f":"B486+1","v":"2021-07-06"},null,null,{"$f":"E486+1","v":"2021-07-07"},null,null,{"$f":"H486+1","v":"2021-07-08"},null,null,{"$f":"K486+1","v":"2021-07-09"}]
[null,{"$f":"B477","v":0},null,null,{"$f":"E477","v":0},null,null,{"$f":"H477","v":0},null,null,{"$f":"K477","v":0},null,null,{"$f":"N477","v":0}]
[49,0,null,null,0,null,null,0,null,null,0,null,null,0]
[null,0,null,null,0,null,null,0,null,null,0,null,null,0]
[null,0,null,null,0,null,null,0,null,null,0,null,null,0]
[null,0,null,null,0,null,null,0,null,null,0,null,null,0]
[null,0,null,null,0,null,null,0,null,null,0,null,null,0]
[]
[]
[null,null,{"$f":"'1-2a'!$C$495","v":0},null,null,{"$f":"'1-2a'!$F$495","v":0},null,null,{"$f":"'1-2a'!$I$495","v":0},null,null,{"$f":"'1-2a'!$L$495","v":0},null,null,{"$f":"'1-2a'!$O$495","v":0}]
[{"$f":"IF(A486=52,1,A486+1)","v":29},{"$f":"N486+3","v":"2021-07-12"},null,null,{"$f":"B496+1","v":"2021-07-13"},null,null,{"$f":"E496+1","v":"2021-07-14"},null,null,{"$f":"H496+1","v":"2021-07-15"},null,null,{"$f":"K496+1","v":"2021-07-16"}]
[null,{"$f":"B487","v":0},null,null,{"$f":"E487","v":0},null,null,{"$f":"H487","v":0},null,null,{"$f":"K487","v":0},null,null,{"$f":"N487","v":0}]
[50,0,null,null,0,null,null,0,null,null,0]
[null,0,null,null,0,null,null,0,null,null,0,null,null,0]
[null,0,null,null,0,null,null,0,null,null,0,null,null,0]
[null,0,null,null,0,null,null,0,null,null,{"$f":"K491","v":0},null,null,0]
[null,0,null,null,0,null,null,0,null,null,0]

{"sheet":"13","index":13,"n_rows":502,"n_cols":15,"rows_kept":502,"cut":false,"hidden":false,"merged":[[5,1,5,3],[5,4,5,6],[5,7,5,9],[5,10,5,12],[5,13,5,15],[7,0,8,0],[1,1,2,7],[1,9,2,12],[1,13,2,15],[3,1,3,3],[3,4,3,6],[3,7,3,9],[3,10,3,12],[3,13,3,15],[12,1,13,3],[12,4,13,6],[12,7,13,9],[12,10,13,12],[12,13,13,15],[15,1,15,3],[15,4,15,6],[15,7,15,9],[15,10,15,12],[15,13,15,15],[25,1,25,3],[25,4,25,6],[25,7,25,9],[25,10,25,12],[25,13,25,15],[27,0,28,0],[17,0,18,0],[22,1,23,3],[22,4,23,6],[22,7,23,9],[22,10,23,12],[22,13,23,15],[32,1,33,3],[32,4,33,6],[32,7,33,9],[32,10,33,12],[32,13,33,15],[35,1,35,3],[35,4,35,6],[35,7,35,9],[35,10,35,12],[35,13,35,15],[45,1,45,3],[45,4,45,6],[45,7,45,9],[45,10,45,12],[45,13,45,15],[47,0,48,0],[37,0,38,0],[42,1,43,3],[42,4,43,6],[42,7,43,9],[42,10,43,12],[42,13,43,15],[52,1,53,3],[52,4,53,6],[52,7,53,9],[52,10,53,12],[52,13,53,15],[55,1,55,3],[55,4,55,6],[55,7,55,9],[55,10,55,12],[55,13,55,15],[65,1,65,3],[65,4,65,6],[65,7,65,9],[65,10,65,12],[65,13,65,15],[67,0,68,0],[57,0,58,0],[62,1,63,3],[62,4,63,6],[62,7,63,9],[62,10,63,12],[62,13,63,15],[72,1,73,3],[72,4,73,6],[72,7,73,9],[72,10,73,12],[72,13,73,15],[75,1,75,3],[75,4,75,6],[75,7,75,9],[75,10,75,12],[75,13,75,15],[85,1,85,3],[85,4,85,6],[85,7,85,9],[85,10,85,12],[85,13,85,15],[87,0,88,0],[77,0,78,0],[82,1,83,3],[82,4,83,6],[82,7,83,9],[82,10,83,12],[82,13,83,15],[92,1,93,3],[92,4,93,6],[92,7,93,9],[92,10,93,12],[92,13,93,15],[95,1,95,3],[95,4,95,6],[95,7,95,9],[95,10,95,12],[95,13,95,15],[105,1,105,3],[105,4,105,6],[105,7,105,9],[105,10,105,12],[105,13,105,15],[107,0,108,0],[97,0,98,0],[99,16,100,19],[102,1,103,3],[102,4,103,6],[102,7,103,9],[102,10,103,12],[102,13,103,15],[112,1,113,3],[112,4,113,6],[112,7,113,9],[112,10,113,12],[112,13,113,15],[115,1,115,3],[115,4,115,6],[115,7,115,9],[115,10,115,12],[115,13,115,15],[125,1,125,3],[125,4,125,6],[125,7,125,9],[125,10,125,12],[125,13,125,15],[127,0,128,0],[117,0,118,0],[122,1,123,3],[122,4,123,6],[122,7,123,9],[122,10,123,12],[122,13,123,15],[132,1,133,3],[132,4,133,6],[132,7,133,9],[132,10,133,12],[132,13,133,15],[135,1,135,3],[135,4,135,6],[135,7,135,9],[135,10,135,12],[135,13,135,15],[145,1,145,3],[145,4,145,6],[145,7,145,9],[145,10,145,12],[145,13,145,15],[147,0,148,0],[137,0,138,0],[142,1,143,3],[142,4,143,6],[142,7,143,9],[142,10,143,12],[142,13,143,15],[152,1,153,3],[152,4,153,6],[152,7,153,9],[152,10,153,12],[152,13,153,15],[155,1,155,3],[155,4,155,6],[155,7,155,9],[155,10,155,12],[155,13,155,15],[165,1,165,3],[165,4,165,6],[165,7,165,9],[165,10,165,12],[165,13,165,15],[167,0,168,0],[157,0,158,0],[162,1,163,3],[162,4,163,6],[162,7,163,9],[162,10,163,12],[162,13,163,15],[172,1,173,3],[172,4,173,6],[172,7,173,9],[172,10,173,12],[172,13,173,15],[175,1,175,3],[175,4,175,6],[175,7,175,9],[175,10,175,12],[175,13,175,15],[185,1,185,3],[185,4,185,6],[185,7,185,9],[185,10,185,12],[185,13,185,15],[187,0,188,0],[177,0,178,0],[179,16,180,19],[182,1,183,3],[182,4,183,6],[182,7,183,9],[182,10,183,12],[182,13,183,15],[192,1,193,3],[192,4,193,6],[192,7,193,9],[192,10,193,12],[192,13,193,15],[195,1,195,3],[195,4,195,6],[195,7,195,9],[195,10,195,12],[195,13,195,15],[205,1,205,3],[205,4,205,6],[205,7,205,9],[205,10,205,12],[205,13,205,15],[207,0,208,0],[197,0,198,0],[202,1,203,3],[202,4,203,6],[202,7,203,9],[202,10,203,12],[202,13,203,15],[212,1,213,3],[212,4,213,6],[212,7,213,9],[212,10,213,12],[212,13,213,15],[215,1,215,3],[215,4,215,6],[215,7,215,9],[215,10,215,12],[215,13,215,15],[225,1,225,3],[225,4,225,6],[225,7,225,9],[225,10,225,12],[225,13,225,15],[227,0,228,0],[217,0,218,0],[222,1,223,3],[222,4,223,6],[222,7,223,9],[222,10,223,12],[222,13,223,15],[232,1,233,3],[232,4,233,6],[232,7,233,9],[232,10,233,12],[232,13,233,15],[235,1,235,3],[235,4,235,6],[235,7,235,9],[235,10,235,12],[235,13,235,15],[245,1,245,3],[245,4,245,6],[245,7,245,9],[245,10,245,12],[245,13,245,15],[247,0,248,0],[237,0,238,0],[242,1,243,3],[242,4,243,6],[242,7,243,9],[242,10,243,12],[242,13,243,15],[252,1,253,3],[252,4,253,6],[252,7,253,9],[252,10,253,12],[252,13,253,15],[255,1,255,3],[255,4,255,6],[255,7,255,9],[255,10,255,12],[255,13,255,15],[265,1,265,3],[265,4,265,6],[265,7,265,9],[265,10,265,12],[265,13,265,15],[267,0,268,0],[257,0,258,0],[259,16,260,19],[262,1,263,3],[262,4,263,6],[262,7,263,9],[262,10,263,12],[262,13,263,15],[272,1,273,3],[272,4,273,6],[272,7,273,9],[272,10,273,12],[272,13,273,15],[275,1,275,3],[275,4,275,6],[275,7,275,9],[275,10,275,12],[275,13,275,15],[285,1,285,3],[285,4,285,6],[285,7,285,9],[285,10,285,12],[285,13,285,15],[287,0,288,0],[277,0,278,0],[282,1,283,3],[282,4,283,6],[282,7,283,9],[282,10,283,12],[282,13,283,15],[292,1,293,3],[292,4,293,6],[292,7,293,9],[292,10,293,12],[292,13,293,15],[295,1,295,3],[295,4,295,6],[295,7,295,9],[295,10,295,12],[295,13,295,15],[305,1,305,3],[305,4,305,6],[305,7,305,9],[305,10,305,12],[305,13,305,15],[307,0,308,0],[297,0,298,0],[302,1,303,3],[302,4,303,6],[302,7,303,9],[302,10,303,12],[302,13,303,15],[312,1,313,3],[312,4,313,6],[312,7,313,9],[312,10,313,12],[312,13,313,15],[315,1,315,3],[315,4,315,6],[315,7,315,9],[315,10,315,12],[315,13,315,15],[325,1,325,3],[325,4,325,6],[325,7,325,9],[325,10,325,12],[325,13,325,15],[327,0,328,0],[317,0,318,0],[322,1,323,3],[322,4,323,6],[322,7,323,9],[322,10,323,12],[322,13,323,15],[332,1,333,3],[332,4,333,6],[332,7,333,9],[332,10,333,12],[332,13,333,15],[335,1,335,3],[335,4,335,6],[335,7,335,9],[335,10,335,12],[335,13,335,15],[345,1,345,3],[345,4,345,6],[345,7,345,9],[345,10,345,12],[345,13,345,15],[347,0,348,0],[337,0,338,0],[339,16,340,19],[342,1,343,3],[342,4,343,6],[342,7,343,9],[342,10,343,12],[342,13,343,15],[352,1,353,3],[352,4,353,6],[352,7,353,9],[352,10,353,12],[352,13,353,15],[355,1,355,3],[355,4,355,6],[355,7,355,9],[355,10,355,12],[355,13,355,15],[365,1,365,3],[365,4,365,6],[365,7,365,9],[365,10,365,12],[365,13,365,15],[367,0,368,0],[357,0,358,0],[362,1,363,3],[362,4,363,6],[362,7,363,9],[362,10,363,12],[362,13,363,15],[372,1,373,3],[372,4,373,6],[372,7,373,9],[372,10,373,12],[372,13,373,15],[375,1,375,3],[375,4,375,6],[375,7,375,9],[375,10,375,12],[375,13,375,15],[385,1,385,3],[385,4,385,6],[385,7,385,9],[385,10,385,12],[385,13,385,15],[387,0,388,0],[377,0,378,0],[382,1,383,3],[382,4,383,6],[382,7,383,9],[382,10,383,12],[382,13,383,15],[392,1,393,3],[392,4,393,6],[392,7,393,9],[392,10,393,12],[392,13,393,15],[395,1,395,3],[395,4,395,6],[395,7,395,9],[395,10,395,12],[395,13,395,15],[405,1,405,3],[405,4,405,6],[405,7,405,9],[405,10,405,12],[405,13,405,15],[407,0,408,0],[397,0,398,0],[402,1,403,3],[402,4,403,6],[402,7,403,9],[402,10,403,12],[402,13,403,15],[412,1,413,3],[412,4,413,6],[412,7,413,9],[412,10,413,12],[412,13,413,15],[415,1,415,3],[415,4,415,6],[415,7,415,9],[415,10,415,12],[415,13,415,15],[425,1,425,3],[425,4,425,6],[425,7,425,9],[425,10,425,12],[425,13,425,15],[427,0,428,0],[417,0,418,0],[419,16,420,19],[422,1,423,3],[422,4,423,6],[422,7,423,9],[422,10,423,12],[422,13,423,15],[432,1,433,3],[432,4,433,6],[432,7,433,9],[432,10,433,12],[432,13,433,15],[435,1,435,3],[435,4,435,6],[435,7,435,9],[435,10,435,12],[435,13,435,15],[445,1,445,3],[445,4,445,6],[445,7,445,9],[445,10,445,12],[445,13,445,15],[447,0,448,0],[437,0,438,0],[442,1,443,3],[442,4,443,6],[442,7,443,9],[442,10,443,12],[442,13,443,15],[452,1,453,3],[452,4,453,6],[452,7,453,9],[452,10,453,12],[452,13,453,15],[455,1,455,3],[455,4,455,6],[455,7,455,9],[455,10,455,12],[455,13,455,15],[465,1,465,3],[465,4,465,6],[465,7,465,9],[465,10,465,12],[465,13,465,15],[467,0,468,0],[457,0,458,0],[462,1,463,3],[462,4,463,6],[462,7,463,9],[462,10,463,12],[462,13,463,15],[472,1,473,3],[472,4,473,6],[472,7,473,9],[472,10,473,12],[472,13,473,15],[475,1,475,3],[475,4,475,6],[475,7,475,9],[475,10,475,12],[475,13,475,15],[485,1,485,3],[485,4,485,6],[485,7,485,9],[485,10,485,12],[485,13,485,15],[487,0,488,0],[477,0,478,0],[482,1,483,3],[482,4,483,6],[482,7,483,9],[482,10,483,12],[482,13,483,15],[497,0,498,0],[499,16,500,19],[502,1,503,3],[502,4,503,6],[502,7,503,9],[502,10,503,12],[502,13,503,15],[492,1,493,3],[492,4,493,6],[492,7,493,9],[492,10,493,12],[492,13,493,15],[495,1,495,3],[495,4,495,6],[495,7,495,9],[495,10,495,12],[495,13,495,15]]}
[]
[null,{"$f":"'1-2a'!B2:H3","v":"Basisschool De Grote Beer        schooljaar 2020/2021"},null,null,null,null,null,null,null,"Groepsplanner van groep:",null,null,null,"13"]
[]
[null,"maandag 1e schoolweek",null,null,"dinsdag",null,null,"woensdag",null,null,"donderdag",null,null,"vrijdag"]
[null,null,{"$f":"'1-2a'!C$5","v":0},null,null,{"$f":"'1-2a'!F5","v":0},null,null,{"$f":"'1-2a'!I$5","v":0},null,null,{"$f":"'1-2a'!L$5","v":"s"},null,null,{"$f":"'1-2a'!O$5","v":0}]
[{"$f":"(B6-WEEKDAY(B6-1)+4-(TRUNC(DATE(YEAR(B6-WEEKDAY(B6-1)+4),1,2)/7)*7-2))/7","v":32},{"$f":"'1-2a'!B6:D6","v":"2020-08-03"},null,null,{"$f":"B6+1","v":"2020-08-04"},null,null,{"$f":"E6+1","v":"2020-08-05"},null,null,{"$f":"H6+1","v":"2020-08-06"},null,null,{"$f":"K6+1","v":"2020-08-07"}]
[]
[1]
[]
[]
[]
[]
[]
[]
[null,null,{"$f":"'1-2a'!C$15","v":0},null,null,{"$f":"'1-2a'!F$15","v":0},null,null,{"$f":"'1-2a'!I$15","v":0},null,null,{"$f":"'1-2a'!L$15","v":0},null,null,{"$f":"'1-2a'!O15","v":0}]
[{"$f":"IF(A6=52,1,A6+1)","v":33},{"$f":"N6+3","v":"2020-08-10"},null,null,{"$f":"B16+1","v":"2020-08-11"},null,null,{"$f":"E16+1","v":"2020-08-12"},null,null,{"$f":"H16+1","v":"2020-08-13"},null,null,{"$f":"K16+1","v":"2020-08-14"}]
[null,{"$f":"B7","v":0},null,null,{"$f":"E7","v":0},null,null,{"$f":"H7","v":0},null,null,{"$f":"K7","v":0},null,null,{"$f":"N7","v":0}]
[2,0,null,null,0,null,null,0,null,null,0,null,null,0]
[null,0,null,null,0,null,null,0,null,null,0,null,null,0]
[null,0,null,null,0,null,null,0,null,null,0,null,null,0]
[null,0,null,null,0,null,null,0,null,null,0,null,null,0]
[null,0,null,null,0,null,null,0,null,null,0,null,null,0]
[]
[]
[null,null,{"$f":"'1-2a'!C$25","v":0},null,null,{"$f":"'1-2a'!F$25","v":0},null,null,{"$f":"'1-2a'!I25","v":0},null,null,{"$f":"'1-2a'!L25","v":0},null,null,{"$f":"'1-2a'!O25","v":0}]
[{"$f":"IF(A16=52,1,A16+1)","v":34},{"$f":"N16+3","v":"2020-08-17"},null,null,{"$f":"B26+1","v":"2020-08-18"},null,null,{"$f":"E26+1","v":"2020-08-19"},null,null,{"$f":"H26+1","v":"2020-08-20"},null,null,{"$f":"K26+1","v":"2020-08-21"}]
[null,{"$f":"B17","v":0},null,null,{"$f":"E17","v":0},null,null,{"$f":"H17","v":0},null,null,{"$f":"K17","v":0},null,null,{"$f":"N17","v":0}]
[3,0,null,null,0,null,null,0,null,null,0,null,null,0]
[null,0,null,null,0,null,null,0,null,null,0,null,null,0]
[null,0,null,null,0,null,null,0,null,null,0,null,null,0]
[null,0,null,null,0,null,null,0,null,null,{"$f":"K21","v":0},null,null,0]
[null,0,null,null,0,null,null,0,null,null,0,null,null,0]
[]
[]
[null,null,{"$f":"'1-2a'!$C$35","v":0},null,null,{"$f":"'1-2a'!$F$35","v":0},null,null,{"$f":"'1-2a'!$I$35","v":0},null,null,{"$f":"'1-2a'!$L$35","v":0},null,null,{"$f":"'1-2a'!$O$35","v":0}]
[{"$f":"IF(A26=52,1,A26+1)","v":35},{"$f":"N26+3","v":"2020-08-24"},null,null,{"$f":"B36+1","v":"2020-08-25"},null,null,{"$f":"E36+1","v":"2020-08-26"},null,null,{"$f":"H36+1","v":"2020-08-27"},null,null,{"$f":"K36+1","v":"2020-08-28"}]
[null,{"$f":"B27","v":0},null,null,{"$f":"E27","v":0},null,null,{"$f":"H27","v":0},null,null,{"$f":"K27","v":0},null,null,{"$f":"N27","v":0}]
[4,0,null,null,0,null,null,0,null,null,0,null,null,0]
[null,0,null,null,0,null,null,0,null,null,0,null,null,0]
[null,0,null,null,0,null,null,0,null,null,0,null,null,0]
[null,0,null,null,0,null,null,0,null,null,{"$f":"K31","v":0},null,null,0]
[null,0,null,null,0,null,null,0,null,null,0,null,null,0]
[]
[]
[null,null,{"$f":"'1-2a'!$C$45","v":0},null,null,{"$f":"'1-2a'!$F$45","v":0},null,null,{"$f":"'1-2a'!$I$45","v":0},null,null,{"$f":"'1-2a'!$L$45","v":0},null,null,{"$f":"'1-2a'!$O$45","v":0}]
[{"$f":"IF(A36=52,1,A36+1)","v":36},{"$f":"N36+3","v":"2020-08-31"},null,null,{"$f":"B46+1","v":"2020-09-01"},null,null,{"$f":"E46+1","v":"2020-09-02"},null,null,{"$f":"H46+1","v":"2020-09-03"},null,null,{"$f":"K46+1","v":"2020-09-04"}]
[null,{"$f":"B37","v":0},null,null,{"$f":"E37","v":0},null,null,{"$f":"H37","v":0},null,null,{"$f":"K37","v":0},null,null,{"$f":"N37","v":0}]
[5,0,null,null,0,null,null,0,null,null,0,null,null,0]
[null,0,null,null,0,null,null,0,null,null,0,null,null,0]
[null,0,null,null,0,null,null,0,null,null,0,null,null,0]
[null,0,null,null,0,null,null,0,null,null,{"$f":"K41","v":0},null,null,0]
[null,0,null,null,0,null,null,0,null,null,0,null,null,0]
[]
[]
[null,null,{"$f":"'1-2a'!$C$55","v":0},null,null,{"$f":"'1-2a'!$F$55","v":0},null,null,{"$f":"'1-2a'!$I$55","v":0},null,null,{"$f":"'1-2a'!$L$55","v":0},null,null,{"$f":"'1-2a'!O55","v":0}]
[{"$f":"IF(A46=52,1,A46+1)","v":37},{"$f":"N46+3","v":"2020-09-07"},null,null,{"$f":"B56+1","v":"2020-09-08"},null,null,{"$f":"E56+1","v":"2020-09-09"},null,null,{"$f":"H56+1","v":"2020-09-10"},null,null,{"$f":"K56+1","v":"2020-09-11"}]
[null,{"$f":"B47","v":0},null,null,{"$f":"E47","v":0},null,null,{"$f":"H47","v":0},null,null,{"$f":"K47","v":0},null,null,{"$f":"N47","v":0}]
[6,0,null,null,0,null,null,0,null,null,0,null,null,0]
[null,0,null,null,0,null,null,0,null,null,0,null,null,0]
[null,0,null,null,0,null,null,0,null,null,0,null,null,0]
[null,0,null,null,0,null,null,0,null,null,{"$f":"K51","v":0},null,null,0]
[null,0,null,null,0,null,null,0,null,null,0,null,null,0]
[]
[]
[null,null,{"$f":"'1-2a'!$C$65","v":0},null,null,{"$f":"'1-2a'!$F$65","v":0},null,null,{"$f":"'1-2a'!$I$65","v":0},null,null,{"$f":"'1-2a'!$L$65","v":0},null,null,{"$f":"'1-2a'!$O$65","v":0}]
[{"$f":"IF(A56=52,1,A56+1)","v":38},{"$f":"N56+3","v":"2020-09-14"},null,null,{"$f":"B66+1","v":"2020-09-15"},null,null,{"$f":"E66+1","v":"2020-09-16"},null,null,{"$f":"H66+1","v":"2020-09-17"},null,null,{"$f":"K66+1","v":"2020-09-18"}]
[null,{"$f":"B57","v":0},null,null,{"$f":"E57","v":0},null,null,{"$f":"H57","v":0},null,null,{"$f":"K57","v":0},null,null,{"$f":"N57","v":0}]
[7,0,null,null,0,null,null,0,null,null,0,null,null,0]
[null,0,null,null,0,null,null,0,null,null,0,null,null,0]
[null,0,null,null,0,null,null,0,null,null,0,null,null,0]
[null,0,null,null,0,null,null,0,null,null,{"$f":"K61","v":0},null,null,0]
[null,0,null,null,0,null,null,0,null,null,0,null,null,0]
[]
[]
[null,null,{"$f":"'1-2a'!$C$75","v":0},null,null,{"$f":"'1-2a'!$F$75","v":0},null,null,{"$f":"'1-2a'!$I$75","v":0},null,null,{"$f":"'1-2a'!$L$75","v":0},null,null,{"$f":"'1-2a'!$O$75","v":0}]
[{"$f":"IF(A66=52,1,A66+1)","v":39},{"$f":"N66+3","v":"2020-09-21"},null,null,{"$f":"B76+1","v":"2020-09-22"},null,null,{"$f":"E76+1","v":"2020-09-23"},null,null,{"$f":"H76+1","v":"2020-09-24"},null,null,{"$f":"K76+1","v":"2020-09-25"}]
[null,{"$f":"B67","v":0},null,null,{"$f":"E67","v":0},null,null,{"$f":"H67","v":0},null,null,{"$f":"K67","v":0},null,null,{"$f":"N67","v":0}]
[8,0,null,null,0,null,null,0,null,null,0,null,null,0]
[null,0,null,null,0,null,null,0,null,null,0,null,null,0]
[null,0,null,null,0,null,null,0,null,null,0,null,null,0]
[null,0,null,null,0,null,null,0,null,null,{"$f":"K71","v":0},null,null,0]
[null,0,null,null,0,null,null,0,null,null,0,null,null,0]
[]
[]
[null,null,{"$f":"'1-2a'!$C$85","v":0},null,null,{"$f":"'1-2a'!$F$85","v":0},null,null,{"$f":"'1-2a'!$I$85","v":0},null,null,{"$f":"'1-2a'!$L$85","v":0},null,null,{"$f":"'1-2a'!$O$85","v":0}]
[{"$f":"IF(A76=52,1,A76+1)","v":40},{"$f":"N76+3","v":"2020-09-28"},null,null,{"$f":"B86+1","v":"2020-09-29"},null,null,{"$f":"E86+1","v":"2020-09-30"},null,null,{"$f":"H86+1","v":"2020-10-01"},null,null,{"$f":"K86+1","v":"2020-10-02"}]
[null,{"$f":"B77","v":0},null,null,{"$f":"E77","v":0},null,null,{"$f":"H77","v":0},null,null,{"$f":"K77","v":0},null,null,{"$f":"N77","v":0}]
[9,0,null,null,0,null,null,0,null,null,0,null,null,0]
[null,0,null,null,0,null,null,0,null,null,0,null,null,0]
[null,0,null,null,0,null,null,0,null,null,0,null,null,0]
[null,0,null,null,0,null,null,0,null,null,0,null,null,0]
[null,0,null,null,0,null,null,0,null,null,0,null,null,0]
[]
[]
[null,null,{"$f":"'1-2a'!$C$95","v":0},null,null,{"$f":"'1-2a'!$F$95","v":0},null,null,{"$f":"'1-2a'!$I$95","v":0},null,null,{"$f":"'1-2a'!$L$95","v":0},null,null,{"$f":"'1-2a'!$O$95","v":0}]
[{"$f":"IF(A86=52,1,A86+1)","v":41},{"$f":"N86+3","v":"2020-10-05"},null,null,{"$f":"B96+1","v":"2020-10-06"},null,null,{"$f":"E96+1","v":"2020-10-07"},null,null,{"$f":"H96+1","v":"2020-10-08"},null,null,{"$f":"K96+1","v":"2020-10-09"}]
[null,{"$f":"B87","v":0},null,null,{"$f":"E87","v":0},null,null,{"$f":"H87","v":0},null,null,{"$f":"K87","v":0},null,null,{"$f":"N87","v":0}]
[10,0,null,null,0,null,null,0,null,null,0,null,null,0]
[null,0,null,null,0,null,null,0,null,null,0,null,null,0]
[null,0,null,null,0,null,null,0,null,null,0,null,null,0]
[null,0,null,null,0,null,null,0,null,null,{"$f":"K91","v":0},null,null,0]
[null,0,null,null,0,null,null,0,null,null,0,null,null,0]
[]
[]
[null,null,{"$f":"'1-2a'!$C$105","v":0},null,null,{"$f":"'1-2a'!$F$105","v":0},null,null,{"$f":"'1-2a'!$I$105","v":0},null,null,{"$f":"'1-2a'!$L$105","v":0},null,null,{"$f":"'1-2a'!$O$105","v":0}]
[{"$f":"IF(A96=52,1,A96+1)","v":42},{"$f":"N96+3","v":"2020-10-12"},null,null,{"$f":"B106+1","v":"2020-10-13"},null,null,{"$f":"E106+1","v":"2020-10-14"},null,null,{"$f":"H106+1","v":"2020-10-15"},null,null,{"$f":"K106+1","v":"2020-10-16"}]
[null,{"$f":"B97","v":0},null,null,{"$f":"E97","v":0},null,null,{"$f":"H97","v":0},null,null,{"$f":"K97","v":0},null,null,{"$f":"N97","v":0}]
[11,0,null,null,0,null,null,0,null,null,0,null,null,0]
[null,0,null,null,0,null,null,0,null,null,0,null,null,0]
[null,0,null,null,0,null,null,0,null,null,0,null,null,0]
[null,0,null,null,0,null,null,0,null,null,{"$f":"K101","v":0},null,null,0]
[null,0,null,null,0,null,null,0,null,null,0,null,null,0]
[]
[]
[null,null,{"$f":"'1-2a'!$C$115","v":0},null,null,{"$f":"'1-2a'!$F$115","v":0},null,null,{"$f":"'1-2a'!$I$115","v":0},null,null,{"$f":"'1-2a'!$L$115","v":0},null,null,{"$f":"'1-2a'!$O$115","v":0}]
[{"$f":"IF(A106=52,1,A106+1)","v":43},{"$f":"N106+3","v":"2020-10-19"},null,null,{"$f":"B116+1","v":"2020-10-20"},null,null,{"$f":"E116+1","v":"2020-10-21"},null,null,{"$f":"H116+1","v":"2020-10-22"},null,null,{"$f":"K116+1","v":"2020-10-23"}]
[null,{"$f":"B107","v":0},null,null,{"$f":"E107","v":0},null,null,{"$f":"H107","v":0},null,null,{"$f":"K107","v":0},null,null,{"$f":"N107","v":0}]
[12,0,null,null,0,null,null,0,null,null,0,null,null,0]
[null,0,null,null,0,null,null,0,null,null,0,null,null,0]
[null,0,null,null,0,null,null,0,null,null,0,null,null,0]
[null,0,null,null,0,null,null,0,null,null,{"$f":"K111","v":0},null,null,0]
[null,0,null,null,0,null,null,0,null,null,0,null,null,0]
[]
[]
[null,null,{"$f":"'1-2a'!$C$125","v":0},null,null,{"$f":"'1-2a'!$F$125","v":0},null,null,{"$f":"'1-2a'!$I$125","v":0},null,null,{"$f":"'1-2a'!$L$125","v":0},null,null,{"$f":"'1-2a'!$O$125","v":0}]
[{"$f":"IF(A116=52,1,A116+1)","v":44},{"$f":"N116+3","v":"2020-10-26"},null,null,{"$f":"B126+1","v":"2020-10-27"},null,null,{"$f":"E126+1","v":"2020-10-28"},null,null,{"$f":"H126+1","v":"2020-10-29"},null,null,{"$f":"K126+1","v":"2020-10-30"}]
[null,{"$f":"B117","v":0},null,null,{"$f":"E117","v":0},null,null,{"$f":"H117","v":0},null,null,{"$f":"K117","v":0},null,null,{"$f":"N117","v":0}]
[13,0,null,null,0,null,null,0,null,null,0,null,null,0]
[null,0,null,null,0,null,null,0,null,null,0,null,null,0]
[null,0,null,null,0,null,null,0,null,null,0,null,null,0]
[null,0,null,null,0,null,null,0,null,null,{"$f":"K121","v":0},null,null,0]
[null,0,null,null,0,null,null,0,null,null,0,null,null,0]
[]
[]
[null,null,{"$f":"'1-2a'!$C$135","v":0},null,null,{"$f":"'1-2a'!$F$135","v":0},null,null,{"$f":"'1-2a'!$I$135","v":0},null,null,{"$f":"'1-2a'!$L$135","v":0},null,null,{"$f":"'1-2a'!$O$135","v":0}]
[{"$f":"IF(A126=52,1,A126+1)","v":45},{"$f":"N126+3","v":"2020-11-02"},null,null,{"$f":"B136+1","v":"2020-11-03"},null,null,{"$f":"E136+1","v":"2020-11-04"},null,null,{"$f":"H136+1","v":"2020-11-05"},null,null,{"$f":"K136+1","v":"2020-11-06"}]
[null,{"$f":"B127","v":0},null,null,{"$f":"E127","v":0},null,null,{"$f":"H127","v":0},null,null,{"$f":"K127","v":0},null,null,{"$f":"N127","v":0}]
[14,0,null,null,0,null,null,0,null,null,0,null,null,0]
[null,0,null,null,0,null,null,0,null,null,0,null,null,0]
[null,0,null,null,0,null,null,0,null,null,0,null,null,0]
[null,0,null,null,0,null,null,0,null,null,{"$f":"K131","v":0},null,null,0]
[null,0,null,null,0,null,null,0,null,null,0,null,null,0]
[]
[]
[null,null,{"$f":"'1-2a'!$C$145","v":0},null,null,{"$f":"'1-2a'!$F$145","v":0},null,null,{"$f":"'1-2a'!$I$145","v":0},null,null,{"$f":"'1-2a'!$L$145","v":0},null,null,{"$f":"'1-2a'!$O$145","v":0}]
[{"$f":"IF(A136=52,1,A136+1)","v":46},{"$f":"N136+3","v":"2020-11-09"},null,null,{"$f":"B146+1","v":"2020-11-10"},null,null,{"$f":"E146+1","v":"2020-11-11"},null,null,{"$f":"H146+1","v":"2020-11-12"},null,null,{"$f":"K146+1","v":"2020-11-13"}]
[null,{"$f":"B137","v":0},null,null,{"$f":"E137","v":0},null,null,{"$f":"H137","v":0},null,null,{"$f":"K137","v":0},null,null,{"$f":"N137","v":0}]
[15,0,null,null,0,null,null,0,null,null,0,null,null,0]
[null,0,null,null,0,null,null,0,null,null,0,null,null,0]
[null,0,null,null,0,null,null,0,null,null,0,null,null,0]
[null,0,null,null,0,null,null,0,null,null,{"$f":"K141","v":0},null,null,0]
[null,0,null,null,0,null,null,0,null,null,0,null,null,0]
[]
[]
[null,null,{"$f":"'1-2a'!$C$155","v":0},null,null,{"$f":"'1-2a'!$F$155","v":0},null,null,{"$f":"'1-2a'!$I$155","v":0},null,null,{"$f":"'1-2a'!$L$155","v":0},null,null,{"$f":"'1-2a'!$O$155","v":0}]
[{"$f":"IF(A146=52,1,A146+1)","v":47},{"$f":"N146+3","v":"2020-11-16"},null,null,{"$f":"B156+1","v":"2020-11-17"},null,null,{"$f":"E156+1","v":"2020-11-18"},null,null,{"$f":"H156+1","v":"2020-11-19"},null,null,{"$f":"K156+1","v":"2020-11-20"}]
[null,{"$f":"B147","v":0},null,null,{"$f":"E147","v":0},null,null,{"$f":"H147","v":0},null,null,{"$f":"K147","v":0},null,null,{"$f":"N147","v":0}]
[16,0,null,null,0,null,null,0,null,null,0,null,null,0]
[null,0,null,null,0,null,null,0,null,null,0,null,null,0]
[null,0,null,null,0,null,null,0,null,null,0,null,null,0]
[null,0,null,null,0,null,null,0,null,null,{"$f":"K151","v":0},null,null,0]
[null,0,null,null,0,null,null,0,null,null,0,null,null,0]
[]
[]
[null,null,{"$f":"'1-2a'!$C$165","v":0},null,null,{"$f":"'1-2a'!$F$165","v":0},null,null,{"$f":"'1-2a'!$I$165","v":0},null,null,{"$f":"'1-2a'!$L$165","v":0},null,null,{"$f":"'1-2a'!$O$165","v":0}]
[{"$f":"IF(A156=52,1,A156+1)","v":48},{"$f":"N156+3","v":"2020-11-23"},null,null,{"$f":"B166+1","v":"2020-11-24"},null,null,{"$f":"E166+1","v":"2020-11-25"},null,null,{"$f":"H166+1","v":"2020-11-26"},null,null,{"$f":"K166+1","v":"2020-11-27"}]
[null,{"$f":"B157","v":0},null,null,{"$f":"E157","v":0},null,null,{"$f":"H157","v":0},null,null,{"$f":"K157","v":0},null,null,{"$f":"N157","v":0}]
[17,0,null,null,0,null,null,0,null,null,0,null,null,0]
[null,0,null,null,0,null,null,0,null,null,0,null,null,0]
[null,0,null,null,0,null,null,0,null,null,0,null,null,0]
[null,0,null,null,0,null,null,0,null,null,0,null,null,0]
[null,0,null,null,0,null,null,0,null,null,0,null,null,0]
[]
[]
[null,null,{"$f":"'1-2a'!$C$175","v":0},null,null,{"$f":"'1-2a'!$F$175","v":0},null,null,{"$f":"'1-2a'!$I$175","v":0},null,null,{"$f":"'1-2a'!$L$175","v":0},null,null,{"$f":"'1-2a'!$O$175","v":0}]
[{"$f":"IF(A166=52,1,A166+1)","v":49},{"$f":"N166+3","v":"2020-11-30"},null,null,{"$f":"B176+1","v":"2020-12-01"},null,null,{"$f":"E176+1","v":"2020-12-02"},null,null,{"$f":"H176+1","v":"2020-12-03"},null,null,{"$f":"K176+1","v":"2020-12-04"}]
[null,{"$f":"B167","v":0},null,null,{"$f":"E167","v":0},null,null,{"$f":"H167","v":0},null,null,{"$f":"K167","v":0},null,null,{"$f":"N167","v":0}]
[18,0,null,null,0,null,null,0,null,null,0,null,null,0]
[null,0,null,null,0,null,null,0,null,null,0,null,null,0]
[null,0,null,null,0,null,null,0,null,null,0,null,null,0]
[null,0,null,null,0,null,null,0,null,null,{"$f":"K171","v":0},null,null,0]
[null,0,null,null,0,null,null,0,null,null,0,null,null,0]
[]
[]
[null,null,{"$f":"'1-2a'!$C$185","v":0},null,null,{"$f":"'1-2a'!$F$185","v":0},null,null,{"$f":"'1-2a'!$I$185","v":0},null,null,{"$f":"'1-2a'!$L$185","v":0},null,null,{"$f":"'1-2a'!$O$185","v":0}]
[{"$f":"IF(A176=52,1,A176+1)","v":50},{"$f":"N176+3","v":"2020-12-07"},null,null,{"$f":"B186+1","v":"2020-12-08"},null,null,{"$f":"E186+1","v":"2020-12-09"},null,null,{"$f":"H186+1","v":"2020-12-10"},null,null,{"$f":"K186+1","v":"2020-12-11"}]
[null,{"$f":"B177","v":0},null,null,{"$f":"E177","v":0},null,null,{"$f":"H177","v":0},null,null,{"$f":"K177","v":0},null,null,{"$f":"N177","v":0}]
[19,0,null,null,0,null,null,0,null,null,0,null,null,0]
[null,0,null,null,0,null,null,0,null,null,0,null,null,0]
[null,0,null,null,0,null,null,0,null,null,0,null,null,0]
[null,0,null,null,0,null,null,0,null,null,{"$f":"K181","v":0},null,null,0]
[null,0,null,null,0,null,null,0,null,null,0,null,null,0]
[]
[]
[null,null,{"$f":"'1-2a'!$C$195","v":0},null,null,{"$f":"'1-2a'!$F$195","v":0},null,null,{"$f":"'1-2a'!$I$195","v":0},null,null,{"$f":"'1-2a'!$L$195","v":0},null,null,{"$f":"'1-2a'!$O$195","v":0}]
[{"$f":"IF(A186=52,1,A186+1)","v":51},{"$f":"N186+3","v":"2020-12-14"},null,null,{"$f":"B196+1","v":"2020-12-15"},null,null,{"$f":"E196+1","v":"2020-12-16"},null,null,{"$f":"H196+1","v":"2020-12-17"},null,null,{"$f":"K196+1","v":"2020-12-18"}]
[null,{"$f":"B187","v":0},null,null,{"$f":"E187","v":0},null,null,{"$f":"H187","v":0},null,null,{"$f":"K187","v":0},null,null,{"$f":"N187","v":0}]
[20,0,null,null,0,null,null,0,null,null,0,null,null,0]
[null,0,null,null,0,null,null,0,null,null,0,null,null,0]
[null,0,null,null,0,null,null,0,null,null,0,null,null,0]
[null,0,null,null,0,null,null,0,null,null,{"$f":"K191","v":0},null,null,0]
[null,0,null,null,0,null,null,0,null,null,0,null,null,0]
[]
[]
[null,null,{"$f":"'1-2a'!$C$205","v":0},null,null,{"$f":"'1-2a'!$F$205","v":0},null,null,{"$f":"'1-2a'!$I$205","v":0},null,null,{"$f":"'1-2a'!$L$205","v":0},null,null,{"$f":"'1-2a'!$O$205","v":0}]
[{"$f":"IF(A196=52,1,A196+1)","v":52},{"$f":"N196+3","v":"2020-12-21"},null,null,{"$f":"B206+1","v":"2020-12-22"},null,null,{"$f":"E206+1","v":"2020-12-23"},null,null,{"$f":"H206+1","v":"2020-12-24"},null,null,{"$f":"K206+1","v":"2020-12-25"}]
[null,{"$f":"B197","v":0},null,null,{"$f":"E197","v":0},null,null,{"$f":"H197","v":0},null,null,{"$f":"K197","v":0},null,null,{"$f":"N197","v":0}]
[21,0,null,null,0,null,null,0,null,null,0,null,null,0]
[null,0,null,null,0,null,null,0,null,null,0,null,null,0]
[null,0,null,null,0,null,null,0,null,null,0,null,null,0]
[null,0,null,null,0,null,null,0,null,null,{"$f":"K201","v":0},null,null,0]
[null,0,null,null,0,null,null,0,null,null,0,null,null,0]
[]
[]
[null,null,{"$f":"'1-2a'!$C$215","v":0},null,null,{"$f":"'1-2a'!$F$215","v":0},null,null,{"$f":"'1-2a'!$I$215","v":0},null,null,{"$f":"'1-2a'!$L$215","v":0},null,null,{"$f":"'1-2a'!$O$215","v":0}]
[{"$f":"IF(A206=52,1,A206+1)","v":1},{"$f":"N206+3","v":"2020-12-28"},null,null,{"$f":"B216+1","v":"2020-12-29"},null,null,{"$f":"E216+1","v":"2020-12-30"},null,null,{"$f":"H216+1","v":"2020-12-31"},null,null,{"$f":"K216+1","v":"2021-01-01"}]
[null,{"$f":"B207","v":0},null,null,{"$f":"E207","v":0},null,null,{"$f":"H207","v":0},null,null,{"$f":"K207","v":0},null,null,{"$f":"N207","v":0}]
[22,0,null,null,0,null,null,0,null,null,0,null,null,0]
[null,0,null,null,0,null,null,0,null,null,0,null,null,0]
[null,0,null,null,0,null,null,0,null,null,0,null,null,0]
[null,0,null,null,0,null,null,0,null,null,{"$f":"K211","v":0},null,null,0]
[null,0,null,null,0,null,null,0,null,null,0,null,null,0]
[]
[]
[null,null,{"$f":"'1-2a'!$C$225","v":0},null,null,{"$f":"'1-2a'!$F$225","v":0},null,null,{"$f":"'1-2a'!$I$225","v":0},null,null,{"$f":"'1-2a'!$L$225","v":0},null,null,{"$f":"'1-2a'!$O$225","v":0}]
[{"$f":"IF(A216=52,1,A216+1)","v":2},{"$f":"N216+3","v":"2021-01-04"},null,null,{"$f":"B226+1","v":"2021-01-05"},null,null,{"$f":"E226+1","v":"2021-01-06"},null,null,{"$f":"H226+1","v":"2021-01-07"},null,null,{"$f":"K226+1","v":"2021-01-08"}]
[null,{"$f":"B217","v":0},null,null,{"$f":"E217","v":0},null,null,{"$f":"H217","v":0},null,null,{"$f":"K217","v":0},null,null,{"$f":"N217","v":0}]
[23,0,null,null,0,null,null,0,null,null,0,null,null,0]
[null,0,null,null,0,null,null,0,null,null,0,null,null,0]
[null,0,null,null,0,null,null,0,null,null,0,null,null,0]
[null,0,null,null,0,null,null,0,null,null,{"$f":"K221","v":0},null,null,0]
[null,0,null,null,0,null,null,0,null,null,0,null,null,0]
[]
[]
[null,null,{"$f":"'1-2a'!$C$235","v":0},null,null,{"$f":"'1-2a'!$F$235","v":0},null,null,{"$f":"'1-2a'!$I$235","v":0},null,null,{"$f":"'1-2a'!$L$235","v":0},null,null,{"$f":"'1-2a'!$O$235","v":0}]
[{"$f":"IF(A226=52,1,A226+1)","v":3},{"$f":"N226+3","v":"2021-01-11"},null,null,{"$f":"B236+1","v":"2021-01-12"},null,null,{"$f":"E236+1","v":"2021-01-13"},null,null,{"$f":"H236+1","v":"2021-01-14"},null,null,{"$f":"K236+1","v":"2021-01-15"}]
[null,{"$f":"B227","v":0},null,null,{"$f":"E227","v":0},null,null,{"$f":"H227","v":0},null,null,{"$f":"K227","v":0},null,null,{"$f":"N227","v":0}]
[24,0,null,null,0,null,null,0,null,null,0,null,null,0]
[null,0,null,null,0,null,null,0,null,null,0,null,null,0]
[null,0,null,null,0,null,null,0,null,null,0,null,null,0]
[null,0,null,null,0,null,null,0,null,null,{"$f":"K231","v":0},null,null,0]
[null,0,null,null,0,null,null,0,null,null,0,null,null,0]
[]
[]
[null,null,{"$f":"'1-2a'!$C$245","v":0},null,null,{"$f":"'1-2a'!$F$245","v":0},null,null,{"$f":"'1-2a'!$I$245","v":0},null,null,{"$f":"'1-2a'!$L$245","v":0},null,null,{"$f":"'1-2a'!$O$245","v":0}]
[{"$f":"IF(A236=52,1,A236+1)","v":4},{"$f":"N236+3","v":"2021-01-18"},null,null,{"$f":"B246+1","v":"2021-01-19"},null,null,{"$f":"E246+1","v":"2021-01-20"},null,null,{"$f":"H246+1","v":"2021-01-21"},null,null,{"$f":"K246+1","v":"2021-01-22"}]
[null,{"$f":"B237","v":0},null,null,{"$f":"E237","v":0},null,null,{"$f":"H237","v":0},null,null,{"$f":"K237","v":0},null,null,{"$f":"N237","v":0}]
[25,0,null,null,0,null,null,0,null,null,0,null,null,0]
[null,0,null,null,0,null,null,0,null,null,0,null,null,0]
[null,0,null,null,0,null,null,0,null,null,0,null,null,0]
[null,0,null,null,0,null,null,0,null,null,0,null,null,0]
[null,0,null,null,0,null,null,0,null,null,0,null,null,0]
[]
[]
[null,null,{"$f":"'1-2a'!$C$255","v":0},null,null,{"$f":"'1-2a'!$F$255","v":0},null,null,{"$f":"'1-2a'!$I$255","v":0},null,null,{"$f":"'1-2a'!$L$255","v":0},null,null,{"$f":"'1-2a'!$O$255","v":0}]
[{"$f":"IF(A246=52,1,A246+1)","v":5},{"$f":"N246+3","v":"2021-01-25"},null,null,{"$f":"B256+1","v":"2021-01-26"},null,null,{"$f":"E256+1","v":"2021-01-27"},null,null,{"$f":"H256+1","v":"2021-01-28"},null,null,{"$f":"K256+1","v":"2021-01-29"}]
[null,{"$f":"B247","v":0},null,null,{"$f":"E247","v":0},null,null,{"$f":"H247","v":0},null,null,{"$f":"K247","v":0},null,null,{"$f":"N247","v":0}]
[26,0,null,null,0,null,null,0,null,null,0,null,null,0]
[null,0,null,null,0,null,null,0,null,null,0,null,null,0]
[null,0,null,null,0,null,null,0,null,null,0,null,null,0]
[null,0,null,null,0,null,null,0,null,null,{"$f":"K251","v":0},null,null,0]
[null,0,null,null,0,null,null,0,null,null,0,null,null,0]
[]
[]
[null,null,{"$f":"'1-2a'!$C$265","v":0},null,null,{"$f":"'1-2a'!$F$265","v":0},null,null,{"$f":"'1-2a'!$I$265","v":0},null,null,{"$f":"'1-2a'!$L$265","v":0},null,null,{"$f":"'1-2a'!$O$265","v":0}]
[{"$f":"IF(A256=52,1,A256+1)","v":6},{"$f":"N256+3","v":"2021-02-01"},null,null,{"$f":"B266+1","v":"2021-02-02"},null,null,{"$f":"E266+1","v":"2021-02-03"},null,null,{"$f":"H266+1","v":"2021-02-04"},null,null,{"$f":"K266+1","v":"2021-02-05"}]
[null,{"$f":"B257","v":0},null,null,{"$f":"E257","v":0},null,null,{"$f":"H257","v":0},null,null,{"$f":"K257","v":0},null,null,{"$f":"N257","v":0}]
[27,0,null,null,0,null,null,0,null,null,0,null,null,0]
[null,0,null,null,0,null,null,0,null,null,0,null,null,0]
[null,0,null,null,0,null,null,0,null,null,0,null,null,0]
[null,0,null,null,0,null,null,0,null,null,{"$f":"K261","v":0},null,null,0]
[null,0,null,null,0,null,null,0,null,null,0,null,null,0]
[]
[]
[null,null,{"$f":"'1-2a'!$C$275","v":0},null,null,{"$f":"'1-2a'!$F$275","v":0},null,null,{"$f":"'1-2a'!$I$275","v":0},null,null,{"$f":"'1-2a'!$L$275","v":0},null,null,{"$f":"'1-2a'!$O$275","v":0}]
[{"$f":"IF(A266=52,1,A266+1)","v":7},{"$f":"N266+3","v":"2021-02-08"},null,null,{"$f":"B276+1","v":"2021-02-09"},null,null,{"$f":"E276+1","v":"2021-02-10"},null,null,{"$f":"H276+1","v":"2021-02-11"},null,null,{"$f":"K276+1","v":"2021-02-12"}]
[null,{"$f":"B267","v":0},null,null,{"$f":"E267","v":0},null,null,{"$f":"H267","v":0},null,null,{"$f":"K267","v":0},null,null,{"$f":"N267","v":0}]
[28,0,null,null,0,null,null,0,null,null,0,null,null,0]
[null,0,null,null,0,null,null,0,null,null,0,null,null,0]
[null,0,null,null,0,null,null,0,null,null,0,null,null,0]
[null,0,null,null,0,null,null,0,null,null,{"$f":"K271","v":0},null,null,0]
[null,0,null,null,0,null,null,0,null,null,0,null,null,0]
[]
[]
[null,null,{"$f":"'1-2a'!$C$285","v":0},null,null,{"$f":"'1-2a'!$F$285","v":0},null,null,{"$f":"'1-2a'!$I$285","v":0},null,null,{"$f":"'1-2a'!$L$285","v":0},null,null,{"$f":"'1-2a'!$O$285","v":0}]
[{"$f":"IF(A276=52,1,A276+1)","v":8},{"$f":"N276+3","v":"2021-02-15"},null,null,{"$f":"B286+1","v":"2021-02-16"},null,null,{"$f":"E286+1","v":"2021-02-17"},null,null,{"$f":"H286+1","v":"2021-02-18"},null,null,{"$f":"K286+1","v":"2021-02-19"}]
[null,{"$f":"B277","v":0},null,null,{"$f":"E277","v":0},null,null,{"$f":"H277","v":0},null,null,{"$f":"K277","v":0},null,null,{"$f":"N277","v":0}]
[29,0,null,null,0,null,null,0,null,null,0,null,null,0]
[null,0,null,null,0,null,null,0,null,null,0,null,null,0]
[null,0,null,null,0,null,null,0,null,null,0,null,null,0]
[null,0,null,null,0,null,null,0,null,null,{"$f":"K281","v":0},null,null,0]
[null,0,null,null,0,null,null,0,null,null,0,null,null,0]
[]
[]
[null,null,{"$f":"'1-2a'!$C$295","v":0},null,null,{"$f":"'1-2a'!$F$295","v":0},null,null,{"$f":"'1-2a'!$I$295","v":0},null,null,{"$f":"'1-2a'!$L$295","v":0},null,null,{"$f":"'1-2a'!$O$295","v":0}]
[{"$f":"IF(A286=52,1,A286+1)","v":9},{"$f":"N286+3","v":"2021-02-22"},null,null,{"$f":"B296+1","v":"2021-02-23"},null,null,{"$f":"E296+1","v":"2021-02-24"},null,null,{"$f":"H296+1","v":"2021-02-25"},null,null,{"$f":"K296+1","v":"2021-02-26"}]
[null,{"$f":"B287","v":0},null,null,{"$f":"E287","v":0},null,null,{"$f":"H287","v":0},null,null,{"$f":"K287","v":0},null,null,{"$f":"N287","v":0}]
[30,0,null,null,0,null,null,0,null,null,0,null,null,0]
[null,0,null,null,0,null,null,0,null,null,0,null,null,0]
[null,0,null,null,0,null,null,0,null,null,0,null,null,0]
[null,0,null,null,0,null,null,0,null,null,{"$f":"K291","v":0},null,null,0]
[null,0,null,null,0,null,null,0,null,null,0,null,null,0]
[]
[]
[null,null,{"$f":"'1-2a'!$C$305","v":0},null,null,{"$f":"'1-2a'!$F$305","v":0},null,null,{"$f":"'1-2a'!$I$305","v":0},null,null,{"$f":"'1-2a'!$L$305","v":0},null,null,{"$f":"'1-2a'!$O$305","v":0}]
[{"$f":"IF(A296=52,1,A296+1)","v":10},{"$f":"N296+3","v":"2021-03-01"},null,null,{"$f":"B306+1","v":"2021-03-02"},null,null,{"$f":"E306+1","v":"2021-03-03"},null,null,{"$f":"H306+1","v":"2021-03-04"},null,null,{"$f":"K306+1","v":"2021-03-05"}]
[null,{"$f":"B297","v":0},null,null,{"$f":"E297","v":0},null,null,{"$f":"H297","v":0},null,null,{"$f":"K297","v":0},null,null,{"$f":"N297","v":0}]
[31,0,null,null,0,null,null,0,null,null,0,null,null,0]
[null,0,null,null,0,null,null,0,null,null,0,null,null,0]
[null,0,null,null,0,null,null,0,null,null,0,null,null,0]
[null,0,null,null,0,null,null,0,null,null,{"$f":"K301","v":0},null,null,0]
[null,0,null,null,0,null,null,0,null,null,0,null,null,0]
[]
[]
[null,null,{"$f":"'1-2a'!$C$315","v":0},null,null,{"$f":"'1-2a'!$F$315","v":0},null,null,{"$f":"'1-2a'!$I$315","v":0},null,null,{"$f":"'1-2a'!$L$315","v":0},null,null,{"$f":"'1-2a'!$O$315","v":0}]
[{"$f":"IF(A306=52,1,A306+1)","v":11},{"$f":"N306+3","v":"2021-03-08"},null,null,{"$f":"B316+1","v":"2021-03-09"},null,null,{"$f":"E316+1","v":"2021-03-10"},null,null,{"$f":"H316+1","v":"2021-03-11"},null,null,{"$f":"K316+1","v":"2021-03-12"}]
[null,{"$f":"B307","v":0},null,null,{"$f":"E307","v":0},null,null,{"$f":"H307","v":0},null,null,{"$f":"K307","v":0},null,null,{"$f":"N307","v":0}]
[32,0,null,null,0,null,null,0,null,null,0,null,null,0]
[null,0,null,null,0,null,null,0,null,null,0,null,null,0]
[null,0,null,null,0,null,null,0,null,null,0,null,null,0]
[null,0,null,null,0,null,null,0,null,null,{"$f":"K311","v":0},null,null,0]
[null,0,null,null,0,null,null,0,null,null,0,null,null,0]
[]
[]
[null,null,{"$f":"'1-2a'!$C$325","v":0},null,null,{"$f":"'1-2a'!$F$325","v":0},null,null,{"$f":"'1-2a'!$I$325","v":0},null,null,{"$f":"'1-2a'!$L$325","v":0},null,null,{"$f":"'1-2a'!$O$325","v":0}]
[{"$f":"IF(A316=52,1,A316+1)","v":12},{"$f":"N316+3","v":"2021-03-15"},null,null,{"$f":"B326+1","v":"2021-03-16"},null,null,{"$f":"E326+1","v":"2021-03-17"},null,null,{"$f":"H326+1","v":"2021-03-18"},null,null,{"$f":"K326+1","v":"2021-03-19"}]
[null,{"$f":"B317","v":0},null,null,{"$f":"E317","v":0},null,null,{"$f":"H317","v":0},null,null,{"$f":"K317","v":0},null,null,{"$f":"N317","v":0}]
[33,0,null,null,0,null,null,0,null,null,0,null,null,0]
[null,0,null,null,0,null,null,0,null,null,0,null,null,0]
[null,0,null,null,0,null,null,0,null,null,0,null,null,0]
[null,0,null,null,0,null,null,0,null,null,0,null,null,0]
[null,0,null,null,0,null,null,0,null,null,0,null,null,0]
[]
[]
[null,null,{"$f":"'1-2a'!$C$335","v":0},null,null,{"$f":"'1-2a'!$F$335","v":0},null,null,{"$f":"'1-2a'!$I$335","v":0},null,null,{"$f":"'1-2a'!$L$335","v":0},null,null,{"$f":"'1-2a'!$O$335","v":0}]
[{"$f":"IF(A326=52,1,A326+1)","v":13},{"$f":"N326+3","v":"2021-03-22"},null,null,{"$f":"B336+1","v":"2021-03-23"},null,null,{"$f":"E336+1","v":"2021-03-24"},null,null,{"$f":"H336+1","v":"2021-03-25"},null,null,{"$f":"K336+1","v":"2021-03-26"}]
[null,{"$f":"B327","v":0},null,null,{"$f":"E327","v":0},null,null,{"$f":"H327","v":0},null,null,{"$f":"K327","v":0},null,null,{"$f":"N327","v":0}]
[34,0,null,null,0,null,null,0,null,null,0,null,null,0]
[null,0,null,null,0,null,null,0,null,null,0,null,null,0]
[null,0,null,null,0,null,null,0,null,null,0,null,null,0]
[null,0,null,null,0,null,null,0,null,null,{"$f":"K331","v":0},null,null,0]
[null,0,null,null,0,null,null,0,null,null,0,null,null,0]
[]
[]
[null,null,{"$f":"'1-2a'!$C$345","v":0},null,null,{"$f":"'1-2a'!$F$345","v":0},null,null,{"$f":"'1-2a'!$I$345","v":0},null,null,{"$f":"'1-2a'!$L$345","v":0},null,null,{"$f":"'1-2a'!$O$345","v":0}]
[{"$f":"IF(A336=52,1,A336+1)","v":14},{"$f":"N336+3","v":"2021-03-29"},null,null,{"$f":"B346+1","v":"2021-03-30"},null,null,{"$f":"E346+1","v":"2021-03-31"},null,null,{"$f":"H346+1","v":"2021-04-01"},null,null,{"$f":"K346+1","v":"2021-04-02"}]
[null,{"$f":"B337","v":0},null,null,{"$f":"E337","v":0},null,null,{"$f":"H337","v":0},null,null,{"$f":"K337","v":0},null,null,{"$f":"N337","v":0}]
[35,0,null,null,0,null,null,0,null,null,0,null,null,0]
[null,0,null,null,0,null,null,0,null,null,0,null,null,0]
[null,0,null,null,0,null,null,0,null,null,0,null,null,0]
[null,0,null,null,0,null,null,0,null,null,{"$f":"K341","v":0},null,null,0]
[null,0,null,null,0,null,null,0,null,null,0,null,null,0]
[]
[]
[null,null,{"$f":"'1-2a'!$C$355","v":0},null,null,{"$f":"'1-2a'!$F$355","v":0},null,null,{"$f":"'1-2a'!$I$355","v":0},null,null,{"$f":"'1-2a'!$L$355","v":0},null,null,{"$f":"'1-2a'!$O$355","v":0}]
[{"$f":"IF(A346=52,1,A346+1)","v":15},{"$f":"N346+3","v":"2021-04-05"},null,null,{"$f":"B356+1","v":"2021-04-06"},null,null,{"$f":"E356+1","v":"2021-04-07"},null,null,{"$f":"H356+1","v":"2021-04-08"},null,null,{"$f":"K356+1","v":"2021-04-09"}]
[null,{"$f":"B347","v":0},null,null,{"$f":"E347","v":0},null,null,{"$f":"H347","v":0},null,null,{"$f":"K347","v":0},null,null,{"$f":"N347","v":0}]
[36,0,null,null,0,null,null,0,null,null,0,null,null,0]
[null,0,null,null,0,null,null,0,null,null,0,null,null,0]
[null,0,null,null,0,null,null,0,null,null,0,null,null,0]
[null,0,null,null,0,null,null,0,null,null,{"$f":"K351","v":0},null,null,0]
[null,0,null,null,0,null,null,0,null,null,0,null,null,0]
[]
[]
[null,null,{"$f":"'1-2a'!$C$365","v":0},null,null,{"$f":"'1-2a'!$F$365","v":0},null,null,{"$f":"'1-2a'!$I$365","v":0},null,null,{"$f":"'1-2a'!$L$365","v":0},null,null,{"$f":"'1-2a'!$O$365","v":0}]
[{"$f":"IF(A356=52,1,A356+1)","v":16},{"$f":"N356+3","v":"2021-04-12"},null,null,{"$f":"B366+1","v":"2021-04-13"},null,null,{"$f":"E366+1","v":"2021-04-14"},null,null,{"$f":"H366+1","v":"2021-04-15"},null,null,{"$f":"K366+1","v":"2021-04-16"}]
[null,{"$f":"B357","v":0},null,null,{"$f":"E357","v":0},null,null,{"$f":"H357","v":0},null,null,{"$f":"K357","v":0},null,null,{"$f":"N357","v":0}]
[37,0,null,null,0,null,null,0,null,null,0,null,null,0]
[null,0,null,null,0,null,null,0,null,null,0,null,null,0]
[null,0,null,null,0,null,null,0,null,null,0,null,null,0]
[null,0,null,null,0,null,null,0,null,null,{"$f":"K361","v":0},null,null,0]
[null,0,null,null,0,null,null,0,null,null,0,null,null,0]
[]
[]
[null,null,{"$f":"'1-2a'!$C$375","v":0},null,null,{"$f":"'1-2a'!$F$375","v":0},null,null,{"$f":"'1-2a'!$I$375","v":0},null,null,{"$f":"'1-2a'!$L$375","v":0},null,null,{"$f":"'1-2a'!$O$375","v":0}]
[{"$f":"IF(A366=52,1,A366+1)","v":17},{"$f":"N366+3","v":"2021-04-19"},null,null,{"$f":"B376+1","v":"2021-04-20"},null,null,{"$f":"E376+1","v":"2021-04-21"},null,null,{"$f":"H376+1","v":"2021-04-22"},null,null,{"$f":"K376+1","v":"2021-04-23"}]
[null,{"$f":"B367","v":0},null,null,{"$f":"E367","v":0},null,null,{"$f":"H367","v":0},null,null,{"$f":"K367","v":0},null,null,{"$f":"N367","v":0}]
[38,0,null,null,0,null,null,0,null,null,0,null,null,0]
[null,0,null,null,0,null,null,0,null,null,0,null,null,0]
[null,0,null,null,0,null,null,0,null,null,0,null,null,0]
[null,0,null,null,0,null,null,0,null,null,{"$f":"K371","v":0},null,null,0]
[null,0,null,null,0,null,null,0,null,null,0,null,null,0]
[]
[]
[null,null,{"$f":"'1-2a'!$C$385","v":0},null,null,{"$f":"'1-2a'!$F$385","v":0},null,null,{"$f":"'1-2a'!$I$385","v":0},null,null,{"$f":"'1-2a'!$L$385","v":0},null,null,{"$f":"'1-2a'!$O$385","v":0}]
[{"$f":"IF(A376=52,1,A376+1)","v":18},{"$f":"N376+3","v":"2021-04-26"},null,null,{"$f":"B386+1","v":"2021-04-27"},null,null,{"$f":"E386+1","v":"2021-04-28"},null,null,{"$f":"H386+1","v":"2021-04-29"},null,null,{"$f":"K386+1","v":"2021-04-30"}]
[null,{"$f":"B377","v":0},null,null,{"$f":"E377","v":0},null,null,{"$f":"H377","v":0},null,null,{"$f":"K377","v":0},null,null,{"$f":"N377","v":0}]
[39,0,null,null,0,null,null,0,null,null,0,null,null,0]
[null,0,null,null,0,null,null,0,null,null,0,null,null,0]
[null,0,null,null,0,null,null,0,null,null,0,null,null,0]
[null,0,null,null,0,null,null,0,null,null,{"$f":"K381","v":0},null,null,0]
[null,0,null,null,0,null,null,0,null,null,0,null,null,0]
[]
[]
[null,null,{"$f":"'1-2a'!$C$395","v":0},null,null,{"$f":"'1-2a'!$F$395","v":0},null,null,{"$f":"'1-2a'!$I$395","v":0},null,null,{"$f":"'1-2a'!$L$395","v":0},null,null,{"$f":"'1-2a'!$O$395","v":0}]
[{"$f":"IF(A386=52,1,A386+1)","v":19},{"$f":"N386+3","v":"2021-05-03"},null,null,{"$f":"B396+1","v":"2021-05-04"},null,null,{"$f":"E396+1","v":"2021-05-05"},null,null,{"$f":"H396+1","v":"2021-05-06"},null,null,{"$f":"K396+1","v":"2021-05-07"}]
[null,{"$f":"B387","v":0},null,null,{"$f":"E387","v":0},null,null,{"$f":"H387","v":0},null,null,{"$f":"K387","v":0},null,null,{"$f":"N387","v":0}]
[40,0,null,null,0,null,null,0,null,null,0,null,null,0]
[null,0,null,null,0,null,null,0,null,null,0,null,null,0]
[null,0,null,null,0,null,null,0,null,null,0,null,null,0]
[null,0,null,null,0,null,null,0,null,null,{"$f":"K391","v":0},null,null,0]
[null,0,null,null,0,null,null,0,null,null,0,null,null,0]
[]
[]
[null,null,{"$f":"'1-2a'!$C$405","v":0},null,null,{"$f":"'1-2a'!$F$405","v":0},null,null,{"$f":"'1-2a'!$I$405","v":0},null,null,{"$f":"'1-2a'!$L$405","v":0},null,null,{"$f":"'1-2a'!$O$405","v":0}]
[{"$f":"IF(A396=52,1,A396+1)","v":20},{"$f":"N396+3","v":"2021-05-10"},null,null,{"$f":"B406+1","v":"2021-05-11"},null,null,{"$f":"E406+1","v":"2021-05-12"},null,null,{"$f":"H406+1","v":"2021-05-13"},null,null,{"$f":"K406+1","v":"2021-05-14"}]
[null,{"$f":"B397","v":0},null,null,{"$f":"E397","v":0},null,null,{"$f":"H397","v":0},null,null,{"$f":"K397","v":0},null,null,{"$f":"N397","v":0}]
[41,0,null,null,0,null,null,0,null,null,0,null,null,0]
[null,0,null,null,0,null,null,0,null,null,0,null,null,0]
[null,0,null,null,0,null,null,0,null,null,0,null,null,0]
[null,0,null,null,0,null,null,0,null,null,0,null,null,0]
[null,0,null,null,0,null,null,0,null,null,0,null,null,0]
[]
[]
[null,null,{"$f":"'1-2a'!$C$415","v":0},null,null,{"$f":"'1-2a'!$F$415","v":0},null,null,{"$f":"'1-2a'!$I$415","v":0},null,null,{"$f":"'1-2a'!$L$415","v":0},null,null,{"$f":"'1-2a'!$O$415","v":0}]
[{"$f":"IF(A406=52,1,A406+1)","v":21},{"$f":"N406+3","v":"2021-05-17"},null,null,{"$f":"B416+1","v":"2021-05-18"},null,null,{"$f":"E416+1","v":"2021-05-19"},null,null,{"$f":"H416+1","v":"2021-05-20"},null,null,{"$f":"K416+1","v":"2021-05-21"}]
[null,{"$f":"B407","v":0},null,null,{"$f":"E407","v":0},null,null,{"$f":"H407","v":0},null,null,{"$f":"K407","v":0},null,null,{"$f":"N407","v":0}]
[42,0,null,null,0,null,null,0,null,null,0,null,null,0]
[null,0,null,null,0,null,null,0,null,null,0,null,null,0]
[null,0,null,null,0,null,null,0,null,null,0,null,null,0]
[null,0,null,null,0,null,null,0,null,null,{"$f":"K411","v":0},null,null,0]
[null,0,null,null,0,null,null,0,null,null,0,null,null,0]
[]
[]
[null,null,{"$f":"'1-2a'!$C$425","v":0},null,null,{"$f":"'1-2a'!$F$425","v":0},null,null,{"$f":"'1-2a'!$I$425","v":0},null,null,{"$f":"'1-2a'!$L$425","v":0},null,null,{"$f":"'1-2a'!$O$425","v":0}]
[{"$f":"IF(A416=52,1,A416+1)","v":22},{"$f":"N416+3","v":"2021-05-24"},null,null,{"$f":"B426+1","v":"2021-05-25"},null,null,{"$f":"E426+1","v":"2021-05-26"},null,null,{"$f":"H426+1","v":"2021-05-27"},null,null,{"$f":"K426+1","v":"2021-05-28"}]
[null,{"$f":"B417","v":0},null,null,{"$f":"E417","v":0},null,null,{"$f":"H417","v":0},null,null,{"$f":"K417","v":0},null,null,{"$f":"N417","v":0}]
[43,0,null,null,0,null,null,0,null,null,0,null,null,0]
[null,0,null,null,0,null,null,0,null,null,0,null,null,0]
[null,0,null,null,0,null,null,0,null,null,0,null,null,0]
[null,0,null,null,0,null,null,0,null,null,{"$f":"K421","v":0},null,null,0]
[null,0,null,null,0,null,null,0,null,null,0,null,null,0]
[]
[]
[null,null,{"$f":"'1-2a'!$C$435","v":0},null,null,{"$f":"'1-2a'!$F$435","v":0},null,null,{"$f":"'1-2a'!$I$435","v":0},null,null,{"$f":"'1-2a'!$L$435","v":0},null,null,{"$f":"'1-2a'!$O$435","v":0}]
[{"$f":"IF(A426=52,1,A426+1)","v":23},{"$f":"N426+3","v":"2021-05-31"},null,null,{"$f":"B436+1","v":"2021-06-01"},null,null,{"$f":"E436+1","v":"2021-06-02"},null,null,{"$f":"H436+1","v":"2021-06-03"},null,null,{"$f":"K436+1","v":"2021-06-04"}]
[null,{"$f":"B427","v":0},null,null,{"$f":"E427","v":0},null,null,{"$f":"H427","v":0},null,null,{"$f":"K427","v":0},null,null,{"$f":"N427","v":0}]
[44,0,null,null,0,null,null,0,null,null,0,null,null,0]
[null,0,null,null,0,null,null,0,null,null,0,null,null,0]
[null,0,null,null,0,null,null,0,null,null,0,null,null,0]
[null,0,null,null,0,null,null,0,null,null,{"$f":"K431","v":0},null,null,0]
[null,0,null,null,0,null,null,0,null,null,0,null,null,0]
[]
[]
[null,null,{"$f":"'1-2a'!$C$445","v":0},null,null,{"$f":"'1-2a'!$F$445","v":0},null,null,{"$f":"'1-2a'!$I$445","v":0},null,null,{"$f":"'1-2a'!$L$445","v":0},null,null,{"$f":"'1-2a'!$O$445","v":0}]
[{"$f":"IF(A436=52,1,A436+1)","v":24},{"$f":"N436+3","v":"2021-06-07"},null,null,{"$f":"B446+1","v":"2021-06-08"},null,null,{"$f":"E446+1","v":"2021-06-09"},null,null,{"$f":"H446+1","v":"2021-06-10"},null,null,{"$f":"K446+1","v":"2021-06-11"}]
[null,{"$f":"B437","v":0},null,null,{"$f":"E437","v":0},null,null,{"$f":"H437","v":0},null,null,{"$f":"K437","v":0},null,null,{"$f":"N437","v":0}]
[45,0,null,null,0,null,null,0,null,null,0,null,null,0]
[null,0,null,null,0,null,null,0,null,null,0,null,null,0]
[null,0,null,null,0,null,null,0,null,null,0,null,null,0]
[null,0,null,null,0,null,null,0,null,null,{"$f":"K441","v":0},null,null,0]
[null,0,null,null,0,null,null,0,null,null,0,null,null,0]
[]
[]
[null,null,{"$f":"'1-2a'!$C$455","v":0},null,null,{"$f":"'1-2a'!$F$455","v":0},null,null,{"$f":"'1-2a'!$I$455","v":0},null,null,{"$f":"'1-2a'!$L$455","v":0},null,null,{"$f":"'1-2a'!$O$455","v":0}]
[{"$f":"IF(A446=52,1,A446+1)","v":25},{"$f":"N446+3","v":"2021-06-14"},null,null,{"$f":"B456+1","v":"2021-06-15"},null,null,{"$f":"E456+1","v":"2021-06-16"},null,null,{"$f":"H456+1","v":"2021-06-17"},null,null,{"$f":"K456+1","v":"2021-06-18"}]
[null,{"$f":"B447","v":0},null,null,{"$f":"E447","v":0},null,null,{"$f":"H447","v":0},null,null,{"$f":"K447","v":0},null,null,{"$f":"N447","v":0}]
[46,0,null,null,0,null,null,0,null,null,0,null,null,0]
[null,0,null,null,0,null,null,0,null,null,0,null,null,0]
[null,0,null,null,0,null,null,0,null,null,0,null,null,0]
[null,0,null,null,0,null,null,0,null,null,{"$f":"K451","v":0},null,null,0]
[null,0,null,null,0,null,null,0,null,null,0,null,null,0]
[]
[]
[null,null,{"$f":"'1-2a'!$C$465","v":0},null,null,{"$f":"'1-2a'!$F$465","v":0},null,null,{"$f":"'1-2a'!$I$465","v":0},null,null,{"$f":"'1-2a'!$L$465","v":0},null,null,{"$f":"'1-2a'!$O$465","v":0}]
[{"$f":"IF(A456=52,1,A456+1)","v":26},{"$f":"N456+3","v":"2021-06-21"},null,null,{"$f":"B466+1","v":"2021-06-22"},null,null,{"$f":"E466+1","v":"2021-06-23"},null,null,{"$f":"H466+1","v":"2021-06-24"},null,null,{"$f":"K466+1","v":"2021-06-25"}]
[null,{"$f":"B457","v":0},null,null,{"$f":"E457","v":0},null,null,{"$f":"H457","v":0},null,null,{"$f":"K457","v":0},null,null,{"$f":"N457","v":0}]
[47,0,null,null,0,null,null,0,null,null,0,null,null,0]
[null,0,null,null,0,null,null,0,null,null,0,null,null,0]
[null,0,null,null,0,null,null,0,null,null,0,null,null,0]
[null,0,null,null,0,null,null,0,null,null,{"$f":"K461","v":0},null,null,0]
[null,0,null,null,0,null,null,0,null,null,0,null,null,0]
[]
[]
[null,null,{"$f":"'1-2a'!$C$475","v":0},null,null,{"$f":"'1-2a'!$F$475","v":0},null,null,{"$f":"'1-2a'!$I$475","v":0},null,null,{"$f":"'1-2a'!$L$475","v":0},null,null,{"$f":"'1-2a'!$O$475","v":0}]
[{"$f":"IF(A466=52,1,A466+1)","v":27},{"$f":"N466+3","v":"2021-06-28"},null,null,{"$f":"B476+1","v":"2021-06-29"},null,null,{"$f":"E476+1","v":"2021-06-30"},null,null,{"$f":"H476+1","v":"2021-07-01"},null,null,{"$f":"K476+1","v":"2021-07-02"}]
[null,{"$f":"B467","v":0},null,null,{"$f":"E467","v":0},null,null,{"$f":"H467","v":0},null,null,{"$f":"K467","v":0},null,null,{"$f":"N467","v":0}]
[48,0,null,null,0,null,null,0,null,null,0,null,null,0]
[null,0,null,null,0,null,null,0,null,null,0,null,null,0]
[null,0,null,null,0,null,null,0,null,null,0,null,null,0]
[null,0,null,null,0,null,null,0,null,null,{"$f":"K471","v":0},null,null,0]
[null,0,null,null,0,null,null,0,null,null,0,null,null,0]
[]
[]
[null,null,{"$f":"'1-2a'!$C$485","v":0},null,null,{"$f":"'1-2a'!$F$485","v":0},null,null,{"$f":"'1-2a'!$I$485","v":0},null,null,{"$f":"'1-2a'!$L$485","v":0},null,null,{"$f":"'1-2a'!$O$485","v":0}]
[{"$f":"IF(A476=52,1,A476+1)","v":28},{"$f":"N476+3","v":"2021-07-05"},null,null,{"$f":"B486+1","v":"2021-07-06"},null,null,{"$f":"E486+1","v":"2021-07-07"},null,null,{"$f":"H486+1","v":"2021-07-08"},null,null,{"$f":"K486+1","v":"2021-07-09"}]
[null,{"$f":"B477","v":0},null,null,{"$f":"E477","v":0},null,null,{"$f":"H477","v":0},null,null,{"$f":"K477","v":0},null,null,{"$f":"N477","v":0}]
[49,0,null,null,0,null,null,0,null,null,0,null,null,0]
[null,0,null,null,0,null,null,0,null,null,0,null,null,0]
[null,0,null,null,0,null,null,0,null,null,0,null,null,0]
[null,0,null,null,0,null,null,0,null,null,0,null,null,0]
[null,0,null,null,0,null,null,0,null,null,0,null,null,0]
[]
[]
[null,null,{"$f":"'1-2a'!$C$495","v":0},null,null,{"$f":"'1-2a'!$F$495","v":0},null,null,{"$f":"'1-2a'!$I$495","v":0},null,null,{"$f":"'1-2a'!$L$495","v":0},null,null,{"$f":"'1-2a'!$O$495","v":0}]
[{"$f":"IF(A486=52,1,A486+1)","v":29},{"$f":"N486+3","v":"2021-07-12"},null,null,{"$f":"B496+1","v":"2021-07-13"},null,null,{"$f":"E496+1","v":"2021-07-14"},null,null,{"$f":"H496+1","v":"2021-07-15"},null,null,{"$f":"K496+1","v":"2021-07-16"}]
[null,{"$f":"B487","v":0},null,null,{"$f":"E487","v":0},null,null,{"$f":"H487","v":0},null,null,{"$f":"K487","v":0},null,null,{"$f":"N487","v":0}]
[50,0,null,null,0,null,null,0,null,null,0]
[null,0,null,null,0,null,null,0,null,null,0,null,null,0]
[null,0,null,null,0,null,null,0,null,null,0,null,null,0]
[null,0,null,null,0,null,null,0,null,null,{"$f":"K491","v":0},null,null,0]
[null,0,null,null,0,null,null,0,null,null,0]

{"sheet":"14","index":14,"n_rows":502,"n_cols":15,"rows_kept":502,"cut":false,"hidden":false,"merged":[[5,1,5,3],[5,4,5,6],[5,7,5,9],[5,10,5,12],[5,13,5,15],[7,0,8,0],[1,1,2,7],[1,9,2,12],[1,13,2,15],[3,1,3,3],[3,4,3,6],[3,7,3,9],[3,10,3,12],[3,13,3,15],[12,1,13,3],[12,4,13,6],[12,7,13,9],[12,10,13,12],[12,13,13,15],[15,1,15,3],[15,4,15,6],[15,7,15,9],[15,10,15,12],[15,13,15,15],[25,1,25,3],[25,4,25,6],[25,7,25,9],[25,10,25,12],[25,13,25,15],[27,0,28,0],[17,0,18,0],[22,1,23,3],[22,4,23,6],[22,7,23,9],[22,10,23,12],[22,13,23,15],[32,1,33,3],[32,4,33,6],[32,7,33,9],[32,10,33,12],[32,13,33,15],[35,1,35,3],[35,4,35,6],[35,7,35,9],[35,10,35,12],[35,13,35,15],[45,1,45,3],[45,4,45,6],[45,7,45,9],[45,10,45,12],[45,13,45,15],[47,0,48,0],[37,0,38,0],[42,1,43,3],[42,4,43,6],[42,7,43,9],[42,10,43,12],[42,13,43,15],[52,1,53,3],[52,4,53,6],[52,7,53,9],[52,10,53,12],[52,13,53,15],[55,1,55,3],[55,4,55,6],[55,7,55,9],[55,10,55,12],[55,13,55,15],[65,1,65,3],[65,4,65,6],[65,7,65,9],[65,10,65,12],[65,13,65,15],[67,0,68,0],[57,0,58,0],[62,1,63,3],[62,4,63,6],[62,7,63,9],[62,10,63,12],[62,13,63,15],[72,1,73,3],[72,4,73,6],[72,7,73,9],[72,10,73,12],[72,13,73,15],[75,1,75,3],[75,4,75,6],[75,7,75,9],[75,10,75,12],[75,13,75,15],[85,1,85,3],[85,4,85,6],[85,7,85,9],[85,10,85,12],[85,13,85,15],[87,0,88,0],[77,0,78,0],[82,1,83,3],[82,4,83,6],[82,7,83,9],[82,10,83,12],[82,13,83,15],[92,1,93,3],[92,4,93,6],[92,7,93,9],[92,10,93,12],[92,13,93,15],[95,1,95,3],[95,4,95,6],[95,7,95,9],[95,10,95,12],[95,13,95,15],[105,1,105,3],[105,4,105,6],[105,7,105,9],[105,10,105,12],[105,13,105,15],[107,0,108,0],[97,0,98,0],[99,16,100,19],[102,1,103,3],[102,4,103,6],[102,7,103,9],[102,10,103,12],[102,13,103,15],[112,1,113,3],[112,4,113,6],[112,7,113,9],[112,10,113,12],[112,13,113,15],[115,1,115,3],[115,4,115,6],[115,7,115,9],[115,10,115,12],[115,13,115,15],[125,1,125,3],[125,4,125,6],[125,7,125,9],[125,10,125,12],[125,13,125,15],[127,0,128,0],[117,0,118,0],[122,1,123,3],[122,4,123,6],[122,7,123,9],[122,10,123,12],[122,13,123,15],[132,1,133,3],[132,4,133,6],[132,7,133,9],[132,10,133,12],[132,13,133,15],[135,1,135,3],[135,4,135,6],[135,7,135,9],[135,10,135,12],[135,13,135,15],[145,1,145,3],[145,4,145,6],[145,7,145,9],[145,10,145,12],[145,13,145,15],[147,0,148,0],[137,0,138,0],[142,1,143,3],[142,4,143,6],[142,7,143,9],[142,10,143,12],[142,13,143,15],[152,1,153,3],[152,4,153,6],[152,7,153,9],[152,10,153,12],[152,13,153,15],[155,1,155,3],[155,4,155,6],[155,7,155,9],[155,10,155,12],[155,13,155,15],[165,1,165,3],[165,4,165,6],[165,7,165,9],[165,10,165,12],[165,13,165,15],[167,0,168,0],[157,0,158,0],[162,1,163,3],[162,4,163,6],[162,7,163,9],[162,10,163,12],[162,13,163,15],[172,1,173,3],[172,4,173,6],[172,7,173,9],[172,10,173,12],[172,13,173,15],[175,1,175,3],[175,4,175,6],[175,7,175,9],[175,10,175,12],[175,13,175,15],[185,1,185,3],[185,4,185,6],[185,7,185,9],[185,10,185,12],[185,13,185,15],[187,0,188,0],[177,0,178,0],[179,16,180,19],[182,1,183,3],[182,4,183,6],[182,7,183,9],[182,10,183,12],[182,13,183,15],[192,1,193,3],[192,4,193,6],[192,7,193,9],[192,10,193,12],[192,13,193,15],[195,1,195,3],[195,4,195,6],[195,7,195,9],[195,10,195,12],[195,13,195,15],[205,1,205,3],[205,4,205,6],[205,7,205,9],[205,10,205,12],[205,13,205,15],[207,0,208,0],[197,0,198,0],[202,1,203,3],[202,4,203,6],[202,7,203,9],[202,10,203,12],[202,13,203,15],[212,1,213,3],[212,4,213,6],[212,7,213,9],[212,10,213,12],[212,13,213,15],[215,1,215,3],[215,4,215,6],[215,7,215,9],[215,10,215,12],[215,13,215,15],[225,1,225,3],[225,4,225,6],[225,7,225,9],[225,10,225,12],[225,13,225,15],[227,0,228,0],[217,0,218,0],[222,1,223,3],[222,4,223,6],[222,7,223,9],[222,10,223,12],[222,13,223,15],[232,1,233,3],[232,4,233,6],[232,7,233,9],[232,10,233,12],[232,13,233,15],[235,1,235,3],[235,4,235,6],[235,7,235,9],[235,10,235,12],[235,13,235,15],[245,1,245,3],[245,4,245,6],[245,7,245,9],[245,10,245,12],[245,13,245,15],[247,0,248,0],[237,0,238,0],[242,1,243,3],[242,4,243,6],[242,7,243,9],[242,10,243,12],[242,13,243,15],[252,1,253,3],[252,4,253,6],[252,7,253,9],[252,10,253,12],[252,13,253,15],[255,1,255,3],[255,4,255,6],[255,7,255,9],[255,10,255,12],[255,13,255,15],[265,1,265,3],[265,4,265,6],[265,7,265,9],[265,10,265,12],[265,13,265,15],[267,0,268,0],[257,0,258,0],[259,16,260,19],[262,1,263,3],[262,4,263,6],[262,7,263,9],[262,10,263,12],[262,13,263,15],[272,1,273,3],[272,4,273,6],[272,7,273,9],[272,10,273,12],[272,13,273,15],[275,1,275,3],[275,4,275,6],[275,7,275,9],[275,10,275,12],[275,13,275,15],[285,1,285,3],[285,4,285,6],[285,7,285,9],[285,10,285,12],[285,13,285,15],[287,0,288,0],[277,0,278,0],[282,1,283,3],[282,4,283,6],[282,7,283,9],[282,10,283,12],[282,13,283,15],[292,1,293,3],[292,4,293,6],[292,7,293,9],[292,10,293,12],[292,13,293,15],[295,1,295,3],[295,4,295,6],[295,7,295,9],[295,10,295,12],[295,13,295,15],[305,1,305,3],[305,4,305,6],[305,7,305,9],[305,10,305,12],[305,13,305,15],[307,0,308,0],[297,0,298,0],[302,1,303,3],[302,4,303,6],[302,7,303,9],[302,10,303,12],[302,13,303,15],[312,1,313,3],[312,4,313,6],[312,7,313,9],[312,10,313,12],[312,13,313,15],[315,1,315,3],[315,4,315,6],[315,7,315,9],[315,10,315,12],[315,13,315,15],[325,1,325,3],[325,4,325,6],[325,7,325,9],[325,10,325,12],[325,13,325,15],[327,0,328,0],[317,0,318,0],[322,1,323,3],[322,4,323,6],[322,7,323,9],[322,10,323,12],[322,13,323,15],[332,1,333,3],[332,4,333,6],[332,7,333,9],[332,10,333,12],[332,13,333,15],[335,1,335,3],[335,4,335,6],[335,7,335,9],[335,10,335,12],[335,13,335,15],[345,1,345,3],[345,4,345,6],[345,7,345,9],[345,10,345,12],[345,13,345,15],[347,0,348,0],[337,0,338,0],[339,16,340,19],[342,1,343,3],[342,4,343,6],[342,7,343,9],[342,10,343,12],[342,13,343,15],[352,1,353,3],[352,4,353,6],[352,7,353,9],[352,10,353,12],[352,13,353,15],[355,1,355,3],[355,4,355,6],[355,7,355,9],[355,10,355,12],[355,13,355,15],[365,1,365,3],[365,4,365,6],[365,7,365,9],[365,10,365,12],[365,13,365,15],[367,0,368,0],[357,0,358,0],[362,1,363,3],[362,4,363,6],[362,7,363,9],[362,10,363,12],[362,13,363,15],[372,1,373,3],[372,4,373,6],[372,7,373,9],[372,10,373,12],[372,13,373,15],[375,1,375,3],[375,4,375,6],[375,7,375,9],[375,10,375,12],[375,13,375,15],[385,1,385,3],[385,4,385,6],[385,7,385,9],[385,10,385,12],[385,13,385,15],[387,0,388,0],[377,0,378,0],[382,1,383,3],[382,4,383,6],[382,7,383,9],[382,10,383,12],[382,13,383,15],[392,1,393,3],[392,4,393,6],[392,7,393,9],[392,10,393,12],[392,13,393,15],[395,1,395,3],[395,4,395,6],[395,7,395,9],[395,10,395,12],[395,13,395,15],[405,1,405,3],[405,4,405,6],[405,7,405,9],[405,10,405,12],[405,13,405,15],[407,0,408,0],[397,0,398,0],[402,1,403,3],[402,4,403,6],[402,7,403,9],[402,10,403,12],[402,13,403,15],[412,1,413,3],[412,4,413,6],[412,7,413,9],[412,10,413,12],[412,13,413,15],[415,1,415,3],[415,4,415,6],[415,7,415,9],[415,10,415,12],[415,13,415,15],[425,1,425,3],[425,4,425,6],[425,7,425,9],[425,10,425,12],[425,13,425,15],[427,0,428,0],[417,0,418,0],[419,16,420,19],[422,1,423,3],[422,4,423,6],[422,7,423,9],[422,10,423,12],[422,13,423,15],[432,1,433,3],[432,4,433,6],[432,7,433,9],[432,10,433,12],[432,13,433,15],[435,1,435,3],[435,4,435,6],[435,7,435,9],[435,10,435,12],[435,13,435,15],[445,1,445,3],[445,4,445,6],[445,7,445,9],[445,10,445,12],[445,13,445,15],[447,0,448,0],[437,0,438,0],[442,1,443,3],[442,4,443,6],[442,7,443,9],[442,10,443,12],[442,13,443,15],[452,1,453,3],[452,4,453,6],[452,7,453,9],[452,10,453,12],[452,13,453,15],[455,1,455,3],[455,4,455,6],[455,7,455,9],[455,10,455,12],[455,13,455,15],[465,1,465,3],[465,4,465,6],[465,7,465,9],[465,10,465,12],[465,13,465,15],[467,0,468,0],[457,0,458,0],[462,1,463,3],[462,4,463,6],[462,7,463,9],[462,10,463,12],[462,13,463,15],[472,1,473,3],[472,4,473,6],[472,7,473,9],[472,10,473,12],[472,13,473,15],[475,1,475,3],[475,4,475,6],[475,7,475,9],[475,10,475,12],[475,13,475,15],[485,1,485,3],[485,4,485,6],[485,7,485,9],[485,10,485,12],[485,13,485,15],[487,0,488,0],[477,0,478,0],[482,1,483,3],[482,4,483,6],[482,7,483,9],[482,10,483,12],[482,13,483,15],[497,0,498,0],[499,16,500,19],[502,1,503,3],[502,4,503,6],[502,7,503,9],[502,10,503,12],[502,13,503,15],[492,1,493,3],[492,4,493,6],[492,7,493,9],[492,10,493,12],[492,13,493,15],[495,1,495,3],[495,4,495,6],[495,7,495,9],[495,10,495,12],[495,13,495,15]]}
[]
[null,{"$f":"'1-2a'!B2:H3","v":"Basisschool De Grote Beer        schooljaar 2020/2021"},null,null,null,null,null,null,null,"Groepsplanner van groep:",null,null,null,"14"]
[]
[null,"maandag 1e schoolweek",null,null,"dinsdag",null,null,"woensdag",null,null,"donderdag",null,null,"vrijdag"]
[null,null,{"$f":"'1-2a'!C$5","v":0},null,null,{"$f":"'1-2a'!F5","v":0},null,null,{"$f":"'1-2a'!I$5","v":0},null,null,{"$f":"'1-2a'!L$5","v":"s"},null,null,{"$f":"'1-2a'!O$5","v":0}]
[{"$f":"(B6-WEEKDAY(B6-1)+4-(TRUNC(DATE(YEAR(B6-WEEKDAY(B6-1)+4),1,2)/7)*7-2))/7","v":32},{"$f":"'1-2a'!B6:D6","v":"2020-08-03"},null,null,{"$f":"B6+1","v":"2020-08-04"},null,null,{"$f":"E6+1","v":"2020-08-05"},null,null,{"$f":"H6+1","v":"2020-08-06"},null,null,{"$f":"K6+1","v":"2020-08-07"}]
[]
[1]
[]
[]
[]
[]
[]
[]
[null,null,{"$f":"'1-2a'!C$15","v":0},null,null,{"$f":"'1-2a'!F$15","v":0},null,null,{"$f":"'1-2a'!I$15","v":0},null,null,{"$f":"'1-2a'!L$15","v":0},null,null,{"$f":"'1-2a'!O15","v":0}]
[{"$f":"IF(A6=52,1,A6+1)","v":33},{"$f":"N6+3","v":"2020-08-10"},null,null,{"$f":"B16+1","v":"2020-08-11"},null,null,{"$f":"E16+1","v":"2020-08-12"},null,null,{"$f":"H16+1","v":"2020-08-13"},null,null,{"$f":"K16+1","v":"2020-08-14"}]
[null,{"$f":"B7","v":0},null,null,{"$f":"E7","v":0},null,null,{"$f":"H7","v":0},null,null,{"$f":"K7","v":0},null,null,{"$f":"N7","v":0}]
[2,0,null,null,0,null,null,0,null,null,0,null,null,0]
[null,0,null,null,0,null,null,0,null,null,0,null,null,0]
[null,0,null,null,0,null,null,0,null,null,0,null,null,0]
[null,0,null,null,0,null,null,0,null,null,0,null,null,0]
[null,0,null,null,0,null,null,0,null,null,0,null,null,0]
[]
[]
[null,null,{"$f":"'1-2a'!C$25","v":0},null,null,{"$f":"'1-2a'!F$25","v":0},null,null,{"$f":"'1-2a'!I25","v":0},null,null,{"$f":"'1-2a'!L25","v":0},null,null,{"$f":"'1-2a'!O25","v":0}]
[{"$f":"IF(A16=52,1,A16+1)","v":34},{"$f":"N16+3","v":"2020-08-17"},null,null,{"$f":"B26+1","v":"2020-08-18"},null,null,{"$f":"E26+1","v":"2020-08-19"},null,null,{"$f":"H26+1","v":"2020-08-20"},null,null,{"$f":"K26+1","v":"2020-08-21"}]
[null,{"$f":"B17","v":0},null,null,{"$f":"E17","v":0},null,null,{"$f":"H17","v":0},null,null,{"$f":"K17","v":0},null,null,{"$f":"N17","v":0}]
[3,0,null,null,0,null,null,0,null,null,0,null,null,0]
[null,0,null,null,0,null,null,0,null,null,0,null,null,0]
[null,0,null,null,0,null,null,0,null,null,0,null,null,0]
[null,0,null,null,0,null,null,0,null,null,{"$f":"K21","v":0},null,null,0]
[null,0,null,null,0,null,null,0,null,null,0,null,null,0]
[]
[]
[null,null,{"$f":"'1-2a'!$C$35","v":0},null,null,{"$f":"'1-2a'!$F$35","v":0},null,null,{"$f":"'1-2a'!$I$35","v":0},null,null,{"$f":"'1-2a'!$L$35","v":0},null,null,{"$f":"'1-2a'!$O$35","v":0}]
[{"$f":"IF(A26=52,1,A26+1)","v":35},{"$f":"N26+3","v":"2020-08-24"},null,null,{"$f":"B36+1","v":"2020-08-25"},null,null,{"$f":"E36+1","v":"2020-08-26"},null,null,{"$f":"H36+1","v":"2020-08-27"},null,null,{"$f":"K36+1","v":"2020-08-28"}]
[null,{"$f":"B27","v":0},null,null,{"$f":"E27","v":0},null,null,{"$f":"H27","v":0},null,null,{"$f":"K27","v":0},null,null,{"$f":"N27","v":0}]
[4,0,null,null,0,null,null,0,null,null,0,null,null,0]
[null,0,null,null,0,null,null,0,null,null,0,null,null,0]
[null,0,null,null,0,null,null,0,null,null,0,null,null,0]
[null,0,null,null,0,null,null,0,null,null,{"$f":"K31","v":0},null,null,0]
[null,0,null,null,0,null,null,0,null,null,0,null,null,0]
[]
[]
[null,null,{"$f":"'1-2a'!$C$45","v":0},null,null,{"$f":"'1-2a'!$F$45","v":0},null,null,{"$f":"'1-2a'!$I$45","v":0},null,null,{"$f":"'1-2a'!$L$45","v":0},null,null,{"$f":"'1-2a'!$O$45","v":0}]
[{"$f":"IF(A36=52,1,A36+1)","v":36},{"$f":"N36+3","v":"2020-08-31"},null,null,{"$f":"B46+1","v":"2020-09-01"},null,null,{"$f":"E46+1","v":"2020-09-02"},null,null,{"$f":"H46+1","v":"2020-09-03"},null,null,{"$f":"K46+1","v":"2020-09-04"}]
[null,{"$f":"B37","v":0},null,null,{"$f":"E37","v":0},null,null,{"$f":"H37","v":0},null,null,{"$f":"K37","v":0},null,null,{"$f":"N37","v":0}]
[5,0,null,null,0,null,null,0,null,null,0,null,null,0]
[null,0,null,null,0,null,null,0,null,null,0,null,null,0]
[null,0,null,null,0,null,null,0,null,null,0,null,null,0]
[null,0,null,null,0,null,null,0,null,null,{"$f":"K41","v":0},null,null,0]
[null,0,null,null,0,null,null,0,null,null,0,null,null,0]
[]
[]
[null,null,{"$f":"'1-2a'!$C$55","v":0},null,null,{"$f":"'1-2a'!$F$55","v":0},null,null,{"$f":"'1-2a'!$I$55","v":0},null,null,{"$f":"'1-2a'!$L$55","v":0},null,null,{"$f":"'1-2a'!O55","v":0}]
[{"$f":"IF(A46=52,1,A46+1)","v":37},{"$f":"N46+3","v":"2020-09-07"},null,null,{"$f":"B56+1","v":"2020-09-08"},null,null,{"$f":"E56+1","v":"2020-09-09"},null,null,{"$f":"H56+1","v":"2020-09-10"},null,null,{"$f":"K56+1","v":"2020-09-11"}]
[null,{"$f":"B47","v":0},null,null,{"$f":"E47","v":0},null,null,{"$f":"H47","v":0},null,null,{"$f":"K47","v":0},null,null,{"$f":"N47","v":0}]
[6,0,null,null,0,null,null,0,null,null,0,null,null,0]
[null,0,null,null,0,null,null,0,null,null,0,null,null,0]
[null,0,null,null,0,null,null,0,null,null,0,null,null,0]
[null,0,null,null,0,null,null,0,null,null,{"$f":"K51","v":0},null,null,0]
[null,0,null,null,0,null,null,0,null,null,0,null,null,0]
[]
[]
[null,null,{"$f":"'1-2a'!$C$65","v":0},null,null,{"$f":"'1-2a'!$F$65","v":0},null,null,{"$f":"'1-2a'!$I$65","v":0},null,null,{"$f":"'1-2a'!$L$65","v":0},null,null,{"$f":"'1-2a'!$O$65","v":0}]
[{"$f":"IF(A56=52,1,A56+1)","v":38},{"$f":"N56+3","v":"2020-09-14"},null,null,{"$f":"B66+1","v":"2020-09-15"},null,null,{"$f":"E66+1","v":"2020-09-16"},null,null,{"$f":"H66+1","v":"2020-09-17"},null,null,{"$f":"K66+1","v":"2020-09-18"}]
[null,{"$f":"B57","v":0},null,null,{"$f":"E57","v":0},null,null,{"$f":"H57","v":0},null,null,{"$f":"K57","v":0},null,null,{"$f":"N57","v":0}]
[7,0,null,null,0,null,null,0,null,null,0,null,null,0]
[null,0,null,null,0,null,null,0,null,null,0,null,null,0]
[null,0,null,null,0,null,null,0,null,null,0,null,null,0]
[null,0,null,null,0,null,null,0,null,null,{"$f":"K61","v":0},null,null,0]
[null,0,null,null,0,null,null,0,null,null,0,null,null,0]
[]
[]
[null,null,{"$f":"'1-2a'!$C$75","v":0},null,null,{"$f":"'1-2a'!$F$75","v":0},null,null,{"$f":"'1-2a'!$I$75","v":0},null,null,{"$f":"'1-2a'!$L$75","v":0},null,null,{"$f":"'1-2a'!$O$75","v":0}]
[{"$f":"IF(A66=52,1,A66+1)","v":39},{"$f":"N66+3","v":"2020-09-21"},null,null,{"$f":"B76+1","v":"2020-09-22"},null,null,{"$f":"E76+1","v":"2020-09-23"},null,null,{"$f":"H76+1","v":"2020-09-24"},null,null,{"$f":"K76+1","v":"2020-09-25"}]
[null,{"$f":"B67","v":0},null,null,{"$f":"E67","v":0},null,null,{"$f":"H67","v":0},null,null,{"$f":"K67","v":0},null,null,{"$f":"N67","v":0}]
[8,0,null,null,0,null,null,0,null,null,0,null,null,0]
[null,0,null,null,0,null,null,0,null,null,0,null,null,0]
[null,0,null,null,0,null,null,0,null,null,0,null,null,0]
[null,0,null,null,0,null,null,0,null,null,{"$f":"K71","v":0},null,null,0]
[null,0,null,null,0,null,null,0,null,null,0,null,null,0]
[]
[]
[null,null,{"$f":"'1-2a'!$C$85","v":0},null,null,{"$f":"'1-2a'!$F$85","v":0},null,null,{"$f":"'1-2a'!$I$85","v":0},null,null,{"$f":"'1-2a'!$L$85","v":0},null,null,{"$f":"'1-2a'!$O$85","v":0}]
[{"$f":"IF(A76=52,1,A76+1)","v":40},{"$f":"N76+3","v":"2020-09-28"},null,null,{"$f":"B86+1","v":"2020-09-29"},null,null,{"$f":"E86+1","v":"2020-09-30"},null,null,{"$f":"H86+1","v":"2020-10-01"},null,null,{"$f":"K86+1","v":"2020-10-02"}]
[null,{"$f":"B77","v":0},null,null,{"$f":"E77","v":0},null,null,{"$f":"H77","v":0},null,null,{"$f":"K77","v":0},null,null,{"$f":"N77","v":0}]
[9,0,null,null,0,null,null,0,null,null,0,null,null,0]
[null,0,null,null,0,null,null,0,null,null,0,null,null,0]
[null,0,null,null,0,null,null,0,null,null,0,null,null,0]
[null,0,null,null,0,null,null,0,null,null,0,null,null,0]
[null,0,null,null,0,null,null,0,null,null,0,null,null,0]
[]
[]
[null,null,{"$f":"'1-2a'!$C$95","v":0},null,null,{"$f":"'1-2a'!$F$95","v":0},null,null,{"$f":"'1-2a'!$I$95","v":0},null,null,{"$f":"'1-2a'!$L$95","v":0},null,null,{"$f":"'1-2a'!$O$95","v":0}]
[{"$f":"IF(A86=52,1,A86+1)","v":41},{"$f":"N86+3","v":"2020-10-05"},null,null,{"$f":"B96+1","v":"2020-10-06"},null,null,{"$f":"E96+1","v":"2020-10-07"},null,null,{"$f":"H96+1","v":"2020-10-08"},null,null,{"$f":"K96+1","v":"2020-10-09"}]
[null,{"$f":"B87","v":0},null,null,{"$f":"E87","v":0},null,null,{"$f":"H87","v":0},null,null,{"$f":"K87","v":0},null,null,{"$f":"N87","v":0}]
[10,0,null,null,0,null,null,0,null,null,0,null,null,0]
[null,0,null,null,0,null,null,0,null,null,0,null,null,0]
[null,0,null,null,0,null,null,0,null,null,0,null,null,0]
[null,0,null,null,0,null,null,0,null,null,{"$f":"K91","v":0},null,null,0]
[null,0,null,null,0,null,null,0,null,null,0,null,null,0]
[]
[]
[null,null,{"$f":"'1-2a'!$C$105","v":0},null,null,{"$f":"'1-2a'!$F$105","v":0},null,null,{"$f":"'1-2a'!$I$105","v":0},null,null,{"$f":"'1-2a'!$L$105","v":0},null,null,{"$f":"'1-2a'!$O$105","v":0}]
[{"$f":"IF(A96=52,1,A96+1)","v":42},{"$f":"N96+3","v":"2020-10-12"},null,null,{"$f":"B106+1","v":"2020-10-13"},null,null,{"$f":"E106+1","v":"2020-10-14"},null,null,{"$f":"H106+1","v":"2020-10-15"},null,null,{"$f":"K106+1","v":"2020-10-16"}]
[null,{"$f":"B97","v":0},null,null,{"$f":"E97","v":0},null,null,{"$f":"H97","v":0},null,null,{"$f":"K97","v":0},null,null,{"$f":"N97","v":0}]
[11,0,null,null,0,null,null,0,null,null,0,null,null,0]
[null,0,null,null,0,null,null,0,null,null,0,null,null,0]
[null,0,null,null,0,null,null,0,null,null,0,null,null,0]
[null,0,null,null,0,null,null,0,null,null,{"$f":"K101","v":0},null,null,0]
[null,0,null,null,0,null,null,0,null,null,0,null,null,0]
[]
[]
[null,null,{"$f":"'1-2a'!$C$115","v":0},null,null,{"$f":"'1-2a'!$F$115","v":0},null,null,{"$f":"'1-2a'!$I$115","v":0},null,null,{"$f":"'1-2a'!$L$115","v":0},null,null,{"$f":"'1-2a'!$O$115","v":0}]
[{"$f":"IF(A106=52,1,A106+1)","v":43},{"$f":"N106+3","v":"2020-10-19"},null,null,{"$f":"B116+1","v":"2020-10-20"},null,null,{"$f":"E116+1","v":"2020-10-21"},null,null,{"$f":"H116+1","v":"2020-10-22"},null,null,{"$f":"K116+1","v":"2020-10-23"}]
[null,{"$f":"B107","v":0},null,null,{"$f":"E107","v":0},null,null,{"$f":"H107","v":0},null,null,{"$f":"K107","v":0},null,null,{"$f":"N107","v":0}]
[12,0,null,null,0,null,null,0,null,null,0,null,null,0]
[null,0,null,null,0,null,null,0,null,null,0,null,null,0]
[null,0,null,null,0,null,null,0,null,null,0,null,null,0]
[null,0,null,null,0,null,null,0,null,null,{"$f":"K111","v":0},null,null,0]
[null,0,null,null,0,null,null,0,null,null,0,null,null,0]
[]
[]
[null,null,{"$f":"'1-2a'!$C$125","v":0},null,null,{"$f":"'1-2a'!$F$125","v":0},null,null,{"$f":"'1-2a'!$I$125","v":0},null,null,{"$f":"'1-2a'!$L$125","v":0},null,null,{"$f":"'1-2a'!$O$125","v":0}]
[{"$f":"IF(A116=52,1,A116+1)","v":44},{"$f":"N116+3","v":"2020-10-26"},null,null,{"$f":"B126+1","v":"2020-10-27"},null,null,{"$f":"E126+1","v":"2020-10-28"},null,null,{"$f":"H126+1","v":"2020-10-29"},null,null,{"$f":"K126+1","v":"2020-10-30"}]
[null,{"$f":"B117","v":0},null,null,{"$f":"E117","v":0},null,null,{"$f":"H117","v":0},null,null,{"$f":"K117","v":0},null,null,{"$f":"N117","v":0}]
[13,0,null,null,0,null,null,0,null,null,0,null,null,0]
[null,0,null,null,0,null,null,0,null,null,0,null,null,0]
[null,0,null,null,0,null,null,0,null,null,0,null,null,0]
[null,0,null,null,0,null,null,0,null,null,{"$f":"K121","v":0},null,null,0]
[null,0,null,null,0,null,null,0,null,null,0,null,null,0]
[]
[]
[null,null,{"$f":"'1-2a'!$C$135","v":0},null,null,{"$f":"'1-2a'!$F$135","v":0},null,null,{"$f":"'1-2a'!$I$135","v":0},null,null,{"$f":"'1-2a'!$L$135","v":0},null,null,{"$f":"'1-2a'!$O$135","v":0}]
[{"$f":"IF(A126=52,1,A126+1)","v":45},{"$f":"N126+3","v":"2020-11-02"},null,null,{"$f":"B136+1","v":"2020-11-03"},null,null,{"$f":"E136+1","v":"2020-11-04"},null,null,{"$f":"H136+1","v":"2020-11-05"},null,null,{"$f":"K136+1","v":"2020-11-06"}]
[null,{"$f":"B127","v":0},null,null,{"$f":"E127","v":0},null,null,{"$f":"H127","v":0},null,null,{"$f":"K127","v":0},null,null,{"$f":"N127","v":0}]
[14,0,null,null,0,null,null,0,null,null,0,null,null,0]
[null,0,null,null,0,null,null,0,null,null,0,null,null,0]
[null,0,null,null,0,null,null,0,null,null,0,null,null,0]
[null,0,null,null,0,null,null,0,null,null,{"$f":"K131","v":0},null,null,0]
[null,0,null,null,0,null,null,0,null,null,0,null,null,0]
[]
[]
[null,null,{"$f":"'1-2a'!$C$145","v":0},null,null,{"$f":"'1-2a'!$F$145","v":0},null,null,{"$f":"'1-2a'!$I$145","v":0},null,null,{"$f":"'1-2a'!$L$145","v":0},null,null,{"$f":"'1-2a'!$O$145","v":0}]
[{"$f":"IF(A136=52,1,A136+1)","v":46},{"$f":"N136+3","v":"2020-11-09"},null,null,{"$f":"B146+1","v":"2020-11-10"},null,null,{"$f":"E146+1","v":"2020-11-11"},null,null,{"$f":"H146+1","v":"2020-11-12"},null,null,{"$f":"K146+1","v":"2020-11-13"}]
[null,{"$f":"B137","v":0},null,null,{"$f":"E137","v":0},null,null,{"$f":"H137","v":0},null,null,{"$f":"K137","v":0},null,null,{"$f":"N137","v":0}]
[15,0,null,null,0,null,null,0,null,null,0,null,null,0]
[null,0,null,null,0,null,null,0,null,null,0,null,null,0]
[null,0,null,null,0,null,null,0,null,null,0,null,null,0]
[null,0,null,null,0,null,null,0,null,null,{"$f":"K141","v":0},null,null,0]
[null,0,null,null,0,null,null,0,null,null,0,null,null,0]
[]
[]
[null,null,{"$f":"'1-2a'!$C$155","v":0},null,null,{"$f":"'1-2a'!$F$155","v":0},null,null,{"$f":"'1-2a'!$I$155","v":0},null,null,{"$f":"'1-2a'!$L$155","v":0},null,null,{"$f":"'1-2a'!$O$155","v":0}]
[{"$f":"IF(A146=52,1,A146+1)","v":47},{"$f":"N146+3","v":"2020-11-16"},null,null,{"$f":"B156+1","v":"2020-11-17"},null,null,{"$f":"E156+1","v":"2020-11-18"},null,null,{"$f":"H156+1","v":"2020-11-19"},null,null,{"$f":"K156+1","v":"2020-11-20"}]
[null,{"$f":"B147","v":0},null,null,{"$f":"E147","v":0},null,null,{"$f":"H147","v":0},null,null,{"$f":"K147","v":0},null,null,{"$f":"N147","v":0}]
[16,0,null,null,0,null,null,0,null,null,0,null,null,0]
[null,0,null,null,0,null,null,0,null,null,0,null,null,0]
[null,0,null,null,0,null,null,0,null,null,0,null,null,0]
[null,0,null,null,0,null,null,0,null,null,{"$f":"K151","v":0},null,null,0]
[null,0,null,null,0,null,null,0,null,null,0,null,null,0]
[]
[]
[null,null,{"$f":"'1-2a'!$C$165","v":0},null,null,{"$f":"'1-2a'!$F$165","v":0},null,null,{"$f":"'1-2a'!$I$165","v":0},null,null,{"$f":"'1-2a'!$L$165","v":0},null,null,{"$f":"'1-2a'!$O$165","v":0}]
[{"$f":"IF(A156=52,1,A156+1)","v":48},{"$f":"N156+3","v":"2020-11-23"},null,null,{"$f":"B166+1","v":"2020-11-24"},null,null,{"$f":"E166+1","v":"2020-11-25"},null,null,{"$f":"H166+1","v":"2020-11-26"},null,null,{"$f":"K166+1","v":"2020-11-27"}]
[null,{"$f":"B157","v":0},null,null,{"$f":"E157","v":0},null,null,{"$f":"H157","v":0},null,null,{"$f":"K157","v":0},null,null,{"$f":"N157","v":0}]
[17,0,null,null,0,null,null,0,null,null,0,null,null,0]
[null,0,null,null,0,null,null,0,null,null,0,null,null,0]
[null,0,null,null,0,null,null,0,null,null,0,null,null,0]
[null,0,null,null,0,null,null,0,null,null,0,null,null,0]
[null,0,null,null,0,null,null,0,null,null,0,null,null,0]
[]
[]
[null,null,{"$f":"'1-2a'!$C$175","v":0},null,null,{"$f":"'1-2a'!$F$175","v":0},null,null,{"$f":"'1-2a'!$I$175","v":0},null,null,{"$f":"'1-2a'!$L$175","v":0},null,null,{"$f":"'1-2a'!$O$175","v":0}]
[{"$f":"IF(A166=52,1,A166+1)","v":49},{"$f":"N166+3","v":"2020-11-30"},null,null,{"$f":"B176+1","v":"2020-12-01"},null,null,{"$f":"E176+1","v":"2020-12-02"},null,null,{"$f":"H176+1","v":"2020-12-03"},null,null,{"$f":"K176+1","v":"2020-12-04"}]
[null,{"$f":"B167","v":0},null,null,{"$f":"E167","v":0},null,null,{"$f":"H167","v":0},null,null,{"$f":"K167","v":0},null,null,{"$f":"N167","v":0}]
[18,0,null,null,0,null,null,0,null,null,0,null,null,0]
[null,0,null,null,0,null,null,0,null,null,0,null,null,0]
[null,0,null,null,0,null,null,0,null,null,0,null,null,0]
[null,0,null,null,0,null,null,0,null,null,{"$f":"K171","v":0},null,null,0]
[null,0,null,null,0,null,null,0,null,null,0,null,null,0]
[]
[]
[null,null,{"$f":"'1-2a'!$C$185","v":0},null,null,{"$f":"'1-2a'!$F$185","v":0},null,null,{"$f":"'1-2a'!$I$185","v":0},null,null,{"$f":"'1-2a'!$L$185","v":0},null,null,{"$f":"'1-2a'!$O$185","v":0}]
[{"$f":"IF(A176=52,1,A176+1)","v":50},{"$f":"N176+3","v":"2020-12-07"},null,null,{"$f":"B186+1","v":"2020-12-08"},null,null,{"$f":"E186+1","v":"2020-12-09"},null,null,{"$f":"H186+1","v":"2020-12-10"},null,null,{"$f":"K186+1","v":"2020-12-11"}]
[null,{"$f":"B177","v":0},null,null,{"$f":"E177","v":0},null,null,{"$f":"H177","v":0},null,null,{"$f":"K177","v":0},null,null,{"$f":"N177","v":0}]
[19,0,null,null,0,null,null,0,null,null,0,null,null,0]
[null,0,null,null,0,null,null,0,null,null,0,null,null,0]
[null,0,null,null,0,null,null,0,null,null,0,null,null,0]
[null,0,null,null,0,null,null,0,null,null,{"$f":"K181","v":0},null,null,0]
[null,0,null,null,0,null,null,0,null,null,0,null,null,0]
[]
[]
[null,null,{"$f":"'1-2a'!$C$195","v":0},null,null,{"$f":"'1-2a'!$F$195","v":0},null,null,{"$f":"'1-2a'!$I$195","v":0},null,null,{"$f":"'1-2a'!$L$195","v":0},null,null,{"$f":"'1-2a'!$O$195","v":0}]
[{"$f":"IF(A186=52,1,A186+1)","v":51},{"$f":"N186+3","v":"2020-12-14"},null,null,{"$f":"B196+1","v":"2020-12-15"},null,null,{"$f":"E196+1","v":"2020-12-16"},null,null,{"$f":"H196+1","v":"2020-12-17"},null,null,{"$f":"K196+1","v":"2020-12-18"}]
[null,{"$f":"B187","v":0},null,null,{"$f":"E187","v":0},null,null,{"$f":"H187","v":0},null,null,{"$f":"K187","v":0},null,null,{"$f":"N187","v":0}]
[20,0,null,null,0,null,null,0,null,null,0,null,null,0]
[null,0,null,null,0,null,null,0,null,null,0,null,null,0]
[null,0,null,null,0,null,null,0,null,null,0,null,null,0]
[null,0,null,null,0,null,null,0,null,null,{"$f":"K191","v":0},null,null,0]
[null,0,null,null,0,null,null,0,null,null,0,null,null,0]
[]
[]
[null,null,{"$f":"'1-2a'!$C$205","v":0},null,null,{"$f":"'1-2a'!$F$205","v":0},null,null,{"$f":"'1-2a'!$I$205","v":0},null,null,{"$f":"'1-2a'!$L$205","v":0},null,null,{"$f":"'1-2a'!$O$205","v":0}]
[{"$f":"IF(A196=52,1,A196+1)","v":52},{"$f":"N196+3","v":"2020-12-21"},null,null,{"$f":"B206+1","v":"2020-12-22"},null,null,{"$f":"E206+1","v":"2020-12-23"},null,null,{"$f":"H206+1","v":"2020-12-24"},null,null,{"$f":"K206+1","v":"2020-12-25"}]
[null,{"$f":"B197","v":0},null,null,{"$f":"E197","v":0},null,null,{"$f":"H197","v":0},null,null,{"$f":"K197","v":0},null,null,{"$f":"N197","v":0}]
[21,0,null,null,0,null,null,0,null,null,0,null,null,0]
[null,0,null,null,0,null,null,0,null,null,0,null,null,0]
[null,0,null,null,0,null,null,0,null,null,0,null,null,0]
[null,0,null,null,0,null,null,0,null,null,{"$f":"K201","v":0},null,null,0]
[null,0,null,null,0,null,null,0,null,null,0,null,null,0]
[]
[]
[null,null,{"$f":"'1-2a'!$C$215","v":0},null,null,{"$f":"'1-2a'!$F$215","v":0},null,null,{"$f":"'1-2a'!$I$215","v":0},null,null,{"$f":"'1-2a'!$L$215","v":0},null,null,{"$f":"'1-2a'!$O$215","v":0}]
[{"$f":"IF(A206=52,1,A206+1)","v":1},{"$f":"N206+3","v":"2020-12-28"},null,null,{"$f":"B216+1","v":"2020-12-29"},null,null,{"$f":"E216+1","v":"2020-12-30"},null,null,{"$f":"H216+1","v":"2020-12-31"},null,null,{"$f":"K216+1","v":"2021-01-01"}]
[null,{"$f":"B207","v":0},null,null,{"$f":"E207","v":0},null,null,{"$f":"H207","v":0},null,null,{"$f":"K207","v":0},null,null,{"$f":"N207","v":0}]
[22,0,null,null,0,null,null,0,null,null,0,null,null,0]
[null,0,null,null,0,null,null,0,null,null,0,null,null,0]
[null,0,null,null,0,null,null,0,null,null,0,null,null,0]
[null,0,null,null,0,null,null,0,null,null,{"$f":"K211","v":0},null,null,0]
[null,0,null,null,0,null,null,0,null,null,0,null,null,0]
[]
[]
[null,null,{"$f":"'1-2a'!$C$225","v":0},null,null,{"$f":"'1-2a'!$F$225","v":0},null,null,{"$f":"'1-2a'!$I$225","v":0},null,null,{"$f":"'1-2a'!$L$225","v":0},null,null,{"$f":"'1-2a'!$O$225","v":0}]
[{"$f":"IF(A216=52,1,A216+1)","v":2},{"$f":"N216+3","v":"2021-01-04"},null,null,{"$f":"B226+1","v":"2021-01-05"},null,null,{"$f":"E226+1","v":"2021-01-06"},null,null,{"$f":"H226+1","v":"2021-01-07"},null,null,{"$f":"K226+1","v":"2021-01-08"}]
[null,{"$f":"B217","v":0},null,null,{"$f":"E217","v":0},null,null,{"$f":"H217","v":0},null,null,{"$f":"K217","v":0},null,null,{"$f":"N217","v":0}]
[23,0,null,null,0,null,null,0,null,null,0,null,null,0]
[null,0,null,null,0,null,null,0,null,null,0,null,null,0]
[null,0,null,null,0,null,null,0,null,null,0,null,null,0]
[null,0,null,null,0,null,null,0,null,null,{"$f":"K221","v":0},null,null,0]
[null,0,null,null,0,null,null,0,null,null,0,null,null,0]
[]
[]
[null,null,{"$f":"'1-2a'!$C$235","v":0},null,null,{"$f":"'1-2a'!$F$235","v":0},null,null,{"$f":"'1-2a'!$I$235","v":0},null,null,{"$f":"'1-2a'!$L$235","v":0},null,null,{"$f":"'1-2a'!$O$235","v":0}]
[{"$f":"IF(A226=52,1,A226+1)","v":3},{"$f":"N226+3","v":"2021-01-11"},null,null,{"$f":"B236+1","v":"2021-01-12"},null,null,{"$f":"E236+1","v":"2021-01-13"},null,null,{"$f":"H236+1","v":"2021-01-14"},null,null,{"$f":"K236+1","v":"2021-01-15"}]
[null,{"$f":"B227","v":0},null,null,{"$f":"E227","v":0},null,null,{"$f":"H227","v":0},null,null,{"$f":"K227","v":0},null,null,{"$f":"N227","v":0}]
[24,0,null,null,0,null,null,0,null,null,0,null,null,0]
[null,0,null,null,0,null,null,0,null,null,0,null,null,0]
[null,0,null,null,0,null,null,0,null,null,0,null,null,0]
[null,0,null,null,0,null,null,0,null,null,{"$f":"K231","v":0},null,null,0]
[null,0,null,null,0,null,null,0,null,null,0,null,null,0]
[]
[]
[null,null,{"$f":"'1-2a'!$C$245","v":0},null,null,{"$f":"'1-2a'!$F$245","v":0},null,null,{"$f":"'1-2a'!$I$245","v":0},null,null,{"$f":"'1-2a'!$L$245","v":0},null,null,{"$f":"'1-2a'!$O$245","v":0}]
[{"$f":"IF(A236=52,1,A236+1)","v":4},{"$f":"N236+3","v":"2021-01-18"},null,null,{"$f":"B246+1","v":"2021-01-19"},null,null,{"$f":"E246+1","v":"2021-01-20"},null,null,{"$f":"H246+1","v":"2021-01-21"},null,null,{"$f":"K246+1","v":"2021-01-22"}]
[null,{"$f":"B237","v":0},null,null,{"$f":"E237","v":0},null,null,{"$f":"H237","v":0},null,null,{"$f":"K237","v":0},null,null,{"$f":"N237","v":0}]
[25,0,null,null,0,null,null,0,null,null,0,null,null,0]
[null,0,null,null,0,null,null,0,null,null,0,null,null,0]
[null,0,null,null,0,null,null,0,null,null,0,null,null,0]
[null,0,null,null,0,null,null,0,null,null,0,null,null,0]
[null,0,null,null,0,null,null,0,null,null,0,null,null,0]
[]
[]
[null,null,{"$f":"'1-2a'!$C$255","v":0},null,null,{"$f":"'1-2a'!$F$255","v":0},null,null,{"$f":"'1-2a'!$I$255","v":0},null,null,{"$f":"'1-2a'!$L$255","v":0},null,null,{"$f":"'1-2a'!$O$255","v":0}]
[{"$f":"IF(A246=52,1,A246+1)","v":5},{"$f":"N246+3","v":"2021-01-25"},null,null,{"$f":"B256+1","v":"2021-01-26"},null,null,{"$f":"E256+1","v":"2021-01-27"},null,null,{"$f":"H256+1","v":"2021-01-28"},null,null,{"$f":"K256+1","v":"2021-01-29"}]
[null,{"$f":"B247","v":0},null,null,{"$f":"E247","v":0},null,null,{"$f":"H247","v":0},null,null,{"$f":"K247","v":0},null,null,{"$f":"N247","v":0}]
[26,0,null,null,0,null,null,0,null,null,0,null,null,0]
[null,0,null,null,0,null,null,0,null,null,0,null,null,0]
[null,0,null,null,0,null,null,0,null,null,0,null,null,0]
[null,0,null,null,0,null,null,0,null,null,{"$f":"K251","v":0},null,null,0]
[null,0,null,null,0,null,null,0,null,null,0,null,null,0]
[]
[]
[null,null,{"$f":"'1-2a'!$C$265","v":0},null,null,{"$f":"'1-2a'!$F$265","v":0},null,null,{"$f":"'1-2a'!$I$265","v":0},null,null,{"$f":"'1-2a'!$L$265","v":0},null,null,{"$f":"'1-2a'!$O$265","v":0}]
[{"$f":"IF(A256=52,1,A256+1)","v":6},{"$f":"N256+3","v":"2021-02-01"},null,null,{"$f":"B266+1","v":"2021-02-02"},null,null,{"$f":"E266+1","v":"2021-02-03"},null,null,{"$f":"H266+1","v":"2021-02-04"},null,null,{"$f":"K266+1","v":"2021-02-05"}]
[null,{"$f":"B257","v":0},null,null,{"$f":"E257","v":0},null,null,{"$f":"H257","v":0},null,null,{"$f":"K257","v":0},null,null,{"$f":"N257","v":0}]
[27,0,null,null,0,null,null,0,null,null,0,null,null,0]
[null,0,null,null,0,null,null,0,null,null,0,null,null,0]
[null,0,null,null,0,null,null,0,null,null,0,null,null,0]
[null,0,null,null,0,null,null,0,null,null,{"$f":"K261","v":0},null,null,0]
[null,0,null,null,0,null,null,0,null,null,0,null,null,0]
[]
[]
[null,null,{"$f":"'1-2a'!$C$275","v":0},null,null,{"$f":"'1-2a'!$F$275","v":0},null,null,{"$f":"'1-2a'!$I$275","v":0},null,null,{"$f":"'1-2a'!$L$275","v":0},null,null,{"$f":"'1-2a'!$O$275","v":0}]
[{"$f":"IF(A266=52,1,A266+1)","v":7},{"$f":"N266+3","v":"2021-02-08"},null,null,{"$f":"B276+1","v":"2021-02-09"},null,null,{"$f":"E276+1","v":"2021-02-10"},null,null,{"$f":"H276+1","v":"2021-02-11"},null,null,{"$f":"K276+1","v":"2021-02-12"}]
[null,{"$f":"B267","v":0},null,null,{"$f":"E267","v":0},null,null,{"$f":"H267","v":0},null,null,{"$f":"K267","v":0},null,null,{"$f":"N267","v":0}]
[28,0,null,null,0,null,null,0,null,null,0,null,null,0]
[null,0,null,null,0,null,null,0,null,null,0,null,null,0]
[null,0,null,null,0,null,null,0,null,null,0,null,null,0]
[null,0,null,null,0,null,null,0,null,null,{"$f":"K271","v":0},null,null,0]
[null,0,null,null,0,null,null,0,null,null,0,null,null,0]
[]
[]
[null,null,{"$f":"'1-2a'!$C$285","v":0},null,null,{"$f":"'1-2a'!$F$285","v":0},null,null,{"$f":"'1-2a'!$I$285","v":0},null,null,{"$f":"'1-2a'!$L$285","v":0},null,null,{"$f":"'1-2a'!$O$285","v":0}]
[{"$f":"IF(A276=52,1,A276+1)","v":8},{"$f":"N276+3","v":"2021-02-15"},null,null,{"$f":"B286+1","v":"2021-02-16"},null,null,{"$f":"E286+1","v":"2021-02-17"},null,null,{"$f":"H286+1","v":"2021-02-18"},null,null,{"$f":"K286+1","v":"2021-02-19"}]
[null,{"$f":"B277","v":0},null,null,{"$f":"E277","v":0},null,null,{"$f":"H277","v":0},null,null,{"$f":"K277","v":0},null,null,{"$f":"N277","v":0}]
[29,0,null,null,0,null,null,0,null,null,0,null,null,0]
[null,0,null,null,0,null,null,0,null,null,0,null,null,0]
[null,0,null,null,0,null,null,0,null,null,0,null,null,0]
[null,0,null,null,0,null,null,0,null,null,{"$f":"K281","v":0},null,null,0]
[null,0,null,null,0,null,null,0,null,null,0,null,null,0]
[]
[]
[null,null,{"$f":"'1-2a'!$C$295","v":0},null,null,{"$f":"'1-2a'!$F$295","v":0},null,null,{"$f":"'1-2a'!$I$295","v":0},null,null,{"$f":"'1-2a'!$L$295","v":0},null,null,{"$f":"'1-2a'!$O$295","v":0}]
[{"$f":"IF(A286=52,1,A286+1)","v":9},{"$f":"N286+3","v":"2021-02-22"},null,null,{"$f":"B296+1","v":"2021-02-23"},null,null,{"$f":"E296+1","v":"2021-02-24"},null,null,{"$f":"H296+1","v":"2021-02-25"},null,null,{"$f":"K296+1","v":"2021-02-26"}]
[null,{"$f":"B287","v":0},null,null,{"$f":"E287","v":0},null,null,{"$f":"H287","v":0},null,null,{"$f":"K287","v":0},null,null,{"$f":"N287","v":0}]
[30,0,null,null,0,null,null,0,null,null,0,null,null,0]
[null,0,null,null,0,null,null,0,null,null,0,null,null,0]
[null,0,null,null,0,null,null,0,null,null,0,null,null,0]
[null,0,null,null,0,null,null,0,null,null,{"$f":"K291","v":0},null,null,0]
[null,0,null,null,0,null,null,0,null,null,0,null,null,0]
[]
[]
[null,null,{"$f":"'1-2a'!$C$305","v":0},null,null,{"$f":"'1-2a'!$F$305","v":0},null,null,{"$f":"'1-2a'!$I$305","v":0},null,null,{"$f":"'1-2a'!$L$305","v":0},null,null,{"$f":"'1-2a'!$O$305","v":0}]
[{"$f":"IF(A296=52,1,A296+1)","v":10},{"$f":"N296+3","v":"2021-03-01"},null,null,{"$f":"B306+1","v":"2021-03-02"},null,null,{"$f":"E306+1","v":"2021-03-03"},null,null,{"$f":"H306+1","v":"2021-03-04"},null,null,{"$f":"K306+1","v":"2021-03-05"}]
[null,{"$f":"B297","v":0},null,null,{"$f":"E297","v":0},null,null,{"$f":"H297","v":0},null,null,{"$f":"K297","v":0},null,null,{"$f":"N297","v":0}]
[31,0,null,null,0,null,null,0,null,null,0,null,null,0]
[null,0,null,null,0,null,null,0,null,null,0,null,null,0]
[null,0,null,null,0,null,null,0,null,null,0,null,null,0]
[null,0,null,null,0,null,null,0,null,null,{"$f":"K301","v":0},null,null,0]
[null,0,null,null,0,null,null,0,null,null,0,null,null,0]
[]
[]
[null,null,{"$f":"'1-2a'!$C$315","v":0},null,null,{"$f":"'1-2a'!$F$315","v":0},null,null,{"$f":"'1-2a'!$I$315","v":0},null,null,{"$f":"'1-2a'!$L$315","v":0},null,null,{"$f":"'1-2a'!$O$315","v":0}]
[{"$f":"IF(A306=52,1,A306+1)","v":11},{"$f":"N306+3","v":"2021-03-08"},null,null,{"$f":"B316+1","v":"2021-03-09"},null,null,{"$f":"E316+1","v":"2021-03-10"},null,null,{"$f":"H316+1","v":"2021-03-11"},null,null,{"$f":"K316+1","v":"2021-03-12"}]
[null,{"$f":"B307","v":0},null,null,{"$f":"E307","v":0},null,null,{"$f":"H307","v":0},null,null,{"$f":"K307","v":0},null,null,{"$f":"N307","v":0}]
[32,0,null,null,0,null,null,0,null,null,0,null,null,0]
[null,0,null,null,0,null,null,0,null,null,0,null,null,0]
[null,0,null,null,0,null,null,0,null,null,0,null,null,0]
[null,0,null,null,0,null,null,0,null,null,{"$f":"K311","v":0},null,null,0]
[null,0,null,null,0,null,null,0,null,null,0,null,null,0]
[]
[]
[null,null,{"$f":"'1-2a'!$C$325","v":0},null,null,{"$f":"'1-2a'!$F$325","v":0},null,null,{"$f":"'1-2a'!$I$325","v":0},null,null,{"$f":"'1-2a'!$L$325","v":0},null,null,{"$f":"'1-2a'!$O$325","v":0}]
[{"$f":"IF(A316=52,1,A316+1)","v":12},{"$f":"N316+3","v":"2021-03-15"},null,null,{"$f":"B326+1","v":"2021-03-16"},null,null,{"$f":"E326+1","v":"2021-03-17"},null,null,{"$f":"H326+1","v":"2021-03-18"},null,null,{"$f":"K326+1","v":"2021-03-19"}]
[null,{"$f":"B317","v":0},null,null,{"$f":"E317","v":0},null,null,{"$f":"H317","v":0},null,null,{"$f":"K317","v":0},null,null,{"$f":"N317","v":0}]
[33,0,null,null,0,null,null,0,null,null,0,null,null,0]
[null,0,null,null,0,null,null,0,null,null,0,null,null,0]
[null,0,null,null,0,null,null,0,null,null,0,null,null,0]
[null,0,null,null,0,null,null,0,null,null,0,null,null,0]
[null,0,null,null,0,null,null,0,null,null,0,null,null,0]
[]
[]
[null,null,{"$f":"'1-2a'!$C$335","v":0},null,null,{"$f":"'1-2a'!$F$335","v":0},null,null,{"$f":"'1-2a'!$I$335","v":0},null,null,{"$f":"'1-2a'!$L$335","v":0},null,null,{"$f":"'1-2a'!$O$335","v":0}]
[{"$f":"IF(A326=52,1,A326+1)","v":13},{"$f":"N326+3","v":"2021-03-22"},null,null,{"$f":"B336+1","v":"2021-03-23"},null,null,{"$f":"E336+1","v":"2021-03-24"},null,null,{"$f":"H336+1","v":"2021-03-25"},null,null,{"$f":"K336+1","v":"2021-03-26"}]
[null,{"$f":"B327","v":0},null,null,{"$f":"E327","v":0},null,null,{"$f":"H327","v":0},null,null,{"$f":"K327","v":0},null,null,{"$f":"N327","v":0}]
[34,0,null,null,0,null,null,0,null,null,0,null,null,0]
[null,0,null,null,0,null,null,0,null,null,0,null,null,0]
[null,0,null,null,0,null,null,0,null,null,0,null,null,0]
[null,0,null,null,0,null,null,0,null,null,{"$f":"K331","v":0},null,null,0]
[null,0,null,null,0,null,null,0,null,null,0,null,null,0]
[]
[]
[null,null,{"$f":"'1-2a'!$C$345","v":0},null,null,{"$f":"'1-2a'!$F$345","v":0},null,null,{"$f":"'1-2a'!$I$345","v":0},null,null,{"$f":"'1-2a'!$L$345","v":0},null,null,{"$f":"'1-2a'!$O$345","v":0}]
[{"$f":"IF(A336=52,1,A336+1)","v":14},{"$f":"N336+3","v":"2021-03-29"},null,null,{"$f":"B346+1","v":"2021-03-30"},null,null,{"$f":"E346+1","v":"2021-03-31"},null,null,{"$f":"H346+1","v":"2021-04-01"},null,null,{"$f":"K346+1","v":"2021-04-02"}]
[null,{"$f":"B337","v":0},null,null,{"$f":"E337","v":0},null,null,{"$f":"H337","v":0},null,null,{"$f":"K337","v":0},null,null,{"$f":"N337","v":0}]
[35,0,null,null,0,null,null,0,null,null,0,null,null,0]
[null,0,null,null,0,null,null,0,null,null,0,null,null,0]
[null,0,null,null,0,null,null,0,null,null,0,null,null,0]
[null,0,null,null,0,null,null,0,null,null,{"$f":"K341","v":0},null,null,0]
[null,0,null,null,0,null,null,0,null,null,0,null,null,0]
[]
[]
[null,null,{"$f":"'1-2a'!$C$355","v":0},null,null,{"$f":"'1-2a'!$F$355","v":0},null,null,{"$f":"'1-2a'!$I$355","v":0},null,null,{"$f":"'1-2a'!$L$355","v":0},null,null,{"$f":"'1-2a'!$O$355","v":0}]
[{"$f":"IF(A346=52,1,A346+1)","v":15},{"$f":"N346+3","v":"2021-04-05"},null,null,{"$f":"B356+1","v":"2021-04-06"},null,null,{"$f":"E356+1","v":"2021-04-07"},null,null,{"$f":"H356+1","v":"2021-04-08"},null,null,{"$f":"K356+1","v":"2021-04-09"}]
[null,{"$f":"B347","v":0},null,null,{"$f":"E347","v":0},null,null,{"$f":"H347","v":0},null,null,{"$f":"K347","v":0},null,null,{"$f":"N347","v":0}]
[36,0,null,null,0,null,null,0,null,null,0,null,null,0]
[null,0,null,null,0,null,null,0,null,null,0,null,null,0]
[null,0,null,null,0,null,null,0,null,null,0,null,null,0]
[null,0,null,null,0,null,null,0,null,null,{"$f":"K351","v":0},null,null,0]
[null,0,null,null,0,null,null,0,null,null,0,null,null,0]
[]
[]
[null,null,{"$f":"'1-2a'!$C$365","v":0},null,null,{"$f":"'1-2a'!$F$365","v":0},null,null,{"$f":"'1-2a'!$I$365","v":0},null,null,{"$f":"'1-2a'!$L$365","v":0},null,null,{"$f":"'1-2a'!$O$365","v":0}]
[{"$f":"IF(A356=52,1,A356+1)","v":16},{"$f":"N356+3","v":"2021-04-12"},null,null,{"$f":"B366+1","v":"2021-04-13"},null,null,{"$f":"E366+1","v":"2021-04-14"},null,null,{"$f":"H366+1","v":"2021-04-15"},null,null,{"$f":"K366+1","v":"2021-04-16"}]
[null,{"$f":"B357","v":0},null,null,{"$f":"E357","v":0},null,null,{"$f":"H357","v":0},null,null,{"$f":"K357","v":0},null,null,{"$f":"N357","v":0}]
[37,0,null,null,0,null,null,0,null,null,0,null,null,0]
[null,0,null,null,0,null,null,0,null,null,0,null,null,0]
[null,0,null,null,0,null,null,0,null,null,0,null,null,0]
[null,0,null,null,0,null,null,0,null,null,{"$f":"K361","v":0},null,null,0]
[null,0,null,null,0,null,null,0,null,null,0,null,null,0]
[]
[]
[null,null,{"$f":"'1-2a'!$C$375","v":0},null,null,{"$f":"'1-2a'!$F$375","v":0},null,null,{"$f":"'1-2a'!$I$375","v":0},null,null,{"$f":"'1-2a'!$L$375","v":0},null,null,{"$f":"'1-2a'!$O$375","v":0}]
[{"$f":"IF(A366=52,1,A366+1)","v":17},{"$f":"N366+3","v":"2021-04-19"},null,null,{"$f":"B376+1","v":"2021-04-20"},null,null,{"$f":"E376+1","v":"2021-04-21"},null,null,{"$f":"H376+1","v":"2021-04-22"},null,null,{"$f":"K376+1","v":"2021-04-23"}]
[null,{"$f":"B367","v":0},null,null,{"$f":"E367","v":0},null,null,{"$f":"H367","v":0},null,null,{"$f":"K367","v":0},null,null,{"$f":"N367","v":0}]
[38,0,null,null,0,null,null,0,null,null,0,null,null,0]
[null,0,null,null,0,null,null,0,null,null,0,null,null,0]
[null,0,null,null,0,null,null,0,null,null,0,null,null,0]
[null,0,null,null,0,null,null,0,null,null,{"$f":"K371","v":0},null,null,0]
[null,0,null,null,0,null,null,0,null,null,0,null,null,0]
[]
[]
[null,null,{"$f":"'1-2a'!$C$385","v":0},null,null,{"$f":"'1-2a'!$F$385","v":0},null,null,{"$f":"'1-2a'!$I$385","v":0},null,null,{"$f":"'1-2a'!$L$385","v":0},null,null,{"$f":"'1-2a'!$O$385","v":0}]
[{"$f":"IF(A376=52,1,A376+1)","v":18},{"$f":"N376+3","v":"2021-04-26"},null,null,{"$f":"B386+1","v":"2021-04-27"},null,null,{"$f":"E386+1","v":"2021-04-28"},null,null,{"$f":"H386+1","v":"2021-04-29"},null,null,{"$f":"K386+1","v":"2021-04-30"}]
[null,{"$f":"B377","v":0},null,null,{"$f":"E377","v":0},null,null,{"$f":"H377","v":0},null,null,{"$f":"K377","v":0},null,null,{"$f":"N377","v":0}]
[39,0,null,null,0,null,null,0,null,null,0,null,null,0]
[null,0,null,null,0,null,null,0,null,null,0,null,null,0]
[null,0,null,null,0,null,null,0,null,null,0,null,null,0]
[null,0,null,null,0,null,null,0,null,null,{"$f":"K381","v":0},null,null,0]
[null,0,null,null,0,null,null,0,null,null,0,null,null,0]
[]
[]
[null,null,{"$f":"'1-2a'!$C$395","v":0},null,null,{"$f":"'1-2a'!$F$395","v":0},null,null,{"$f":"'1-2a'!$I$395","v":0},null,null,{"$f":"'1-2a'!$L$395","v":0},null,null,{"$f":"'1-2a'!$O$395","v":0}]
[{"$f":"IF(A386=52,1,A386+1)","v":19},{"$f":"N386+3","v":"2021-05-03"},null,null,{"$f":"B396+1","v":"2021-05-04"},null,null,{"$f":"E396+1","v":"2021-05-05"},null,null,{"$f":"H396+1","v":"2021-05-06"},null,null,{"$f":"K396+1","v":"2021-05-07"}]
[null,{"$f":"B387","v":0},null,null,{"$f":"E387","v":0},null,null,{"$f":"H387","v":0},null,null,{"$f":"K387","v":0},null,null,{"$f":"N387","v":0}]
[40,0,null,null,0,null,null,0,null,null,0,null,null,0]
[null,0,null,null,0,null,null,0,null,null,0,null,null,0]
[null,0,null,null,0,null,null,0,null,null,0,null,null,0]
[null,0,null,null,0,null,null,0,null,null,{"$f":"K391","v":0},null,null,0]
[null,0,null,null,0,null,null,0,null,null,0,null,null,0]
[]
[]
[null,null,{"$f":"'1-2a'!$C$405","v":0},null,null,{"$f":"'1-2a'!$F$405","v":0},null,null,{"$f":"'1-2a'!$I$405","v":0},null,null,{"$f":"'1-2a'!$L$405","v":0},null,null,{"$f":"'1-2a'!$O$405","v":0}]
[{"$f":"IF(A396=52,1,A396+1)","v":20},{"$f":"N396+3","v":"2021-05-10"},null,null,{"$f":"B406+1","v":"2021-05-11"},null,null,{"$f":"E406+1","v":"2021-05-12"},null,null,{"$f":"H406+1","v":"2021-05-13"},null,null,{"$f":"K406+1","v":"2021-05-14"}]
[null,{"$f":"B397","v":0},null,null,{"$f":"E397","v":0},null,null,{"$f":"H397","v":0},null,null,{"$f":"K397","v":0},null,null,{"$f":"N397","v":0}]
[41,0,null,null,0,null,null,0,null,null,0,null,null,0]
[null,0,null,null,0,null,null,0,null,null,0,null,null,0]
[null,0,null,null,0,null,null,0,null,null,0,null,null,0]
[null,0,null,null,0,null,null,0,null,null,0,null,null,0]
[null,0,null,null,0,null,null,0,null,null,0,null,null,0]
[]
[]
[null,null,{"$f":"'1-2a'!$C$415","v":0},null,null,{"$f":"'1-2a'!$F$415","v":0},null,null,{"$f":"'1-2a'!$I$415","v":0},null,null,{"$f":"'1-2a'!$L$415","v":0},null,null,{"$f":"'1-2a'!$O$415","v":0}]
[{"$f":"IF(A406=52,1,A406+1)","v":21},{"$f":"N406+3","v":"2021-05-17"},null,null,{"$f":"B416+1","v":"2021-05-18"},null,null,{"$f":"E416+1","v":"2021-05-19"},null,null,{"$f":"H416+1","v":"2021-05-20"},null,null,{"$f":"K416+1","v":"2021-05-21"}]
[null,{"$f":"B407","v":0},null,null,{"$f":"E407","v":0},null,null,{"$f":"H407","v":0},null,null,{"$f":"K407","v":0},null,null,{"$f":"N407","v":0}]
[42,0,null,null,0,null,null,0,null,null,0,null,null,0]
[null,0,null,null,0,null,null,0,null,null,0,null,null,0]
[null,0,null,null,0,null,null,0,null,null,0,null,null,0]
[null,0,null,null,0,null,null,0,null,null,{"$f":"K411","v":0},null,null,0]
[null,0,null,null,0,null,null,0,null,null,0,null,null,0]
[]
[]
[null,null,{"$f":"'1-2a'!$C$425","v":0},null,null,{"$f":"'1-2a'!$F$425","v":0},null,null,{"$f":"'1-2a'!$I$425","v":0},null,null,{"$f":"'1-2a'!$L$425","v":0},null,null,{"$f":"'1-2a'!$O$425","v":0}]
[{"$f":"IF(A416=52,1,A416+1)","v":22},{"$f":"N416+3","v":"2021-05-24"},null,null,{"$f":"B426+1","v":"2021-05-25"},null,null,{"$f":"E426+1","v":"2021-05-26"},null,null,{"$f":"H426+1","v":"2021-05-27"},null,null,{"$f":"K426+1","v":"2021-05-28"}]
[null,{"$f":"B417","v":0},null,null,{"$f":"E417","v":0},null,null,{"$f":"H417","v":0},null,null,{"$f":"K417","v":0},null,null,{"$f":"N417","v":0}]
[43,0,null,null,0,null,null,0,null,null,0,null,null,0]
[null,0,null,null,0,null,null,0,null,null,0,null,null,0]
[null,0,null,null,0,null,null,0,null,null,0,null,null,0]
[null,0,null,null,0,null,null,0,null,null,{"$f":"K421","v":0},null,null,0]
[null,0,null,null,0,null,null,0,null,null,0,null,null,0]
[]
[]
[null,null,{"$f":"'1-2a'!$C$435","v":0},null,null,{"$f":"'1-2a'!$F$435","v":0},null,null,{"$f":"'1-2a'!$I$435","v":0},null,null,{"$f":"'1-2a'!$L$435","v":0},null,null,{"$f":"'1-2a'!$O$435","v":0}]
[{"$f":"IF(A426=52,1,A426+1)","v":23},{"$f":"N426+3","v":"2021-05-31"},null,null,{"$f":"B436+1","v":"2021-06-01"},null,null,{"$f":"E436+1","v":"2021-06-02"},null,null,{"$f":"H436+1","v":"2021-06-03"},null,null,{"$f":"K436+1","v":"2021-06-04"}]
[null,{"$f":"B427","v":0},null,null,{"$f":"E427","v":0},null,null,{"$f":"H427","v":0},null,null,{"$f":"K427","v":0},null,null,{"$f":"N427","v":0}]
[44,0,null,null,0,null,null,0,null,null,0,null,null,0]
[null,0,null,null,0,null,null,0,null,null,0,null,null,0]
[null,0,null,null,0,null,null,0,null,null,0,null,null,0]
[null,0,null,null,0,null,null,0,null,null,{"$f":"K431","v":0},null,null,0]
[null,0,null,null,0,null,null,0,null,null,0,null,null,0]
[]
[]
[null,null,{"$f":"'1-2a'!$C$445","v":0},null,null,{"$f":"'1-2a'!$F$445","v":0},null,null,{"$f":"'1-2a'!$I$445","v":0},null,null,{"$f":"'1-2a'!$L$445","v":0},null,null,{"$f":"'1-2a'!$O$445","v":0}]
[{"$f":"IF(A436=52,1,A436+1)","v":24},{"$f":"N436+3","v":"2021-06-07"},null,null,{"$f":"B446+1","v":"2021-06-08"},null,null,{"$f":"E446+1","v":"2021-06-09"},null,null,{"$f":"H446+1","v":"2021-06-10"},null,null,{"$f":"K446+1","v":"2021-06-11"}]
[null,{"$f":"B437","v":0},null,null,{"$f":"E437","v":0},null,null,{"$f":"H437","v":0},null,null,{"$f":"K437","v":0},null,null,{"$f":"N437","v":0}]
[45,0,null,null,0,null,null,0,null,null,0,null,null,0]
[null,0,null,null,0,null,null,0,null,null,0,null,null,0]
[null,0,null,null,0,null,null,0,null,null,0,null,null,0]
[null,0,null,null,0,null,null,0,null,null,{"$f":"K441","v":0},null,null,0]
[null,0,null,null,0,null,null,0,null,null,0,null,null,0]
[]
[]
[null,null,{"$f":"'1-2a'!$C$455","v":0},null,null,{"$f":"'1-2a'!$F$455","v":0},null,null,{"$f":"'1-2a'!$I$455","v":0},null,null,{"$f":"'1-2a'!$L$455","v":0},null,null,{"$f":"'1-2a'!$O$455","v":0}]
[{"$f":"IF(A446=52,1,A446+1)","v":25},{"$f":"N446+3","v":"2021-06-14"},null,null,{"$f":"B456+1","v":"2021-06-15"},null,null,{"$f":"E456+1","v":"2021-06-16"},null,null,{"$f":"H456+1","v":"2021-06-17"},null,null,{"$f":"K456+1","v":"2021-06-18"}]
[null,{"$f":"B447","v":0},null,null,{"$f":"E447","v":0},null,null,{"$f":"H447","v":0},null,null,{"$f":"K447","v":0},null,null,{"$f":"N447","v":0}]
[46,0,null,null,0,null,null,0,null,null,0,null,null,0]
[null,0,null,null,0,null,null,0,null,null,0,null,null,0]
[null,0,null,null,0,null,null,0,null,null,0,null,null,0]
[null,0,null,null,0,null,null,0,null,null,{"$f":"K451","v":0},null,null,0]
[null,0,null,null,0,null,null,0,null,null,0,null,null,0]
[]
[]
[null,null,{"$f":"'1-2a'!$C$465","v":0},null,null,{"$f":"'1-2a'!$F$465","v":0},null,null,{"$f":"'1-2a'!$I$465","v":0},null,null,{"$f":"'1-2a'!$L$465","v":0},null,null,{"$f":"'1-2a'!$O$465","v":0}]
[{"$f":"IF(A456=52,1,A456+1)","v":26},{"$f":"N456+3","v":"2021-06-21"},null,null,{"$f":"B466+1","v":"2021-06-22"},null,null,{"$f":"E466+1","v":"2021-06-23"},null,null,{"$f":"H466+1","v":"2021-06-24"},null,null,{"$f":"K466+1","v":"2021-06-25"}]
[null,{"$f":"B457","v":0},null,null,{"$f":"E457","v":0},null,null,{"$f":"H457","v":0},null,null,{"$f":"K457","v":0},null,null,{"$f":"N457","v":0}]
[47,0,null,null,0,null,null,0,null,null,0,null,null,0]
[null,0,null,null,0,null,null,0,null,null,0,null,null,0]
[null,0,null,null,0,null,null,0,null,null,0,null,null,0]
[null,0,null,null,0,null,null,0,null,null,{"$f":"K461","v":0},null,null,0]
[null,0,null,null,0,null,null,0,null,null,0,null,null,0]
[]
[]
[null,null,{"$f":"'1-2a'!$C$475","v":0},null,null,{"$f":"'1-2a'!$F$475","v":0},null,null,{"$f":"'1-2a'!$I$475","v":0},null,null,{"$f":"'1-2a'!$L$475","v":0},null,null,{"$f":"'1-2a'!$O$475","v":0}]
[{"$f":"IF(A466=52,1,A466+1)","v":27},{"$f":"N466+3","v":"2021-06-28"},null,null,{"$f":"B476+1","v":"2021-06-29"},null,null,{"$f":"E476+1","v":"2021-06-30"},null,null,{"$f":"H476+1","v":"2021-07-01"},null,null,{"$f":"K476+1","v":"2021-07-02"}]
[null,{"$f":"B467","v":0},null,null,{"$f":"E467","v":0},null,null,{"$f":"H467","v":0},null,null,{"$f":"K467","v":0},null,null,{"$f":"N467","v":0}]
[48,0,null,null,0,null,null,0,null,null,0,null,null,0]
[null,0,null,null,0,null,null,0,null,null,0,null,null,0]
[null,0,null,null,0,null,null,0,null,null,0,null,null,0]
[null,0,null,null,0,null,null,0,null,null,{"$f":"K471","v":0},null,null,0]
[null,0,null,null,0,null,null,0,null,null,0,null,null,0]
[]
[]
[null,null,{"$f":"'1-2a'!$C$485","v":0},null,null,{"$f":"'1-2a'!$F$485","v":0},null,null,{"$f":"'1-2a'!$I$485","v":0},null,null,{"$f":"'1-2a'!$L$485","v":0},null,null,{"$f":"'1-2a'!$O$485","v":0}]
[{"$f":"IF(A476=52,1,A476+1)","v":28},{"$f":"N476+3","v":"2021-07-05"},null,null,{"$f":"B486+1","v":"2021-07-06"},null,null,{"$f":"E486+1","v":"2021-07-07"},null,null,{"$f":"H486+1","v":"2021-07-08"},null,null,{"$f":"K486+1","v":"2021-07-09"}]
[null,{"$f":"B477","v":0},null,null,{"$f":"E477","v":0},null,null,{"$f":"H477","v":0},null,null,{"$f":"K477","v":0},null,null,{"$f":"N477","v":0}]
[49,0,null,null,0,null,null,0,null,null,0,null,null,0]
[null,0,null,null,0,null,null,0,null,null,0,null,null,0]
[null,0,null,null,0,null,null,0,null,null,0,null,null,0]
[null,0,null,null,0,null,null,0,null,null,0,null,null,0]
[null,0,null,null,0,null,null,0,null,null,0,null,null,0]
[]
[]
[null,null,{"$f":"'1-2a'!$C$495","v":0},null,null,{"$f":"'1-2a'!$F$495","v":0},null,null,{"$f":"'1-2a'!$I$495","v":0},null,null,{"$f":"'1-2a'!$L$495","v":0},null,null,{"$f":"'1-2a'!$O$495","v":0}]
[{"$f":"IF(A486=52,1,A486+1)","v":29},{"$f":"N486+3","v":"2021-07-12"},null,null,{"$f":"B496+1","v":"2021-07-13"},null,null,{"$f":"E496+1","v":"2021-07-14"},null,null,{"$f":"H496+1","v":"2021-07-15"},null,null,{"$f":"K496+1","v":"2021-07-16"}]
[null,{"$f":"B487","v":0},null,null,{"$f":"E487","v":0},null,null,{"$f":"H487","v":0},null,null,{"$f":"K487","v":0},null,null,{"$f":"N487","v":0}]
[50,0,null,null,0,null,null,0,null,null,0]
[null,0,null,null,0,null,null,0,null,null,0,null,null,0]
[null,0,null,null,0,null,null,0,null,null,0,null,null,0]
[null,0,null,null,0,null,null,0,null,null,{"$f":"K491","v":0},null,null,0]
[null,0,null,null,0,null,null,0,null,null,0]

{"sheet":"15","index":15,"n_rows":502,"n_cols":15,"rows_kept":502,"cut":false,"hidden":false,"merged":[[5,1,5,3],[5,4,5,6],[5,7,5,9],[5,10,5,12],[5,13,5,15],[7,0,8,0],[1,1,2,7],[1,9,2,12],[1,13,2,15],[3,1,3,3],[3,4,3,6],[3,7,3,9],[3,10,3,12],[3,13,3,15],[12,1,13,3],[12,4,13,6],[12,7,13,9],[12,10,13,12],[12,13,13,15],[15,1,15,3],[15,4,15,6],[15,7,15,9],[15,10,15,12],[15,13,15,15],[25,1,25,3],[25,4,25,6],[25,7,25,9],[25,10,25,12],[25,13,25,15],[27,0,28,0],[17,0,18,0],[22,1,23,3],[22,4,23,6],[22,7,23,9],[22,10,23,12],[22,13,23,15],[32,1,33,3],[32,4,33,6],[32,7,33,9],[32,10,33,12],[32,13,33,15],[35,1,35,3],[35,4,35,6],[35,7,35,9],[35,10,35,12],[35,13,35,15],[45,1,45,3],[45,4,45,6],[45,7,45,9],[45,10,45,12],[45,13,45,15],[47,0,48,0],[37,0,38,0],[42,1,43,3],[42,4,43,6],[42,7,43,9],[42,10,43,12],[42,13,43,15],[52,1,53,3],[52,4,53,6],[52,7,53,9],[52,10,53,12],[52,13,53,15],[55,1,55,3],[55,4,55,6],[55,7,55,9],[55,10,55,12],[55,13,55,15],[65,1,65,3],[65,4,65,6],[65,7,65,9],[65,10,65,12],[65,13,65,15],[67,0,68,0],[57,0,58,0],[62,1,63,3],[62,4,63,6],[62,7,63,9],[62,10,63,12],[62,13,63,15],[72,1,73,3],[72,4,73,6],[72,7,73,9],[72,10,73,12],[72,13,73,15],[75,1,75,3],[75,4,75,6],[75,7,75,9],[75,10,75,12],[75,13,75,15],[85,1,85,3],[85,4,85,6],[85,7,85,9],[85,10,85,12],[85,13,85,15],[87,0,88,0],[77,0,78,0],[82,1,83,3],[82,4,83,6],[82,7,83,9],[82,10,83,12],[82,13,83,15],[92,1,93,3],[92,4,93,6],[92,7,93,9],[92,10,93,12],[92,13,93,15],[95,1,95,3],[95,4,95,6],[95,7,95,9],[95,10,95,12],[95,13,95,15],[105,1,105,3],[105,4,105,6],[105,7,105,9],[105,10,105,12],[105,13,105,15],[107,0,108,0],[97,0,98,0],[99,16,100,19],[102,1,103,3],[102,4,103,6],[102,7,103,9],[102,10,103,12],[102,13,103,15],[112,1,113,3],[112,4,113,6],[112,7,113,9],[112,10,113,12],[112,13,113,15],[115,1,115,3],[115,4,115,6],[115,7,115,9],[115,10,115,12],[115,13,115,15],[125,1,125,3],[125,4,125,6],[125,7,125,9],[125,10,125,12],[125,13,125,15],[127,0,128,0],[117,0,118,0],[122,1,123,3],[122,4,123,6],[122,7,123,9],[122,10,123,12],[122,13,123,15],[132,1,133,3],[132,4,133,6],[132,7,133,9],[132,10,133,12],[132,13,133,15],[135,1,135,3],[135,4,135,6],[135,7,135,9],[135,10,135,12],[135,13,135,15],[145,1,145,3],[145,4,145,6],[145,7,145,9],[145,10,145,12],[145,13,145,15],[147,0,148,0],[137,0,138,0],[142,1,143,3],[142,4,143,6],[142,7,143,9],[142,10,143,12],[142,13,143,15],[152,1,153,3],[152,4,153,6],[152,7,153,9],[152,10,153,12],[152,13,153,15],[155,1,155,3],[155,4,155,6],[155,7,155,9],[155,10,155,12],[155,13,155,15],[165,1,165,3],[165,4,165,6],[165,7,165,9],[165,10,165,12],[165,13,165,15],[167,0,168,0],[157,0,158,0],[162,1,163,3],[162,4,163,6],[162,7,163,9],[162,10,163,12],[162,13,163,15],[172,1,173,3],[172,4,173,6],[172,7,173,9],[172,10,173,12],[172,13,173,15],[175,1,175,3],[175,4,175,6],[175,7,175,9],[175,10,175,12],[175,13,175,15],[185,1,185,3],[185,4,185,6],[185,7,185,9],[185,10,185,12],[185,13,185,15],[187,0,188,0],[177,0,178,0],[179,16,180,19],[182,1,183,3],[182,4,183,6],[182,7,183,9],[182,10,183,12],[182,13,183,15],[192,1,193,3],[192,4,193,6],[192,7,193,9],[192,10,193,12],[192,13,193,15],[195,1,195,3],[195,4,195,6],[195,7,195,9],[195,10,195,12],[195,13,195,15],[205,1,205,3],[205,4,205,6],[205,7,205,9],[205,10,205,12],[205,13,205,15],[207,0,208,0],[197,0,198,0],[202,1,203,3],[202,4,203,6],[202,7,203,9],[202,10,203,12],[202,13,203,15],[212,1,213,3],[212,4,213,6],[212,7,213,9],[212,10,213,12],[212,13,213,15],[215,1,215,3],[215,4,215,6],[215,7,215,9],[215,10,215,12],[215,13,215,15],[225,1,225,3],[225,4,225,6],[225,7,225,9],[225,10,225,12],[225,13,225,15],[227,0,228,0],[217,0,218,0],[222,1,223,3],[222,4,223,6],[222,7,223,9],[222,10,223,12],[222,13,223,15],[232,1,233,3],[232,4,233,6],[232,7,233,9],[232,10,233,12],[232,13,233,15],[235,1,235,3],[235,4,235,6],[235,7,235,9],[235,10,235,12],[235,13,235,15],[245,1,245,3],[245,4,245,6],[245,7,245,9],[245,10,245,12],[245,13,245,15],[247,0,248,0],[237,0,238,0],[242,1,243,3],[242,4,243,6],[242,7,243,9],[242,10,243,12],[242,13,243,15],[252,1,253,3],[252,4,253,6],[252,7,253,9],[252,10,253,12],[252,13,253,15],[255,1,255,3],[255,4,255,6],[255,7,255,9],[255,10,255,12],[255,13,255,15],[265,1,265,3],[265,4,265,6],[265,7,265,9],[265,10,265,12],[265,13,265,15],[267,0,268,0],[257,0,258,0],[259,16,260,19],[262,1,263,3],[262,4,263,6],[262,7,263,9],[262,10,263,12],[262,13,263,15],[272,1,273,3],[272,4,273,6],[272,7,273,9],[272,10,273,12],[272,13,273,15],[275,1,275,3],[275,4,275,6],[275,7,275,9],[275,10,275,12],[275,13,275,15],[285,1,285,3],[285,4,285,6],[285,7,285,9],[285,10,285,12],[285,13,285,15],[287,0,288,0],[277,0,278,0],[282,1,283,3],[282,4,283,6],[282,7,283,9],[282,10,283,12],[282,13,283,15],[292,1,293,3],[292,4,293,6],[292,7,293,9],[292,10,293,12],[292,13,293,15],[295,1,295,3],[295,4,295,6],[295,7,295,9],[295,10,295,12],[295,13,295,15],[305,1,305,3],[305,4,305,6],[305,7,305,9],[305,10,305,12],[305,13,305,15],[307,0,308,0],[297,0,298,0],[302,1,303,3],[302,4,303,6],[302,7,303,9],[302,10,303,12],[302,13,303,15],[312,1,313,3],[312,4,313,6],[312,7,313,9],[312,10,313,12],[312,13,313,15],[315,1,315,3],[315,4,315,6],[315,7,315,9],[315,10,315,12],[315,13,315,15],[325,1,325,3],[325,4,325,6],[325,7,325,9],[325,10,325,12],[325,13,325,15],[327,0,328,0],[317,0,318,0],[322,1,323,3],[322,4,323,6],[322,7,323,9],[322,10,323,12],[322,13,323,15],[332,1,333,3],[332,4,333,6],[332,7,333,9],[332,10,333,12],[332,13,333,15],[335,1,335,3],[335,4,335,6],[335,7,335,9],[335,10,335,12],[335,13,335,15],[345,1,345,3],[345,4,345,6],[345,7,345,9],[345,10,345,12],[345,13,345,15],[347,0,348,0],[337,0,338,0],[339,16,340,19],[342,1,343,3],[342,4,343,6],[342,7,343,9],[342,10,343,12],[342,13,343,15],[352,1,353,3],[352,4,353,6],[352,7,353,9],[352,10,353,12],[352,13,353,15],[355,1,355,3],[355,4,355,6],[355,7,355,9],[355,10,355,12],[355,13,355,15],[365,1,365,3],[365,4,365,6],[365,7,365,9],[365,10,365,12],[365,13,365,15],[367,0,368,0],[357,0,358,0],[362,1,363,3],[362,4,363,6],[362,7,363,9],[362,10,363,12],[362,13,363,15],[372,1,373,3],[372,4,373,6],[372,7,373,9],[372,10,373,12],[372,13,373,15],[375,1,375,3],[375,4,375,6],[375,7,375,9],[375,10,375,12],[375,13,375,15],[385,1,385,3],[385,4,385,6],[385,7,385,9],[385,10,385,12],[385,13,385,15],[387,0,388,0],[377,0,378,0],[382,1,383,3],[382,4,383,6],[382,7,383,9],[382,10,383,12],[382,13,383,15],[392,1,393,3],[392,4,393,6],[392,7,393,9],[392,10,393,12],[392,13,393,15],[395,1,395,3],[395,4,395,6],[395,7,395,9],[395,10,395,12],[395,13,395,15],[405,1,405,3],[405,4,405,6],[405,7,405,9],[405,10,405,12],[405,13,405,15],[407,0,408,0],[397,0,398,0],[402,1,403,3],[402,4,403,6],[402,7,403,9],[402,10,403,12],[402,13,403,15],[412,1,413,3],[412,4,413,6],[412,7,413,9],[412,10,413,12],[412,13,413,15],[415,1,415,3],[415,4,415,6],[415,7,415,9],[415,10,415,12],[415,13,415,15],[425,1,425,3],[425,4,425,6],[425,7,425,9],[425,10,425,12],[425,13,425,15],[427,0,428,0],[417,0,418,0],[419,16,420,19],[422,1,423,3],[422,4,423,6],[422,7,423,9],[422,10,423,12],[422,13,423,15],[432,1,433,3],[432,4,433,6],[432,7,433,9],[432,10,433,12],[432,13,433,15],[435,1,435,3],[435,4,435,6],[435,7,435,9],[435,10,435,12],[435,13,435,15],[445,1,445,3],[445,4,445,6],[445,7,445,9],[445,10,445,12],[445,13,445,15],[447,0,448,0],[437,0,438,0],[442,1,443,3],[442,4,443,6],[442,7,443,9],[442,10,443,12],[442,13,443,15],[452,1,453,3],[452,4,453,6],[452,7,453,9],[452,10,453,12],[452,13,453,15],[455,1,455,3],[455,4,455,6],[455,7,455,9],[455,10,455,12],[455,13,455,15],[465,1,465,3],[465,4,465,6],[465,7,465,9],[465,10,465,12],[465,13,465,15],[467,0,468,0],[457,0,458,0],[462,1,463,3],[462,4,463,6],[462,7,463,9],[462,10,463,12],[462,13,463,15],[472,1,473,3],[472,4,473,6],[472,7,473,9],[472,10,473,12],[472,13,473,15],[475,1,475,3],[475,4,475,6],[475,7,475,9],[475,10,475,12],[475,13,475,15],[485,1,485,3],[485,4,485,6],[485,7,485,9],[485,10,485,12],[485,13,485,15],[487,0,488,0],[477,0,478,0],[482,1,483,3],[482,4,483,6],[482,7,483,9],[482,10,483,12],[482,13,483,15],[497,0,498,0],[499,16,500,19],[502,1,503,3],[502,4,503,6],[502,7,503,9],[502,10,503,12],[502,13,503,15],[492,1,493,3],[492,4,493,6],[492,7,493,9],[492,10,493,12],[492,13,493,15],[495,1,495,3],[495,4,495,6],[495,7,495,9],[495,10,495,12],[495,13,495,15]]}
[]
[null,{"$f":"'1-2a'!B2:H3","v":"Basisschool De Grote Beer        schooljaar 2020/2021"},null,null,null,null,null,null,null,"Groepsplanner van groep:",null,null,null,"15"]
[]
[null,"maandag 1e schoolweek",null,null,"dinsdag",null,null,"woensdag",null,null,"donderdag",null,null,"vrijdag"]
[null,null,{"$f":"'1-2a'!C$5","v":0},null,null,{"$f":"'1-2a'!F5","v":0},null,null,{"$f":"'1-2a'!I$5","v":0},null,null,{"$f":"'1-2a'!L$5","v":"s"},null,null,{"$f":"'1-2a'!O$5","v":0}]
[{"$f":"(B6-WEEKDAY(B6-1)+4-(TRUNC(DATE(YEAR(B6-WEEKDAY(B6-1)+4),1,2)/7)*7-2))/7","v":32},{"$f":"'1-2a'!B6:D6","v":"2020-08-03"},null,null,{"$f":"B6+1","v":"2020-08-04"},null,null,{"$f":"E6+1","v":"2020-08-05"},null,null,{"$f":"H6+1","v":"2020-08-06"},null,null,{"$f":"K6+1","v":"2020-08-07"}]
[]
[1]
[]
[]
[]
[]
[]
[]
[null,null,{"$f":"'1-2a'!C$15","v":0},null,null,{"$f":"'1-2a'!F$15","v":0},null,null,{"$f":"'1-2a'!I$15","v":0},null,null,{"$f":"'1-2a'!L$15","v":0},null,null,{"$f":"'1-2a'!O15","v":0}]
[{"$f":"IF(A6=52,1,A6+1)","v":33},{"$f":"N6+3","v":"2020-08-10"},null,null,{"$f":"B16+1","v":"2020-08-11"},null,null,{"$f":"E16+1","v":"2020-08-12"},null,null,{"$f":"H16+1","v":"2020-08-13"},null,null,{"$f":"K16+1","v":"2020-08-14"}]
[null,{"$f":"B7","v":0},null,null,{"$f":"E7","v":0},null,null,{"$f":"H7","v":0},null,null,{"$f":"K7","v":0},null,null,{"$f":"N7","v":0}]
[2,0,null,null,0,null,null,0,null,null,0,null,null,0]
[null,0,null,null,0,null,null,0,null,null,0,null,null,0]
[null,0,null,null,0,null,null,0,null,null,0,null,null,0]
[null,0,null,null,0,null,null,0,null,null,0,null,null,0]
[null,0,null,null,0,null,null,0,null,null,0,null,null,0]
[]
[]
[null,null,{"$f":"'1-2a'!C$25","v":0},null,null,{"$f":"'1-2a'!F$25","v":0},null,null,{"$f":"'1-2a'!I25","v":0},null,null,{"$f":"'1-2a'!L25","v":0},null,null,{"$f":"'1-2a'!O25","v":0}]
[{"$f":"IF(A16=52,1,A16+1)","v":34},{"$f":"N16+3","v":"2020-08-17"},null,null,{"$f":"B26+1","v":"2020-08-18"},null,null,{"$f":"E26+1","v":"2020-08-19"},null,null,{"$f":"H26+1","v":"2020-08-20"},null,null,{"$f":"K26+1","v":"2020-08-21"}]
[null,{"$f":"B17","v":0},null,null,{"$f":"E17","v":0},null,null,{"$f":"H17","v":0},null,null,{"$f":"K17","v":0},null,null,{"$f":"N17","v":0}]
[3,0,null,null,0,null,null,0,null,null,0,null,null,0]
[null,0,null,null,0,null,null,0,null,null,0,null,null,0]
[null,0,null,null,0,null,null,0,null,null,0,null,null,0]
[null,0,null,null,0,null,null,0,null,null,{"$f":"K21","v":0},null,null,0]
[null,0,null,null,0,null,null,0,null,null,0,null,null,0]
[]
[]
[null,null,{"$f":"'1-2a'!$C$35","v":0},null,null,{"$f":"'1-2a'!$F$35","v":0},null,null,{"$f":"'1-2a'!$I$35","v":0},null,null,{"$f":"'1-2a'!$L$35","v":0},null,null,{"$f":"'1-2a'!$O$35","v":0}]
[{"$f":"IF(A26=52,1,A26+1)","v":35},{"$f":"N26+3","v":"2020-08-24"},null,null,{"$f":"B36+1","v":"2020-08-25"},null,null,{"$f":"E36+1","v":"2020-08-26"},null,null,{"$f":"H36+1","v":"2020-08-27"},null,null,{"$f":"K36+1","v":"2020-08-28"}]
[null,{"$f":"B27","v":0},null,null,{"$f":"E27","v":0},null,null,{"$f":"H27","v":0},null,null,{"$f":"K27","v":0},null,null,{"$f":"N27","v":0}]
[4,0,null,null,0,null,null,0,null,null,0,null,null,0]
[null,0,null,null,0,null,null,0,null,null,0,null,null,0]
[null,0,null,null,0,null,null,0,null,null,0,null,null,0]
[null,0,null,null,0,null,null,0,null,null,{"$f":"K31","v":0},null,null,0]
[null,0,null,null,0,null,null,0,null,null,0,null,null,0]
[]
[]
[null,null,{"$f":"'1-2a'!$C$45","v":0},null,null,{"$f":"'1-2a'!$F$45","v":0},null,null,{"$f":"'1-2a'!$I$45","v":0},null,null,{"$f":"'1-2a'!$L$45","v":0},null,null,{"$f":"'1-2a'!$O$45","v":0}]
[{"$f":"IF(A36=52,1,A36+1)","v":36},{"$f":"N36+3","v":"2020-08-31"},null,null,{"$f":"B46+1","v":"2020-09-01"},null,null,{"$f":"E46+1","v":"2020-09-02"},null,null,{"$f":"H46+1","v":"2020-09-03"},null,null,{"$f":"K46+1","v":"2020-09-04"}]
[null,{"$f":"B37","v":0},null,null,{"$f":"E37","v":0},null,null,{"$f":"H37","v":0},null,null,{"$f":"K37","v":0},null,null,{"$f":"N37","v":0}]
[5,0,null,null,0,null,null,0,null,null,0,null,null,0]
[null,0,null,null,0,null,null,0,null,null,0,null,null,0]
[null,0,null,null,0,null,null,0,null,null,0,null,null,0]
[null,0,null,null,0,null,null,0,null,null,{"$f":"K41","v":0},null,null,0]
[null,0,null,null,0,null,null,0,null,null,0,null,null,0]
[]
[]
[null,null,{"$f":"'1-2a'!$C$55","v":0},null,null,{"$f":"'1-2a'!$F$55","v":0},null,null,{"$f":"'1-2a'!$I$55","v":0},null,null,{"$f":"'1-2a'!$L$55","v":0},null,null,{"$f":"'1-2a'!O55","v":0}]
[{"$f":"IF(A46=52,1,A46+1)","v":37},{"$f":"N46+3","v":"2020-09-07"},null,null,{"$f":"B56+1","v":"2020-09-08"},null,null,{"$f":"E56+1","v":"2020-09-09"},null,null,{"$f":"H56+1","v":"2020-09-10"},null,null,{"$f":"K56+1","v":"2020-09-11"}]
[null,{"$f":"B47","v":0},null,null,{"$f":"E47","v":0},null,null,{"$f":"H47","v":0},null,null,{"$f":"K47","v":0},null,null,{"$f":"N47","v":0}]
[6,0,null,null,0,null,null,0,null,null,0,null,null,0]
[null,0,null,null,0,null,null,0,null,null,0,null,null,0]
[null,0,null,null,0,null,null,0,null,null,0,null,null,0]
[null,0,null,null,0,null,null,0,null,null,{"$f":"K51","v":0},null,null,0]
[null,0,null,null,0,null,null,0,null,null,0,null,null,0]
[]
[]
[null,null,{"$f":"'1-2a'!$C$65","v":0},null,null,{"$f":"'1-2a'!$F$65","v":0},null,null,{"$f":"'1-2a'!$I$65","v":0},null,null,{"$f":"'1-2a'!$L$65","v":0},null,null,{"$f":"'1-2a'!$O$65","v":0}]
[{"$f":"IF(A56=52,1,A56+1)","v":38},{"$f":"N56+3","v":"2020-09-14"},null,null,{"$f":"B66+1","v":"2020-09-15"},null,null,{"$f":"E66+1","v":"2020-09-16"},null,null,{"$f":"H66+1","v":"2020-09-17"},null,null,{"$f":"K66+1","v":"2020-09-18"}]
[null,{"$f":"B57","v":0},null,null,{"$f":"E57","v":0},null,null,{"$f":"H57","v":0},null,null,{"$f":"K57","v":0},null,null,{"$f":"N57","v":0}]
[7,0,null,null,0,null,null,0,null,null,0,null,null,0]
[null,0,null,null,0,null,null,0,null,null,0,null,null,0]
[null,0,null,null,0,null,null,0,null,null,0,null,null,0]
[null,0,null,null,0,null,null,0,null,null,{"$f":"K61","v":0},null,null,0]
[null,0,null,null,0,null,null,0,null,null,0,null,null,0]
[]
[]
[null,null,{"$f":"'1-2a'!$C$75","v":0},null,null,{"$f":"'1-2a'!$F$75","v":0},null,null,{"$f":"'1-2a'!$I$75","v":0},null,null,{"$f":"'1-2a'!$L$75","v":0},null,null,{"$f":"'1-2a'!$O$75","v":0}]
[{"$f":"IF(A66=52,1,A66+1)","v":39},{"$f":"N66+3","v":"2020-09-21"},null,null,{"$f":"B76+1","v":"2020-09-22"},null,null,{"$f":"E76+1","v":"2020-09-23"},null,null,{"$f":"H76+1","v":"2020-09-24"},null,null,{"$f":"K76+1","v":"2020-09-25"}]
[null,{"$f":"B67","v":0},null,null,{"$f":"E67","v":0},null,null,{"$f":"H67","v":0},null,null,{"$f":"K67","v":0},null,null,{"$f":"N67","v":0}]
[8,0,null,null,0,null,null,0,null,null,0,null,null,0]
[null,0,null,null,0,null,null,0,null,null,0,null,null,0]
[null,0,null,null,0,null,null,0,null,null,0,null,null,0]
[null,0,null,null,0,null,null,0,null,null,{"$f":"K71","v":0},null,null,0]
[null,0,null,null,0,null,null,0,null,null,0,null,null,0]
[]
[]
[null,null,{"$f":"'1-2a'!$C$85","v":0},null,null,{"$f":"'1-2a'!$F$85","v":0},null,null,{"$f":"'1-2a'!$I$85","v":0},null,null,{"$f":"'1-2a'!$L$85","v":0},null,null,{"$f":"'1-2a'!$O$85","v":0}]
[{"$f":"IF(A76=52,1,A76+1)","v":40},{"$f":"N76+3","v":"2020-09-28"},null,null,{"$f":"B86+1","v":"2020-09-29"},null,null,{"$f":"E86+1","v":"2020-09-30"},null,null,{"$f":"H86+1","v":"2020-10-01"},null,null,{"$f":"K86+1","v":"2020-10-02"}]
[null,{"$f":"B77","v":0},null,null,{"$f":"E77","v":0},null,null,{"$f":"H77","v":0},null,null,{"$f":"K77","v":0},null,null,{"$f":"N77","v":0}]
[9,0,null,null,0,null,null,0,null,null,0,null,null,0]
[null,0,null,null,0,null,null,0,null,null,0,null,null,0]
[null,0,null,null,0,null,null,0,null,null,0,null,null,0]
[null,0,null,null,0,null,null,0,null,null,0,null,null,0]
[null,0,null,null,0,null,null,0,null,null,0,null,null,0]
[]
[]
[null,null,{"$f":"'1-2a'!$C$95","v":0},null,null,{"$f":"'1-2a'!$F$95","v":0},null,null,{"$f":"'1-2a'!$I$95","v":0},null,null,{"$f":"'1-2a'!$L$95","v":0},null,null,{"$f":"'1-2a'!$O$95","v":0}]
[{"$f":"IF(A86=52,1,A86+1)","v":41},{"$f":"N86+3","v":"2020-10-05"},null,null,{"$f":"B96+1","v":"2020-10-06"},null,null,{"$f":"E96+1","v":"2020-10-07"},null,null,{"$f":"H96+1","v":"2020-10-08"},null,null,{"$f":"K96+1","v":"2020-10-09"}]
[null,{"$f":"B87","v":0},null,null,{"$f":"E87","v":0},null,null,{"$f":"H87","v":0},null,null,{"$f":"K87","v":0},null,null,{"$f":"N87","v":0}]
[10,0,null,null,0,null,null,0,null,null,0,null,null,0]
[null,0,null,null,0,null,null,0,null,null,0,null,null,0]
[null,0,null,null,0,null,null,0,null,null,0,null,null,0]
[null,0,null,null,0,null,null,0,null,null,{"$f":"K91","v":0},null,null,0]
[null,0,null,null,0,null,null,0,null,null,0,null,null,0]
[]
[]
[null,null,{"$f":"'1-2a'!$C$105","v":0},null,null,{"$f":"'1-2a'!$F$105","v":0},null,null,{"$f":"'1-2a'!$I$105","v":0},null,null,{"$f":"'1-2a'!$L$105","v":0},null,null,{"$f":"'1-2a'!$O$105","v":0}]
[{"$f":"IF(A96=52,1,A96+1)","v":42},{"$f":"N96+3","v":"2020-10-12"},null,null,{"$f":"B106+1","v":"2020-10-13"},null,null,{"$f":"E106+1","v":"2020-10-14"},null,null,{"$f":"H106+1","v":"2020-10-15"},null,null,{"$f":"K106+1","v":"2020-10-16"}]
[null,{"$f":"B97","v":0},null,null,{"$f":"E97","v":0},null,null,{"$f":"H97","v":0},null,null,{"$f":"K97","v":0},null,null,{"$f":"N97","v":0}]
[11,0,null,null,0,null,null,0,null,null,0,null,null,0]
[null,0,null,null,0,null,null,0,null,null,0,null,null,0]
[null,0,null,null,0,null,null,0,null,null,0,null,null,0]
[null,0,null,null,0,null,null,0,null,null,{"$f":"K101","v":0},null,null,0]
[null,0,null,null,0,null,null,0,null,null,0,null,null,0]
[]
[]
[null,null,{"$f":"'1-2a'!$C$115","v":0},null,null,{"$f":"'1-2a'!$F$115","v":0},null,null,{"$f":"'1-2a'!$I$115","v":0},null,null,{"$f":"'1-2a'!$L$115","v":0},null,null,{"$f":"'1-2a'!$O$115","v":0}]
[{"$f":"IF(A106=52,1,A106+1)","v":43},{"$f":"N106+3","v":"2020-10-19"},null,null,{"$f":"B116+1","v":"2020-10-20"},null,null,{"$f":"E116+1","v":"2020-10-21"},null,null,{"$f":"H116+1","v":"2020-10-22"},null,null,{"$f":"K116+1","v":"2020-10-23"}]
[null,{"$f":"B107","v":0},null,null,{"$f":"E107","v":0},null,null,{"$f":"H107","v":0},null,null,{"$f":"K107","v":0},null,null,{"$f":"N107","v":0}]
[12,0,null,null,0,null,null,0,null,null,0,null,null,0]
[null,0,null,null,0,null,null,0,null,null,0,null,null,0]
[null,0,null,null,0,null,null,0,null,null,0,null,null,0]
[null,0,null,null,0,null,null,0,null,null,{"$f":"K111","v":0},null,null,0]
[null,0,null,null,0,null,null,0,null,null,0,null,null,0]
[]
[]
[null,null,{"$f":"'1-2a'!$C$125","v":0},null,null,{"$f":"'1-2a'!$F$125","v":0},null,null,{"$f":"'1-2a'!$I$125","v":0},null,null,{"$f":"'1-2a'!$L$125","v":0},null,null,{"$f":"'1-2a'!$O$125","v":0}]
[{"$f":"IF(A116=52,1,A116+1)","v":44},{"$f":"N116+3","v":"2020-10-26"},null,null,{"$f":"B126+1","v":"2020-10-27"},null,null,{"$f":"E126+1","v":"2020-10-28"},null,null,{"$f":"H126+1","v":"2020-10-29"},null,null,{"$f":"K126+1","v":"2020-10-30"}]
[null,{"$f":"B117","v":0},null,null,{"$f":"E117","v":0},null,null,{"$f":"H117","v":0},null,null,{"$f":"K117","v":0},null,null,{"$f":"N117","v":0}]
[13,0,null,null,0,null,null,0,null,null,0,null,null,0]
[null,0,null,null,0,null,null,0,null,null,0,null,null,0]
[null,0,null,null,0,null,null,0,null,null,0,null,null,0]
[null,0,null,null,0,null,null,0,null,null,{"$f":"K121","v":0},null,null,0]
[null,0,null,null,0,null,null,0,null,null,0,null,null,0]
[]
[]
[null,null,{"$f":"'1-2a'!$C$135","v":0},null,null,{"$f":"'1-2a'!$F$135","v":0},null,null,{"$f":"'1-2a'!$I$135","v":0},null,null,{"$f":"'1-2a'!$L$135","v":0},null,null,{"$f":"'1-2a'!$O$135","v":0}]
[{"$f":"IF(A126=52,1,A126+1)","v":45},{"$f":"N126+3","v":"2020-11-02"},null,null,{"$f":"B136+1","v":"2020-11-03"},null,null,{"$f":"E136+1","v":"2020-11-04"},null,null,{"$f":"H136+1","v":"2020-11-05"},null,null,{"$f":"K136+1","v":"2020-11-06"}]
[null,{"$f":"B127","v":0},null,null,{"$f":"E127","v":0},null,null,{"$f":"H127","v":0},null,null,{"$f":"K127","v":0},null,null,{"$f":"N127","v":0}]
[14,0,null,null,0,null,null,0,null,null,0,null,null,0]
[null,0,null,null,0,null,null,0,null,null,0,null,null,0]
[null,0,null,null,0,null,null,0,null,null,0,null,null,0]
[null,0,null,null,0,null,null,0,null,null,{"$f":"K131","v":0},null,null,0]
[null,0,null,null,0,null,null,0,null,null,0,null,null,0]
[]
[]
[null,null,{"$f":"'1-2a'!$C$145","v":0},null,null,{"$f":"'1-2a'!$F$145","v":0},null,null,{"$f":"'1-2a'!$I$145","v":0},null,null,{"$f":"'1-2a'!$L$145","v":0},null,null,{"$f":"'1-2a'!$O$145","v":0}]
[{"$f":"IF(A136=52,1,A136+1)","v":46},{"$f":"N136+3","v":"2020-11-09"},null,null,{"$f":"B146+1","v":"2020-11-10"},null,null,{"$f":"E146+1","v":"2020-11-11"},null,null,{"$f":"H146+1","v":"2020-11-12"},null,null,{"$f":"K146+1","v":"2020-11-13"}]
[null,{"$f":"B137","v":0},null,null,{"$f":"E137","v":0},null,null,{"$f":"H137","v":0},null,null,{"$f":"K137","v":0},null,null,{"$f":"N137","v":0}]
[15,0,null,null,0,null,null,0,null,null,0,null,null,0]
[null,0,null,null,0,null,null,0,null,null,0,null,null,0]
[null,0,null,null,0,null,null,0,null,null,0,null,null,0]
[null,0,null,null,0,null,null,0,null,null,{"$f":"K141","v":0},null,null,0]
[null,0,null,null,0,null,null,0,null,null,0,null,null,0]
[]
[]
[null,null,{"$f":"'1-2a'!$C$155","v":0},null,null,{"$f":"'1-2a'!$F$155","v":0},null,null,{"$f":"'1-2a'!$I$155","v":0},null,null,{"$f":"'1-2a'!$L$155","v":0},null,null,{"$f":"'1-2a'!$O$155","v":0}]
[{"$f":"IF(A146=52,1,A146+1)","v":47},{"$f":"N146+3","v":"2020-11-16"},null,null,{"$f":"B156+1","v":"2020-11-17"},null,null,{"$f":"E156+1","v":"2020-11-18"},null,null,{"$f":"H156+1","v":"2020-11-19"},null,null,{"$f":"K156+1","v":"2020-11-20"}]
[null,{"$f":"B147","v":0},null,null,{"$f":"E147","v":0},null,null,{"$f":"H147","v":0},null,null,{"$f":"K147","v":0},null,null,{"$f":"N147","v":0}]
[16,0,null,null,0,null,null,0,null,null,0,null,null,0]
[null,0,null,null,0,null,null,0,null,null,0,null,null,0]
[null,0,null,null,0,null,null,0,null,null,0,null,null,0]
[null,0,null,null,0,null,null,0,null,null,{"$f":"K151","v":0},null,null,0]
[null,0,null,null,0,null,null,0,null,null,0,null,null,0]
[]
[]
[null,null,{"$f":"'1-2a'!$C$165","v":0},null,null,{"$f":"'1-2a'!$F$165","v":0},null,null,{"$f":"'1-2a'!$I$165","v":0},null,null,{"$f":"'1-2a'!$L$165","v":0},null,null,{"$f":"'1-2a'!$O$165","v":0}]
[{"$f":"IF(A156=52,1,A156+1)","v":48},{"$f":"N156+3","v":"2020-11-23"},null,null,{"$f":"B166+1","v":"2020-11-24"},null,null,{"$f":"E166+1","v":"2020-11-25"},null,null,{"$f":"H166+1","v":"2020-11-26"},null,null,{"$f":"K166+1","v":"2020-11-27"}]
[null,{"$f":"B157","v":0},null,null,{"$f":"E157","v":0},null,null,{"$f":"H157","v":0},null,null,{"$f":"K157","v":0},null,null,{"$f":"N157","v":0}]
[17,0,null,null,0,null,null,0,null,null,0,null,null,0]
[null,0,null,null,0,null,null,0,null,null,0,null,null,0]
[null,0,null,null,0,null,null,0,null,null,0,null,null,0]
[null,0,null,null,0,null,null,0,null,null,0,null,null,0]
[null,0,null,null,0,null,null,0,null,null,0,null,null,0]
[]
[]
[null,null,{"$f":"'1-2a'!$C$175","v":0},null,null,{"$f":"'1-2a'!$F$175","v":0},null,null,{"$f":"'1-2a'!$I$175","v":0},null,null,{"$f":"'1-2a'!$L$175","v":0},null,null,{"$f":"'1-2a'!$O$175","v":0}]
[{"$f":"IF(A166=52,1,A166+1)","v":49},{"$f":"N166+3","v":"2020-11-30"},null,null,{"$f":"B176+1","v":"2020-12-01"},null,null,{"$f":"E176+1","v":"2020-12-02"},null,null,{"$f":"H176+1","v":"2020-12-03"},null,null,{"$f":"K176+1","v":"2020-12-04"}]
[null,{"$f":"B167","v":0},null,null,{"$f":"E167","v":0},null,null,{"$f":"H167","v":0},null,null,{"$f":"K167","v":0},null,null,{"$f":"N167","v":0}]
[18,0,null,null,0,null,null,0,null,null,0,null,null,0]
[null,0,null,null,0,null,null,0,null,null,0,null,null,0]
[null,0,null,null,0,null,null,0,null,null,0,null,null,0]
[null,0,null,null,0,null,null,0,null,null,{"$f":"K171","v":0},null,null,0]
[null,0,null,null,0,null,null,0,null,null,0,null,null,0]
[]
[]
[null,null,{"$f":"'1-2a'!$C$185","v":0},null,null,{"$f":"'1-2a'!$F$185","v":0},null,null,{"$f":"'1-2a'!$I$185","v":0},null,null,{"$f":"'1-2a'!$L$185","v":0},null,null,{"$f":"'1-2a'!$O$185","v":0}]
[{"$f":"IF(A176=52,1,A176+1)","v":50},{"$f":"N176+3","v":"2020-12-07"},null,null,{"$f":"B186+1","v":"2020-12-08"},null,null,{"$f":"E186+1","v":"2020-12-09"},null,null,{"$f":"H186+1","v":"2020-12-10"},null,null,{"$f":"K186+1","v":"2020-12-11"}]
[null,{"$f":"B177","v":0},null,null,{"$f":"E177","v":0},null,null,{"$f":"H177","v":0},null,null,{"$f":"K177","v":0},null,null,{"$f":"N177","v":0}]
[19,0,null,null,0,null,null,0,null,null,0,null,null,0]
[null,0,null,null,0,null,null,0,null,null,0,null,null,0]
[null,0,null,null,0,null,null,0,null,null,0,null,null,0]
[null,0,null,null,0,null,null,0,null,null,{"$f":"K181","v":0},null,null,0]
[null,0,null,null,0,null,null,0,null,null,0,null,null,0]
[]
[]
[null,null,{"$f":"'1-2a'!$C$195","v":0},null,null,{"$f":"'1-2a'!$F$195","v":0},null,null,{"$f":"'1-2a'!$I$195","v":0},null,null,{"$f":"'1-2a'!$L$195","v":0},null,null,{"$f":"'1-2a'!$O$195","v":0}]
[{"$f":"IF(A186=52,1,A186+1)","v":51},{"$f":"N186+3","v":"2020-12-14"},null,null,{"$f":"B196+1","v":"2020-12-15"},null,null,{"$f":"E196+1","v":"2020-12-16"},null,null,{"$f":"H196+1","v":"2020-12-17"},null,null,{"$f":"K196+1","v":"2020-12-18"}]
[null,{"$f":"B187","v":0},null,null,{"$f":"E187","v":0},null,null,{"$f":"H187","v":0},null,null,{"$f":"K187","v":0},null,null,{"$f":"N187","v":0}]
[20,0,null,null,0,null,null,0,null,null,0,null,null,0]
[null,0,null,null,0,null,null,0,null,null,0,null,null,0]
[null,0,null,null,0,null,null,0,null,null,0,null,null,0]
[null,0,null,null,0,null,null,0,null,null,{"$f":"K191","v":0},null,null,0]
[null,0,null,null,0,null,null,0,null,null,0,null,null,0]
[]
[]
[null,null,{"$f":"'1-2a'!$C$205","v":0},null,null,{"$f":"'1-2a'!$F$205","v":0},null,null,{"$f":"'1-2a'!$I$205","v":0},null,null,{"$f":"'1-2a'!$L$205","v":0},null,null,{"$f":"'1-2a'!$O$205","v":0}]
[{"$f":"IF(A196=52,1,A196+1)","v":52},{"$f":"N196+3","v":"2020-12-21"},null,null,{"$f":"B206+1","v":"2020-12-22"},null,null,{"$f":"E206+1","v":"2020-12-23"},null,null,{"$f":"H206+1","v":"2020-12-24"},null,null,{"$f":"K206+1","v":"2020-12-25"}]
[null,{"$f":"B197","v":0},null,null,{"$f":"E197","v":0},null,null,{"$f":"H197","v":0},null,null,{"$f":"K197","v":0},null,null,{"$f":"N197","v":0}]
[21,0,null,null,0,null,null,0,null,null,0,null,null,0]
[null,0,null,null,0,null,null,0,null,null,0,null,null,0]
[null,0,null,null,0,null,null,0,null,null,0,null,null,0]
[null,0,null,null,0,null,null,0,null,null,{"$f":"K201","v":0},null,null,0]
[null,0,null,null,0,null,null,0,null,null,0,null,null,0]
[]
[]
[null,null,{"$f":"'1-2a'!$C$215","v":0},null,null,{"$f":"'1-2a'!$F$215","v":0},null,null,{"$f":"'1-2a'!$I$215","v":0},null,null,{"$f":"'1-2a'!$L$215","v":0},null,null,{"$f":"'1-2a'!$O$215","v":0}]
[{"$f":"IF(A206=52,1,A206+1)","v":1},{"$f":"N206+3","v":"2020-12-28"},null,null,{"$f":"B216+1","v":"2020-12-29"},null,null,{"$f":"E216+1","v":"2020-12-30"},null,null,{"$f":"H216+1","v":"2020-12-31"},null,null,{"$f":"K216+1","v":"2021-01-01"}]
[null,{"$f":"B207","v":0},null,null,{"$f":"E207","v":0},null,null,{"$f":"H207","v":0},null,null,{"$f":"K207","v":0},null,null,{"$f":"N207","v":0}]
[22,0,null,null,0,null,null,0,null,null,0,null,null,0]
[null,0,null,null,0,null,null,0,null,null,0,null,null,0]
[null,0,null,null,0,null,null,0,null,null,0,null,null,0]
[null,0,null,null,0,null,null,0,null,null,{"$f":"K211","v":0},null,null,0]
[null,0,null,null,0,null,null,0,null,null,0,null,null,0]
[]
[]
[null,null,{"$f":"'1-2a'!$C$225","v":0},null,null,{"$f":"'1-2a'!$F$225","v":0},null,null,{"$f":"'1-2a'!$I$225","v":0},null,null,{"$f":"'1-2a'!$L$225","v":0},null,null,{"$f":"'1-2a'!$O$225","v":0}]
[{"$f":"IF(A216=52,1,A216+1)","v":2},{"$f":"N216+3","v":"2021-01-04"},null,null,{"$f":"B226+1","v":"2021-01-05"},null,null,{"$f":"E226+1","v":"2021-01-06"},null,null,{"$f":"H226+1","v":"2021-01-07"},null,null,{"$f":"K226+1","v":"2021-01-08"}]
[null,{"$f":"B217","v":0},null,null,{"$f":"E217","v":0},null,null,{"$f":"H217","v":0},null,null,{"$f":"K217","v":0},null,null,{"$f":"N217","v":0}]
[23,0,null,null,0,null,null,0,null,null,0,null,null,0]
[null,0,null,null,0,null,null,0,null,null,0,null,null,0]
[null,0,null,null,0,null,null,0,null,null,0,null,null,0]
[null,0,null,null,0,null,null,0,null,null,{"$f":"K221","v":0},null,null,0]
[null,0,null,null,0,null,null,0,null,null,0,null,null,0]
[]
[]
[null,null,{"$f":"'1-2a'!$C$235","v":0},null,null,{"$f":"'1-2a'!$F$235","v":0},null,null,{"$f":"'1-2a'!$I$235","v":0},null,null,{"$f":"'1-2a'!$L$235","v":0},null,null,{"$f":"'1-2a'!$O$235","v":0}]
[{"$f":"IF(A226=52,1,A226+1)","v":3},{"$f":"N226+3","v":"2021-01-11"},null,null,{"$f":"B236+1","v":"2021-01-12"},null,null,{"$f":"E236+1","v":"2021-01-13"},null,null,{"$f":"H236+1","v":"2021-01-14"},null,null,{"$f":"K236+1","v":"2021-01-15"}]
[null,{"$f":"B227","v":0},null,null,{"$f":"E227","v":0},null,null,{"$f":"H227","v":0},null,null,{"$f":"K227","v":0},null,null,{"$f":"N227","v":0}]
[24,0,null,null,0,null,null,0,null,null,0,null,null,0]
[null,0,null,null,0,null,null,0,null,null,0,null,null,0]
[null,0,null,null,0,null,null,0,null,null,0,null,null,0]
[null,0,null,null,0,null,null,0,null,null,{"$f":"K231","v":0},null,null,0]
[null,0,null,null,0,null,null,0,null,null,0,null,null,0]
[]
[]
[null,null,{"$f":"'1-2a'!$C$245","v":0},null,null,{"$f":"'1-2a'!$F$245","v":0},null,null,{"$f":"'1-2a'!$I$245","v":0},null,null,{"$f":"'1-2a'!$L$245","v":0},null,null,{"$f":"'1-2a'!$O$245","v":0}]
[{"$f":"IF(A236=52,1,A236+1)","v":4},{"$f":"N236+3","v":"2021-01-18"},null,null,{"$f":"B246+1","v":"2021-01-19"},null,null,{"$f":"E246+1","v":"2021-01-20"},null,null,{"$f":"H246+1","v":"2021-01-21"},null,null,{"$f":"K246+1","v":"2021-01-22"}]
[null,{"$f":"B237","v":0},null,null,{"$f":"E237","v":0},null,null,{"$f":"H237","v":0},null,null,{"$f":"K237","v":0},null,null,{"$f":"N237","v":0}]
[25,0,null,null,0,null,null,0,null,null,0,null,null,0]
[null,0,null,null,0,null,null,0,null,null,0,null,null,0]
[null,0,null,null,0,null,null,0,null,null,0,null,null,0]
[null,0,null,null,0,null,null,0,null,null,0,null,null,0]
[null,0,null,null,0,null,null,0,null,null,0,null,null,0]
[]
[]
[null,null,{"$f":"'1-2a'!$C$255","v":0},null,null,{"$f":"'1-2a'!$F$255","v":0},null,null,{"$f":"'1-2a'!$I$255","v":0},null,null,{"$f":"'1-2a'!$L$255","v":0},null,null,{"$f":"'1-2a'!$O$255","v":0}]
[{"$f":"IF(A246=52,1,A246+1)","v":5},{"$f":"N246+3","v":"2021-01-25"},null,null,{"$f":"B256+1","v":"2021-01-26"},null,null,{"$f":"E256+1","v":"2021-01-27"},null,null,{"$f":"H256+1","v":"2021-01-28"},null,null,{"$f":"K256+1","v":"2021-01-29"}]
[null,{"$f":"B247","v":0},null,null,{"$f":"E247","v":0},null,null,{"$f":"H247","v":0},null,null,{"$f":"K247","v":0},null,null,{"$f":"N247","v":0}]
[26,0,null,null,0,null,null,0,null,null,0,null,null,0]
[null,0,null,null,0,null,null,0,null,null,0,null,null,0]
[null,0,null,null,0,null,null,0,null,null,0,null,null,0]
[null,0,null,null,0,null,null,0,null,null,{"$f":"K251","v":0},null,null,0]
[null,0,null,null,0,null,null,0,null,null,0,null,null,0]
[]
[]
[null,null,{"$f":"'1-2a'!$C$265","v":0},null,null,{"$f":"'1-2a'!$F$265","v":0},null,null,{"$f":"'1-2a'!$I$265","v":0},null,null,{"$f":"'1-2a'!$L$265","v":0},null,null,{"$f":"'1-2a'!$O$265","v":0}]
[{"$f":"IF(A256=52,1,A256+1)","v":6},{"$f":"N256+3","v":"2021-02-01"},null,null,{"$f":"B266+1","v":"2021-02-02"},null,null,{"$f":"E266+1","v":"2021-02-03"},null,null,{"$f":"H266+1","v":"2021-02-04"},null,null,{"$f":"K266+1","v":"2021-02-05"}]
[null,{"$f":"B257","v":0},null,null,{"$f":"E257","v":0},null,null,{"$f":"H257","v":0},null,null,{"$f":"K257","v":0},null,null,{"$f":"N257","v":0}]
[27,0,null,null,0,null,null,0,null,null,0,null,null,0]
[null,0,null,null,0,null,null,0,null,null,0,null,null,0]
[null,0,null,null,0,null,null,0,null,null,0,null,null,0]
[null,0,null,null,0,null,null,0,null,null,{"$f":"K261","v":0},null,null,0]
[null,0,null,null,0,null,null,0,null,null,0,null,null,0]
[]
[]
[null,null,{"$f":"'1-2a'!$C$275","v":0},null,null,{"$f":"'1-2a'!$F$275","v":0},null,null,{"$f":"'1-2a'!$I$275","v":0},null,null,{"$f":"'1-2a'!$L$275","v":0},null,null,{"$f":"'1-2a'!$O$275","v":0}]
[{"$f":"IF(A266=52,1,A266+1)","v":7},{"$f":"N266+3","v":"2021-02-08"},null,null,{"$f":"B276+1","v":"2021-02-09"},null,null,{"$f":"E276+1","v":"2021-02-10"},null,null,{"$f":"H276+1","v":"2021-02-11"},null,null,{"$f":"K276+1","v":"2021-02-12"}]
[null,{"$f":"B267","v":0},null,null,{"$f":"E267","v":0},null,null,{"$f":"H267","v":0},null,null,{"$f":"K267","v":0},null,null,{"$f":"N267","v":0}]
[28,0,null,null,0,null,null,0,null,null,0,null,null,0]
[null,0,null,null,0,null,null,0,null,null,0,null,null,0]
[null,0,null,null,0,null,null,0,null,null,0,null,null,0]
[null,0,null,null,0,null,null,0,null,null,{"$f":"K271","v":0},null,null,0]
[null,0,null,null,0,null,null,0,null,null,0,null,null,0]
[]
[]
[null,null,{"$f":"'1-2a'!$C$285","v":0},null,null,{"$f":"'1-2a'!$F$285","v":0},null,null,{"$f":"'1-2a'!$I$285","v":0},null,null,{"$f":"'1-2a'!$L$285","v":0},null,null,{"$f":"'1-2a'!$O$285","v":0}]
[{"$f":"IF(A276=52,1,A276+1)","v":8},{"$f":"N276+3","v":"2021-02-15"},null,null,{"$f":"B286+1","v":"2021-02-16"},null,null,{"$f":"E286+1","v":"2021-02-17"},null,null,{"$f":"H286+1","v":"2021-02-18"},null,null,{"$f":"K286+1","v":"2021-02-19"}]
[null,{"$f":"B277","v":0},null,null,{"$f":"E277","v":0},null,null,{"$f":"H277","v":0},null,null,{"$f":"K277","v":0},null,null,{"$f":"N277","v":0}]
[29,0,null,null,0,null,null,0,null,null,0,null,null,0]
[null,0,null,null,0,null,null,0,null,null,0,null,null,0]
[null,0,null,null,0,null,null,0,null,null,0,null,null,0]
[null,0,null,null,0,null,null,0,null,null,{"$f":"K281","v":0},null,null,0]
[null,0,null,null,0,null,null,0,null,null,0,null,null,0]
[]
[]
[null,null,{"$f":"'1-2a'!$C$295","v":0},null,null,{"$f":"'1-2a'!$F$295","v":0},null,null,{"$f":"'1-2a'!$I$295","v":0},null,null,{"$f":"'1-2a'!$L$295","v":0},null,null,{"$f":"'1-2a'!$O$295","v":0}]
[{"$f":"IF(A286=52,1,A286+1)","v":9},{"$f":"N286+3","v":"2021-02-22"},null,null,{"$f":"B296+1","v":"2021-02-23"},null,null,{"$f":"E296+1","v":"2021-02-24"},null,null,{"$f":"H296+1","v":"2021-02-25"},null,null,{"$f":"K296+1","v":"2021-02-26"}]
[null,{"$f":"B287","v":0},null,null,{"$f":"E287","v":0},null,null,{"$f":"H287","v":0},null,null,{"$f":"K287","v":0},null,null,{"$f":"N287","v":0}]
[30,0,null,null,0,null,null,0,null,null,0,null,null,0]
[null,0,null,null,0,null,null,0,null,null,0,null,null,0]
[null,0,null,null,0,null,null,0,null,null,0,null,null,0]
[null,0,null,null,0,null,null,0,null,null,{"$f":"K291","v":0},null,null,0]
[null,0,null,null,0,null,null,0,null,null,0,null,null,0]
[]
[]
[null,null,{"$f":"'1-2a'!$C$305","v":0},null,null,{"$f":"'1-2a'!$F$305","v":0},null,null,{"$f":"'1-2a'!$I$305","v":0},null,null,{"$f":"'1-2a'!$L$305","v":0},null,null,{"$f":"'1-2a'!$O$305","v":0}]
[{"$f":"IF(A296=52,1,A296+1)","v":10},{"$f":"N296+3","v":"2021-03-01"},null,null,{"$f":"B306+1","v":"2021-03-02"},null,null,{"$f":"E306+1","v":"2021-03-03"},null,null,{"$f":"H306+1","v":"2021-03-04"},null,null,{"$f":"K306+1","v":"2021-03-05"}]
[null,{"$f":"B297","v":0},null,null,{"$f":"E297","v":0},null,null,{"$f":"H297","v":0},null,null,{"$f":"K297","v":0},null,null,{"$f":"N297","v":0}]
[31,0,null,null,0,null,null,0,null,null,0,null,null,0]
[null,0,null,null,0,null,null,0,null,null,0,null,null,0]
[null,0,null,null,0,null,null,0,null,null,0,null,null,0]
[null,0,null,null,0,null,null,0,null,null,{"$f":"K301","v":0},null,null,0]
[null,0,null,null,0,null,null,0,null,null,0,null,null,0]
[]
[]
[null,null,{"$f":"'1-2a'!$C$315","v":0},null,null,{"$f":"'1-2a'!$F$315","v":0},null,null,{"$f":"'1-2a'!$I$315","v":0},null,null,{"$f":"'1-2a'!$L$315","v":0},null,null,{"$f":"'1-2a'!$O$315","v":0}]
[{"$f":"IF(A306=52,1,A306+1)","v":11},{"$f":"N306+3","v":"2021-03-08"},null,null,{"$f":"B316+1","v":"2021-03-09"},null,null,{"$f":"E316+1","v":"2021-03-10"},null,null,{"$f":"H316+1","v":"2021-03-11"},null,null,{"$f":"K316+1","v":"2021-03-12"}]
[null,{"$f":"B307","v":0},null,null,{"$f":"E307","v":0},null,null,{"$f":"H307","v":0},null,null,{"$f":"K307","v":0},null,null,{"$f":"N307","v":0}]
[32,0,null,null,0,null,null,0,null,null,0,null,null,0]
[null,0,null,null,0,null,null,0,null,null,0,null,null,0]
[null,0,null,null,0,null,null,0,null,null,0,null,null,0]
[null,0,null,null,0,null,null,0,null,null,{"$f":"K311","v":0},null,null,0]
[null,0,null,null,0,null,null,0,null,null,0,null,null,0]
[]
[]
[null,null,{"$f":"'1-2a'!$C$325","v":0},null,null,{"$f":"'1-2a'!$F$325","v":0},null,null,{"$f":"'1-2a'!$I$325","v":0},null,null,{"$f":"'1-2a'!$L$325","v":0},null,null,{"$f":"'1-2a'!$O$325","v":0}]
[{"$f":"IF(A316=52,1,A316+1)","v":12},{"$f":"N316+3","v":"2021-03-15"},null,null,{"$f":"B326+1","v":"2021-03-16"},null,null,{"$f":"E326+1","v":"2021-03-17"},null,null,{"$f":"H326+1","v":"2021-03-18"},null,null,{"$f":"K326+1","v":"2021-03-19"}]
[null,{"$f":"B317","v":0},null,null,{"$f":"E317","v":0},null,null,{"$f":"H317","v":0},null,null,{"$f":"K317","v":0},null,null,{"$f":"N317","v":0}]
[33,0,null,null,0,null,null,0,null,null,0,null,null,0]
[null,0,null,null,0,null,null,0,null,null,0,null,null,0]
[null,0,null,null,0,null,null,0,null,null,0,null,null,0]
[null,0,null,null,0,null,null,0,null,null,0,null,null,0]
[null,0,null,null,0,null,null,0,null,null,0,null,null,0]
[]
[]
[null,null,{"$f":"'1-2a'!$C$335","v":0},null,null,{"$f":"'1-2a'!$F$335","v":0},null,null,{"$f":"'1-2a'!$I$335","v":0},null,null,{"$f":"'1-2a'!$L$335","v":0},null,null,{"$f":"'1-2a'!$O$335","v":0}]
[{"$f":"IF(A326=52,1,A326+1)","v":13},{"$f":"N326+3","v":"2021-03-22"},null,null,{"$f":"B336+1","v":"2021-03-23"},null,null,{"$f":"E336+1","v":"2021-03-24"},null,null,{"$f":"H336+1","v":"2021-03-25"},null,null,{"$f":"K336+1","v":"2021-03-26"}]
[null,{"$f":"B327","v":0},null,null,{"$f":"E327","v":0},null,null,{"$f":"H327","v":0},null,null,{"$f":"K327","v":0},null,null,{"$f":"N327","v":0}]
[34,0,null,null,0,null,null,0,null,null,0,null,null,0]
[null,0,null,null,0,null,null,0,null,null,0,null,null,0]
[null,0,null,null,0,null,null,0,null,null,0,null,null,0]
[null,0,null,null,0,null,null,0,null,null,{"$f":"K331","v":0},null,null,0]
[null,0,null,null,0,null,null,0,null,null,0,null,null,0]
[]
[]
[null,null,{"$f":"'1-2a'!$C$345","v":0},null,null,{"$f":"'1-2a'!$F$345","v":0},null,null,{"$f":"'1-2a'!$I$345","v":0},null,null,{"$f":"'1-2a'!$L$345","v":0},null,null,{"$f":"'1-2a'!$O$345","v":0}]
[{"$f":"IF(A336=52,1,A336+1)","v":14},{"$f":"N336+3","v":"2021-03-29"},null,null,{"$f":"B346+1","v":"2021-03-30"},null,null,{"$f":"E346+1","v":"2021-03-31"},null,null,{"$f":"H346+1","v":"2021-04-01"},null,null,{"$f":"K346+1","v":"2021-04-02"}]
[null,{"$f":"B337","v":0},null,null,{"$f":"E337","v":0},null,null,{"$f":"H337","v":0},null,null,{"$f":"K337","v":0},null,null,{"$f":"N337","v":0}]
[35,0,null,null,0,null,null,0,null,null,0,null,null,0]
[null,0,null,null,0,null,null,0,null,null,0,null,null,0]
[null,0,null,null,0,null,null,0,null,null,0,null,null,0]
[null,0,null,null,0,null,null,0,null,null,{"$f":"K341","v":0},null,null,0]
[null,0,null,null,0,null,null,0,null,null,0,null,null,0]
[]
[]
[null,null,{"$f":"'1-2a'!$C$355","v":0},null,null,{"$f":"'1-2a'!$F$355","v":0},null,null,{"$f":"'1-2a'!$I$355","v":0},null,null,{"$f":"'1-2a'!$L$355","v":0},null,null,{"$f":"'1-2a'!$O$355","v":0}]
[{"$f":"IF(A346=52,1,A346+1)","v":15},{"$f":"N346+3","v":"2021-04-05"},null,null,{"$f":"B356+1","v":"2021-04-06"},null,null,{"$f":"E356+1","v":"2021-04-07"},null,null,{"$f":"H356+1","v":"2021-04-08"},null,null,{"$f":"K356+1","v":"2021-04-09"}]
[null,{"$f":"B347","v":0},null,null,{"$f":"E347","v":0},null,null,{"$f":"H347","v":0},null,null,{"$f":"K347","v":0},null,null,{"$f":"N347","v":0}]
[36,0,null,null,0,null,null,0,null,null,0,null,null,0]
[null,0,null,null,0,null,null,0,null,null,0,null,null,0]
[null,0,null,null,0,null,null,0,null,null,0,null,null,0]
[null,0,null,null,0,null,null,0,null,null,{"$f":"K351","v":0},null,null,0]
[null,0,null,null,0,null,null,0,null,null,0,null,null,0]
[]
[]
[null,null,{"$f":"'1-2a'!$C$365","v":0},null,null,{"$f":"'1-2a'!$F$365","v":0},null,null,{"$f":"'1-2a'!$I$365","v":0},null,null,{"$f":"'1-2a'!$L$365","v":0},null,null,{"$f":"'1-2a'!$O$365","v":0}]
[{"$f":"IF(A356=52,1,A356+1)","v":16},{"$f":"N356+3","v":"2021-04-12"},null,null,{"$f":"B366+1","v":"2021-04-13"},null,null,{"$f":"E366+1","v":"2021-04-14"},null,null,{"$f":"H366+1","v":"2021-04-15"},null,null,{"$f":"K366+1","v":"2021-04-16"}]
[null,{"$f":"B357","v":0},null,null,{"$f":"E357","v":0},null,null,{"$f":"H357","v":0},null,null,{"$f":"K357","v":0},null,null,{"$f":"N357","v":0}]
[37,0,null,null,0,null,null,0,null,null,0,null,null,0]
[null,0,null,null,0,null,null,0,null,null,0,null,null,0]
[null,0,null,null,0,null,null,0,null,null,0,null,null,0]
[null,0,null,null,0,null,null,0,null,null,{"$f":"K361","v":0},null,null,0]
[null,0,null,null,0,null,null,0,null,null,0,null,null,0]
[]
[]
[null,null,{"$f":"'1-2a'!$C$375","v":0},null,null,{"$f":"'1-2a'!$F$375","v":0},null,null,{"$f":"'1-2a'!$I$375","v":0},null,null,{"$f":"'1-2a'!$L$375","v":0},null,null,{"$f":"'1-2a'!$O$375","v":0}]
[{"$f":"IF(A366=52,1,A366+1)","v":17},{"$f":"N366+3","v":"2021-04-19"},null,null,{"$f":"B376+1","v":"2021-04-20"},null,null,{"$f":"E376+1","v":"2021-04-21"},null,null,{"$f":"H376+1","v":"2021-04-22"},null,null,{"$f":"K376+1","v":"2021-04-23"}]
[null,{"$f":"B367","v":0},null,null,{"$f":"E367","v":0},null,null,{"$f":"H367","v":0},null,null,{"$f":"K367","v":0},null,null,{"$f":"N367","v":0}]
[38,0,null,null,0,null,null,0,null,null,0,null,null,0]
[null,0,null,null,0,null,null,0,null,null,0,null,null,0]
[null,0,null,null,0,null,null,0,null,null,0,null,null,0]
[null,0,null,null,0,null,null,0,null,null,{"$f":"K371","v":0},null,null,0]
[null,0,null,null,0,null,null,0,null,null,0,null,null,0]
[]
[]
[null,null,{"$f":"'1-2a'!$C$385","v":0},null,null,{"$f":"'1-2a'!$F$385","v":0},null,null,{"$f":"'1-2a'!$I$385","v":0},null,null,{"$f":"'1-2a'!$L$385","v":0},null,null,{"$f":"'1-2a'!$O$385","v":0}]
[{"$f":"IF(A376=52,1,A376+1)","v":18},{"$f":"N376+3","v":"2021-04-26"},null,null,{"$f":"B386+1","v":"2021-04-27"},null,null,{"$f":"E386+1","v":"2021-04-28"},null,null,{"$f":"H386+1","v":"2021-04-29"},null,null,{"$f":"K386+1","v":"2021-04-30"}]
[null,{"$f":"B377","v":0},null,null,{"$f":"E377","v":0},null,null,{"$f":"H377","v":0},null,null,{"$f":"K377","v":0},null,null,{"$f":"N377","v":0}]
[39,0,null,null,0,null,null,0,null,null,0,null,null,0]
[null,0,null,null,0,null,null,0,null,null,0,null,null,0]
[null,0,null,null,0,null,null,0,null,null,0,null,null,0]
[null,0,null,null,0,null,null,0,null,null,{"$f":"K381","v":0},null,null,0]
[null,0,null,null,0,null,null,0,null,null,0,null,null,0]
[]
[]
[null,null,{"$f":"'1-2a'!$C$395","v":0},null,null,{"$f":"'1-2a'!$F$395","v":0},null,null,{"$f":"'1-2a'!$I$395","v":0},null,null,{"$f":"'1-2a'!$L$395","v":0},null,null,{"$f":"'1-2a'!$O$395","v":0}]
[{"$f":"IF(A386=52,1,A386+1)","v":19},{"$f":"N386+3","v":"2021-05-03"},null,null,{"$f":"B396+1","v":"2021-05-04"},null,null,{"$f":"E396+1","v":"2021-05-05"},null,null,{"$f":"H396+1","v":"2021-05-06"},null,null,{"$f":"K396+1","v":"2021-05-07"}]
[null,{"$f":"B387","v":0},null,null,{"$f":"E387","v":0},null,null,{"$f":"H387","v":0},null,null,{"$f":"K387","v":0},null,null,{"$f":"N387","v":0}]
[40,0,null,null,0,null,null,0,null,null,0,null,null,0]
[null,0,null,null,0,null,null,0,null,null,0,null,null,0]
[null,0,null,null,0,null,null,0,null,null,0,null,null,0]
[null,0,null,null,0,null,null,0,null,null,{"$f":"K391","v":0},null,null,0]
[null,0,null,null,0,null,null,0,null,null,0,null,null,0]
[]
[]
[null,null,{"$f":"'1-2a'!$C$405","v":0},null,null,{"$f":"'1-2a'!$F$405","v":0},null,null,{"$f":"'1-2a'!$I$405","v":0},null,null,{"$f":"'1-2a'!$L$405","v":0},null,null,{"$f":"'1-2a'!$O$405","v":0}]
[{"$f":"IF(A396=52,1,A396+1)","v":20},{"$f":"N396+3","v":"2021-05-10"},null,null,{"$f":"B406+1","v":"2021-05-11"},null,null,{"$f":"E406+1","v":"2021-05-12"},null,null,{"$f":"H406+1","v":"2021-05-13"},null,null,{"$f":"K406+1","v":"2021-05-14"}]
[null,{"$f":"B397","v":0},null,null,{"$f":"E397","v":0},null,null,{"$f":"H397","v":0},null,null,{"$f":"K397","v":0},null,null,{"$f":"N397","v":0}]
[41,0,null,null,0,null,null,0,null,null,0,null,null,0]
[null,0,null,null,0,null,null,0,null,null,0,null,null,0]
[null,0,null,null,0,null,null,0,null,null,0,null,null,0]
[null,0,null,null,0,null,null,0,null,null,0,null,null,0]
[null,0,null,null,0,null,null,0,null,null,0,null,null,0]
[]
[]
[null,null,{"$f":"'1-2a'!$C$415","v":0},null,null,{"$f":"'1-2a'!$F$415","v":0},null,null,{"$f":"'1-2a'!$I$415","v":0},null,null,{"$f":"'1-2a'!$L$415","v":0},null,null,{"$f":"'1-2a'!$O$415","v":0}]
[{"$f":"IF(A406=52,1,A406+1)","v":21},{"$f":"N406+3","v":"2021-05-17"},null,null,{"$f":"B416+1","v":"2021-05-18"},null,null,{"$f":"E416+1","v":"2021-05-19"},null,null,{"$f":"H416+1","v":"2021-05-20"},null,null,{"$f":"K416+1","v":"2021-05-21"}]
[null,{"$f":"B407","v":0},null,null,{"$f":"E407","v":0},null,null,{"$f":"H407","v":0},null,null,{"$f":"K407","v":0},null,null,{"$f":"N407","v":0}]
[42,0,null,null,0,null,null,0,null,null,0,null,null,0]
[null,0,null,null,0,null,null,0,null,null,0,null,null,0]
[null,0,null,null,0,null,null,0,null,null,0,null,null,0]
[null,0,null,null,0,null,null,0,null,null,{"$f":"K411","v":0},null,null,0]
[null,0,null,null,0,null,null,0,null,null,0,null,null,0]
[]
[]
[null,null,{"$f":"'1-2a'!$C$425","v":0},null,null,{"$f":"'1-2a'!$F$425","v":0},null,null,{"$f":"'1-2a'!$I$425","v":0},null,null,{"$f":"'1-2a'!$L$425","v":0},null,null,{"$f":"'1-2a'!$O$425","v":0}]
[{"$f":"IF(A416=52,1,A416+1)","v":22},{"$f":"N416+3","v":"2021-05-24"},null,null,{"$f":"B426+1","v":"2021-05-25"},null,null,{"$f":"E426+1","v":"2021-05-26"},null,null,{"$f":"H426+1","v":"2021-05-27"},null,null,{"$f":"K426+1","v":"2021-05-28"}]
[null,{"$f":"B417","v":0},null,null,{"$f":"E417","v":0},null,null,{"$f":"H417","v":0},null,null,{"$f":"K417","v":0},null,null,{"$f":"N417","v":0}]
[43,0,null,null,0,null,null,0,null,null,0,null,null,0]
[null,0,null,null,0,null,null,0,null,null,0,null,null,0]
[null,0,null,null,0,null,null,0,null,null,0,null,null,0]
[null,0,null,null,0,null,null,0,null,null,{"$f":"K421","v":0},null,null,0]
[null,0,null,null,0,null,null,0,null,null,0,null,null,0]
[]
[]
[null,null,{"$f":"'1-2a'!$C$435","v":0},null,null,{"$f":"'1-2a'!$F$435","v":0},null,null,{"$f":"'1-2a'!$I$435","v":0},null,null,{"$f":"'1-2a'!$L$435","v":0},null,null,{"$f":"'1-2a'!$O$435","v":0}]
[{"$f":"IF(A426=52,1,A426+1)","v":23},{"$f":"N426+3","v":"2021-05-31"},null,null,{"$f":"B436+1","v":"2021-06-01"},null,null,{"$f":"E436+1","v":"2021-06-02"},null,null,{"$f":"H436+1","v":"2021-06-03"},null,null,{"$f":"K436+1","v":"2021-06-04"}]
[null,{"$f":"B427","v":0},null,null,{"$f":"E427","v":0},null,null,{"$f":"H427","v":0},null,null,{"$f":"K427","v":0},null,null,{"$f":"N427","v":0}]
[44,0,null,null,0,null,null,0,null,null,0,null,null,0]
[null,0,null,null,0,null,null,0,null,null,0,null,null,0]
[null,0,null,null,0,null,null,0,null,null,0,null,null,0]
[null,0,null,null,0,null,null,0,null,null,{"$f":"K431","v":0},null,null,0]
[null,0,null,null,0,null,null,0,null,null,0,null,null,0]
[]
[]
[null,null,{"$f":"'1-2a'!$C$445","v":0},null,null,{"$f":"'1-2a'!$F$445","v":0},null,null,{"$f":"'1-2a'!$I$445","v":0},null,null,{"$f":"'1-2a'!$L$445","v":0},null,null,{"$f":"'1-2a'!$O$445","v":0}]
[{"$f":"IF(A436=52,1,A436+1)","v":24},{"$f":"N436+3","v":"2021-06-07"},null,null,{"$f":"B446+1","v":"2021-06-08"},null,null,{"$f":"E446+1","v":"2021-06-09"},null,null,{"$f":"H446+1","v":"2021-06-10"},null,null,{"$f":"K446+1","v":"2021-06-11"}]
[null,{"$f":"B437","v":0},null,null,{"$f":"E437","v":0},null,null,{"$f":"H437","v":0},null,null,{"$f":"K437","v":0},null,null,{"$f":"N437","v":0}]
[45,0,null,null,0,null,null,0,null,null,0,null,null,0]
[null,0,null,null,0,null,null,0,null,null,0,null,null,0]
[null,0,null,null,0,null,null,0,null,null,0,null,null,0]
[null,0,null,null,0,null,null,0,null,null,{"$f":"K441","v":0},null,null,0]
[null,0,null,null,0,null,null,0,null,null,0,null,null,0]
[]
[]
[null,null,{"$f":"'1-2a'!$C$455","v":0},null,null,{"$f":"'1-2a'!$F$455","v":0},null,null,{"$f":"'1-2a'!$I$455","v":0},null,null,{"$f":"'1-2a'!$L$455","v":0},null,null,{"$f":"'1-2a'!$O$455","v":0}]
[{"$f":"IF(A446=52,1,A446+1)","v":25},{"$f":"N446+3","v":"2021-06-14"},null,null,{"$f":"B456+1","v":"2021-06-15"},null,null,{"$f":"E456+1","v":"2021-06-16"},null,null,{"$f":"H456+1","v":"2021-06-17"},null,null,{"$f":"K456+1","v":"2021-06-18"}]
[null,{"$f":"B447","v":0},null,null,{"$f":"E447","v":0},null,null,{"$f":"H447","v":0},null,null,{"$f":"K447","v":0},null,null,{"$f":"N447","v":0}]
[46,0,null,null,0,null,null,0,null,null,0,null,null,0]
[null,0,null,null,0,null,null,0,null,null,0,null,null,0]
[null,0,null,null,0,null,null,0,null,null,0,null,null,0]
[null,0,null,null,0,null,null,0,null,null,{"$f":"K451","v":0},null,null,0]
[null,0,null,null,0,null,null,0,null,null,0,null,null,0]
[]
[]
[null,null,{"$f":"'1-2a'!$C$465","v":0},null,null,{"$f":"'1-2a'!$F$465","v":0},null,null,{"$f":"'1-2a'!$I$465","v":0},null,null,{"$f":"'1-2a'!$L$465","v":0},null,null,{"$f":"'1-2a'!$O$465","v":0}]
[{"$f":"IF(A456=52,1,A456+1)","v":26},{"$f":"N456+3","v":"2021-06-21"},null,null,{"$f":"B466+1","v":"2021-06-22"},null,null,{"$f":"E466+1","v":"2021-06-23"},null,null,{"$f":"H466+1","v":"2021-06-24"},null,null,{"$f":"K466+1","v":"2021-06-25"}]
[null,{"$f":"B457","v":0},null,null,{"$f":"E457","v":0},null,null,{"$f":"H457","v":0},null,null,{"$f":"K457","v":0},null,null,{"$f":"N457","v":0}]
[47,0,null,null,0,null,null,0,null,null,0,null,null,0]
[null,0,null,null,0,null,null,0,null,null,0,null,null,0]
[null,0,null,null,0,null,null,0,null,null,0,null,null,0]
[null,0,null,null,0,null,null,0,null,null,{"$f":"K461","v":0},null,null,0]
[null,0,null,null,0,null,null,0,null,null,0,null,null,0]
[]
[]
[null,null,{"$f":"'1-2a'!$C$475","v":0},null,null,{"$f":"'1-2a'!$F$475","v":0},null,null,{"$f":"'1-2a'!$I$475","v":0},null,null,{"$f":"'1-2a'!$L$475","v":0},null,null,{"$f":"'1-2a'!$O$475","v":0}]
[{"$f":"IF(A466=52,1,A466+1)","v":27},{"$f":"N466+3","v":"2021-06-28"},null,null,{"$f":"B476+1","v":"2021-06-29"},null,null,{"$f":"E476+1","v":"2021-06-30"},null,null,{"$f":"H476+1","v":"2021-07-01"},null,null,{"$f":"K476+1","v":"2021-07-02"}]
[null,{"$f":"B467","v":0},null,null,{"$f":"E467","v":0},null,null,{"$f":"H467","v":0},null,null,{"$f":"K467","v":0},null,null,{"$f":"N467","v":0}]
[48,0,null,null,0,null,null,0,null,null,0,null,null,0]
[null,0,null,null,0,null,null,0,null,null,0,null,null,0]
[null,0,null,null,0,null,null,0,null,null,0,null,null,0]
[null,0,null,null,0,null,null,0,null,null,{"$f":"K471","v":0},null,null,0]
[null,0,null,null,0,null,null,0,null,null,0,null,null,0]
[]
[]
[null,null,{"$f":"'1-2a'!$C$485","v":0},null,null,{"$f":"'1-2a'!$F$485","v":0},null,null,{"$f":"'1-2a'!$I$485","v":0},null,null,{"$f":"'1-2a'!$L$485","v":0},null,null,{"$f":"'1-2a'!$O$485","v":0}]
[{"$f":"IF(A476=52,1,A476+1)","v":28},{"$f":"N476+3","v":"2021-07-05"},null,null,{"$f":"B486+1","v":"2021-07-06"},null,null,{"$f":"E486+1","v":"2021-07-07"},null,null,{"$f":"H486+1","v":"2021-07-08"},null,null,{"$f":"K486+1","v":"2021-07-09"}]
[null,{"$f":"B477","v":0},null,null,{"$f":"E477","v":0},null,null,{"$f":"H477","v":0},null,null,{"$f":"K477","v":0},null,null,{"$f":"N477","v":0}]
[49,0,null,null,0,null,null,0,null,null,0,null,null,0]
[null,0,null,null,0,null,null,0,null,null,0,null,null,0]
[null,0,null,null,0,null,null,0,null,null,0,null,null,0]
[null,0,null,null,0,null,null,0,null,null,0,null,null,0]
[null,0,null,null,0,null,null,0,null,null,0,null,null,0]
[]
[]
[null,null,{"$f":"'1-2a'!$C$495","v":0},null,null,{"$f":"'1-2a'!$F$495","v":0},null,null,{"$f":"'1-2a'!$I$495","v":0},null,null,{"$f":"'1-2a'!$L$495","v":0},null,null,{"$f":"'1-2a'!$O$495","v":0}]
[{"$f":"IF(A486=52,1,A486+1)","v":29},{"$f":"N486+3","v":"2021-07-12"},null,null,{"$f":"B496+1","v":"2021-07-13"},null,null,{"$f":"E496+1","v":"2021-07-14"},null,null,{"$f":"H496+1","v":"2021-07-15"},null,null,{"$f":"K496+1","v":"2021-07-16"}]
[null,{"$f":"B487","v":0},null,null,{"$f":"E487","v":0},null,null,{"$f":"H487","v":0},null,null,{"$f":"K487","v":0},null,null,{"$f":"N487","v":0}]
[50,0,null,null,0,null,null,0,null,null,0]
[null,0,null,null,0,null,null,0,null,null,0,null,null,0]
[null,0,null,null,0,null,null,0,null,null,0,null,null,0]
[null,0,null,null,0,null,null,0,null,null,{"$f":"K491","v":0},null,null,0]
[null,0,null,null,0,null,null,0,null,null,0]

{"sheet":"16","index":16,"n_rows":502,"n_cols":15,"rows_kept":502,"cut":false,"hidden":false,"merged":[[5,1,5,3],[5,4,5,6],[5,7,5,9],[5,10,5,12],[5,13,5,15],[7,0,8,0],[1,1,2,7],[1,9,2,12],[1,13,2,15],[3,1,3,3],[3,4,3,6],[3,7,3,9],[3,10,3,12],[3,13,3,15],[12,1,13,3],[12,4,13,6],[12,7,13,9],[12,10,13,12],[12,13,13,15],[15,1,15,3],[15,4,15,6],[15,7,15,9],[15,10,15,12],[15,13,15,15],[25,1,25,3],[25,4,25,6],[25,7,25,9],[25,10,25,12],[25,13,25,15],[27,0,28,0],[17,0,18,0],[22,1,23,3],[22,4,23,6],[22,7,23,9],[22,10,23,12],[22,13,23,15],[32,1,33,3],[32,4,33,6],[32,7,33,9],[32,10,33,12],[32,13,33,15],[35,1,35,3],[35,4,35,6],[35,7,35,9],[35,10,35,12],[35,13,35,15],[45,1,45,3],[45,4,45,6],[45,7,45,9],[45,10,45,12],[45,13,45,15],[47,0,48,0],[37,0,38,0],[42,1,43,3],[42,4,43,6],[42,7,43,9],[42,10,43,12],[42,13,43,15],[52,1,53,3],[52,4,53,6],[52,7,53,9],[52,10,53,12],[52,13,53,15],[55,1,55,3],[55,4,55,6],[55,7,55,9],[55,10,55,12],[55,13,55,15],[65,1,65,3],[65,4,65,6],[65,7,65,9],[65,10,65,12],[65,13,65,15],[67,0,68,0],[57,0,58,0],[62,1,63,3],[62,4,63,6],[62,7,63,9],[62,10,63,12],[62,13,63,15],[72,1,73,3],[72,4,73,6],[72,7,73,9],[72,10,73,12],[72,13,73,15],[75,1,75,3],[75,4,75,6],[75,7,75,9],[75,10,75,12],[75,13,75,15],[85,1,85,3],[85,4,85,6],[85,7,85,9],[85,10,85,12],[85,13,85,15],[87,0,88,0],[77,0,78,0],[82,1,83,3],[82,4,83,6],[82,7,83,9],[82,10,83,12],[82,13,83,15],[92,1,93,3],[92,4,93,6],[92,7,93,9],[92,10,93,12],[92,13,93,15],[95,1,95,3],[95,4,95,6],[95,7,95,9],[95,10,95,12],[95,13,95,15],[105,1,105,3],[105,4,105,6],[105,7,105,9],[105,10,105,12],[105,13,105,15],[107,0,108,0],[97,0,98,0],[99,16,100,19],[102,1,103,3],[102,4,103,6],[102,7,103,9],[102,10,103,12],[102,13,103,15],[112,1,113,3],[112,4,113,6],[112,7,113,9],[112,10,113,12],[112,13,113,15],[115,1,115,3],[115,4,115,6],[115,7,115,9],[115,10,115,12],[115,13,115,15],[125,1,125,3],[125,4,125,6],[125,7,125,9],[125,10,125,12],[125,13,125,15],[127,0,128,0],[117,0,118,0],[122,1,123,3],[122,4,123,6],[122,7,123,9],[122,10,123,12],[122,13,123,15],[132,1,133,3],[132,4,133,6],[132,7,133,9],[132,10,133,12],[132,13,133,15],[135,1,135,3],[135,4,135,6],[135,7,135,9],[135,10,135,12],[135,13,135,15],[145,1,145,3],[145,4,145,6],[145,7,145,9],[145,10,145,12],[145,13,145,15],[147,0,148,0],[137,0,138,0],[142,1,143,3],[142,4,143,6],[142,7,143,9],[142,10,143,12],[142,13,143,15],[152,1,153,3],[152,4,153,6],[152,7,153,9],[152,10,153,12],[152,13,153,15],[155,1,155,3],[155,4,155,6],[155,7,155,9],[155,10,155,12],[155,13,155,15],[165,1,165,3],[165,4,165,6],[165,7,165,9],[165,10,165,12],[165,13,165,15],[167,0,168,0],[157,0,158,0],[162,1,163,3],[162,4,163,6],[162,7,163,9],[162,10,163,12],[162,13,163,15],[172,1,173,3],[172,4,173,6],[172,7,173,9],[172,10,173,12],[172,13,173,15],[175,1,175,3],[175,4,175,6],[175,7,175,9],[175,10,175,12],[175,13,175,15],[185,1,185,3],[185,4,185,6],[185,7,185,9],[185,10,185,12],[185,13,185,15],[187,0,188,0],[177,0,178,0],[179,16,180,19],[182,1,183,3],[182,4,183,6],[182,7,183,9],[182,10,183,12],[182,13,183,15],[192,1,193,3],[192,4,193,6],[192,7,193,9],[192,10,193,12],[192,13,193,15],[195,1,195,3],[195,4,195,6],[195,7,195,9],[195,10,195,12],[195,13,195,15],[205,1,205,3],[205,4,205,6],[205,7,205,9],[205,10,205,12],[205,13,205,15],[207,0,208,0],[197,0,198,0],[202,1,203,3],[202,4,203,6],[202,7,203,9],[202,10,203,12],[202,13,203,15],[212,1,213,3],[212,4,213,6],[212,7,213,9],[212,10,213,12],[212,13,213,15],[215,1,215,3],[215,4,215,6],[215,7,215,9],[215,10,215,12],[215,13,215,15],[225,1,225,3],[225,4,225,6],[225,7,225,9],[225,10,225,12],[225,13,225,15],[227,0,228,0],[217,0,218,0],[222,1,223,3],[222,4,223,6],[222,7,223,9],[222,10,223,12],[222,13,223,15],[232,1,233,3],[232,4,233,6],[232,7,233,9],[232,10,233,12],[232,13,233,15],[235,1,235,3],[235,4,235,6],[235,7,235,9],[235,10,235,12],[235,13,235,15],[245,1,245,3],[245,4,245,6],[245,7,245,9],[245,10,245,12],[245,13,245,15],[247,0,248,0],[237,0,238,0],[242,1,243,3],[242,4,243,6],[242,7,243,9],[242,10,243,12],[242,13,243,15],[252,1,253,3],[252,4,253,6],[252,7,253,9],[252,10,253,12],[252,13,253,15],[255,1,255,3],[255,4,255,6],[255,7,255,9],[255,10,255,12],[255,13,255,15],[265,1,265,3],[265,4,265,6],[265,7,265,9],[265,10,265,12],[265,13,265,15],[267,0,268,0],[257,0,258,0],[259,16,260,19],[262,1,263,3],[262,4,263,6],[262,7,263,9],[262,10,263,12],[262,13,263,15],[272,1,273,3],[272,4,273,6],[272,7,273,9],[272,10,273,12],[272,13,273,15],[275,1,275,3],[275,4,275,6],[275,7,275,9],[275,10,275,12],[275,13,275,15],[285,1,285,3],[285,4,285,6],[285,7,285,9],[285,10,285,12],[285,13,285,15],[287,0,288,0],[277,0,278,0],[282,1,283,3],[282,4,283,6],[282,7,283,9],[282,10,283,12],[282,13,283,15],[292,1,293,3],[292,4,293,6],[292,7,293,9],[292,10,293,12],[292,13,293,15],[295,1,295,3],[295,4,295,6],[295,7,295,9],[295,10,295,12],[295,13,295,15],[305,1,305,3],[305,4,305,6],[305,7,305,9],[305,10,305,12],[305,13,305,15],[307,0,308,0],[297,0,298,0],[302,1,303,3],[302,4,303,6],[302,7,303,9],[302,10,303,12],[302,13,303,15],[312,1,313,3],[312,4,313,6],[312,7,313,9],[312,10,313,12],[312,13,313,15],[315,1,315,3],[315,4,315,6],[315,7,315,9],[315,10,315,12],[315,13,315,15],[325,1,325,3],[325,4,325,6],[325,7,325,9],[325,10,325,12],[325,13,325,15],[327,0,328,0],[317,0,318,0],[322,1,323,3],[322,4,323,6],[322,7,323,9],[322,10,323,12],[322,13,323,15],[332,1,333,3],[332,4,333,6],[332,7,333,9],[332,10,333,12],[332,13,333,15],[335,1,335,3],[335,4,335,6],[335,7,335,9],[335,10,335,12],[335,13,335,15],[345,1,345,3],[345,4,345,6],[345,7,345,9],[345,10,345,12],[345,13,345,15],[347,0,348,0],[337,0,338,0],[339,16,340,19],[342,1,343,3],[342,4,343,6],[342,7,343,9],[342,10,343,12],[342,13,343,15],[352,1,353,3],[352,4,353,6],[352,7,353,9],[352,10,353,12],[352,13,353,15],[355,1,355,3],[355,4,355,6],[355,7,355,9],[355,10,355,12],[355,13,355,15],[365,1,365,3],[365,4,365,6],[365,7,365,9],[365,10,365,12],[365,13,365,15],[367,0,368,0],[357,0,358,0],[362,1,363,3],[362,4,363,6],[362,7,363,9],[362,10,363,12],[362,13,363,15],[372,1,373,3],[372,4,373,6],[372,7,373,9],[372,10,373,12],[372,13,373,15],[375,1,375,3],[375,4,375,6],[375,7,375,9],[375,10,375,12],[375,13,375,15],[385,1,385,3],[385,4,385,6],[385,7,385,9],[385,10,385,12],[385,13,385,15],[387,0,388,0],[377,0,378,0],[382,1,383,3],[382,4,383,6],[382,7,383,9],[382,10,383,12],[382,13,383,15],[392,1,393,3],[392,4,393,6],[392,7,393,9],[392,10,393,12],[392,13,393,15],[395,1,395,3],[395,4,395,6],[395,7,395,9],[395,10,395,12],[395,13,395,15],[405,1,405,3],[405,4,405,6],[405,7,405,9],[405,10,405,12],[405,13,405,15],[407,0,408,0],[397,0,398,0],[402,1,403,3],[402,4,403,6],[402,7,403,9],[402,10,403,12],[402,13,403,15],[412,1,413,3],[412,4,413,6],[412,7,413,9],[412,10,413,12],[412,13,413,15],[415,1,415,3],[415,4,415,6],[415,7,415,9],[415,10,415,12],[415,13,415,15],[425,1,425,3],[425,4,425,6],[425,7,425,9],[425,10,425,12],[425,13,425,15],[427,0,428,0],[417,0,418,0],[419,16,420,19],[422,1,423,3],[422,4,423,6],[422,7,423,9],[422,10,423,12],[422,13,423,15],[432,1,433,3],[432,4,433,6],[432,7,433,9],[432,10,433,12],[432,13,433,15],[435,1,435,3],[435,4,435,6],[435,7,435,9],[435,10,435,12],[435,13,435,15],[445,1,445,3],[445,4,445,6],[445,7,445,9],[445,10,445,12],[445,13,445,15],[447,0,448,0],[437,0,438,0],[442,1,443,3],[442,4,443,6],[442,7,443,9],[442,10,443,12],[442,13,443,15],[452,1,453,3],[452,4,453,6],[452,7,453,9],[452,10,453,12],[452,13,453,15],[455,1,455,3],[455,4,455,6],[455,7,455,9],[455,10,455,12],[455,13,455,15],[465,1,465,3],[465,4,465,6],[465,7,465,9],[465,10,465,12],[465,13,465,15],[467,0,468,0],[457,0,458,0],[462,1,463,3],[462,4,463,6],[462,7,463,9],[462,10,463,12],[462,13,463,15],[472,1,473,3],[472,4,473,6],[472,7,473,9],[472,10,473,12],[472,13,473,15],[475,1,475,3],[475,4,475,6],[475,7,475,9],[475,10,475,12],[475,13,475,15],[485,1,485,3],[485,4,485,6],[485,7,485,9],[485,10,485,12],[485,13,485,15],[487,0,488,0],[477,0,478,0],[482,1,483,3],[482,4,483,6],[482,7,483,9],[482,10,483,12],[482,13,483,15],[497,0,498,0],[499,16,500,19],[502,1,503,3],[502,4,503,6],[502,7,503,9],[502,10,503,12],[502,13,503,15],[492,1,493,3],[492,4,493,6],[492,7,493,9],[492,10,493,12],[492,13,493,15],[495,1,495,3],[495,4,495,6],[495,7,495,9],[495,10,495,12],[495,13,495,15]]}
[]
[null,{"$f":"'1-2a'!B2:H3","v":"Basisschool De Grote Beer        schooljaar 2020/2021"},null,null,null,null,null,null,null,"Groepsplanner van groep:",null,null,null,"16"]
[]
[null,"maandag 1e schoolweek",null,null,"dinsdag",null,null,"woensdag",null,null,"donderdag",null,null,"vrijdag"]
[null,null,{"$f":"'1-2a'!C$5","v":0},null,null,{"$f":"'1-2a'!F5","v":0},null,null,{"$f":"'1-2a'!I$5","v":0},null,null,{"$f":"'1-2a'!L$5","v":"s"},null,null,{"$f":"'1-2a'!O$5","v":0}]
[{"$f":"(B6-WEEKDAY(B6-1)+4-(TRUNC(DATE(YEAR(B6-WEEKDAY(B6-1)+4),1,2)/7)*7-2))/7","v":32},{"$f":"'1-2a'!B6:D6","v":"2020-08-03"},null,null,{"$f":"B6+1","v":"2020-08-04"},null,null,{"$f":"E6+1","v":"2020-08-05"},null,null,{"$f":"H6+1","v":"2020-08-06"},null,null,{"$f":"K6+1","v":"2020-08-07"}]
[]
[1]
[]
[]
[]
[]
[]
[]
[null,null,{"$f":"'1-2a'!C$15","v":0},null,null,{"$f":"'1-2a'!F$15","v":0},null,null,{"$f":"'1-2a'!I$15","v":0},null,null,{"$f":"'1-2a'!L$15","v":0},null,null,{"$f":"'1-2a'!O15","v":0}]
[{"$f":"IF(A6=52,1,A6+1)","v":33},{"$f":"N6+3","v":"2020-08-10"},null,null,{"$f":"B16+1","v":"2020-08-11"},null,null,{"$f":"E16+1","v":"2020-08-12"},null,null,{"$f":"H16+1","v":"2020-08-13"},null,null,{"$f":"K16+1","v":"2020-08-14"}]
[null,{"$f":"B7","v":0},null,null,{"$f":"E7","v":0},null,null,{"$f":"H7","v":0},null,null,{"$f":"K7","v":0},null,null,{"$f":"N7","v":0}]
[2,0,null,null,0,null,null,0,null,null,0,null,null,0]
[null,0,null,null,0,null,null,0,null,null,0,null,null,0]
[null,0,null,null,0,null,null,0,null,null,0,null,null,0]
[null,0,null,null,0,null,null,0,null,null,0,null,null,0]
[null,0,null,null,0,null,null,0,null,null,0,null,null,0]
[]
[]
[null,null,{"$f":"'1-2a'!C$25","v":0},null,null,{"$f":"'1-2a'!F$25","v":0},null,null,{"$f":"'1-2a'!I25","v":0},null,null,{"$f":"'1-2a'!L25","v":0},null,null,{"$f":"'1-2a'!O25","v":0}]
[{"$f":"IF(A16=52,1,A16+1)","v":34},{"$f":"N16+3","v":"2020-08-17"},null,null,{"$f":"B26+1","v":"2020-08-18"},null,null,{"$f":"E26+1","v":"2020-08-19"},null,null,{"$f":"H26+1","v":"2020-08-20"},null,null,{"$f":"K26+1","v":"2020-08-21"}]
[null,{"$f":"B17","v":0},null,null,{"$f":"E17","v":0},null,null,{"$f":"H17","v":0},null,null,{"$f":"K17","v":0},null,null,{"$f":"N17","v":0}]
[3,0,null,null,0,null,null,0,null,null,0,null,null,0]
[null,0,null,null,0,null,null,0,null,null,0,null,null,0]
[null,0,null,null,0,null,null,0,null,null,0,null,null,0]
[null,0,null,null,0,null,null,0,null,null,{"$f":"K21","v":0},null,null,0]
[null,0,null,null,0,null,null,0,null,null,0,null,null,0]
[]
[]
[null,null,{"$f":"'1-2a'!$C$35","v":0},null,null,{"$f":"'1-2a'!$F$35","v":0},null,null,{"$f":"'1-2a'!$I$35","v":0},null,null,{"$f":"'1-2a'!$L$35","v":0},null,null,{"$f":"'1-2a'!$O$35","v":0}]
[{"$f":"IF(A26=52,1,A26+1)","v":35},{"$f":"N26+3","v":"2020-08-24"},null,null,{"$f":"B36+1","v":"2020-08-25"},null,null,{"$f":"E36+1","v":"2020-08-26"},null,null,{"$f":"H36+1","v":"2020-08-27"},null,null,{"$f":"K36+1","v":"2020-08-28"}]
[null,{"$f":"B27","v":0},null,null,{"$f":"E27","v":0},null,null,{"$f":"H27","v":0},null,null,{"$f":"K27","v":0},null,null,{"$f":"N27","v":0}]
[4,0,null,null,0,null,null,0,null,null,0,null,null,0]
[null,0,null,null,0,null,null,0,null,null,0,null,null,0]
[null,0,null,null,0,null,null,0,null,null,0,null,null,0]
[null,0,null,null,0,null,null,0,null,null,{"$f":"K31","v":0},null,null,0]
[null,0,null,null,0,null,null,0,null,null,0,null,null,0]
[]
[]
[null,null,{"$f":"'1-2a'!$C$45","v":0},null,null,{"$f":"'1-2a'!$F$45","v":0},null,null,{"$f":"'1-2a'!$I$45","v":0},null,null,{"$f":"'1-2a'!$L$45","v":0},null,null,{"$f":"'1-2a'!$O$45","v":0}]
[{"$f":"IF(A36=52,1,A36+1)","v":36},{"$f":"N36+3","v":"2020-08-31"},null,null,{"$f":"B46+1","v":"2020-09-01"},null,null,{"$f":"E46+1","v":"2020-09-02"},null,null,{"$f":"H46+1","v":"2020-09-03"},null,null,{"$f":"K46+1","v":"2020-09-04"}]
[null,{"$f":"B37","v":0},null,null,{"$f":"E37","v":0},null,null,{"$f":"H37","v":0},null,null,{"$f":"K37","v":0},null,null,{"$f":"N37","v":0}]
[5,0,null,null,0,null,null,0,null,null,0,null,null,0]
[null,0,null,null,0,null,null,0,null,null,0,null,null,0]
[null,0,null,null,0,null,null,0,null,null,0,null,null,0]
[null,0,null,null,0,null,null,0,null,null,{"$f":"K41","v":0},null,null,0]
[null,0,null,null,0,null,null,0,null,null,0,null,null,0]
[]
[]
[null,null,{"$f":"'1-2a'!$C$55","v":0},null,null,{"$f":"'1-2a'!$F$55","v":0},null,null,{"$f":"'1-2a'!$I$55","v":0},null,null,{"$f":"'1-2a'!$L$55","v":0},null,null,{"$f":"'1-2a'!O55","v":0}]
[{"$f":"IF(A46=52,1,A46+1)","v":37},{"$f":"N46+3","v":"2020-09-07"},null,null,{"$f":"B56+1","v":"2020-09-08"},null,null,{"$f":"E56+1","v":"2020-09-09"},null,null,{"$f":"H56+1","v":"2020-09-10"},null,null,{"$f":"K56+1","v":"2020-09-11"}]
[null,{"$f":"B47","v":0},null,null,{"$f":"E47","v":0},null,null,{"$f":"H47","v":0},null,null,{"$f":"K47","v":0},null,null,{"$f":"N47","v":0}]
[6,0,null,null,0,null,null,0,null,null,0,null,null,0]
[null,0,null,null,0,null,null,0,null,null,0,null,null,0]
[null,0,null,null,0,null,null,0,null,null,0,null,null,0]
[null,0,null,null,0,null,null,0,null,null,{"$f":"K51","v":0},null,null,0]
[null,0,null,null,0,null,null,0,null,null,0,null,null,0]
[]
[]
[null,null,{"$f":"'1-2a'!$C$65","v":0},null,null,{"$f":"'1-2a'!$F$65","v":0},null,null,{"$f":"'1-2a'!$I$65","v":0},null,null,{"$f":"'1-2a'!$L$65","v":0},null,null,{"$f":"'1-2a'!$O$65","v":0}]
[{"$f":"IF(A56=52,1,A56+1)","v":38},{"$f":"N56+3","v":"2020-09-14"},null,null,{"$f":"B66+1","v":"2020-09-15"},null,null,{"$f":"E66+1","v":"2020-09-16"},null,null,{"$f":"H66+1","v":"2020-09-17"},null,null,{"$f":"K66+1","v":"2020-09-18"}]
[null,{"$f":"B57","v":0},null,null,{"$f":"E57","v":0},null,null,{"$f":"H57","v":0},null,null,{"$f":"K57","v":0},null,null,{"$f":"N57","v":0}]
[7,0,null,null,0,null,null,0,null,null,0,null,null,0]
[null,0,null,null,0,null,null,0,null,null,0,null,null,0]
[null,0,null,null,0,null,null,0,null,null,0,null,null,0]
[null,0,null,null,0,null,null,0,null,null,{"$f":"K61","v":0},null,null,0]
[null,0,null,null,0,null,null,0,null,null,0,null,null,0]
[]
[]
[null,null,{"$f":"'1-2a'!$C$75","v":0},null,null,{"$f":"'1-2a'!$F$75","v":0},null,null,{"$f":"'1-2a'!$I$75","v":0},null,null,{"$f":"'1-2a'!$L$75","v":0},null,null,{"$f":"'1-2a'!$O$75","v":0}]
[{"$f":"IF(A66=52,1,A66+1)","v":39},{"$f":"N66+3","v":"2020-09-21"},null,null,{"$f":"B76+1","v":"2020-09-22"},null,null,{"$f":"E76+1","v":"2020-09-23"},null,null,{"$f":"H76+1","v":"2020-09-24"},null,null,{"$f":"K76+1","v":"2020-09-25"}]
[null,{"$f":"B67","v":0},null,null,{"$f":"E67","v":0},null,null,{"$f":"H67","v":0},null,null,{"$f":"K67","v":0},null,null,{"$f":"N67","v":0}]
[8,0,null,null,0,null,null,0,null,null,0,null,null,0]
[null,0,null,null,0,null,null,0,null,null,0,null,null,0]
[null,0,null,null,0,null,null,0,null,null,0,null,null,0]
[null,0,null,null,0,null,null,0,null,null,{"$f":"K71","v":0},null,null,0]
[null,0,null,null,0,null,null,0,null,null,0,null,null,0]
[]
[]
[null,null,{"$f":"'1-2a'!$C$85","v":0},null,null,{"$f":"'1-2a'!$F$85","v":0},null,null,{"$f":"'1-2a'!$I$85","v":0},null,null,{"$f":"'1-2a'!$L$85","v":0},null,null,{"$f":"'1-2a'!$O$85","v":0}]
[{"$f":"IF(A76=52,1,A76+1)","v":40},{"$f":"N76+3","v":"2020-09-28"},null,null,{"$f":"B86+1","v":"2020-09-29"},null,null,{"$f":"E86+1","v":"2020-09-30"},null,null,{"$f":"H86+1","v":"2020-10-01"},null,null,{"$f":"K86+1","v":"2020-10-02"}]
[null,{"$f":"B77","v":0},null,null,{"$f":"E77","v":0},null,null,{"$f":"H77","v":0},null,null,{"$f":"K77","v":0},null,null,{"$f":"N77","v":0}]
[9,0,null,null,0,null,null,0,null,null,0,null,null,0]
[null,0,null,null,0,null,null,0,null,null,0,null,null,0]
[null,0,null,null,0,null,null,0,null,null,0,null,null,0]
[null,0,null,null,0,null,null,0,null,null,0,null,null,0]
[null,0,null,null,0,null,null,0,null,null,0,null,null,0]
[]
[]
[null,null,{"$f":"'1-2a'!$C$95","v":0},null,null,{"$f":"'1-2a'!$F$95","v":0},null,null,{"$f":"'1-2a'!$I$95","v":0},null,null,{"$f":"'1-2a'!$L$95","v":0},null,null,{"$f":"'1-2a'!$O$95","v":0}]
[{"$f":"IF(A86=52,1,A86+1)","v":41},{"$f":"N86+3","v":"2020-10-05"},null,null,{"$f":"B96+1","v":"2020-10-06"},null,null,{"$f":"E96+1","v":"2020-10-07"},null,null,{"$f":"H96+1","v":"2020-10-08"},null,null,{"$f":"K96+1","v":"2020-10-09"}]
[null,{"$f":"B87","v":0},null,null,{"$f":"E87","v":0},null,null,{"$f":"H87","v":0},null,null,{"$f":"K87","v":0},null,null,{"$f":"N87","v":0}]
[10,0,null,null,0,null,null,0,null,null,0,null,null,0]
[null,0,null,null,0,null,null,0,null,null,0,null,null,0]
[null,0,null,null,0,null,null,0,null,null,0,null,null,0]
[null,0,null,null,0,null,null,0,null,null,{"$f":"K91","v":0},null,null,0]
[null,0,null,null,0,null,null,0,null,null,0,null,null,0]
[]
[]
[null,null,{"$f":"'1-2a'!$C$105","v":0},null,null,{"$f":"'1-2a'!$F$105","v":0},null,null,{"$f":"'1-2a'!$I$105","v":0},null,null,{"$f":"'1-2a'!$L$105","v":0},null,null,{"$f":"'1-2a'!$O$105","v":0}]
[{"$f":"IF(A96=52,1,A96+1)","v":42},{"$f":"N96+3","v":"2020-10-12"},null,null,{"$f":"B106+1","v":"2020-10-13"},null,null,{"$f":"E106+1","v":"2020-10-14"},null,null,{"$f":"H106+1","v":"2020-10-15"},null,null,{"$f":"K106+1","v":"2020-10-16"}]
[null,{"$f":"B97","v":0},null,null,{"$f":"E97","v":0},null,null,{"$f":"H97","v":0},null,null,{"$f":"K97","v":0},null,null,{"$f":"N97","v":0}]
[11,0,null,null,0,null,null,0,null,null,0,null,null,0]
[null,0,null,null,0,null,null,0,null,null,0,null,null,0]
[null,0,null,null,0,null,null,0,null,null,0,null,null,0]
[null,0,null,null,0,null,null,0,null,null,{"$f":"K101","v":0},null,null,0]
[null,0,null,null,0,null,null,0,null,null,0,null,null,0]
[]
[]
[null,null,{"$f":"'1-2a'!$C$115","v":0},null,null,{"$f":"'1-2a'!$F$115","v":0},null,null,{"$f":"'1-2a'!$I$115","v":0},null,null,{"$f":"'1-2a'!$L$115","v":0},null,null,{"$f":"'1-2a'!$O$115","v":0}]
[{"$f":"IF(A106=52,1,A106+1)","v":43},{"$f":"N106+3","v":"2020-10-19"},null,null,{"$f":"B116+1","v":"2020-10-20"},null,null,{"$f":"E116+1","v":"2020-10-21"},null,null,{"$f":"H116+1","v":"2020-10-22"},null,null,{"$f":"K116+1","v":"2020-10-23"}]
[null,{"$f":"B107","v":0},null,null,{"$f":"E107","v":0},null,null,{"$f":"H107","v":0},null,null,{"$f":"K107","v":0},null,null,{"$f":"N107","v":0}]
[12,0,null,null,0,null,null,0,null,null,0,null,null,0]
[null,0,null,null,0,null,null,0,null,null,0,null,null,0]
[null,0,null,null,0,null,null,0,null,null,0,null,null,0]
[null,0,null,null,0,null,null,0,null,null,{"$f":"K111","v":0},null,null,0]
[null,0,null,null,0,null,null,0,null,null,0,null,null,0]
[]
[]
[null,null,{"$f":"'1-2a'!$C$125","v":0},null,null,{"$f":"'1-2a'!$F$125","v":0},null,null,{"$f":"'1-2a'!$I$125","v":0},null,null,{"$f":"'1-2a'!$L$125","v":0},null,null,{"$f":"'1-2a'!$O$125","v":0}]
[{"$f":"IF(A116=52,1,A116+1)","v":44},{"$f":"N116+3","v":"2020-10-26"},null,null,{"$f":"B126+1","v":"2020-10-27"},null,null,{"$f":"E126+1","v":"2020-10-28"},null,null,{"$f":"H126+1","v":"2020-10-29"},null,null,{"$f":"K126+1","v":"2020-10-30"}]
[null,{"$f":"B117","v":0},null,null,{"$f":"E117","v":0},null,null,{"$f":"H117","v":0},null,null,{"$f":"K117","v":0},null,null,{"$f":"N117","v":0}]
[13,0,null,null,0,null,null,0,null,null,0,null,null,0]
[null,0,null,null,0,null,null,0,null,null,0,null,null,0]
[null,0,null,null,0,null,null,0,null,null,0,null,null,0]
[null,0,null,null,0,null,null,0,null,null,{"$f":"K121","v":0},null,null,0]
[null,0,null,null,0,null,null,0,null,null,0,null,null,0]
[]
[]
[null,null,{"$f":"'1-2a'!$C$135","v":0},null,null,{"$f":"'1-2a'!$F$135","v":0},null,null,{"$f":"'1-2a'!$I$135","v":0},null,null,{"$f":"'1-2a'!$L$135","v":0},null,null,{"$f":"'1-2a'!$O$135","v":0}]
[{"$f":"IF(A126=52,1,A126+1)","v":45},{"$f":"N126+3","v":"2020-11-02"},null,null,{"$f":"B136+1","v":"2020-11-03"},null,null,{"$f":"E136+1","v":"2020-11-04"},null,null,{"$f":"H136+1","v":"2020-11-05"},null,null,{"$f":"K136+1","v":"2020-11-06"}]
[null,{"$f":"B127","v":0},null,null,{"$f":"E127","v":0},null,null,{"$f":"H127","v":0},null,null,{"$f":"K127","v":0},null,null,{"$f":"N127","v":0}]
[14,0,null,null,0,null,null,0,null,null,0,null,null,0]
[null,0,null,null,0,null,null,0,null,null,0,null,null,0]
[null,0,null,null,0,null,null,0,null,null,0,null,null,0]
[null,0,null,null,0,null,null,0,null,null,{"$f":"K131","v":0},null,null,0]
[null,0,null,null,0,null,null,0,null,null,0,null,null,0]
[]
[]
[null,null,{"$f":"'1-2a'!$C$145","v":0},null,null,{"$f":"'1-2a'!$F$145","v":0},null,null,{"$f":"'1-2a'!$I$145","v":0},null,null,{"$f":"'1-2a'!$L$145","v":0},null,null,{"$f":"'1-2a'!$O$145","v":0}]
[{"$f":"IF(A136=52,1,A136+1)","v":46},{"$f":"N136+3","v":"2020-11-09"},null,null,{"$f":"B146+1","v":"2020-11-10"},null,null,{"$f":"E146+1","v":"2020-11-11"},null,null,{"$f":"H146+1","v":"2020-11-12"},null,null,{"$f":"K146+1","v":"2020-11-13"}]
[null,{"$f":"B137","v":0},null,null,{"$f":"E137","v":0},null,null,{"$f":"H137","v":0},null,null,{"$f":"K137","v":0},null,null,{"$f":"N137","v":0}]
[15,0,null,null,0,null,null,0,null,null,0,null,null,0]
[null,0,null,null,0,null,null,0,null,null,0,null,null,0]
[null,0,null,null,0,null,null,0,null,null,0,null,null,0]
[null,0,null,null,0,null,null,0,null,null,{"$f":"K141","v":0},null,null,0]
[null,0,null,null,0,null,null,0,null,null,0,null,null,0]
[]
[]
[null,null,{"$f":"'1-2a'!$C$155","v":0},null,null,{"$f":"'1-2a'!$F$155","v":0},null,null,{"$f":"'1-2a'!$I$155","v":0},null,null,{"$f":"'1-2a'!$L$155","v":0},null,null,{"$f":"'1-2a'!$O$155","v":0}]
[{"$f":"IF(A146=52,1,A146+1)","v":47},{"$f":"N146+3","v":"2020-11-16"},null,null,{"$f":"B156+1","v":"2020-11-17"},null,null,{"$f":"E156+1","v":"2020-11-18"},null,null,{"$f":"H156+1","v":"2020-11-19"},null,null,{"$f":"K156+1","v":"2020-11-20"}]
[null,{"$f":"B147","v":0},null,null,{"$f":"E147","v":0},null,null,{"$f":"H147","v":0},null,null,{"$f":"K147","v":0},null,null,{"$f":"N147","v":0}]
[16,0,null,null,0,null,null,0,null,null,0,null,null,0]
[null,0,null,null,0,null,null,0,null,null,0,null,null,0]
[null,0,null,null,0,null,null,0,null,null,0,null,null,0]
[null,0,null,null,0,null,null,0,null,null,{"$f":"K151","v":0},null,null,0]
[null,0,null,null,0,null,null,0,null,null,0,null,null,0]
[]
[]
[null,null,{"$f":"'1-2a'!$C$165","v":0},null,null,{"$f":"'1-2a'!$F$165","v":0},null,null,{"$f":"'1-2a'!$I$165","v":0},null,null,{"$f":"'1-2a'!$L$165","v":0},null,null,{"$f":"'1-2a'!$O$165","v":0}]
[{"$f":"IF(A156=52,1,A156+1)","v":48},{"$f":"N156+3","v":"2020-11-23"},null,null,{"$f":"B166+1","v":"2020-11-24"},null,null,{"$f":"E166+1","v":"2020-11-25"},null,null,{"$f":"H166+1","v":"2020-11-26"},null,null,{"$f":"K166+1","v":"2020-11-27"}]
[null,{"$f":"B157","v":0},null,null,{"$f":"E157","v":0},null,null,{"$f":"H157","v":0},null,null,{"$f":"K157","v":0},null,null,{"$f":"N157","v":0}]
[17,0,null,null,0,null,null,0,null,null,0,null,null,0]
[null,0,null,null,0,null,null,0,null,null,0,null,null,0]
[null,0,null,null,0,null,null,0,null,null,0,null,null,0]
[null,0,null,null,0,null,null,0,null,null,0,null,null,0]
[null,0,null,null,0,null,null,0,null,null,0,null,null,0]
[]
[]
[null,null,{"$f":"'1-2a'!$C$175","v":0},null,null,{"$f":"'1-2a'!$F$175","v":0},null,null,{"$f":"'1-2a'!$I$175","v":0},null,null,{"$f":"'1-2a'!$L$175","v":0},null,null,{"$f":"'1-2a'!$O$175","v":0}]
[{"$f":"IF(A166=52,1,A166+1)","v":49},{"$f":"N166+3","v":"2020-11-30"},null,null,{"$f":"B176+1","v":"2020-12-01"},null,null,{"$f":"E176+1","v":"2020-12-02"},null,null,{"$f":"H176+1","v":"2020-12-03"},null,null,{"$f":"K176+1","v":"2020-12-04"}]
[null,{"$f":"B167","v":0},null,null,{"$f":"E167","v":0},null,null,{"$f":"H167","v":0},null,null,{"$f":"K167","v":0},null,null,{"$f":"N167","v":0}]
[18,0,null,null,0,null,null,0,null,null,0,null,null,0]
[null,0,null,null,0,null,null,0,null,null,0,null,null,0]
[null,0,null,null,0,null,null,0,null,null,0,null,null,0]
[null,0,null,null,0,null,null,0,null,null,{"$f":"K171","v":0},null,null,0]
[null,0,null,null,0,null,null,0,null,null,0,null,null,0]
[]
[]
[null,null,{"$f":"'1-2a'!$C$185","v":0},null,null,{"$f":"'1-2a'!$F$185","v":0},null,null,{"$f":"'1-2a'!$I$185","v":0},null,null,{"$f":"'1-2a'!$L$185","v":0},null,null,{"$f":"'1-2a'!$O$185","v":0}]
[{"$f":"IF(A176=52,1,A176+1)","v":50},{"$f":"N176+3","v":"2020-12-07"},null,null,{"$f":"B186+1","v":"2020-12-08"},null,null,{"$f":"E186+1","v":"2020-12-09"},null,null,{"$f":"H186+1","v":"2020-12-10"},null,null,{"$f":"K186+1","v":"2020-12-11"}]
[null,{"$f":"B177","v":0},null,null,{"$f":"E177","v":0},null,null,{"$f":"H177","v":0},null,null,{"$f":"K177","v":0},null,null,{"$f":"N177","v":0}]
[19,0,null,null,0,null,null,0,null,null,0,null,null,0]
[null,0,null,null,0,null,null,0,null,null,0,null,null,0]
[null,0,null,null,0,null,null,0,null,null,0,null,null,0]
[null,0,null,null,0,null,null,0,null,null,{"$f":"K181","v":0},null,null,0]
[null,0,null,null,0,null,null,0,null,null,0,null,null,0]
[]
[]
[null,null,{"$f":"'1-2a'!$C$195","v":0},null,null,{"$f":"'1-2a'!$F$195","v":0},null,null,{"$f":"'1-2a'!$I$195","v":0},null,null,{"$f":"'1-2a'!$L$195","v":0},null,null,{"$f":"'1-2a'!$O$195","v":0}]
[{"$f":"IF(A186=52,1,A186+1)","v":51},{"$f":"N186+3","v":"2020-12-14"},null,null,{"$f":"B196+1","v":"2020-12-15"},null,null,{"$f":"E196+1","v":"2020-12-16"},null,null,{"$f":"H196+1","v":"2020-12-17"},null,null,{"$f":"K196+1","v":"2020-12-18"}]
[null,{"$f":"B187","v":0},null,null,{"$f":"E187","v":0},null,null,{"$f":"H187","v":0},null,null,{"$f":"K187","v":0},null,null,{"$f":"N187","v":0}]
[20,0,null,null,0,null,null,0,null,null,0,null,null,0]
[null,0,null,null,0,null,null,0,null,null,0,null,null,0]
[null,0,null,null,0,null,null,0,null,null,0,null,null,0]
[null,0,null,null,0,null,null,0,null,null,{"$f":"K191","v":0},null,null,0]
[null,0,null,null,0,null,null,0,null,null,0,null,null,0]
[]
[]
[null,null,{"$f":"'1-2a'!$C$205","v":0},null,null,{"$f":"'1-2a'!$F$205","v":0},null,null,{"$f":"'1-2a'!$I$205","v":0},null,null,{"$f":"'1-2a'!$L$205","v":0},null,null,{"$f":"'1-2a'!$O$205","v":0}]
[{"$f":"IF(A196=52,1,A196+1)","v":52},{"$f":"N196+3","v":"2020-12-21"},null,null,{"$f":"B206+1","v":"2020-12-22"},null,null,{"$f":"E206+1","v":"2020-12-23"},null,null,{"$f":"H206+1","v":"2020-12-24"},null,null,{"$f":"K206+1","v":"2020-12-25"}]
[null,{"$f":"B197","v":0},null,null,{"$f":"E197","v":0},null,null,{"$f":"H197","v":0},null,null,{"$f":"K197","v":0},null,null,{"$f":"N197","v":0}]
[21,0,null,null,0,null,null,0,null,null,0,null,null,0]
[null,0,null,null,0,null,null,0,null,null,0,null,null,0]
[null,0,null,null,0,null,null,0,null,null,0,null,null,0]
[null,0,null,null,0,null,null,0,null,null,{"$f":"K201","v":0},null,null,0]
[null,0,null,null,0,null,null,0,null,null,0,null,null,0]
[]
[]
[null,null,{"$f":"'1-2a'!$C$215","v":0},null,null,{"$f":"'1-2a'!$F$215","v":0},null,null,{"$f":"'1-2a'!$I$215","v":0},null,null,{"$f":"'1-2a'!$L$215","v":0},null,null,{"$f":"'1-2a'!$O$215","v":0}]
[{"$f":"IF(A206=52,1,A206+1)","v":1},{"$f":"N206+3","v":"2020-12-28"},null,null,{"$f":"B216+1","v":"2020-12-29"},null,null,{"$f":"E216+1","v":"2020-12-30"},null,null,{"$f":"H216+1","v":"2020-12-31"},null,null,{"$f":"K216+1","v":"2021-01-01"}]
[null,{"$f":"B207","v":0},null,null,{"$f":"E207","v":0},null,null,{"$f":"H207","v":0},null,null,{"$f":"K207","v":0},null,null,{"$f":"N207","v":0}]
[22,0,null,null,0,null,null,0,null,null,0,null,null,0]
[null,0,null,null,0,null,null,0,null,null,0,null,null,0]
[null,0,null,null,0,null,null,0,null,null,0,null,null,0]
[null,0,null,null,0,null,null,0,null,null,{"$f":"K211","v":0},null,null,0]
[null,0,null,null,0,null,null,0,null,null,0,null,null,0]
[]
[]
[null,null,{"$f":"'1-2a'!$C$225","v":0},null,null,{"$f":"'1-2a'!$F$225","v":0},null,null,{"$f":"'1-2a'!$I$225","v":0},null,null,{"$f":"'1-2a'!$L$225","v":0},null,null,{"$f":"'1-2a'!$O$225","v":0}]
[{"$f":"IF(A216=52,1,A216+1)","v":2},{"$f":"N216+3","v":"2021-01-04"},null,null,{"$f":"B226+1","v":"2021-01-05"},null,null,{"$f":"E226+1","v":"2021-01-06"},null,null,{"$f":"H226+1","v":"2021-01-07"},null,null,{"$f":"K226+1","v":"2021-01-08"}]
[null,{"$f":"B217","v":0},null,null,{"$f":"E217","v":0},null,null,{"$f":"H217","v":0},null,null,{"$f":"K217","v":0},null,null,{"$f":"N217","v":0}]
[23,0,null,null,0,null,null,0,null,null,0,null,null,0]
[null,0,null,null,0,null,null,0,null,null,0,null,null,0]
[null,0,null,null,0,null,null,0,null,null,0,null,null,0]
[null,0,null,null,0,null,null,0,null,null,{"$f":"K221","v":0},null,null,0]
[null,0,null,null,0,null,null,0,null,null,0,null,null,0]
[]
[]
[null,null,{"$f":"'1-2a'!$C$235","v":0},null,null,{"$f":"'1-2a'!$F$235","v":0},null,null,{"$f":"'1-2a'!$I$235","v":0},null,null,{"$f":"'1-2a'!$L$235","v":0},null,null,{"$f":"'1-2a'!$O$235","v":0}]
[{"$f":"IF(A226=52,1,A226+1)","v":3},{"$f":"N226+3","v":"2021-01-11"},null,null,{"$f":"B236+1","v":"2021-01-12"},null,null,{"$f":"E236+1","v":"2021-01-13"},null,null,{"$f":"H236+1","v":"2021-01-14"},null,null,{"$f":"K236+1","v":"2021-01-15"}]
[null,{"$f":"B227","v":0},null,null,{"$f":"E227","v":0},null,null,{"$f":"H227","v":0},null,null,{"$f":"K227","v":0},null,null,{"$f":"N227","v":0}]
[24,0,null,null,0,null,null,0,null,null,0,null,null,0]
[null,0,null,null,0,null,null,0,null,null,0,null,null,0]
[null,0,null,null,0,null,null,0,null,null,0,null,null,0]
[null,0,null,null,0,null,null,0,null,null,{"$f":"K231","v":0},null,null,0]
[null,0,null,null,0,null,null,0,null,null,0,null,null,0]
[]
[]
[null,null,{"$f":"'1-2a'!$C$245","v":0},null,null,{"$f":"'1-2a'!$F$245","v":0},null,null,{"$f":"'1-2a'!$I$245","v":0},null,null,{"$f":"'1-2a'!$L$245","v":0},null,null,{"$f":"'1-2a'!$O$245","v":0}]
[{"$f":"IF(A236=52,1,A236+1)","v":4},{"$f":"N236+3","v":"2021-01-18"},null,null,{"$f":"B246+1","v":"2021-01-19"},null,null,{"$f":"E246+1","v":"2021-01-20"},null,null,{"$f":"H246+1","v":"2021-01-21"},null,null,{"$f":"K246+1","v":"2021-01-22"}]
[null,{"$f":"B237","v":0},null,null,{"$f":"E237","v":0},null,null,{"$f":"H237","v":0},null,null,{"$f":"K237","v":0},null,null,{"$f":"N237","v":0}]
[25,0,null,null,0,null,null,0,null,null,0,null,null,0]
[null,0,null,null,0,null,null,0,null,null,0,null,null,0]
[null,0,null,null,0,null,null,0,null,null,0,null,null,0]
[null,0,null,null,0,null,null,0,null,null,0,null,null,0]
[null,0,null,null,0,null,null,0,null,null,0,null,null,0]
[]
[]
[null,null,{"$f":"'1-2a'!$C$255","v":0},null,null,{"$f":"'1-2a'!$F$255","v":0},null,null,{"$f":"'1-2a'!$I$255","v":0},null,null,{"$f":"'1-2a'!$L$255","v":0},null,null,{"$f":"'1-2a'!$O$255","v":0}]
[{"$f":"IF(A246=52,1,A246+1)","v":5},{"$f":"N246+3","v":"2021-01-25"},null,null,{"$f":"B256+1","v":"2021-01-26"},null,null,{"$f":"E256+1","v":"2021-01-27"},null,null,{"$f":"H256+1","v":"2021-01-28"},null,null,{"$f":"K256+1","v":"2021-01-29"}]
[null,{"$f":"B247","v":0},null,null,{"$f":"E247","v":0},null,null,{"$f":"H247","v":0},null,null,{"$f":"K247","v":0},null,null,{"$f":"N247","v":0}]
[26,0,null,null,0,null,null,0,null,null,0,null,null,0]
[null,0,null,null,0,null,null,0,null,null,0,null,null,0]
[null,0,null,null,0,null,null,0,null,null,0,null,null,0]
[null,0,null,null,0,null,null,0,null,null,{"$f":"K251","v":0},null,null,0]
[null,0,null,null,0,null,null,0,null,null,0,null,null,0]
[]
[]
[null,null,{"$f":"'1-2a'!$C$265","v":0},null,null,{"$f":"'1-2a'!$F$265","v":0},null,null,{"$f":"'1-2a'!$I$265","v":0},null,null,{"$f":"'1-2a'!$L$265","v":0},null,null,{"$f":"'1-2a'!$O$265","v":0}]
[{"$f":"IF(A256=52,1,A256+1)","v":6},{"$f":"N256+3","v":"2021-02-01"},null,null,{"$f":"B266+1","v":"2021-02-02"},null,null,{"$f":"E266+1","v":"2021-02-03"},null,null,{"$f":"H266+1","v":"2021-02-04"},null,null,{"$f":"K266+1","v":"2021-02-05"}]
[null,{"$f":"B257","v":0},null,null,{"$f":"E257","v":0},null,null,{"$f":"H257","v":0},null,null,{"$f":"K257","v":0},null,null,{"$f":"N257","v":0}]
[27,0,null,null,0,null,null,0,null,null,0,null,null,0]
[null,0,null,null,0,null,null,0,null,null,0,null,null,0]
[null,0,null,null,0,null,null,0,null,null,0,null,null,0]
[null,0,null,null,0,null,null,0,null,null,{"$f":"K261","v":0},null,null,0]
[null,0,null,null,0,null,null,0,null,null,0,null,null,0]
[]
[]
[null,null,{"$f":"'1-2a'!$C$275","v":0},null,null,{"$f":"'1-2a'!$F$275","v":0},null,null,{"$f":"'1-2a'!$I$275","v":0},null,null,{"$f":"'1-2a'!$L$275","v":0},null,null,{"$f":"'1-2a'!$O$275","v":0}]
[{"$f":"IF(A266=52,1,A266+1)","v":7},{"$f":"N266+3","v":"2021-02-08"},null,null,{"$f":"B276+1","v":"2021-02-09"},null,null,{"$f":"E276+1","v":"2021-02-10"},null,null,{"$f":"H276+1","v":"2021-02-11"},null,null,{"$f":"K276+1","v":"2021-02-12"}]
[null,{"$f":"B267","v":0},null,null,{"$f":"E267","v":0},null,null,{"$f":"H267","v":0},null,null,{"$f":"K267","v":0},null,null,{"$f":"N267","v":0}]
[28,0,null,null,0,null,null,0,null,null,0,null,null,0]
[null,0,null,null,0,null,null,0,null,null,0,null,null,0]
[null,0,null,null,0,null,null,0,null,null,0,null,null,0]
[null,0,null,null,0,null,null,0,null,null,{"$f":"K271","v":0},null,null,0]
[null,0,null,null,0,null,null,0,null,null,0,null,null,0]
[]
[]
[null,null,{"$f":"'1-2a'!$C$285","v":0},null,null,{"$f":"'1-2a'!$F$285","v":0},null,null,{"$f":"'1-2a'!$I$285","v":0},null,null,{"$f":"'1-2a'!$L$285","v":0},null,null,{"$f":"'1-2a'!$O$285","v":0}]
[{"$f":"IF(A276=52,1,A276+1)","v":8},{"$f":"N276+3","v":"2021-02-15"},null,null,{"$f":"B286+1","v":"2021-02-16"},null,null,{"$f":"E286+1","v":"2021-02-17"},null,null,{"$f":"H286+1","v":"2021-02-18"},null,null,{"$f":"K286+1","v":"2021-02-19"}]
[null,{"$f":"B277","v":0},null,null,{"$f":"E277","v":0},null,null,{"$f":"H277","v":0},null,null,{"$f":"K277","v":0},null,null,{"$f":"N277","v":0}]
[29,0,null,null,0,null,null,0,null,null,0,null,null,0]
[null,0,null,null,0,null,null,0,null,null,0,null,null,0]
[null,0,null,null,0,null,null,0,null,null,0,null,null,0]
[null,0,null,null,0,null,null,0,null,null,{"$f":"K281","v":0},null,null,0]
[null,0,null,null,0,null,null,0,null,null,0,null,null,0]
[]
[]
[null,null,{"$f":"'1-2a'!$C$295","v":0},null,null,{"$f":"'1-2a'!$F$295","v":0},null,null,{"$f":"'1-2a'!$I$295","v":0},null,null,{"$f":"'1-2a'!$L$295","v":0},null,null,{"$f":"'1-2a'!$O$295","v":0}]
[{"$f":"IF(A286=52,1,A286+1)","v":9},{"$f":"N286+3","v":"2021-02-22"},null,null,{"$f":"B296+1","v":"2021-02-23"},null,null,{"$f":"E296+1","v":"2021-02-24"},null,null,{"$f":"H296+1","v":"2021-02-25"},null,null,{"$f":"K296+1","v":"2021-02-26"}]
[null,{"$f":"B287","v":0},null,null,{"$f":"E287","v":0},null,null,{"$f":"H287","v":0},null,null,{"$f":"K287","v":0},null,null,{"$f":"N287","v":0}]
[30,0,null,null,0,null,null,0,null,null,0,null,null,0]
[null,0,null,null,0,null,null,0,null,null,0,null,null,0]
[null,0,null,null,0,null,null,0,null,null,0,null,null,0]
[null,0,null,null,0,null,null,0,null,null,{"$f":"K291","v":0},null,null,0]
[null,0,null,null,0,null,null,0,null,null,0,null,null,0]
[]
[]
[null,null,{"$f":"'1-2a'!$C$305","v":0},null,null,{"$f":"'1-2a'!$F$305","v":0},null,null,{"$f":"'1-2a'!$I$305","v":0},null,null,{"$f":"'1-2a'!$L$305","v":0},null,null,{"$f":"'1-2a'!$O$305","v":0}]
[{"$f":"IF(A296=52,1,A296+1)","v":10},{"$f":"N296+3","v":"2021-03-01"},null,null,{"$f":"B306+1","v":"2021-03-02"},null,null,{"$f":"E306+1","v":"2021-03-03"},null,null,{"$f":"H306+1","v":"2021-03-04"},null,null,{"$f":"K306+1","v":"2021-03-05"}]
[null,{"$f":"B297","v":0},null,null,{"$f":"E297","v":0},null,null,{"$f":"H297","v":0},null,null,{"$f":"K297","v":0},null,null,{"$f":"N297","v":0}]
[31,0,null,null,0,null,null,0,null,null,0,null,null,0]
[null,0,null,null,0,null,null,0,null,null,0,null,null,0]
[null,0,null,null,0,null,null,0,null,null,0,null,null,0]
[null,0,null,null,0,null,null,0,null,null,{"$f":"K301","v":0},null,null,0]
[null,0,null,null,0,null,null,0,null,null,0,null,null,0]
[]
[]
[null,null,{"$f":"'1-2a'!$C$315","v":0},null,null,{"$f":"'1-2a'!$F$315","v":0},null,null,{"$f":"'1-2a'!$I$315","v":0},null,null,{"$f":"'1-2a'!$L$315","v":0},null,null,{"$f":"'1-2a'!$O$315","v":0}]
[{"$f":"IF(A306=52,1,A306+1)","v":11},{"$f":"N306+3","v":"2021-03-08"},null,null,{"$f":"B316+1","v":"2021-03-09"},null,null,{"$f":"E316+1","v":"2021-03-10"},null,null,{"$f":"H316+1","v":"2021-03-11"},null,null,{"$f":"K316+1","v":"2021-03-12"}]
[null,{"$f":"B307","v":0},null,null,{"$f":"E307","v":0},null,null,{"$f":"H307","v":0},null,null,{"$f":"K307","v":0},null,null,{"$f":"N307","v":0}]
[32,0,null,null,0,null,null,0,null,null,0,null,null,0]
[null,0,null,null,0,null,null,0,null,null,0,null,null,0]
[null,0,null,null,0,null,null,0,null,null,0,null,null,0]
[null,0,null,null,0,null,null,0,null,null,{"$f":"K311","v":0},null,null,0]
[null,0,null,null,0,null,null,0,null,null,0,null,null,0]
[]
[]
[null,null,{"$f":"'1-2a'!$C$325","v":0},null,null,{"$f":"'1-2a'!$F$325","v":0},null,null,{"$f":"'1-2a'!$I$325","v":0},null,null,{"$f":"'1-2a'!$L$325","v":0},null,null,{"$f":"'1-2a'!$O$325","v":0}]
[{"$f":"IF(A316=52,1,A316+1)","v":12},{"$f":"N316+3","v":"2021-03-15"},null,null,{"$f":"B326+1","v":"2021-03-16"},null,null,{"$f":"E326+1","v":"2021-03-17"},null,null,{"$f":"H326+1","v":"2021-03-18"},null,null,{"$f":"K326+1","v":"2021-03-19"}]
[null,{"$f":"B317","v":0},null,null,{"$f":"E317","v":0},null,null,{"$f":"H317","v":0},null,null,{"$f":"K317","v":0},null,null,{"$f":"N317","v":0}]
[33,0,null,null,0,null,null,0,null,null,0,null,null,0]
[null,0,null,null,0,null,null,0,null,null,0,null,null,0]
[null,0,null,null,0,null,null,0,null,null,0,null,null,0]
[null,0,null,null,0,null,null,0,null,null,0,null,null,0]
[null,0,null,null,0,null,null,0,null,null,0,null,null,0]
[]
[]
[null,null,{"$f":"'1-2a'!$C$335","v":0},null,null,{"$f":"'1-2a'!$F$335","v":0},null,null,{"$f":"'1-2a'!$I$335","v":0},null,null,{"$f":"'1-2a'!$L$335","v":0},null,null,{"$f":"'1-2a'!$O$335","v":0}]
[{"$f":"IF(A326=52,1,A326+1)","v":13},{"$f":"N326+3","v":"2021-03-22"},null,null,{"$f":"B336+1","v":"2021-03-23"},null,null,{"$f":"E336+1","v":"2021-03-24"},null,null,{"$f":"H336+1","v":"2021-03-25"},null,null,{"$f":"K336+1","v":"2021-03-26"}]
[null,{"$f":"B327","v":0},null,null,{"$f":"E327","v":0},null,null,{"$f":"H327","v":0},null,null,{"$f":"K327","v":0},null,null,{"$f":"N327","v":0}]
[34,0,null,null,0,null,null,0,null,null,0,null,null,0]
[null,0,null,null,0,null,null,0,null,null,0,null,null,0]
[null,0,null,null,0,null,null,0,null,null,0,null,null,0]
[null,0,null,null,0,null,null,0,null,null,{"$f":"K331","v":0},null,null,0]
[null,0,null,null,0,null,null,0,null,null,0,null,null,0]
[]
[]
[null,null,{"$f":"'1-2a'!$C$345","v":0},null,null,{"$f":"'1-2a'!$F$345","v":0},null,null,{"$f":"'1-2a'!$I$345","v":0},null,null,{"$f":"'1-2a'!$L$345","v":0},null,null,{"$f":"'1-2a'!$O$345","v":0}]
[{"$f":"IF(A336=52,1,A336+1)","v":14},{"$f":"N336+3","v":"2021-03-29"},null,null,{"$f":"B346+1","v":"2021-03-30"},null,null,{"$f":"E346+1","v":"2021-03-31"},null,null,{"$f":"H346+1","v":"2021-04-01"},null,null,{"$f":"K346+1","v":"2021-04-02"}]
[null,{"$f":"B337","v":0},null,null,{"$f":"E337","v":0},null,null,{"$f":"H337","v":0},null,null,{"$f":"K337","v":0},null,null,{"$f":"N337","v":0}]
[35,0,null,null,0,null,null,0,null,null,0,null,null,0]
[null,0,null,null,0,null,null,0,null,null,0,null,null,0]
[null,0,null,null,0,null,null,0,null,null,0,null,null,0]
[null,0,null,null,0,null,null,0,null,null,{"$f":"K341","v":0},null,null,0]
[null,0,null,null,0,null,null,0,null,null,0,null,null,0]
[]
[]
[null,null,{"$f":"'1-2a'!$C$355","v":0},null,null,{"$f":"'1-2a'!$F$355","v":0},null,null,{"$f":"'1-2a'!$I$355","v":0},null,null,{"$f":"'1-2a'!$L$355","v":0},null,null,{"$f":"'1-2a'!$O$355","v":0}]
[{"$f":"IF(A346=52,1,A346+1)","v":15},{"$f":"N346+3","v":"2021-04-05"},null,null,{"$f":"B356+1","v":"2021-04-06"},null,null,{"$f":"E356+1","v":"2021-04-07"},null,null,{"$f":"H356+1","v":"2021-04-08"},null,null,{"$f":"K356+1","v":"2021-04-09"}]
[null,{"$f":"B347","v":0},null,null,{"$f":"E347","v":0},null,null,{"$f":"H347","v":0},null,null,{"$f":"K347","v":0},null,null,{"$f":"N347","v":0}]
[36,0,null,null,0,null,null,0,null,null,0,null,null,0]
[null,0,null,null,0,null,null,0,null,null,0,null,null,0]
[null,0,null,null,0,null,null,0,null,null,0,null,null,0]
[null,0,null,null,0,null,null,0,null,null,{"$f":"K351","v":0},null,null,0]
[null,0,null,null,0,null,null,0,null,null,0,null,null,0]
[]
[]
[null,null,{"$f":"'1-2a'!$C$365","v":0},null,null,{"$f":"'1-2a'!$F$365","v":0},null,null,{"$f":"'1-2a'!$I$365","v":0},null,null,{"$f":"'1-2a'!$L$365","v":0},null,null,{"$f":"'1-2a'!$O$365","v":0}]
[{"$f":"IF(A356=52,1,A356+1)","v":16},{"$f":"N356+3","v":"2021-04-12"},null,null,{"$f":"B366+1","v":"2021-04-13"},null,null,{"$f":"E366+1","v":"2021-04-14"},null,null,{"$f":"H366+1","v":"2021-04-15"},null,null,{"$f":"K366+1","v":"2021-04-16"}]
[null,{"$f":"B357","v":0},null,null,{"$f":"E357","v":0},null,null,{"$f":"H357","v":0},null,null,{"$f":"K357","v":0},null,null,{"$f":"N357","v":0}]
[37,0,null,null,0,null,null,0,null,null,0,null,null,0]
[null,0,null,null,0,null,null,0,null,null,0,null,null,0]
[null,0,null,null,0,null,null,0,null,null,0,null,null,0]
[null,0,null,null,0,null,null,0,null,null,{"$f":"K361","v":0},null,null,0]
[null,0,null,null,0,null,null,0,null,null,0,null,null,0]
[]
[]
[null,null,{"$f":"'1-2a'!$C$375","v":0},null,null,{"$f":"'1-2a'!$F$375","v":0},null,null,{"$f":"'1-2a'!$I$375","v":0},null,null,{"$f":"'1-2a'!$L$375","v":0},null,null,{"$f":"'1-2a'!$O$375","v":0}]
[{"$f":"IF(A366=52,1,A366+1)","v":17},{"$f":"N366+3","v":"2021-04-19"},null,null,{"$f":"B376+1","v":"2021-04-20"},null,null,{"$f":"E376+1","v":"2021-04-21"},null,null,{"$f":"H376+1","v":"2021-04-22"},null,null,{"$f":"K376+1","v":"2021-04-23"}]
[null,{"$f":"B367","v":0},null,null,{"$f":"E367","v":0},null,null,{"$f":"H367","v":0},null,null,{"$f":"K367","v":0},null,null,{"$f":"N367","v":0}]
[38,0,null,null,0,null,null,0,null,null,0,null,null,0]
[null,0,null,null,0,null,null,0,null,null,0,null,null,0]
[null,0,null,null,0,null,null,0,null,null,0,null,null,0]
[null,0,null,null,0,null,null,0,null,null,{"$f":"K371","v":0},null,null,0]
[null,0,null,null,0,null,null,0,null,null,0,null,null,0]
[]
[]
[null,null,{"$f":"'1-2a'!$C$385","v":0},null,null,{"$f":"'1-2a'!$F$385","v":0},null,null,{"$f":"'1-2a'!$I$385","v":0},null,null,{"$f":"'1-2a'!$L$385","v":0},null,null,{"$f":"'1-2a'!$O$385","v":0}]
[{"$f":"IF(A376=52,1,A376+1)","v":18},{"$f":"N376+3","v":"2021-04-26"},null,null,{"$f":"B386+1","v":"2021-04-27"},null,null,{"$f":"E386+1","v":"2021-04-28"},null,null,{"$f":"H386+1","v":"2021-04-29"},null,null,{"$f":"K386+1","v":"2021-04-30"}]
[null,{"$f":"B377","v":0},null,null,{"$f":"E377","v":0},null,null,{"$f":"H377","v":0},null,null,{"$f":"K377","v":0},null,null,{"$f":"N377","v":0}]
[39,0,null,null,0,null,null,0,null,null,0,null,null,0]
[null,0,null,null,0,null,null,0,null,null,0,null,null,0]
[null,0,null,null,0,null,null,0,null,null,0,null,null,0]
[null,0,null,null,0,null,null,0,null,null,{"$f":"K381","v":0},null,null,0]
[null,0,null,null,0,null,null,0,null,null,0,null,null,0]
[]
[]
[null,null,{"$f":"'1-2a'!$C$395","v":0},null,null,{"$f":"'1-2a'!$F$395","v":0},null,null,{"$f":"'1-2a'!$I$395","v":0},null,null,{"$f":"'1-2a'!$L$395","v":0},null,null,{"$f":"'1-2a'!$O$395","v":0}]
[{"$f":"IF(A386=52,1,A386+1)","v":19},{"$f":"N386+3","v":"2021-05-03"},null,null,{"$f":"B396+1","v":"2021-05-04"},null,null,{"$f":"E396+1","v":"2021-05-05"},null,null,{"$f":"H396+1","v":"2021-05-06"},null,null,{"$f":"K396+1","v":"2021-05-07"}]
[null,{"$f":"B387","v":0},null,null,{"$f":"E387","v":0},null,null,{"$f":"H387","v":0},null,null,{"$f":"K387","v":0},null,null,{"$f":"N387","v":0}]
[40,0,null,null,0,null,null,0,null,null,0,null,null,0]
[null,0,null,null,0,null,null,0,null,null,0,null,null,0]
[null,0,null,null,0,null,null,0,null,null,0,null,null,0]
[null,0,null,null,0,null,null,0,null,null,{"$f":"K391","v":0},null,null,0]
[null,0,null,null,0,null,null,0,null,null,0,null,null,0]
[]
[]
[null,null,{"$f":"'1-2a'!$C$405","v":0},null,null,{"$f":"'1-2a'!$F$405","v":0},null,null,{"$f":"'1-2a'!$I$405","v":0},null,null,{"$f":"'1-2a'!$L$405","v":0},null,null,{"$f":"'1-2a'!$O$405","v":0}]
[{"$f":"IF(A396=52,1,A396+1)","v":20},{"$f":"N396+3","v":"2021-05-10"},null,null,{"$f":"B406+1","v":"2021-05-11"},null,null,{"$f":"E406+1","v":"2021-05-12"},null,null,{"$f":"H406+1","v":"2021-05-13"},null,null,{"$f":"K406+1","v":"2021-05-14"}]
[null,{"$f":"B397","v":0},null,null,{"$f":"E397","v":0},null,null,{"$f":"H397","v":0},null,null,{"$f":"K397","v":0},null,null,{"$f":"N397","v":0}]
[41,0,null,null,0,null,null,0,null,null,0,null,null,0]
[null,0,null,null,0,null,null,0,null,null,0,null,null,0]
[null,0,null,null,0,null,null,0,null,null,0,null,null,0]
[null,0,null,null,0,null,null,0,null,null,0,null,null,0]
[null,0,null,null,0,null,null,0,null,null,0,null,null,0]
[]
[]
[null,null,{"$f":"'1-2a'!$C$415","v":0},null,null,{"$f":"'1-2a'!$F$415","v":0},null,null,{"$f":"'1-2a'!$I$415","v":0},null,null,{"$f":"'1-2a'!$L$415","v":0},null,null,{"$f":"'1-2a'!$O$415","v":0}]
[{"$f":"IF(A406=52,1,A406+1)","v":21},{"$f":"N406+3","v":"2021-05-17"},null,null,{"$f":"B416+1","v":"2021-05-18"},null,null,{"$f":"E416+1","v":"2021-05-19"},null,null,{"$f":"H416+1","v":"2021-05-20"},null,null,{"$f":"K416+1","v":"2021-05-21"}]
[null,{"$f":"B407","v":0},null,null,{"$f":"E407","v":0},null,null,{"$f":"H407","v":0},null,null,{"$f":"K407","v":0},null,null,{"$f":"N407","v":0}]
[42,0,null,null,0,null,null,0,null,null,0,null,null,0]
[null,0,null,null,0,null,null,0,null,null,0,null,null,0]
[null,0,null,null,0,null,null,0,null,null,0,null,null,0]
[null,0,null,null,0,null,null,0,null,null,{"$f":"K411","v":0},null,null,0]
[null,0,null,null,0,null,null,0,null,null,0,null,null,0]
[]
[]
[null,null,{"$f":"'1-2a'!$C$425","v":0},null,null,{"$f":"'1-2a'!$F$425","v":0},null,null,{"$f":"'1-2a'!$I$425","v":0},null,null,{"$f":"'1-2a'!$L$425","v":0},null,null,{"$f":"'1-2a'!$O$425","v":0}]
[{"$f":"IF(A416=52,1,A416+1)","v":22},{"$f":"N416+3","v":"2021-05-24"},null,null,{"$f":"B426+1","v":"2021-05-25"},null,null,{"$f":"E426+1","v":"2021-05-26"},null,null,{"$f":"H426+1","v":"2021-05-27"},null,null,{"$f":"K426+1","v":"2021-05-28"}]
[null,{"$f":"B417","v":0},null,null,{"$f":"E417","v":0},null,null,{"$f":"H417","v":0},null,null,{"$f":"K417","v":0},null,null,{"$f":"N417","v":0}]
[43,0,null,null,0,null,null,0,null,null,0,null,null,0]
[null,0,null,null,0,null,null,0,null,null,0,null,null,0]
[null,0,null,null,0,null,null,0,null,null,0,null,null,0]
[null,0,null,null,0,null,null,0,null,null,{"$f":"K421","v":0},null,null,0]
[null,0,null,null,0,null,null,0,null,null,0,null,null,0]
[]
[]
[null,null,{"$f":"'1-2a'!$C$435","v":0},null,null,{"$f":"'1-2a'!$F$435","v":0},null,null,{"$f":"'1-2a'!$I$435","v":0},null,null,{"$f":"'1-2a'!$L$435","v":0},null,null,{"$f":"'1-2a'!$O$435","v":0}]
[{"$f":"IF(A426=52,1,A426+1)","v":23},{"$f":"N426+3","v":"2021-05-31"},null,null,{"$f":"B436+1","v":"2021-06-01"},null,null,{"$f":"E436+1","v":"2021-06-02"},null,null,{"$f":"H436+1","v":"2021-06-03"},null,null,{"$f":"K436+1","v":"2021-06-04"}]
[null,{"$f":"B427","v":0},null,null,{"$f":"E427","v":0},null,null,{"$f":"H427","v":0},null,null,{"$f":"K427","v":0},null,null,{"$f":"N427","v":0}]
[44,0,null,null,0,null,null,0,null,null,0,null,null,0]
[null,0,null,null,0,null,null,0,null,null,0,null,null,0]
[null,0,null,null,0,null,null,0,null,null,0,null,null,0]
[null,0,null,null,0,null,null,0,null,null,{"$f":"K431","v":0},null,null,0]
[null,0,null,null,0,null,null,0,null,null,0,null,null,0]
[]
[]
[null,null,{"$f":"'1-2a'!$C$445","v":0},null,null,{"$f":"'1-2a'!$F$445","v":0},null,null,{"$f":"'1-2a'!$I$445","v":0},null,null,{"$f":"'1-2a'!$L$445","v":0},null,null,{"$f":"'1-2a'!$O$445","v":0}]
[{"$f":"IF(A436=52,1,A436+1)","v":24},{"$f":"N436+3","v":"2021-06-07"},null,null,{"$f":"B446+1","v":"2021-06-08"},null,null,{"$f":"E446+1","v":"2021-06-09"},null,null,{"$f":"H446+1","v":"2021-06-10"},null,null,{"$f":"K446+1","v":"2021-06-11"}]
[null,{"$f":"B437","v":0},null,null,{"$f":"E437","v":0},null,null,{"$f":"H437","v":0},null,null,{"$f":"K437","v":0},null,null,{"$f":"N437","v":0}]
[45,0,null,null,0,null,null,0,null,null,0,null,null,0]
[null,0,null,null,0,null,null,0,null,null,0,null,null,0]
[null,0,null,null,0,null,null,0,null,null,0,null,null,0]
[null,0,null,null,0,null,null,0,null,null,{"$f":"K441","v":0},null,null,0]
[null,0,null,null,0,null,null,0,null,null,0,null,null,0]
[]
[]
[null,null,{"$f":"'1-2a'!$C$455","v":0},null,null,{"$f":"'1-2a'!$F$455","v":0},null,null,{"$f":"'1-2a'!$I$455","v":0},null,null,{"$f":"'1-2a'!$L$455","v":0},null,null,{"$f":"'1-2a'!$O$455","v":0}]
[{"$f":"IF(A446=52,1,A446+1)","v":25},{"$f":"N446+3","v":"2021-06-14"},null,null,{"$f":"B456+1","v":"2021-06-15"},null,null,{"$f":"E456+1","v":"2021-06-16"},null,null,{"$f":"H456+1","v":"2021-06-17"},null,null,{"$f":"K456+1","v":"2021-06-18"}]
[null,{"$f":"B447","v":0},null,null,{"$f":"E447","v":0},null,null,{"$f":"H447","v":0},null,null,{"$f":"K447","v":0},null,null,{"$f":"N447","v":0}]
[46,0,null,null,0,null,null,0,null,null,0,null,null,0]
[null,0,null,null,0,null,null,0,null,null,0,null,null,0]
[null,0,null,null,0,null,null,0,null,null,0,null,null,0]
[null,0,null,null,0,null,null,0,null,null,{"$f":"K451","v":0},null,null,0]
[null,0,null,null,0,null,null,0,null,null,0,null,null,0]
[]
[]
[null,null,{"$f":"'1-2a'!$C$465","v":0},null,null,{"$f":"'1-2a'!$F$465","v":0},null,null,{"$f":"'1-2a'!$I$465","v":0},null,null,{"$f":"'1-2a'!$L$465","v":0},null,null,{"$f":"'1-2a'!$O$465","v":0}]
[{"$f":"IF(A456=52,1,A456+1)","v":26},{"$f":"N456+3","v":"2021-06-21"},null,null,{"$f":"B466+1","v":"2021-06-22"},null,null,{"$f":"E466+1","v":"2021-06-23"},null,null,{"$f":"H466+1","v":"2021-06-24"},null,null,{"$f":"K466+1","v":"2021-06-25"}]
[null,{"$f":"B457","v":0},null,null,{"$f":"E457","v":0},null,null,{"$f":"H457","v":0},null,null,{"$f":"K457","v":0},null,null,{"$f":"N457","v":0}]
[47,0,null,null,0,null,null,0,null,null,0,null,null,0]
[null,0,null,null,0,null,null,0,null,null,0,null,null,0]
[null,0,null,null,0,null,null,0,null,null,0,null,null,0]
[null,0,null,null,0,null,null,0,null,null,{"$f":"K461","v":0},null,null,0]
[null,0,null,null,0,null,null,0,null,null,0,null,null,0]
[]
[]
[null,null,{"$f":"'1-2a'!$C$475","v":0},null,null,{"$f":"'1-2a'!$F$475","v":0},null,null,{"$f":"'1-2a'!$I$475","v":0},null,null,{"$f":"'1-2a'!$L$475","v":0},null,null,{"$f":"'1-2a'!$O$475","v":0}]
[{"$f":"IF(A466=52,1,A466+1)","v":27},{"$f":"N466+3","v":"2021-06-28"},null,null,{"$f":"B476+1","v":"2021-06-29"},null,null,{"$f":"E476+1","v":"2021-06-30"},null,null,{"$f":"H476+1","v":"2021-07-01"},null,null,{"$f":"K476+1","v":"2021-07-02"}]
[null,{"$f":"B467","v":0},null,null,{"$f":"E467","v":0},null,null,{"$f":"H467","v":0},null,null,{"$f":"K467","v":0},null,null,{"$f":"N467","v":0}]
[48,0,null,null,0,null,null,0,null,null,0,null,null,0]
[null,0,null,null,0,null,null,0,null,null,0,null,null,0]
[null,0,null,null,0,null,null,0,null,null,0,null,null,0]
[null,0,null,null,0,null,null,0,null,null,{"$f":"K471","v":0},null,null,0]
[null,0,null,null,0,null,null,0,null,null,0,null,null,0]
[]
[]
[null,null,{"$f":"'1-2a'!$C$485","v":0},null,null,{"$f":"'1-2a'!$F$485","v":0},null,null,{"$f":"'1-2a'!$I$485","v":0},null,null,{"$f":"'1-2a'!$L$485","v":0},null,null,{"$f":"'1-2a'!$O$485","v":0}]
[{"$f":"IF(A476=52,1,A476+1)","v":28},{"$f":"N476+3","v":"2021-07-05"},null,null,{"$f":"B486+1","v":"2021-07-06"},null,null,{"$f":"E486+1","v":"2021-07-07"},null,null,{"$f":"H486+1","v":"2021-07-08"},null,null,{"$f":"K486+1","v":"2021-07-09"}]
[null,{"$f":"B477","v":0},null,null,{"$f":"E477","v":0},null,null,{"$f":"H477","v":0},null,null,{"$f":"K477","v":0},null,null,{"$f":"N477","v":0}]
[49,0,null,null,0,null,null,0,null,null,0,null,null,0]
[null,0,null,null,0,null,null,0,null,null,0,null,null,0]
[null,0,null,null,0,null,null,0,null,null,0,null,null,0]
[null,0,null,null,0,null,null,0,null,null,0,null,null,0]
[null,0,null,null,0,null,null,0,null,null,0,null,null,0]
[]
[]
[null,null,{"$f":"'1-2a'!$C$495","v":0},null,null,{"$f":"'1-2a'!$F$495","v":0},null,null,{"$f":"'1-2a'!$I$495","v":0},null,null,{"$f":"'1-2a'!$L$495","v":0},null,null,{"$f":"'1-2a'!$O$495","v":0}]
[{"$f":"IF(A486=52,1,A486+1)","v":29},{"$f":"N486+3","v":"2021-07-12"},null,null,{"$f":"B496+1","v":"2021-07-13"},null,null,{"$f":"E496+1","v":"2021-07-14"},null,null,{"$f":"H496+1","v":"2021-07-15"},null,null,{"$f":"K496+1","v":"2021-07-16"}]
[null,{"$f":"B487","v":0},null,null,{"$f":"E487","v":0},null,null,{"$f":"H487","v":0},null,null,{"$f":"K487","v":0},null,null,{"$f":"N487","v":0}]
[50,0,null,null,0,null,null,0,null,null,0]
[null,0,null,null,0,null,null,0,null,null,0,null,null,0]
[null,0,null,null,0,null,null,0,null,null,0,null,null,0]
[null,0,null,null,0,null,null,0,null,null,{"$f":"K491","v":0},null,null,0]
[null,0,null,null,0,null,null,0,null,null,0]

{"sheet":"17","index":17,"n_rows":502,"n_cols":15,"rows_kept":502,"cut":false,"hidden":false,"merged":[[5,1,5,3],[5,4,5,6],[5,7,5,9],[5,10,5,12],[5,13,5,15],[7,0,8,0],[1,1,2,7],[1,9,2,12],[1,13,2,15],[3,1,3,3],[3,4,3,6],[3,7,3,9],[3,10,3,12],[3,13,3,15],[12,1,13,3],[12,4,13,6],[12,7,13,9],[12,10,13,12],[12,13,13,15],[15,1,15,3],[15,4,15,6],[15,7,15,9],[15,10,15,12],[15,13,15,15],[25,1,25,3],[25,4,25,6],[25,7,25,9],[25,10,25,12],[25,13,25,15],[27,0,28,0],[17,0,18,0],[22,1,23,3],[22,4,23,6],[22,7,23,9],[22,10,23,12],[22,13,23,15],[32,1,33,3],[32,4,33,6],[32,7,33,9],[32,10,33,12],[32,13,33,15],[35,1,35,3],[35,4,35,6],[35,7,35,9],[35,10,35,12],[35,13,35,15],[45,1,45,3],[45,4,45,6],[45,7,45,9],[45,10,45,12],[45,13,45,15],[47,0,48,0],[37,0,38,0],[42,1,43,3],[42,4,43,6],[42,7,43,9],[42,10,43,12],[42,13,43,15],[52,1,53,3],[52,4,53,6],[52,7,53,9],[52,10,53,12],[52,13,53,15],[55,1,55,3],[55,4,55,6],[55,7,55,9],[55,10,55,12],[55,13,55,15],[65,1,65,3],[65,4,65,6],[65,7,65,9],[65,10,65,12],[65,13,65,15],[67,0,68,0],[57,0,58,0],[62,1,63,3],[62,4,63,6],[62,7,63,9],[62,10,63,12],[62,13,63,15],[72,1,73,3],[72,4,73,6],[72,7,73,9],[72,10,73,12],[72,13,73,15],[75,1,75,3],[75,4,75,6],[75,7,75,9],[75,10,75,12],[75,13,75,15],[85,1,85,3],[85,4,85,6],[85,7,85,9],[85,10,85,12],[85,13,85,15],[87,0,88,0],[77,0,78,0],[82,1,83,3],[82,4,83,6],[82,7,83,9],[82,10,83,12],[82,13,83,15],[92,1,93,3],[92,4,93,6],[92,7,93,9],[92,10,93,12],[92,13,93,15],[95,1,95,3],[95,4,95,6],[95,7,95,9],[95,10,95,12],[95,13,95,15],[105,1,105,3],[105,4,105,6],[105,7,105,9],[105,10,105,12],[105,13,105,15],[107,0,108,0],[97,0,98,0],[99,16,100,19],[102,1,103,3],[102,4,103,6],[102,7,103,9],[102,10,103,12],[102,13,103,15],[112,1,113,3],[112,4,113,6],[112,7,113,9],[112,10,113,12],[112,13,113,15],[115,1,115,3],[115,4,115,6],[115,7,115,9],[115,10,115,12],[115,13,115,15],[125,1,125,3],[125,4,125,6],[125,7,125,9],[125,10,125,12],[125,13,125,15],[127,0,128,0],[117,0,118,0],[122,1,123,3],[122,4,123,6],[122,7,123,9],[122,10,123,12],[122,13,123,15],[132,1,133,3],[132,4,133,6],[132,7,133,9],[132,10,133,12],[132,13,133,15],[135,1,135,3],[135,4,135,6],[135,7,135,9],[135,10,135,12],[135,13,135,15],[145,1,145,3],[145,4,145,6],[145,7,145,9],[145,10,145,12],[145,13,145,15],[147,0,148,0],[137,0,138,0],[142,1,143,3],[142,4,143,6],[142,7,143,9],[142,10,143,12],[142,13,143,15],[152,1,153,3],[152,4,153,6],[152,7,153,9],[152,10,153,12],[152,13,153,15],[155,1,155,3],[155,4,155,6],[155,7,155,9],[155,10,155,12],[155,13,155,15],[165,1,165,3],[165,4,165,6],[165,7,165,9],[165,10,165,12],[165,13,165,15],[167,0,168,0],[157,0,158,0],[162,1,163,3],[162,4,163,6],[162,7,163,9],[162,10,163,12],[162,13,163,15],[172,1,173,3],[172,4,173,6],[172,7,173,9],[172,10,173,12],[172,13,173,15],[175,1,175,3],[175,4,175,6],[175,7,175,9],[175,10,175,12],[175,13,175,15],[185,1,185,3],[185,4,185,6],[185,7,185,9],[185,10,185,12],[185,13,185,15],[187,0,188,0],[177,0,178,0],[179,16,180,19],[182,1,183,3],[182,4,183,6],[182,7,183,9],[182,10,183,12],[182,13,183,15],[192,1,193,3],[192,4,193,6],[192,7,193,9],[192,10,193,12],[192,13,193,15],[195,1,195,3],[195,4,195,6],[195,7,195,9],[195,10,195,12],[195,13,195,15],[205,1,205,3],[205,4,205,6],[205,7,205,9],[205,10,205,12],[205,13,205,15],[207,0,208,0],[197,0,198,0],[202,1,203,3],[202,4,203,6],[202,7,203,9],[202,10,203,12],[202,13,203,15],[212,1,213,3],[212,4,213,6],[212,7,213,9],[212,10,213,12],[212,13,213,15],[215,1,215,3],[215,4,215,6],[215,7,215,9],[215,10,215,12],[215,13,215,15],[225,1,225,3],[225,4,225,6],[225,7,225,9],[225,10,225,12],[225,13,225,15],[227,0,228,0],[217,0,218,0],[222,1,223,3],[222,4,223,6],[222,7,223,9],[222,10,223,12],[222,13,223,15],[232,1,233,3],[232,4,233,6],[232,7,233,9],[232,10,233,12],[232,13,233,15],[235,1,235,3],[235,4,235,6],[235,7,235,9],[235,10,235,12],[235,13,235,15],[245,1,245,3],[245,4,245,6],[245,7,245,9],[245,10,245,12],[245,13,245,15],[247,0,248,0],[237,0,238,0],[242,1,243,3],[242,4,243,6],[242,7,243,9],[242,10,243,12],[242,13,243,15],[252,1,253,3],[252,4,253,6],[252,7,253,9],[252,10,253,12],[252,13,253,15],[255,1,255,3],[255,4,255,6],[255,7,255,9],[255,10,255,12],[255,13,255,15],[265,1,265,3],[265,4,265,6],[265,7,265,9],[265,10,265,12],[265,13,265,15],[267,0,268,0],[257,0,258,0],[259,16,260,19],[262,1,263,3],[262,4,263,6],[262,7,263,9],[262,10,263,12],[262,13,263,15],[272,1,273,3],[272,4,273,6],[272,7,273,9],[272,10,273,12],[272,13,273,15],[275,1,275,3],[275,4,275,6],[275,7,275,9],[275,10,275,12],[275,13,275,15],[285,1,285,3],[285,4,285,6],[285,7,285,9],[285,10,285,12],[285,13,285,15],[287,0,288,0],[277,0,278,0],[282,1,283,3],[282,4,283,6],[282,7,283,9],[282,10,283,12],[282,13,283,15],[292,1,293,3],[292,4,293,6],[292,7,293,9],[292,10,293,12],[292,13,293,15],[295,1,295,3],[295,4,295,6],[295,7,295,9],[295,10,295,12],[295,13,295,15],[305,1,305,3],[305,4,305,6],[305,7,305,9],[305,10,305,12],[305,13,305,15],[307,0,308,0],[297,0,298,0],[302,1,303,3],[302,4,303,6],[302,7,303,9],[302,10,303,12],[302,13,303,15],[312,1,313,3],[312,4,313,6],[312,7,313,9],[312,10,313,12],[312,13,313,15],[315,1,315,3],[315,4,315,6],[315,7,315,9],[315,10,315,12],[315,13,315,15],[325,1,325,3],[325,4,325,6],[325,7,325,9],[325,10,325,12],[325,13,325,15],[327,0,328,0],[317,0,318,0],[322,1,323,3],[322,4,323,6],[322,7,323,9],[322,10,323,12],[322,13,323,15],[332,1,333,3],[332,4,333,6],[332,7,333,9],[332,10,333,12],[332,13,333,15],[335,1,335,3],[335,4,335,6],[335,7,335,9],[335,10,335,12],[335,13,335,15],[345,1,345,3],[345,4,345,6],[345,7,345,9],[345,10,345,12],[345,13,345,15],[347,0,348,0],[337,0,338,0],[339,16,340,19],[342,1,343,3],[342,4,343,6],[342,7,343,9],[342,10,343,12],[342,13,343,15],[352,1,353,3],[352,4,353,6],[352,7,353,9],[352,10,353,12],[352,13,353,15],[355,1,355,3],[355,4,355,6],[355,7,355,9],[355,10,355,12],[355,13,355,15],[365,1,365,3],[365,4,365,6],[365,7,365,9],[365,10,365,12],[365,13,365,15],[367,0,368,0],[357,0,358,0],[362,1,363,3],[362,4,363,6],[362,7,363,9],[362,10,363,12],[362,13,363,15],[372,1,373,3],[372,4,373,6],[372,7,373,9],[372,10,373,12],[372,13,373,15],[375,1,375,3],[375,4,375,6],[375,7,375,9],[375,10,375,12],[375,13,375,15],[385,1,385,3],[385,4,385,6],[385,7,385,9],[385,10,385,12],[385,13,385,15],[387,0,388,0],[377,0,378,0],[382,1,383,3],[382,4,383,6],[382,7,383,9],[382,10,383,12],[382,13,383,15],[392,1,393,3],[392,4,393,6],[392,7,393,9],[392,10,393,12],[392,13,393,15],[395,1,395,3],[395,4,395,6],[395,7,395,9],[395,10,395,12],[395,13,395,15],[405,1,405,3],[405,4,405,6],[405,7,405,9],[405,10,405,12],[405,13,405,15],[407,0,408,0],[397,0,398,0],[402,1,403,3],[402,4,403,6],[402,7,403,9],[402,10,403,12],[402,13,403,15],[412,1,413,3],[412,4,413,6],[412,7,413,9],[412,10,413,12],[412,13,413,15],[415,1,415,3],[415,4,415,6],[415,7,415,9],[415,10,415,12],[415,13,415,15],[425,1,425,3],[425,4,425,6],[425,7,425,9],[425,10,425,12],[425,13,425,15],[427,0,428,0],[417,0,418,0],[419,16,420,19],[422,1,423,3],[422,4,423,6],[422,7,423,9],[422,10,423,12],[422,13,423,15],[432,1,433,3],[432,4,433,6],[432,7,433,9],[432,10,433,12],[432,13,433,15],[435,1,435,3],[435,4,435,6],[435,7,435,9],[435,10,435,12],[435,13,435,15],[445,1,445,3],[445,4,445,6],[445,7,445,9],[445,10,445,12],[445,13,445,15],[447,0,448,0],[437,0,438,0],[442,1,443,3],[442,4,443,6],[442,7,443,9],[442,10,443,12],[442,13,443,15],[452,1,453,3],[452,4,453,6],[452,7,453,9],[452,10,453,12],[452,13,453,15],[455,1,455,3],[455,4,455,6],[455,7,455,9],[455,10,455,12],[455,13,455,15],[465,1,465,3],[465,4,465,6],[465,7,465,9],[465,10,465,12],[465,13,465,15],[467,0,468,0],[457,0,458,0],[462,1,463,3],[462,4,463,6],[462,7,463,9],[462,10,463,12],[462,13,463,15],[472,1,473,3],[472,4,473,6],[472,7,473,9],[472,10,473,12],[472,13,473,15],[475,1,475,3],[475,4,475,6],[475,7,475,9],[475,10,475,12],[475,13,475,15],[485,1,485,3],[485,4,485,6],[485,7,485,9],[485,10,485,12],[485,13,485,15],[487,0,488,0],[477,0,478,0],[482,1,483,3],[482,4,483,6],[482,7,483,9],[482,10,483,12],[482,13,483,15],[497,0,498,0],[499,16,500,19],[502,1,503,3],[502,4,503,6],[502,7,503,9],[502,10,503,12],[502,13,503,15],[492,1,493,3],[492,4,493,6],[492,7,493,9],[492,10,493,12],[492,13,493,15],[495,1,495,3],[495,4,495,6],[495,7,495,9],[495,10,495,12],[495,13,495,15]]}
[]
[null,{"$f":"'1-2a'!B2:H3","v":"Basisschool De Grote Beer        schooljaar 2020/2021"},null,null,null,null,null,null,null,"Groepsplanner van groep:",null,null,null,"17"]
[]
[null,"maandag 1e schoolweek",null,null,"dinsdag",null,null,"woensdag",null,null,"donderdag",null,null,"vrijdag"]
[null,null,{"$f":"'1-2a'!C$5","v":0},null,null,{"$f":"'1-2a'!F5","v":0},null,null,{"$f":"'1-2a'!I$5","v":0},null,null,{"$f":"'1-2a'!L$5","v":"s"},null,null,{"$f":"'1-2a'!O$5","v":0}]
[{"$f":"(B6-WEEKDAY(B6-1)+4-(TRUNC(DATE(YEAR(B6-WEEKDAY(B6-1)+4),1,2)/7)*7-2))/7","v":32},{"$f":"'1-2a'!B6:D6","v":"2020-08-03"},null,null,{"$f":"B6+1","v":"2020-08-04"},null,null,{"$f":"E6+1","v":"2020-08-05"},null,null,{"$f":"H6+1","v":"2020-08-06"},null,null,{"$f":"K6+1","v":"2020-08-07"}]
[]
[1]
[]
[]
[]
[]
[]
[]
[null,null,{"$f":"'1-2a'!C$15","v":0},null,null,{"$f":"'1-2a'!F$15","v":0},null,null,{"$f":"'1-2a'!I$15","v":0},null,null,{"$f":"'1-2a'!L$15","v":0},null,null,{"$f":"'1-2a'!O15","v":0}]
[{"$f":"IF(A6=52,1,A6+1)","v":33},{"$f":"N6+3","v":"2020-08-10"},null,null,{"$f":"B16+1","v":"2020-08-11"},null,null,{"$f":"E16+1","v":"2020-08-12"},null,null,{"$f":"H16+1","v":"2020-08-13"},null,null,{"$f":"K16+1","v":"2020-08-14"}]
[null,{"$f":"B7","v":0},null,null,{"$f":"E7","v":0},null,null,{"$f":"H7","v":0},null,null,{"$f":"K7","v":0},null,null,{"$f":"N7","v":0}]
[2,0,null,null,0,null,null,0,null,null,0,null,null,0]
[null,0,null,null,0,null,null,0,null,null,0,null,null,0]
[null,0,null,null,0,null,null,0,null,null,0,null,null,0]
[null,0,null,null,0,null,null,0,null,null,0,null,null,0]
[null,0,null,null,0,null,null,0,null,null,0,null,null,0]
[]
[]
[null,null,{"$f":"'1-2a'!C$25","v":0},null,null,{"$f":"'1-2a'!F$25","v":0},null,null,{"$f":"'1-2a'!I25","v":0},null,null,{"$f":"'1-2a'!L25","v":0},null,null,{"$f":"'1-2a'!O25","v":0}]
[{"$f":"IF(A16=52,1,A16+1)","v":34},{"$f":"N16+3","v":"2020-08-17"},null,null,{"$f":"B26+1","v":"2020-08-18"},null,null,{"$f":"E26+1","v":"2020-08-19"},null,null,{"$f":"H26+1","v":"2020-08-20"},null,null,{"$f":"K26+1","v":"2020-08-21"}]
[null,{"$f":"B17","v":0},null,null,{"$f":"E17","v":0},null,null,{"$f":"H17","v":0},null,null,{"$f":"K17","v":0},null,null,{"$f":"N17","v":0}]
[3,0,null,null,0,null,null,0,null,null,0,null,null,0]
[null,0,null,null,0,null,null,0,null,null,0,null,null,0]
[null,0,null,null,0,null,null,0,null,null,0,null,null,0]
[null,0,null,null,0,null,null,0,null,null,{"$f":"K21","v":0},null,null,0]
[null,0,null,null,0,null,null,0,null,null,0,null,null,0]
[]
[]
[null,null,{"$f":"'1-2a'!$C$35","v":0},null,null,{"$f":"'1-2a'!$F$35","v":0},null,null,{"$f":"'1-2a'!$I$35","v":0},null,null,{"$f":"'1-2a'!$L$35","v":0},null,null,{"$f":"'1-2a'!$O$35","v":0}]
[{"$f":"IF(A26=52,1,A26+1)","v":35},{"$f":"N26+3","v":"2020-08-24"},null,null,{"$f":"B36+1","v":"2020-08-25"},null,null,{"$f":"E36+1","v":"2020-08-26"},null,null,{"$f":"H36+1","v":"2020-08-27"},null,null,{"$f":"K36+1","v":"2020-08-28"}]
[null,{"$f":"B27","v":0},null,null,{"$f":"E27","v":0},null,null,{"$f":"H27","v":0},null,null,{"$f":"K27","v":0},null,null,{"$f":"N27","v":0}]
[4,0,null,null,0,null,null,0,null,null,0,null,null,0]
[null,0,null,null,0,null,null,0,null,null,0,null,null,0]
[null,0,null,null,0,null,null,0,null,null,0,null,null,0]
[null,0,null,null,0,null,null,0,null,null,{"$f":"K31","v":0},null,null,0]
[null,0,null,null,0,null,null,0,null,null,0,null,null,0]
[]
[]
[null,null,{"$f":"'1-2a'!$C$45","v":0},null,null,{"$f":"'1-2a'!$F$45","v":0},null,null,{"$f":"'1-2a'!$I$45","v":0},null,null,{"$f":"'1-2a'!$L$45","v":0},null,null,{"$f":"'1-2a'!$O$45","v":0}]
[{"$f":"IF(A36=52,1,A36+1)","v":36},{"$f":"N36+3","v":"2020-08-31"},null,null,{"$f":"B46+1","v":"2020-09-01"},null,null,{"$f":"E46+1","v":"2020-09-02"},null,null,{"$f":"H46+1","v":"2020-09-03"},null,null,{"$f":"K46+1","v":"2020-09-04"}]
[null,{"$f":"B37","v":0},null,null,{"$f":"E37","v":0},null,null,{"$f":"H37","v":0},null,null,{"$f":"K37","v":0},null,null,{"$f":"N37","v":0}]
[5,0,null,null,0,null,null,0,null,null,0,null,null,0]
[null,0,null,null,0,null,null,0,null,null,0,null,null,0]
[null,0,null,null,0,null,null,0,null,null,0,null,null,0]
[null,0,null,null,0,null,null,0,null,null,{"$f":"K41","v":0},null,null,0]
[null,0,null,null,0,null,null,0,null,null,0,null,null,0]
[]
[]
[null,null,{"$f":"'1-2a'!$C$55","v":0},null,null,{"$f":"'1-2a'!$F$55","v":0},null,null,{"$f":"'1-2a'!$I$55","v":0},null,null,{"$f":"'1-2a'!$L$55","v":0},null,null,{"$f":"'1-2a'!O55","v":0}]
[{"$f":"IF(A46=52,1,A46+1)","v":37},{"$f":"N46+3","v":"2020-09-07"},null,null,{"$f":"B56+1","v":"2020-09-08"},null,null,{"$f":"E56+1","v":"2020-09-09"},null,null,{"$f":"H56+1","v":"2020-09-10"},null,null,{"$f":"K56+1","v":"2020-09-11"}]
[null,{"$f":"B47","v":0},null,null,{"$f":"E47","v":0},null,null,{"$f":"H47","v":0},null,null,{"$f":"K47","v":0},null,null,{"$f":"N47","v":0}]
[6,0,null,null,0,null,null,0,null,null,0,null,null,0]
[null,0,null,null,0,null,null,0,null,null,0,null,null,0]
[null,0,null,null,0,null,null,0,null,null,0,null,null,0]
[null,0,null,null,0,null,null,0,null,null,{"$f":"K51","v":0},null,null,0]
[null,0,null,null,0,null,null,0,null,null,0,null,null,0]
[]
[]
[null,null,{"$f":"'1-2a'!$C$65","v":0},null,null,{"$f":"'1-2a'!$F$65","v":0},null,null,{"$f":"'1-2a'!$I$65","v":0},null,null,{"$f":"'1-2a'!$L$65","v":0},null,null,{"$f":"'1-2a'!$O$65","v":0}]
[{"$f":"IF(A56=52,1,A56+1)","v":38},{"$f":"N56+3","v":"2020-09-14"},null,null,{"$f":"B66+1","v":"2020-09-15"},null,null,{"$f":"E66+1","v":"2020-09-16"},null,null,{"$f":"H66+1","v":"2020-09-17"},null,null,{"$f":"K66+1","v":"2020-09-18"}]
[null,{"$f":"B57","v":0},null,null,{"$f":"E57","v":0},null,null,{"$f":"H57","v":0},null,null,{"$f":"K57","v":0},null,null,{"$f":"N57","v":0}]
[7,0,null,null,0,null,null,0,null,null,0,null,null,0]
[null,0,null,null,0,null,null,0,null,null,0,null,null,0]
[null,0,null,null,0,null,null,0,null,null,0,null,null,0]
[null,0,null,null,0,null,null,0,null,null,{"$f":"K61","v":0},null,null,0]
[null,0,null,null,0,null,null,0,null,null,0,null,null,0]
[]
[]
[null,null,{"$f":"'1-2a'!$C$75","v":0},null,null,{"$f":"'1-2a'!$F$75","v":0},null,null,{"$f":"'1-2a'!$I$75","v":0},null,null,{"$f":"'1-2a'!$L$75","v":0},null,null,{"$f":"'1-2a'!$O$75","v":0}]
[{"$f":"IF(A66=52,1,A66+1)","v":39},{"$f":"N66+3","v":"2020-09-21"},null,null,{"$f":"B76+1","v":"2020-09-22"},null,null,{"$f":"E76+1","v":"2020-09-23"},null,null,{"$f":"H76+1","v":"2020-09-24"},null,null,{"$f":"K76+1","v":"2020-09-25"}]
[null,{"$f":"B67","v":0},null,null,{"$f":"E67","v":0},null,null,{"$f":"H67","v":0},null,null,{"$f":"K67","v":0},null,null,{"$f":"N67","v":0}]
[8,0,null,null,0,null,null,0,null,null,0,null,null,0]
[null,0,null,null,0,null,null,0,null,null,0,null,null,0]
[null,0,null,null,0,null,null,0,null,null,0,null,null,0]
[null,0,null,null,0,null,null,0,null,null,{"$f":"K71","v":0},null,null,0]
[null,0,null,null,0,null,null,0,null,null,0,null,null,0]
[]
[]
[null,null,{"$f":"'1-2a'!$C$85","v":0},null,null,{"$f":"'1-2a'!$F$85","v":0},null,null,{"$f":"'1-2a'!$I$85","v":0},null,null,{"$f":"'1-2a'!$L$85","v":0},null,null,{"$f":"'1-2a'!$O$85","v":0}]
[{"$f":"IF(A76=52,1,A76+1)","v":40},{"$f":"N76+3","v":"2020-09-28"},null,null,{"$f":"B86+1","v":"2020-09-29"},null,null,{"$f":"E86+1","v":"2020-09-30"},null,null,{"$f":"H86+1","v":"2020-10-01"},null,null,{"$f":"K86+1","v":"2020-10-02"}]
[null,{"$f":"B77","v":0},null,null,{"$f":"E77","v":0},null,null,{"$f":"H77","v":0},null,null,{"$f":"K77","v":0},null,null,{"$f":"N77","v":0}]
[9,0,null,null,0,null,null,0,null,null,0,null,null,0]
[null,0,null,null,0,null,null,0,null,null,0,null,null,0]
[null,0,null,null,0,null,null,0,null,null,0,null,null,0]
[null,0,null,null,0,null,null,0,null,null,0,null,null,0]
[null,0,null,null,0,null,null,0,null,null,0,null,null,0]
[]
[]
[null,null,{"$f":"'1-2a'!$C$95","v":0},null,null,{"$f":"'1-2a'!$F$95","v":0},null,null,{"$f":"'1-2a'!$I$95","v":0},null,null,{"$f":"'1-2a'!$L$95","v":0},null,null,{"$f":"'1-2a'!$O$95","v":0}]
[{"$f":"IF(A86=52,1,A86+1)","v":41},{"$f":"N86+3","v":"2020-10-05"},null,null,{"$f":"B96+1","v":"2020-10-06"},null,null,{"$f":"E96+1","v":"2020-10-07"},null,null,{"$f":"H96+1","v":"2020-10-08"},null,null,{"$f":"K96+1","v":"2020-10-09"}]
[null,{"$f":"B87","v":0},null,null,{"$f":"E87","v":0},null,null,{"$f":"H87","v":0},null,null,{"$f":"K87","v":0},null,null,{"$f":"N87","v":0}]
[10,0,null,null,0,null,null,0,null,null,0,null,null,0]
[null,0,null,null,0,null,null,0,null,null,0,null,null,0]
[null,0,null,null,0,null,null,0,null,null,0,null,null,0]
[null,0,null,null,0,null,null,0,null,null,{"$f":"K91","v":0},null,null,0]
[null,0,null,null,0,null,null,0,null,null,0,null,null,0]
[]
[]
[null,null,{"$f":"'1-2a'!$C$105","v":0},null,null,{"$f":"'1-2a'!$F$105","v":0},null,null,{"$f":"'1-2a'!$I$105","v":0},null,null,{"$f":"'1-2a'!$L$105","v":0},null,null,{"$f":"'1-2a'!$O$105","v":0}]
[{"$f":"IF(A96=52,1,A96+1)","v":42},{"$f":"N96+3","v":"2020-10-12"},null,null,{"$f":"B106+1","v":"2020-10-13"},null,null,{"$f":"E106+1","v":"2020-10-14"},null,null,{"$f":"H106+1","v":"2020-10-15"},null,null,{"$f":"K106+1","v":"2020-10-16"}]
[null,{"$f":"B97","v":0},null,null,{"$f":"E97","v":0},null,null,{"$f":"H97","v":0},null,null,{"$f":"K97","v":0},null,null,{"$f":"N97","v":0}]
[11,0,null,null,0,null,null,0,null,null,0,null,null,0]
[null,0,null,null,0,null,null,0,null,null,0,null,null,0]
[null,0,null,null,0,null,null,0,null,null,0,null,null,0]
[null,0,null,null,0,null,null,0,null,null,{"$f":"K101","v":0},null,null,0]
[null,0,null,null,0,null,null,0,null,null,0,null,null,0]
[]
[]
[null,null,{"$f":"'1-2a'!$C$115","v":0},null,null,{"$f":"'1-2a'!$F$115","v":0},null,null,{"$f":"'1-2a'!$I$115","v":0},null,null,{"$f":"'1-2a'!$L$115","v":0},null,null,{"$f":"'1-2a'!$O$115","v":0}]
[{"$f":"IF(A106=52,1,A106+1)","v":43},{"$f":"N106+3","v":"2020-10-19"},null,null,{"$f":"B116+1","v":"2020-10-20"},null,null,{"$f":"E116+1","v":"2020-10-21"},null,null,{"$f":"H116+1","v":"2020-10-22"},null,null,{"$f":"K116+1","v":"2020-10-23"}]
[null,{"$f":"B107","v":0},null,null,{"$f":"E107","v":0},null,null,{"$f":"H107","v":0},null,null,{"$f":"K107","v":0},null,null,{"$f":"N107","v":0}]
[12,0,null,null,0,null,null,0,null,null,0,null,null,0]
[null,0,null,null,0,null,null,0,null,null,0,null,null,0]
[null,0,null,null,0,null,null,0,null,null,0,null,null,0]
[null,0,null,null,0,null,null,0,null,null,{"$f":"K111","v":0},null,null,0]
[null,0,null,null,0,null,null,0,null,null,0,null,null,0]
[]
[]
[null,null,{"$f":"'1-2a'!$C$125","v":0},null,null,{"$f":"'1-2a'!$F$125","v":0},null,null,{"$f":"'1-2a'!$I$125","v":0},null,null,{"$f":"'1-2a'!$L$125","v":0},null,null,{"$f":"'1-2a'!$O$125","v":0}]
[{"$f":"IF(A116=52,1,A116+1)","v":44},{"$f":"N116+3","v":"2020-10-26"},null,null,{"$f":"B126+1","v":"2020-10-27"},null,null,{"$f":"E126+1","v":"2020-10-28"},null,null,{"$f":"H126+1","v":"2020-10-29"},null,null,{"$f":"K126+1","v":"2020-10-30"}]
[null,{"$f":"B117","v":0},null,null,{"$f":"E117","v":0},null,null,{"$f":"H117","v":0},null,null,{"$f":"K117","v":0},null,null,{"$f":"N117","v":0}]
[13,0,null,null,0,null,null,0,null,null,0,null,null,0]
[null,0,null,null,0,null,null,0,null,null,0,null,null,0]
[null,0,null,null,0,null,null,0,null,null,0,null,null,0]
[null,0,null,null,0,null,null,0,null,null,{"$f":"K121","v":0},null,null,0]
[null,0,null,null,0,null,null,0,null,null,0,null,null,0]
[]
[]
[null,null,{"$f":"'1-2a'!$C$135","v":0},null,null,{"$f":"'1-2a'!$F$135","v":0},null,null,{"$f":"'1-2a'!$I$135","v":0},null,null,{"$f":"'1-2a'!$L$135","v":0},null,null,{"$f":"'1-2a'!$O$135","v":0}]
[{"$f":"IF(A126=52,1,A126+1)","v":45},{"$f":"N126+3","v":"2020-11-02"},null,null,{"$f":"B136+1","v":"2020-11-03"},null,null,{"$f":"E136+1","v":"2020-11-04"},null,null,{"$f":"H136+1","v":"2020-11-05"},null,null,{"$f":"K136+1","v":"2020-11-06"}]
[null,{"$f":"B127","v":0},null,null,{"$f":"E127","v":0},null,null,{"$f":"H127","v":0},null,null,{"$f":"K127","v":0},null,null,{"$f":"N127","v":0}]
[14,0,null,null,0,null,null,0,null,null,0,null,null,0]
[null,0,null,null,0,null,null,0,null,null,0,null,null,0]
[null,0,null,null,0,null,null,0,null,null,0,null,null,0]
[null,0,null,null,0,null,null,0,null,null,{"$f":"K131","v":0},null,null,0]
[null,0,null,null,0,null,null,0,null,null,0,null,null,0]
[]
[]
[null,null,{"$f":"'1-2a'!$C$145","v":0},null,null,{"$f":"'1-2a'!$F$145","v":0},null,null,{"$f":"'1-2a'!$I$145","v":0},null,null,{"$f":"'1-2a'!$L$145","v":0},null,null,{"$f":"'1-2a'!$O$145","v":0}]
[{"$f":"IF(A136=52,1,A136+1)","v":46},{"$f":"N136+3","v":"2020-11-09"},null,null,{"$f":"B146+1","v":"2020-11-10"},null,null,{"$f":"E146+1","v":"2020-11-11"},null,null,{"$f":"H146+1","v":"2020-11-12"},null,null,{"$f":"K146+1","v":"2020-11-13"}]
[null,{"$f":"B137","v":0},null,null,{"$f":"E137","v":0},null,null,{"$f":"H137","v":0},null,null,{"$f":"K137","v":0},null,null,{"$f":"N137","v":0}]
[15,0,null,null,0,null,null,0,null,null,0,null,null,0]
[null,0,null,null,0,null,null,0,null,null,0,null,null,0]
[null,0,null,null,0,null,null,0,null,null,0,null,null,0]
[null,0,null,null,0,null,null,0,null,null,{"$f":"K141","v":0},null,null,0]
[null,0,null,null,0,null,null,0,null,null,0,null,null,0]
[]
[]
[null,null,{"$f":"'1-2a'!$C$155","v":0},null,null,{"$f":"'1-2a'!$F$155","v":0},null,null,{"$f":"'1-2a'!$I$155","v":0},null,null,{"$f":"'1-2a'!$L$155","v":0},null,null,{"$f":"'1-2a'!$O$155","v":0}]
[{"$f":"IF(A146=52,1,A146+1)","v":47},{"$f":"N146+3","v":"2020-11-16"},null,null,{"$f":"B156+1","v":"2020-11-17"},null,null,{"$f":"E156+1","v":"2020-11-18"},null,null,{"$f":"H156+1","v":"2020-11-19"},null,null,{"$f":"K156+1","v":"2020-11-20"}]
[null,{"$f":"B147","v":0},null,null,{"$f":"E147","v":0},null,null,{"$f":"H147","v":0},null,null,{"$f":"K147","v":0},null,null,{"$f":"N147","v":0}]
[16,0,null,null,0,null,null,0,null,null,0,null,null,0]
[null,0,null,null,0,null,null,0,null,null,0,null,null,0]
[null,0,null,null,0,null,null,0,null,null,0,null,null,0]
[null,0,null,null,0,null,null,0,null,null,{"$f":"K151","v":0},null,null,0]
[null,0,null,null,0,null,null,0,null,null,0,null,null,0]
[]
[]
[null,null,{"$f":"'1-2a'!$C$165","v":0},null,null,{"$f":"'1-2a'!$F$165","v":0},null,null,{"$f":"'1-2a'!$I$165","v":0},null,null,{"$f":"'1-2a'!$L$165","v":0},null,null,{"$f":"'1-2a'!$O$165","v":0}]
[{"$f":"IF(A156=52,1,A156+1)","v":48},{"$f":"N156+3","v":"2020-11-23"},null,null,{"$f":"B166+1","v":"2020-11-24"},null,null,{"$f":"E166+1","v":"2020-11-25"},null,null,{"$f":"H166+1","v":"2020-11-26"},null,null,{"$f":"K166+1","v":"2020-11-27"}]
[null,{"$f":"B157","v":0},null,null,{"$f":"E157","v":0},null,null,{"$f":"H157","v":0},null,null,{"$f":"K157","v":0},null,null,{"$f":"N157","v":0}]
[17,0,null,null,0,null,null,0,null,null,0,null,null,0]
[null,0,null,null,0,null,null,0,null,null,0,null,null,0]
[null,0,null,null,0,null,null,0,null,null,0,null,null,0]
[null,0,null,null,0,null,null,0,null,null,0,null,null,0]
[null,0,null,null,0,null,null,0,null,null,0,null,null,0]
[]
[]
[null,null,{"$f":"'1-2a'!$C$175","v":0},null,null,{"$f":"'1-2a'!$F$175","v":0},null,null,{"$f":"'1-2a'!$I$175","v":0},null,null,{"$f":"'1-2a'!$L$175","v":0},null,null,{"$f":"'1-2a'!$O$175","v":0}]
[{"$f":"IF(A166=52,1,A166+1)","v":49},{"$f":"N166+3","v":"2020-11-30"},null,null,{"$f":"B176+1","v":"2020-12-01"},null,null,{"$f":"E176+1","v":"2020-12-02"},null,null,{"$f":"H176+1","v":"2020-12-03"},null,null,{"$f":"K176+1","v":"2020-12-04"}]
[null,{"$f":"B167","v":0},null,null,{"$f":"E167","v":0},null,null,{"$f":"H167","v":0},null,null,{"$f":"K167","v":0},null,null,{"$f":"N167","v":0}]
[18,0,null,null,0,null,null,0,null,null,0,null,null,0]
[null,0,null,null,0,null,null,0,null,null,0,null,null,0]
[null,0,null,null,0,null,null,0,null,null,0,null,null,0]
[null,0,null,null,0,null,null,0,null,null,{"$f":"K171","v":0},null,null,0]
[null,0,null,null,0,null,null,0,null,null,0,null,null,0]
[]
[]
[null,null,{"$f":"'1-2a'!$C$185","v":0},null,null,{"$f":"'1-2a'!$F$185","v":0},null,null,{"$f":"'1-2a'!$I$185","v":0},null,null,{"$f":"'1-2a'!$L$185","v":0},null,null,{"$f":"'1-2a'!$O$185","v":0}]
[{"$f":"IF(A176=52,1,A176+1)","v":50},{"$f":"N176+3","v":"2020-12-07"},null,null,{"$f":"B186+1","v":"2020-12-08"},null,null,{"$f":"E186+1","v":"2020-12-09"},null,null,{"$f":"H186+1","v":"2020-12-10"},null,null,{"$f":"K186+1","v":"2020-12-11"}]
[null,{"$f":"B177","v":0},null,null,{"$f":"E177","v":0},null,null,{"$f":"H177","v":0},null,null,{"$f":"K177","v":0},null,null,{"$f":"N177","v":0}]
[19,0,null,null,0,null,null,0,null,null,0,null,null,0]
[null,0,null,null,0,null,null,0,null,null,0,null,null,0]
[null,0,null,null,0,null,null,0,null,null,0,null,null,0]
[null,0,null,null,0,null,null,0,null,null,{"$f":"K181","v":0},null,null,0]
[null,0,null,null,0,null,null,0,null,null,0,null,null,0]
[]
[]
[null,null,{"$f":"'1-2a'!$C$195","v":0},null,null,{"$f":"'1-2a'!$F$195","v":0},null,null,{"$f":"'1-2a'!$I$195","v":0},null,null,{"$f":"'1-2a'!$L$195","v":0},null,null,{"$f":"'1-2a'!$O$195","v":0}]
[{"$f":"IF(A186=52,1,A186+1)","v":51},{"$f":"N186+3","v":"2020-12-14"},null,null,{"$f":"B196+1","v":"2020-12-15"},null,null,{"$f":"E196+1","v":"2020-12-16"},null,null,{"$f":"H196+1","v":"2020-12-17"},null,null,{"$f":"K196+1","v":"2020-12-18"}]
[null,{"$f":"B187","v":0},null,null,{"$f":"E187","v":0},null,null,{"$f":"H187","v":0},null,null,{"$f":"K187","v":0},null,null,{"$f":"N187","v":0}]
[20,0,null,null,0,null,null,0,null,null,0,null,null,0]
[null,0,null,null,0,null,null,0,null,null,0,null,null,0]
[null,0,null,null,0,null,null,0,null,null,0,null,null,0]
[null,0,null,null,0,null,null,0,null,null,{"$f":"K191","v":0},null,null,0]
[null,0,null,null,0,null,null,0,null,null,0,null,null,0]
[]
[]
[null,null,{"$f":"'1-2a'!$C$205","v":0},null,null,{"$f":"'1-2a'!$F$205","v":0},null,null,{"$f":"'1-2a'!$I$205","v":0},null,null,{"$f":"'1-2a'!$L$205","v":0},null,null,{"$f":"'1-2a'!$O$205","v":0}]
[{"$f":"IF(A196=52,1,A196+1)","v":52},{"$f":"N196+3","v":"2020-12-21"},null,null,{"$f":"B206+1","v":"2020-12-22"},null,null,{"$f":"E206+1","v":"2020-12-23"},null,null,{"$f":"H206+1","v":"2020-12-24"},null,null,{"$f":"K206+1","v":"2020-12-25"}]
[null,{"$f":"B197","v":0},null,null,{"$f":"E197","v":0},null,null,{"$f":"H197","v":0},null,null,{"$f":"K197","v":0},null,null,{"$f":"N197","v":0}]
[21,0,null,null,0,null,null,0,null,null,0,null,null,0]
[null,0,null,null,0,null,null,0,null,null,0,null,null,0]
[null,0,null,null,0,null,null,0,null,null,0,null,null,0]
[null,0,null,null,0,null,null,0,null,null,{"$f":"K201","v":0},null,null,0]
[null,0,null,null,0,null,null,0,null,null,0,null,null,0]
[]
[]
[null,null,{"$f":"'1-2a'!$C$215","v":0},null,null,{"$f":"'1-2a'!$F$215","v":0},null,null,{"$f":"'1-2a'!$I$215","v":0},null,null,{"$f":"'1-2a'!$L$215","v":0},null,null,{"$f":"'1-2a'!$O$215","v":0}]
[{"$f":"IF(A206=52,1,A206+1)","v":1},{"$f":"N206+3","v":"2020-12-28"},null,null,{"$f":"B216+1","v":"2020-12-29"},null,null,{"$f":"E216+1","v":"2020-12-30"},null,null,{"$f":"H216+1","v":"2020-12-31"},null,null,{"$f":"K216+1","v":"2021-01-01"}]
[null,{"$f":"B207","v":0},null,null,{"$f":"E207","v":0},null,null,{"$f":"H207","v":0},null,null,{"$f":"K207","v":0},null,null,{"$f":"N207","v":0}]
[22,0,null,null,0,null,null,0,null,null,0,null,null,0]
[null,0,null,null,0,null,null,0,null,null,0,null,null,0]
[null,0,null,null,0,null,null,0,null,null,0,null,null,0]
[null,0,null,null,0,null,null,0,null,null,{"$f":"K211","v":0},null,null,0]
[null,0,null,null,0,null,null,0,null,null,0,null,null,0]
[]
[]
[null,null,{"$f":"'1-2a'!$C$225","v":0},null,null,{"$f":"'1-2a'!$F$225","v":0},null,null,{"$f":"'1-2a'!$I$225","v":0},null,null,{"$f":"'1-2a'!$L$225","v":0},null,null,{"$f":"'1-2a'!$O$225","v":0}]
[{"$f":"IF(A216=52,1,A216+1)","v":2},{"$f":"N216+3","v":"2021-01-04"},null,null,{"$f":"B226+1","v":"2021-01-05"},null,null,{"$f":"E226+1","v":"2021-01-06"},null,null,{"$f":"H226+1","v":"2021-01-07"},null,null,{"$f":"K226+1","v":"2021-01-08"}]
[null,{"$f":"B217","v":0},null,null,{"$f":"E217","v":0},null,null,{"$f":"H217","v":0},null,null,{"$f":"K217","v":0},null,null,{"$f":"N217","v":0}]
[23,0,null,null,0,null,null,0,null,null,0,null,null,0]
[null,0,null,null,0,null,null,0,null,null,0,null,null,0]
[null,0,null,null,0,null,null,0,null,null,0,null,null,0]
[null,0,null,null,0,null,null,0,null,null,{"$f":"K221","v":0},null,null,0]
[null,0,null,null,0,null,null,0,null,null,0,null,null,0]
[]
[]
[null,null,{"$f":"'1-2a'!$C$235","v":0},null,null,{"$f":"'1-2a'!$F$235","v":0},null,null,{"$f":"'1-2a'!$I$235","v":0},null,null,{"$f":"'1-2a'!$L$235","v":0},null,null,{"$f":"'1-2a'!$O$235","v":0}]
[{"$f":"IF(A226=52,1,A226+1)","v":3},{"$f":"N226+3","v":"2021-01-11"},null,null,{"$f":"B236+1","v":"2021-01-12"},null,null,{"$f":"E236+1","v":"2021-01-13"},null,null,{"$f":"H236+1","v":"2021-01-14"},null,null,{"$f":"K236+1","v":"2021-01-15"}]
[null,{"$f":"B227","v":0},null,null,{"$f":"E227","v":0},null,null,{"$f":"H227","v":0},null,null,{"$f":"K227","v":0},null,null,{"$f":"N227","v":0}]
[24,0,null,null,0,null,null,0,null,null,0,null,null,0]
[null,0,null,null,0,null,null,0,null,null,0,null,null,0]
[null,0,null,null,0,null,null,0,null,null,0,null,null,0]
[null,0,null,null,0,null,null,0,null,null,{"$f":"K231","v":0},null,null,0]
[null,0,null,null,0,null,null,0,null,null,0,null,null,0]
[]
[]
[null,null,{"$f":"'1-2a'!$C$245","v":0},null,null,{"$f":"'1-2a'!$F$245","v":0},null,null,{"$f":"'1-2a'!$I$245","v":0},null,null,{"$f":"'1-2a'!$L$245","v":0},null,null,{"$f":"'1-2a'!$O$245","v":0}]
[{"$f":"IF(A236=52,1,A236+1)","v":4},{"$f":"N236+3","v":"2021-01-18"},null,null,{"$f":"B246+1","v":"2021-01-19"},null,null,{"$f":"E246+1","v":"2021-01-20"},null,null,{"$f":"H246+1","v":"2021-01-21"},null,null,{"$f":"K246+1","v":"2021-01-22"}]
[null,{"$f":"B237","v":0},null,null,{"$f":"E237","v":0},null,null,{"$f":"H237","v":0},null,null,{"$f":"K237","v":0},null,null,{"$f":"N237","v":0}]
[25,0,null,null,0,null,null,0,null,null,0,null,null,0]
[null,0,null,null,0,null,null,0,null,null,0,null,null,0]
[null,0,null,null,0,null,null,0,null,null,0,null,null,0]
[null,0,null,null,0,null,null,0,null,null,0,null,null,0]
[null,0,null,null,0,null,null,0,null,null,0,null,null,0]
[]
[]
[null,null,{"$f":"'1-2a'!$C$255","v":0},null,null,{"$f":"'1-2a'!$F$255","v":0},null,null,{"$f":"'1-2a'!$I$255","v":0},null,null,{"$f":"'1-2a'!$L$255","v":0},null,null,{"$f":"'1-2a'!$O$255","v":0}]
[{"$f":"IF(A246=52,1,A246+1)","v":5},{"$f":"N246+3","v":"2021-01-25"},null,null,{"$f":"B256+1","v":"2021-01-26"},null,null,{"$f":"E256+1","v":"2021-01-27"},null,null,{"$f":"H256+1","v":"2021-01-28"},null,null,{"$f":"K256+1","v":"2021-01-29"}]
[null,{"$f":"B247","v":0},null,null,{"$f":"E247","v":0},null,null,{"$f":"H247","v":0},null,null,{"$f":"K247","v":0},null,null,{"$f":"N247","v":0}]
[26,0,null,null,0,null,null,0,null,null,0,null,null,0]
[null,0,null,null,0,null,null,0,null,null,0,null,null,0]
[null,0,null,null,0,null,null,0,null,null,0,null,null,0]
[null,0,null,null,0,null,null,0,null,null,{"$f":"K251","v":0},null,null,0]
[null,0,null,null,0,null,null,0,null,null,0,null,null,0]
[]
[]
[null,null,{"$f":"'1-2a'!$C$265","v":0},null,null,{"$f":"'1-2a'!$F$265","v":0},null,null,{"$f":"'1-2a'!$I$265","v":0},null,null,{"$f":"'1-2a'!$L$265","v":0},null,null,{"$f":"'1-2a'!$O$265","v":0}]
[{"$f":"IF(A256=52,1,A256+1)","v":6},{"$f":"N256+3","v":"2021-02-01"},null,null,{"$f":"B266+1","v":"2021-02-02"},null,null,{"$f":"E266+1","v":"2021-02-03"},null,null,{"$f":"H266+1","v":"2021-02-04"},null,null,{"$f":"K266+1","v":"2021-02-05"}]
[null,{"$f":"B257","v":0},null,null,{"$f":"E257","v":0},null,null,{"$f":"H257","v":0},null,null,{"$f":"K257","v":0},null,null,{"$f":"N257","v":0}]
[27,0,null,null,0,null,null,0,null,null,0,null,null,0]
[null,0,null,null,0,null,null,0,null,null,0,null,null,0]
[null,0,null,null,0,null,null,0,null,null,0,null,null,0]
[null,0,null,null,0,null,null,0,null,null,{"$f":"K261","v":0},null,null,0]
[null,0,null,null,0,null,null,0,null,null,0,null,null,0]
[]
[]
[null,null,{"$f":"'1-2a'!$C$275","v":0},null,null,{"$f":"'1-2a'!$F$275","v":0},null,null,{"$f":"'1-2a'!$I$275","v":0},null,null,{"$f":"'1-2a'!$L$275","v":0},null,null,{"$f":"'1-2a'!$O$275","v":0}]
[{"$f":"IF(A266=52,1,A266+1)","v":7},{"$f":"N266+3","v":"2021-02-08"},null,null,{"$f":"B276+1","v":"2021-02-09"},null,null,{"$f":"E276+1","v":"2021-02-10"},null,null,{"$f":"H276+1","v":"2021-02-11"},null,null,{"$f":"K276+1","v":"2021-02-12"}]
[null,{"$f":"B267","v":0},null,null,{"$f":"E267","v":0},null,null,{"$f":"H267","v":0},null,null,{"$f":"K267","v":0},null,null,{"$f":"N267","v":0}]
[28,0,null,null,0,null,null,0,null,null,0,null,null,0]
[null,0,null,null,0,null,null,0,null,null,0,null,null,0]
[null,0,null,null,0,null,null,0,null,null,0,null,null,0]
[null,0,null,null,0,null,null,0,null,null,{"$f":"K271","v":0},null,null,0]
[null,0,null,null,0,null,null,0,null,null,0,null,null,0]
[]
[]
[null,null,{"$f":"'1-2a'!$C$285","v":0},null,null,{"$f":"'1-2a'!$F$285","v":0},null,null,{"$f":"'1-2a'!$I$285","v":0},null,null,{"$f":"'1-2a'!$L$285","v":0},null,null,{"$f":"'1-2a'!$O$285","v":0}]
[{"$f":"IF(A276=52,1,A276+1)","v":8},{"$f":"N276+3","v":"2021-02-15"},null,null,{"$f":"B286+1","v":"2021-02-16"},null,null,{"$f":"E286+1","v":"2021-02-17"},null,null,{"$f":"H286+1","v":"2021-02-18"},null,null,{"$f":"K286+1","v":"2021-02-19"}]
[null,{"$f":"B277","v":0},null,null,{"$f":"E277","v":0},null,null,{"$f":"H277","v":0},null,null,{"$f":"K277","v":0},null,null,{"$f":"N277","v":0}]
[29,0,null,null,0,null,null,0,null,null,0,null,null,0]
[null,0,null,null,0,null,null,0,null,null,0,null,null,0]
[null,0,null,null,0,null,null,0,null,null,0,null,null,0]
[null,0,null,null,0,null,null,0,null,null,{"$f":"K281","v":0},null,null,0]
[null,0,null,null,0,null,null,0,null,null,0,null,null,0]
[]
[]
[null,null,{"$f":"'1-2a'!$C$295","v":0},null,null,{"$f":"'1-2a'!$F$295","v":0},null,null,{"$f":"'1-2a'!$I$295","v":0},null,null,{"$f":"'1-2a'!$L$295","v":0},null,null,{"$f":"'1-2a'!$O$295","v":0}]
[{"$f":"IF(A286=52,1,A286+1)","v":9},{"$f":"N286+3","v":"2021-02-22"},null,null,{"$f":"B296+1","v":"2021-02-23"},null,null,{"$f":"E296+1","v":"2021-02-24"},null,null,{"$f":"H296+1","v":"2021-02-25"},null,null,{"$f":"K296+1","v":"2021-02-26"}]
[null,{"$f":"B287","v":0},null,null,{"$f":"E287","v":0},null,null,{"$f":"H287","v":0},null,null,{"$f":"K287","v":0},null,null,{"$f":"N287","v":0}]
[30,0,null,null,0,null,null,0,null,null,0,null,null,0]
[null,0,null,null,0,null,null,0,null,null,0,null,null,0]
[null,0,null,null,0,null,null,0,null,null,0,null,null,0]
[null,0,null,null,0,null,null,0,null,null,{"$f":"K291","v":0},null,null,0]
[null,0,null,null,0,null,null,0,null,null,0,null,null,0]
[]
[]
[null,null,{"$f":"'1-2a'!$C$305","v":0},null,null,{"$f":"'1-2a'!$F$305","v":0},null,null,{"$f":"'1-2a'!$I$305","v":0},null,null,{"$f":"'1-2a'!$L$305","v":0},null,null,{"$f":"'1-2a'!$O$305","v":0}]
[{"$f":"IF(A296=52,1,A296+1)","v":10},{"$f":"N296+3","v":"2021-03-01"},null,null,{"$f":"B306+1","v":"2021-03-02"},null,null,{"$f":"E306+1","v":"2021-03-03"},null,null,{"$f":"H306+1","v":"2021-03-04"},null,null,{"$f":"K306+1","v":"2021-03-05"}]
[null,{"$f":"B297","v":0},null,null,{"$f":"E297","v":0},null,null,{"$f":"H297","v":0},null,null,{"$f":"K297","v":0},null,null,{"$f":"N297","v":0}]
[31,0,null,null,0,null,null,0,null,null,0,null,null,0]
[null,0,null,null,0,null,null,0,null,null,0,null,null,0]
[null,0,null,null,0,null,null,0,null,null,0,null,null,0]
[null,0,null,null,0,null,null,0,null,null,{"$f":"K301","v":0},null,null,0]
[null,0,null,null,0,null,null,0,null,null,0,null,null,0]
[]
[]
[null,null,{"$f":"'1-2a'!$C$315","v":0},null,null,{"$f":"'1-2a'!$F$315","v":0},null,null,{"$f":"'1-2a'!$I$315","v":0},null,null,{"$f":"'1-2a'!$L$315","v":0},null,null,{"$f":"'1-2a'!$O$315","v":0}]
[{"$f":"IF(A306=52,1,A306+1)","v":11},{"$f":"N306+3","v":"2021-03-08"},null,null,{"$f":"B316+1","v":"2021-03-09"},null,null,{"$f":"E316+1","v":"2021-03-10"},null,null,{"$f":"H316+1","v":"2021-03-11"},null,null,{"$f":"K316+1","v":"2021-03-12"}]
[null,{"$f":"B307","v":0},null,null,{"$f":"E307","v":0},null,null,{"$f":"H307","v":0},null,null,{"$f":"K307","v":0},null,null,{"$f":"N307","v":0}]
[32,0,null,null,0,null,null,0,null,null,0,null,null,0]
[null,0,null,null,0,null,null,0,null,null,0,null,null,0]
[null,0,null,null,0,null,null,0,null,null,0,null,null,0]
[null,0,null,null,0,null,null,0,null,null,{"$f":"K311","v":0},null,null,0]
[null,0,null,null,0,null,null,0,null,null,0,null,null,0]
[]
[]
[null,null,{"$f":"'1-2a'!$C$325","v":0},null,null,{"$f":"'1-2a'!$F$325","v":0},null,null,{"$f":"'1-2a'!$I$325","v":0},null,null,{"$f":"'1-2a'!$L$325","v":0},null,null,{"$f":"'1-2a'!$O$325","v":0}]
[{"$f":"IF(A316=52,1,A316+1)","v":12},{"$f":"N316+3","v":"2021-03-15"},null,null,{"$f":"B326+1","v":"2021-03-16"},null,null,{"$f":"E326+1","v":"2021-03-17"},null,null,{"$f":"H326+1","v":"2021-03-18"},null,null,{"$f":"K326+1","v":"2021-03-19"}]
[null,{"$f":"B317","v":0},null,null,{"$f":"E317","v":0},null,null,{"$f":"H317","v":0},null,null,{"$f":"K317","v":0},null,null,{"$f":"N317","v":0}]
[33,0,null,null,0,null,null,0,null,null,0,null,null,0]
[null,0,null,null,0,null,null,0,null,null,0,null,null,0]
[null,0,null,null,0,null,null,0,null,null,0,null,null,0]
[null,0,null,null,0,null,null,0,null,null,0,null,null,0]
[null,0,null,null,0,null,null,0,null,null,0,null,null,0]
[]
[]
[null,null,{"$f":"'1-2a'!$C$335","v":0},null,null,{"$f":"'1-2a'!$F$335","v":0},null,null,{"$f":"'1-2a'!$I$335","v":0},null,null,{"$f":"'1-2a'!$L$335","v":0},null,null,{"$f":"'1-2a'!$O$335","v":0}]
[{"$f":"IF(A326=52,1,A326+1)","v":13},{"$f":"N326+3","v":"2021-03-22"},null,null,{"$f":"B336+1","v":"2021-03-23"},null,null,{"$f":"E336+1","v":"2021-03-24"},null,null,{"$f":"H336+1","v":"2021-03-25"},null,null,{"$f":"K336+1","v":"2021-03-26"}]
[null,{"$f":"B327","v":0},null,null,{"$f":"E327","v":0},null,null,{"$f":"H327","v":0},null,null,{"$f":"K327","v":0},null,null,{"$f":"N327","v":0}]
[34,0,null,null,0,null,null,0,null,null,0,null,null,0]
[null,0,null,null,0,null,null,0,null,null,0,null,null,0]
[null,0,null,null,0,null,null,0,null,null,0,null,null,0]
[null,0,null,null,0,null,null,0,null,null,{"$f":"K331","v":0},null,null,0]
[null,0,null,null,0,null,null,0,null,null,0,null,null,0]
[]
[]
[null,null,{"$f":"'1-2a'!$C$345","v":0},null,null,{"$f":"'1-2a'!$F$345","v":0},null,null,{"$f":"'1-2a'!$I$345","v":0},null,null,{"$f":"'1-2a'!$L$345","v":0},null,null,{"$f":"'1-2a'!$O$345","v":0}]
[{"$f":"IF(A336=52,1,A336+1)","v":14},{"$f":"N336+3","v":"2021-03-29"},null,null,{"$f":"B346+1","v":"2021-03-30"},null,null,{"$f":"E346+1","v":"2021-03-31"},null,null,{"$f":"H346+1","v":"2021-04-01"},null,null,{"$f":"K346+1","v":"2021-04-02"}]
[null,{"$f":"B337","v":0},null,null,{"$f":"E337","v":0},null,null,{"$f":"H337","v":0},null,null,{"$f":"K337","v":0},null,null,{"$f":"N337","v":0}]
[35,0,null,null,0,null,null,0,null,null,0,null,null,0]
[null,0,null,null,0,null,null,0,null,null,0,null,null,0]
[null,0,null,null,0,null,null,0,null,null,0,null,null,0]
[null,0,null,null,0,null,null,0,null,null,{"$f":"K341","v":0},null,null,0]
[null,0,null,null,0,null,null,0,null,null,0,null,null,0]
[]
[]
[null,null,{"$f":"'1-2a'!$C$355","v":0},null,null,{"$f":"'1-2a'!$F$355","v":0},null,null,{"$f":"'1-2a'!$I$355","v":0},null,null,{"$f":"'1-2a'!$L$355","v":0},null,null,{"$f":"'1-2a'!$O$355","v":0}]
[{"$f":"IF(A346=52,1,A346+1)","v":15},{"$f":"N346+3","v":"2021-04-05"},null,null,{"$f":"B356+1","v":"2021-04-06"},null,null,{"$f":"E356+1","v":"2021-04-07"},null,null,{"$f":"H356+1","v":"2021-04-08"},null,null,{"$f":"K356+1","v":"2021-04-09"}]
[null,{"$f":"B347","v":0},null,null,{"$f":"E347","v":0},null,null,{"$f":"H347","v":0},null,null,{"$f":"K347","v":0},null,null,{"$f":"N347","v":0}]
[36,0,null,null,0,null,null,0,null,null,0,null,null,0]
[null,0,null,null,0,null,null,0,null,null,0,null,null,0]
[null,0,null,null,0,null,null,0,null,null,0,null,null,0]
[null,0,null,null,0,null,null,0,null,null,{"$f":"K351","v":0},null,null,0]
[null,0,null,null,0,null,null,0,null,null,0,null,null,0]
[]
[]
[null,null,{"$f":"'1-2a'!$C$365","v":0},null,null,{"$f":"'1-2a'!$F$365","v":0},null,null,{"$f":"'1-2a'!$I$365","v":0},null,null,{"$f":"'1-2a'!$L$365","v":0},null,null,{"$f":"'1-2a'!$O$365","v":0}]
[{"$f":"IF(A356=52,1,A356+1)","v":16},{"$f":"N356+3","v":"2021-04-12"},null,null,{"$f":"B366+1","v":"2021-04-13"},null,null,{"$f":"E366+1","v":"2021-04-14"},null,null,{"$f":"H366+1","v":"2021-04-15"},null,null,{"$f":"K366+1","v":"2021-04-16"}]
[null,{"$f":"B357","v":0},null,null,{"$f":"E357","v":0},null,null,{"$f":"H357","v":0},null,null,{"$f":"K357","v":0},null,null,{"$f":"N357","v":0}]
[37,0,null,null,0,null,null,0,null,null,0,null,null,0]
[null,0,null,null,0,null,null,0,null,null,0,null,null,0]
[null,0,null,null,0,null,null,0,null,null,0,null,null,0]
[null,0,null,null,0,null,null,0,null,null,{"$f":"K361","v":0},null,null,0]
[null,0,null,null,0,null,null,0,null,null,0,null,null,0]
[]
[]
[null,null,{"$f":"'1-2a'!$C$375","v":0},null,null,{"$f":"'1-2a'!$F$375","v":0},null,null,{"$f":"'1-2a'!$I$375","v":0},null,null,{"$f":"'1-2a'!$L$375","v":0},null,null,{"$f":"'1-2a'!$O$375","v":0}]
[{"$f":"IF(A366=52,1,A366+1)","v":17},{"$f":"N366+3","v":"2021-04-19"},null,null,{"$f":"B376+1","v":"2021-04-20"},null,null,{"$f":"E376+1","v":"2021-04-21"},null,null,{"$f":"H376+1","v":"2021-04-22"},null,null,{"$f":"K376+1","v":"2021-04-23"}]
[null,{"$f":"B367","v":0},null,null,{"$f":"E367","v":0},null,null,{"$f":"H367","v":0},null,null,{"$f":"K367","v":0},null,null,{"$f":"N367","v":0}]
[38,0,null,null,0,null,null,0,null,null,0,null,null,0]
[null,0,null,null,0,null,null,0,null,null,0,null,null,0]
[null,0,null,null,0,null,null,0,null,null,0,null,null,0]
[null,0,null,null,0,null,null,0,null,null,{"$f":"K371","v":0},null,null,0]
[null,0,null,null,0,null,null,0,null,null,0,null,null,0]
[]
[]
[null,null,{"$f":"'1-2a'!$C$385","v":0},null,null,{"$f":"'1-2a'!$F$385","v":0},null,null,{"$f":"'1-2a'!$I$385","v":0},null,null,{"$f":"'1-2a'!$L$385","v":0},null,null,{"$f":"'1-2a'!$O$385","v":0}]
[{"$f":"IF(A376=52,1,A376+1)","v":18},{"$f":"N376+3","v":"2021-04-26"},null,null,{"$f":"B386+1","v":"2021-04-27"},null,null,{"$f":"E386+1","v":"2021-04-28"},null,null,{"$f":"H386+1","v":"2021-04-29"},null,null,{"$f":"K386+1","v":"2021-04-30"}]
[null,{"$f":"B377","v":0},null,null,{"$f":"E377","v":0},null,null,{"$f":"H377","v":0},null,null,{"$f":"K377","v":0},null,null,{"$f":"N377","v":0}]
[39,0,null,null,0,null,null,0,null,null,0,null,null,0]
[null,0,null,null,0,null,null,0,null,null,0,null,null,0]
[null,0,null,null,0,null,null,0,null,null,0,null,null,0]
[null,0,null,null,0,null,null,0,null,null,{"$f":"K381","v":0},null,null,0]
[null,0,null,null,0,null,null,0,null,null,0,null,null,0]
[]
[]
[null,null,{"$f":"'1-2a'!$C$395","v":0},null,null,{"$f":"'1-2a'!$F$395","v":0},null,null,{"$f":"'1-2a'!$I$395","v":0},null,null,{"$f":"'1-2a'!$L$395","v":0},null,null,{"$f":"'1-2a'!$O$395","v":0}]
[{"$f":"IF(A386=52,1,A386+1)","v":19},{"$f":"N386+3","v":"2021-05-03"},null,null,{"$f":"B396+1","v":"2021-05-04"},null,null,{"$f":"E396+1","v":"2021-05-05"},null,null,{"$f":"H396+1","v":"2021-05-06"},null,null,{"$f":"K396+1","v":"2021-05-07"}]
[null,{"$f":"B387","v":0},null,null,{"$f":"E387","v":0},null,null,{"$f":"H387","v":0},null,null,{"$f":"K387","v":0},null,null,{"$f":"N387","v":0}]
[40,0,null,null,0,null,null,0,null,null,0,null,null,0]
[null,0,null,null,0,null,null,0,null,null,0,null,null,0]
[null,0,null,null,0,null,null,0,null,null,0,null,null,0]
[null,0,null,null,0,null,null,0,null,null,{"$f":"K391","v":0},null,null,0]
[null,0,null,null,0,null,null,0,null,null,0,null,null,0]
[]
[]
[null,null,{"$f":"'1-2a'!$C$405","v":0},null,null,{"$f":"'1-2a'!$F$405","v":0},null,null,{"$f":"'1-2a'!$I$405","v":0},null,null,{"$f":"'1-2a'!$L$405","v":0},null,null,{"$f":"'1-2a'!$O$405","v":0}]
[{"$f":"IF(A396=52,1,A396+1)","v":20},{"$f":"N396+3","v":"2021-05-10"},null,null,{"$f":"B406+1","v":"2021-05-11"},null,null,{"$f":"E406+1","v":"2021-05-12"},null,null,{"$f":"H406+1","v":"2021-05-13"},null,null,{"$f":"K406+1","v":"2021-05-14"}]
[null,{"$f":"B397","v":0},null,null,{"$f":"E397","v":0},null,null,{"$f":"H397","v":0},null,null,{"$f":"K397","v":0},null,null,{"$f":"N397","v":0}]
[41,0,null,null,0,null,null,0,null,null,0,null,null,0]
[null,0,null,null,0,null,null,0,null,null,0,null,null,0]
[null,0,null,null,0,null,null,0,null,null,0,null,null,0]
[null,0,null,null,0,null,null,0,null,null,0,null,null,0]
[null,0,null,null,0,null,null,0,null,null,0,null,null,0]
[]
[]
[null,null,{"$f":"'1-2a'!$C$415","v":0},null,null,{"$f":"'1-2a'!$F$415","v":0},null,null,{"$f":"'1-2a'!$I$415","v":0},null,null,{"$f":"'1-2a'!$L$415","v":0},null,null,{"$f":"'1-2a'!$O$415","v":0}]
[{"$f":"IF(A406=52,1,A406+1)","v":21},{"$f":"N406+3","v":"2021-05-17"},null,null,{"$f":"B416+1","v":"2021-05-18"},null,null,{"$f":"E416+1","v":"2021-05-19"},null,null,{"$f":"H416+1","v":"2021-05-20"},null,null,{"$f":"K416+1","v":"2021-05-21"}]
[null,{"$f":"B407","v":0},null,null,{"$f":"E407","v":0},null,null,{"$f":"H407","v":0},null,null,{"$f":"K407","v":0},null,null,{"$f":"N407","v":0}]
[42,0,null,null,0,null,null,0,null,null,0,null,null,0]
[null,0,null,null,0,null,null,0,null,null,0,null,null,0]
[null,0,null,null,0,null,null,0,null,null,0,null,null,0]
[null,0,null,null,0,null,null,0,null,null,{"$f":"K411","v":0},null,null,0]
[null,0,null,null,0,null,null,0,null,null,0,null,null,0]
[]
[]
[null,null,{"$f":"'1-2a'!$C$425","v":0},null,null,{"$f":"'1-2a'!$F$425","v":0},null,null,{"$f":"'1-2a'!$I$425","v":0},null,null,{"$f":"'1-2a'!$L$425","v":0},null,null,{"$f":"'1-2a'!$O$425","v":0}]
[{"$f":"IF(A416=52,1,A416+1)","v":22},{"$f":"N416+3","v":"2021-05-24"},null,null,{"$f":"B426+1","v":"2021-05-25"},null,null,{"$f":"E426+1","v":"2021-05-26"},null,null,{"$f":"H426+1","v":"2021-05-27"},null,null,{"$f":"K426+1","v":"2021-05-28"}]
[null,{"$f":"B417","v":0},null,null,{"$f":"E417","v":0},null,null,{"$f":"H417","v":0},null,null,{"$f":"K417","v":0},null,null,{"$f":"N417","v":0}]
[43,0,null,null,0,null,null,0,null,null,0,null,null,0]
[null,0,null,null,0,null,null,0,null,null,0,null,null,0]
[null,0,null,null,0,null,null,0,null,null,0,null,null,0]
[null,0,null,null,0,null,null,0,null,null,{"$f":"K421","v":0},null,null,0]
[null,0,null,null,0,null,null,0,null,null,0,null,null,0]
[]
[]
[null,null,{"$f":"'1-2a'!$C$435","v":0},null,null,{"$f":"'1-2a'!$F$435","v":0},null,null,{"$f":"'1-2a'!$I$435","v":0},null,null,{"$f":"'1-2a'!$L$435","v":0},null,null,{"$f":"'1-2a'!$O$435","v":0}]
[{"$f":"IF(A426=52,1,A426+1)","v":23},{"$f":"N426+3","v":"2021-05-31"},null,null,{"$f":"B436+1","v":"2021-06-01"},null,null,{"$f":"E436+1","v":"2021-06-02"},null,null,{"$f":"H436+1","v":"2021-06-03"},null,null,{"$f":"K436+1","v":"2021-06-04"}]
[null,{"$f":"B427","v":0},null,null,{"$f":"E427","v":0},null,null,{"$f":"H427","v":0},null,null,{"$f":"K427","v":0},null,null,{"$f":"N427","v":0}]
[44,0,null,null,0,null,null,0,null,null,0,null,null,0]
[null,0,null,null,0,null,null,0,null,null,0,null,null,0]
[null,0,null,null,0,null,null,0,null,null,0,null,null,0]
[null,0,null,null,0,null,null,0,null,null,{"$f":"K431","v":0},null,null,0]
[null,0,null,null,0,null,null,0,null,null,0,null,null,0]
[]
[]
[null,null,{"$f":"'1-2a'!$C$445","v":0},null,null,{"$f":"'1-2a'!$F$445","v":0},null,null,{"$f":"'1-2a'!$I$445","v":0},null,null,{"$f":"'1-2a'!$L$445","v":0},null,null,{"$f":"'1-2a'!$O$445","v":0}]
[{"$f":"IF(A436=52,1,A436+1)","v":24},{"$f":"N436+3","v":"2021-06-07"},null,null,{"$f":"B446+1","v":"2021-06-08"},null,null,{"$f":"E446+1","v":"2021-06-09"},null,null,{"$f":"H446+1","v":"2021-06-10"},null,null,{"$f":"K446+1","v":"2021-06-11"}]
[null,{"$f":"B437","v":0},null,null,{"$f":"E437","v":0},null,null,{"$f":"H437","v":0},null,null,{"$f":"K437","v":0},null,null,{"$f":"N437","v":0}]
[45,0,null,null,0,null,null,0,null,null,0,null,null,0]
[null,0,null,null,0,null,null,0,null,null,0,null,null,0]
[null,0,null,null,0,null,null,0,null,null,0,null,null,0]
[null,0,null,null,0,null,null,0,null,null,{"$f":"K441","v":0},null,null,0]
[null,0,null,null,0,null,null,0,null,null,0,null,null,0]
[]
[]
[null,null,{"$f":"'1-2a'!$C$455","v":0},null,null,{"$f":"'1-2a'!$F$455","v":0},null,null,{"$f":"'1-2a'!$I$455","v":0},null,null,{"$f":"'1-2a'!$L$455","v":0},null,null,{"$f":"'1-2a'!$O$455","v":0}]
[{"$f":"IF(A446=52,1,A446+1)","v":25},{"$f":"N446+3","v":"2021-06-14"},null,null,{"$f":"B456+1","v":"2021-06-15"},null,null,{"$f":"E456+1","v":"2021-06-16"},null,null,{"$f":"H456+1","v":"2021-06-17"},null,null,{"$f":"K456+1","v":"2021-06-18"}]
[null,{"$f":"B447","v":0},null,null,{"$f":"E447","v":0},null,null,{"$f":"H447","v":0},null,null,{"$f":"K447","v":0},null,null,{"$f":"N447","v":0}]
[46,0,null,null,0,null,null,0,null,null,0,null,null,0]
[null,0,null,null,0,null,null,0,null,null,0,null,null,0]
[null,0,null,null,0,null,null,0,null,null,0,null,null,0]
[null,0,null,null,0,null,null,0,null,null,{"$f":"K451","v":0},null,null,0]
[null,0,null,null,0,null,null,0,null,null,0,null,null,0]
[]
[]
[null,null,{"$f":"'1-2a'!$C$465","v":0},null,null,{"$f":"'1-2a'!$F$465","v":0},null,null,{"$f":"'1-2a'!$I$465","v":0},null,null,{"$f":"'1-2a'!$L$465","v":0},null,null,{"$f":"'1-2a'!$O$465","v":0}]
[{"$f":"IF(A456=52,1,A456+1)","v":26},{"$f":"N456+3","v":"2021-06-21"},null,null,{"$f":"B466+1","v":"2021-06-22"},null,null,{"$f":"E466+1","v":"2021-06-23"},null,null,{"$f":"H466+1","v":"2021-06-24"},null,null,{"$f":"K466+1","v":"2021-06-25"}]
[null,{"$f":"B457","v":0},null,null,{"$f":"E457","v":0},null,null,{"$f":"H457","v":0},null,null,{"$f":"K457","v":0},null,null,{"$f":"N457","v":0}]
[47,0,null,null,0,null,null,0,null,null,0,null,null,0]
[null,0,null,null,0,null,null,0,null,null,0,null,null,0]
[null,0,null,null,0,null,null,0,null,null,0,null,null,0]
[null,0,null,null,0,null,null,0,null,null,{"$f":"K461","v":0},null,null,0]
[null,0,null,null,0,null,null,0,null,null,0,null,null,0]
[]
[]
[null,null,{"$f":"'1-2a'!$C$475","v":0},null,null,{"$f":"'1-2a'!$F$475","v":0},null,null,{"$f":"'1-2a'!$I$475","v":0},null,null,{"$f":"'1-2a'!$L$475","v":0},null,null,{"$f":"'1-2a'!$O$475","v":0}]
[{"$f":"IF(A466=52,1,A466+1)","v":27},{"$f":"N466+3","v":"2021-06-28"},null,null,{"$f":"B476+1","v":"2021-06-29"},null,null,{"$f":"E476+1","v":"2021-06-30"},null,null,{"$f":"H476+1","v":"2021-07-01"},null,null,{"$f":"K476+1","v":"2021-07-02"}]
[null,{"$f":"B467","v":0},null,null,{"$f":"E467","v":0},null,null,{"$f":"H467","v":0},null,null,{"$f":"K467","v":0},null,null,{"$f":"N467","v":0}]
[48,0,null,null,0,null,null,0,null,null,0,null,null,0]
[null,0,null,null,0,null,null,0,null,null,0,null,null,0]
[null,0,null,null,0,null,null,0,null,null,0,null,null,0]
[null,0,null,null,0,null,null,0,null,null,{"$f":"K471","v":0},null,null,0]
[null,0,null,null,0,null,null,0,null,null,0,null,null,0]
[]
[]
[null,null,{"$f":"'1-2a'!$C$485","v":0},null,null,{"$f":"'1-2a'!$F$485","v":0},null,null,{"$f":"'1-2a'!$I$485","v":0},null,null,{"$f":"'1-2a'!$L$485","v":0},null,null,{"$f":"'1-2a'!$O$485","v":0}]
[{"$f":"IF(A476=52,1,A476+1)","v":28},{"$f":"N476+3","v":"2021-07-05"},null,null,{"$f":"B486+1","v":"2021-07-06"},null,null,{"$f":"E486+1","v":"2021-07-07"},null,null,{"$f":"H486+1","v":"2021-07-08"},null,null,{"$f":"K486+1","v":"2021-07-09"}]
[null,{"$f":"B477","v":0},null,null,{"$f":"E477","v":0},null,null,{"$f":"H477","v":0},null,null,{"$f":"K477","v":0},null,null,{"$f":"N477","v":0}]
[49,0,null,null,0,null,null,0,null,null,0,null,null,0]
[null,0,null,null,0,null,null,0,null,null,0,null,null,0]
[null,0,null,null,0,null,null,0,null,null,0,null,null,0]
[null,0,null,null,0,null,null,0,null,null,0,null,null,0]
[null,0,null,null,0,null,null,0,null,null,0,null,null,0]
[]
[]
[null,null,{"$f":"'1-2a'!$C$495","v":0},null,null,{"$f":"'1-2a'!$F$495","v":0},null,null,{"$f":"'1-2a'!$I$495","v":0},null,null,{"$f":"'1-2a'!$L$495","v":0},null,null,{"$f":"'1-2a'!$O$495","v":0}]
[{"$f":"IF(A486=52,1,A486+1)","v":29},{"$f":"N486+3","v":"2021-07-12"},null,null,{"$f":"B496+1","v":"2021-07-13"},null,null,{"$f":"E496+1","v":"2021-07-14"},null,null,{"$f":"H496+1","v":"2021-07-15"},null,null,{"$f":"K496+1","v":"2021-07-16"}]
[null,{"$f":"B487","v":0},null,null,{"$f":"E487","v":0},null,null,{"$f":"H487","v":0},null,null,{"$f":"K487","v":0},null,null,{"$f":"N487","v":0}]
[50,0,null,null,0,null,null,0,null,null,0]
[null,0,null,null,0,null,null,0,null,null,0,null,null,0]
[null,0,null,null,0,null,null,0,null,null,0,null,null,0]
[null,0,null,null,0,null,null,0,null,null,{"$f":"K491","v":0},null,null,0]
[null,0,null,null,0,null,null,0,null,null,0]

{"sheet":"18","index":18,"n_rows":502,"n_cols":15,"rows_kept":502,"cut":false,"hidden":false,"merged":[[5,1,5,3],[5,4,5,6],[5,7,5,9],[5,10,5,12],[5,13,5,15],[7,0,8,0],[1,1,2,7],[1,9,2,12],[1,13,2,15],[3,1,3,3],[3,4,3,6],[3,7,3,9],[3,10,3,12],[3,13,3,15],[12,1,13,3],[12,4,13,6],[12,7,13,9],[12,10,13,12],[12,13,13,15],[15,1,15,3],[15,4,15,6],[15,7,15,9],[15,10,15,12],[15,13,15,15],[25,1,25,3],[25,4,25,6],[25,7,25,9],[25,10,25,12],[25,13,25,15],[27,0,28,0],[17,0,18,0],[22,1,23,3],[22,4,23,6],[22,7,23,9],[22,10,23,12],[22,13,23,15],[32,1,33,3],[32,4,33,6],[32,7,33,9],[32,10,33,12],[32,13,33,15],[35,1,35,3],[35,4,35,6],[35,7,35,9],[35,10,35,12],[35,13,35,15],[45,1,45,3],[45,4,45,6],[45,7,45,9],[45,10,45,12],[45,13,45,15],[47,0,48,0],[37,0,38,0],[42,1,43,3],[42,4,43,6],[42,7,43,9],[42,10,43,12],[42,13,43,15],[52,1,53,3],[52,4,53,6],[52,7,53,9],[52,10,53,12],[52,13,53,15],[55,1,55,3],[55,4,55,6],[55,7,55,9],[55,10,55,12],[55,13,55,15],[65,1,65,3],[65,4,65,6],[65,7,65,9],[65,10,65,12],[65,13,65,15],[67,0,68,0],[57,0,58,0],[62,1,63,3],[62,4,63,6],[62,7,63,9],[62,10,63,12],[62,13,63,15],[72,1,73,3],[72,4,73,6],[72,7,73,9],[72,10,73,12],[72,13,73,15],[75,1,75,3],[75,4,75,6],[75,7,75,9],[75,10,75,12],[75,13,75,15],[85,1,85,3],[85,4,85,6],[85,7,85,9],[85,10,85,12],[85,13,85,15],[87,0,88,0],[77,0,78,0],[82,1,83,3],[82,4,83,6],[82,7,83,9],[82,10,83,12],[82,13,83,15],[92,1,93,3],[92,4,93,6],[92,7,93,9],[92,10,93,12],[92,13,93,15],[95,1,95,3],[95,4,95,6],[95,7,95,9],[95,10,95,12],[95,13,95,15],[105,1,105,3],[105,4,105,6],[105,7,105,9],[105,10,105,12],[105,13,105,15],[107,0,108,0],[97,0,98,0],[99,16,100,19],[102,1,103,3],[102,4,103,6],[102,7,103,9],[102,10,103,12],[102,13,103,15],[112,1,113,3],[112,4,113,6],[112,7,113,9],[112,10,113,12],[112,13,113,15],[115,1,115,3],[115,4,115,6],[115,7,115,9],[115,10,115,12],[115,13,115,15],[125,1,125,3],[125,4,125,6],[125,7,125,9],[125,10,125,12],[125,13,125,15],[127,0,128,0],[117,0,118,0],[122,1,123,3],[122,4,123,6],[122,7,123,9],[122,10,123,12],[122,13,123,15],[132,1,133,3],[132,4,133,6],[132,7,133,9],[132,10,133,12],[132,13,133,15],[135,1,135,3],[135,4,135,6],[135,7,135,9],[135,10,135,12],[135,13,135,15],[145,1,145,3],[145,4,145,6],[145,7,145,9],[145,10,145,12],[145,13,145,15],[147,0,148,0],[137,0,138,0],[142,1,143,3],[142,4,143,6],[142,7,143,9],[142,10,143,12],[142,13,143,15],[152,1,153,3],[152,4,153,6],[152,7,153,9],[152,10,153,12],[152,13,153,15],[155,1,155,3],[155,4,155,6],[155,7,155,9],[155,10,155,12],[155,13,155,15],[165,1,165,3],[165,4,165,6],[165,7,165,9],[165,10,165,12],[165,13,165,15],[167,0,168,0],[157,0,158,0],[162,1,163,3],[162,4,163,6],[162,7,163,9],[162,10,163,12],[162,13,163,15],[172,1,173,3],[172,4,173,6],[172,7,173,9],[172,10,173,12],[172,13,173,15],[175,1,175,3],[175,4,175,6],[175,7,175,9],[175,10,175,12],[175,13,175,15],[185,1,185,3],[185,4,185,6],[185,7,185,9],[185,10,185,12],[185,13,185,15],[187,0,188,0],[177,0,178,0],[179,16,180,19],[182,1,183,3],[182,4,183,6],[182,7,183,9],[182,10,183,12],[182,13,183,15],[192,1,193,3],[192,4,193,6],[192,7,193,9],[192,10,193,12],[192,13,193,15],[195,1,195,3],[195,4,195,6],[195,7,195,9],[195,10,195,12],[195,13,195,15],[205,1,205,3],[205,4,205,6],[205,7,205,9],[205,10,205,12],[205,13,205,15],[207,0,208,0],[197,0,198,0],[202,1,203,3],[202,4,203,6],[202,7,203,9],[202,10,203,12],[202,13,203,15],[212,1,213,3],[212,4,213,6],[212,7,213,9],[212,10,213,12],[212,13,213,15],[215,1,215,3],[215,4,215,6],[215,7,215,9],[215,10,215,12],[215,13,215,15],[225,1,225,3],[225,4,225,6],[225,7,225,9],[225,10,225,12],[225,13,225,15],[227,0,228,0],[217,0,218,0],[222,1,223,3],[222,4,223,6],[222,7,223,9],[222,10,223,12],[222,13,223,15],[232,1,233,3],[232,4,233,6],[232,7,233,9],[232,10,233,12],[232,13,233,15],[235,1,235,3],[235,4,235,6],[235,7,235,9],[235,10,235,12],[235,13,235,15],[245,1,245,3],[245,4,245,6],[245,7,245,9],[245,10,245,12],[245,13,245,15],[247,0,248,0],[237,0,238,0],[242,1,243,3],[242,4,243,6],[242,7,243,9],[242,10,243,12],[242,13,243,15],[252,1,253,3],[252,4,253,6],[252,7,253,9],[252,10,253,12],[252,13,253,15],[255,1,255,3],[255,4,255,6],[255,7,255,9],[255,10,255,12],[255,13,255,15],[265,1,265,3],[265,4,265,6],[265,7,265,9],[265,10,265,12],[265,13,265,15],[267,0,268,0],[257,0,258,0],[259,16,260,19],[262,1,263,3],[262,4,263,6],[262,7,263,9],[262,10,263,12],[262,13,263,15],[272,1,273,3],[272,4,273,6],[272,7,273,9],[272,10,273,12],[272,13,273,15],[275,1,275,3],[275,4,275,6],[275,7,275,9],[275,10,275,12],[275,13,275,15],[285,1,285,3],[285,4,285,6],[285,7,285,9],[285,10,285,12],[285,13,285,15],[287,0,288,0],[277,0,278,0],[282,1,283,3],[282,4,283,6],[282,7,283,9],[282,10,283,12],[282,13,283,15],[292,1,293,3],[292,4,293,6],[292,7,293,9],[292,10,293,12],[292,13,293,15],[295,1,295,3],[295,4,295,6],[295,7,295,9],[295,10,295,12],[295,13,295,15],[305,1,305,3],[305,4,305,6],[305,7,305,9],[305,10,305,12],[305,13,305,15],[307,0,308,0],[297,0,298,0],[302,1,303,3],[302,4,303,6],[302,7,303,9],[302,10,303,12],[302,13,303,15],[312,1,313,3],[312,4,313,6],[312,7,313,9],[312,10,313,12],[312,13,313,15],[315,1,315,3],[315,4,315,6],[315,7,315,9],[315,10,315,12],[315,13,315,15],[325,1,325,3],[325,4,325,6],[325,7,325,9],[325,10,325,12],[325,13,325,15],[327,0,328,0],[317,0,318,0],[322,1,323,3],[322,4,323,6],[322,7,323,9],[322,10,323,12],[322,13,323,15],[332,1,333,3],[332,4,333,6],[332,7,333,9],[332,10,333,12],[332,13,333,15],[335,1,335,3],[335,4,335,6],[335,7,335,9],[335,10,335,12],[335,13,335,15],[345,1,345,3],[345,4,345,6],[345,7,345,9],[345,10,345,12],[345,13,345,15],[347,0,348,0],[337,0,338,0],[339,16,340,19],[342,1,343,3],[342,4,343,6],[342,7,343,9],[342,10,343,12],[342,13,343,15],[352,1,353,3],[352,4,353,6],[352,7,353,9],[352,10,353,12],[352,13,353,15],[355,1,355,3],[355,4,355,6],[355,7,355,9],[355,10,355,12],[355,13,355,15],[365,1,365,3],[365,4,365,6],[365,7,365,9],[365,10,365,12],[365,13,365,15],[367,0,368,0],[357,0,358,0],[362,1,363,3],[362,4,363,6],[362,7,363,9],[362,10,363,12],[362,13,363,15],[372,1,373,3],[372,4,373,6],[372,7,373,9],[372,10,373,12],[372,13,373,15],[375,1,375,3],[375,4,375,6],[375,7,375,9],[375,10,375,12],[375,13,375,15],[385,1,385,3],[385,4,385,6],[385,7,385,9],[385,10,385,12],[385,13,385,15],[387,0,388,0],[377,0,378,0],[382,1,383,3],[382,4,383,6],[382,7,383,9],[382,10,383,12],[382,13,383,15],[392,1,393,3],[392,4,393,6],[392,7,393,9],[392,10,393,12],[392,13,393,15],[395,1,395,3],[395,4,395,6],[395,7,395,9],[395,10,395,12],[395,13,395,15],[405,1,405,3],[405,4,405,6],[405,7,405,9],[405,10,405,12],[405,13,405,15],[407,0,408,0],[397,0,398,0],[402,1,403,3],[402,4,403,6],[402,7,403,9],[402,10,403,12],[402,13,403,15],[412,1,413,3],[412,4,413,6],[412,7,413,9],[412,10,413,12],[412,13,413,15],[415,1,415,3],[415,4,415,6],[415,7,415,9],[415,10,415,12],[415,13,415,15],[425,1,425,3],[425,4,425,6],[425,7,425,9],[425,10,425,12],[425,13,425,15],[427,0,428,0],[417,0,418,0],[419,16,420,19],[422,1,423,3],[422,4,423,6],[422,7,423,9],[422,10,423,12],[422,13,423,15],[432,1,433,3],[432,4,433,6],[432,7,433,9],[432,10,433,12],[432,13,433,15],[435,1,435,3],[435,4,435,6],[435,7,435,9],[435,10,435,12],[435,13,435,15],[445,1,445,3],[445,4,445,6],[445,7,445,9],[445,10,445,12],[445,13,445,15],[447,0,448,0],[437,0,438,0],[442,1,443,3],[442,4,443,6],[442,7,443,9],[442,10,443,12],[442,13,443,15],[452,1,453,3],[452,4,453,6],[452,7,453,9],[452,10,453,12],[452,13,453,15],[455,1,455,3],[455,4,455,6],[455,7,455,9],[455,10,455,12],[455,13,455,15],[465,1,465,3],[465,4,465,6],[465,7,465,9],[465,10,465,12],[465,13,465,15],[467,0,468,0],[457,0,458,0],[462,1,463,3],[462,4,463,6],[462,7,463,9],[462,10,463,12],[462,13,463,15],[472,1,473,3],[472,4,473,6],[472,7,473,9],[472,10,473,12],[472,13,473,15],[475,1,475,3],[475,4,475,6],[475,7,475,9],[475,10,475,12],[475,13,475,15],[485,1,485,3],[485,4,485,6],[485,7,485,9],[485,10,485,12],[485,13,485,15],[487,0,488,0],[477,0,478,0],[482,1,483,3],[482,4,483,6],[482,7,483,9],[482,10,483,12],[482,13,483,15],[497,0,498,0],[499,16,500,19],[502,1,503,3],[502,4,503,6],[502,7,503,9],[502,10,503,12],[502,13,503,15],[492,1,493,3],[492,4,493,6],[492,7,493,9],[492,10,493,12],[492,13,493,15],[495,1,495,3],[495,4,495,6],[495,7,495,9],[495,10,495,12],[495,13,495,15]]}
[]
[null,{"$f":"'1-2a'!B2:H3","v":"Basisschool De Grote Beer        schooljaar 2020/2021"},null,null,null,null,null,null,null,"Groepsplanner van groep:",null,null,null,"18"]
[]
[null,"maandag 1e schoolweek",null,null,"dinsdag",null,null,"woensdag",null,null,"donderdag",null,null,"vrijdag"]
[null,null,{"$f":"'1-2a'!C$5","v":0},null,null,{"$f":"'1-2a'!F5","v":0},null,null,{"$f":"'1-2a'!I$5","v":0},null,null,{"$f":"'1-2a'!L$5","v":"s"},null,null,{"$f":"'1-2a'!O$5","v":0}]
[{"$f":"(B6-WEEKDAY(B6-1)+4-(TRUNC(DATE(YEAR(B6-WEEKDAY(B6-1)+4),1,2)/7)*7-2))/7","v":32},{"$f":"'1-2a'!B6:D6","v":"2020-08-03"},null,null,{"$f":"B6+1","v":"2020-08-04"},null,null,{"$f":"E6+1","v":"2020-08-05"},null,null,{"$f":"H6+1","v":"2020-08-06"},null,null,{"$f":"K6+1","v":"2020-08-07"}]
[]
[1]
[]
[]
[]
[]
[]
[]
[null,null,{"$f":"'1-2a'!C$15","v":0},null,null,{"$f":"'1-2a'!F$15","v":0},null,null,{"$f":"'1-2a'!I$15","v":0},null,null,{"$f":"'1-2a'!L$15","v":0},null,null,{"$f":"'1-2a'!O15","v":0}]
[{"$f":"IF(A6=52,1,A6+1)","v":33},{"$f":"N6+3","v":"2020-08-10"},null,null,{"$f":"B16+1","v":"2020-08-11"},null,null,{"$f":"E16+1","v":"2020-08-12"},null,null,{"$f":"H16+1","v":"2020-08-13"},null,null,{"$f":"K16+1","v":"2020-08-14"}]
[null,{"$f":"B7","v":0},null,null,{"$f":"E7","v":0},null,null,{"$f":"H7","v":0},null,null,{"$f":"K7","v":0},null,null,{"$f":"N7","v":0}]
[2,0,null,null,0,null,null,0,null,null,0,null,null,0]
[null,0,null,null,0,null,null,0,null,null,0,null,null,0]
[null,0,null,null,0,null,null,0,null,null,0,null,null,0]
[null,0,null,null,0,null,null,0,null,null,0,null,null,0]
[null,0,null,null,0,null,null,0,null,null,0,null,null,0]
[]
[]
[null,null,{"$f":"'1-2a'!C$25","v":0},null,null,{"$f":"'1-2a'!F$25","v":0},null,null,{"$f":"'1-2a'!I25","v":0},null,null,{"$f":"'1-2a'!L25","v":0},null,null,{"$f":"'1-2a'!O25","v":0}]
[{"$f":"IF(A16=52,1,A16+1)","v":34},{"$f":"N16+3","v":"2020-08-17"},null,null,{"$f":"B26+1","v":"2020-08-18"},null,null,{"$f":"E26+1","v":"2020-08-19"},null,null,{"$f":"H26+1","v":"2020-08-20"},null,null,{"$f":"K26+1","v":"2020-08-21"}]
[null,{"$f":"B17","v":0},null,null,{"$f":"E17","v":0},null,null,{"$f":"H17","v":0},null,null,{"$f":"K17","v":0},null,null,{"$f":"N17","v":0}]
[3,0,null,null,0,null,null,0,null,null,0,null,null,0]
[null,0,null,null,0,null,null,0,null,null,0,null,null,0]
[null,0,null,null,0,null,null,0,null,null,0,null,null,0]
[null,0,null,null,0,null,null,0,null,null,{"$f":"K21","v":0},null,null,0]
[null,0,null,null,0,null,null,0,null,null,0,null,null,0]
[]
[]
[null,null,{"$f":"'1-2a'!$C$35","v":0},null,null,{"$f":"'1-2a'!$F$35","v":0},null,null,{"$f":"'1-2a'!$I$35","v":0},null,null,{"$f":"'1-2a'!$L$35","v":0},null,null,{"$f":"'1-2a'!$O$35","v":0}]
[{"$f":"IF(A26=52,1,A26+1)","v":35},{"$f":"N26+3","v":"2020-08-24"},null,null,{"$f":"B36+1","v":"2020-08-25"},null,null,{"$f":"E36+1","v":"2020-08-26"},null,null,{"$f":"H36+1","v":"2020-08-27"},null,null,{"$f":"K36+1","v":"2020-08-28"}]
[null,{"$f":"B27","v":0},null,null,{"$f":"E27","v":0},null,null,{"$f":"H27","v":0},null,null,{"$f":"K27","v":0},null,null,{"$f":"N27","v":0}]
[4,0,null,null,0,null,null,0,null,null,0,null,null,0]
[null,0,null,null,0,null,null,0,null,null,0,null,null,0]
[null,0,null,null,0,null,null,0,null,null,0,null,null,0]
[null,0,null,null,0,null,null,0,null,null,{"$f":"K31","v":0},null,null,0]
[null,0,null,null,0,null,null,0,null,null,0,null,null,0]
[]
[]
[null,null,{"$f":"'1-2a'!$C$45","v":0},null,null,{"$f":"'1-2a'!$F$45","v":0},null,null,{"$f":"'1-2a'!$I$45","v":0},null,null,{"$f":"'1-2a'!$L$45","v":0},null,null,{"$f":"'1-2a'!$O$45","v":0}]
[{"$f":"IF(A36=52,1,A36+1)","v":36},{"$f":"N36+3","v":"2020-08-31"},null,null,{"$f":"B46+1","v":"2020-09-01"},null,null,{"$f":"E46+1","v":"2020-09-02"},null,null,{"$f":"H46+1","v":"2020-09-03"},null,null,{"$f":"K46+1","v":"2020-09-04"}]
[null,{"$f":"B37","v":0},null,null,{"$f":"E37","v":0},null,null,{"$f":"H37","v":0},null,null,{"$f":"K37","v":0},null,null,{"$f":"N37","v":0}]
[5,0,null,null,0,null,null,0,null,null,0,null,null,0]
[null,0,null,null,0,null,null,0,null,null,0,null,null,0]
[null,0,null,null,0,null,null,0,null,null,0,null,null,0]
[null,0,null,null,0,null,null,0,null,null,{"$f":"K41","v":0},null,null,0]
[null,0,null,null,0,null,null,0,null,null,0,null,null,0]
[]
[]
[null,null,{"$f":"'1-2a'!$C$55","v":0},null,null,{"$f":"'1-2a'!$F$55","v":0},null,null,{"$f":"'1-2a'!$I$55","v":0},null,null,{"$f":"'1-2a'!$L$55","v":0},null,null,{"$f":"'1-2a'!O55","v":0}]
[{"$f":"IF(A46=52,1,A46+1)","v":37},{"$f":"N46+3","v":"2020-09-07"},null,null,{"$f":"B56+1","v":"2020-09-08"},null,null,{"$f":"E56+1","v":"2020-09-09"},null,null,{"$f":"H56+1","v":"2020-09-10"},null,null,{"$f":"K56+1","v":"2020-09-11"}]
[null,{"$f":"B47","v":0},null,null,{"$f":"E47","v":0},null,null,{"$f":"H47","v":0},null,null,{"$f":"K47","v":0},null,null,{"$f":"N47","v":0}]
[6,0,null,null,0,null,null,0,null,null,0,null,null,0]
[null,0,null,null,0,null,null,0,null,null,0,null,null,0]
[null,0,null,null,0,null,null,0,null,null,0,null,null,0]
[null,0,null,null,0,null,null,0,null,null,{"$f":"K51","v":0},null,null,0]
[null,0,null,null,0,null,null,0,null,null,0,null,null,0]
[]
[]
[null,null,{"$f":"'1-2a'!$C$65","v":0},null,null,{"$f":"'1-2a'!$F$65","v":0},null,null,{"$f":"'1-2a'!$I$65","v":0},null,null,{"$f":"'1-2a'!$L$65","v":0},null,null,{"$f":"'1-2a'!$O$65","v":0}]
[{"$f":"IF(A56=52,1,A56+1)","v":38},{"$f":"N56+3","v":"2020-09-14"},null,null,{"$f":"B66+1","v":"2020-09-15"},null,null,{"$f":"E66+1","v":"2020-09-16"},null,null,{"$f":"H66+1","v":"2020-09-17"},null,null,{"$f":"K66+1","v":"2020-09-18"}]
[null,{"$f":"B57","v":0},null,null,{"$f":"E57","v":0},null,null,{"$f":"H57","v":0},null,null,{"$f":"K57","v":0},null,null,{"$f":"N57","v":0}]
[7,0,null,null,0,null,null,0,null,null,0,null,null,0]
[null,0,null,null,0,null,null,0,null,null,0,null,null,0]
[null,0,null,null,0,null,null,0,null,null,0,null,null,0]
[null,0,null,null,0,null,null,0,null,null,{"$f":"K61","v":0},null,null,0]
[null,0,null,null,0,null,null,0,null,null,0,null,null,0]
[]
[]
[null,null,{"$f":"'1-2a'!$C$75","v":0},null,null,{"$f":"'1-2a'!$F$75","v":0},null,null,{"$f":"'1-2a'!$I$75","v":0},null,null,{"$f":"'1-2a'!$L$75","v":0},null,null,{"$f":"'1-2a'!$O$75","v":0}]
[{"$f":"IF(A66=52,1,A66+1)","v":39},{"$f":"N66+3","v":"2020-09-21"},null,null,{"$f":"B76+1","v":"2020-09-22"},null,null,{"$f":"E76+1","v":"2020-09-23"},null,null,{"$f":"H76+1","v":"2020-09-24"},null,null,{"$f":"K76+1","v":"2020-09-25"}]
[null,{"$f":"B67","v":0},null,null,{"$f":"E67","v":0},null,null,{"$f":"H67","v":0},null,null,{"$f":"K67","v":0},null,null,{"$f":"N67","v":0}]
[8,0,null,null,0,null,null,0,null,null,0,null,null,0]
[null,0,null,null,0,null,null,0,null,null,0,null,null,0]
[null,0,null,null,0,null,null,0,null,null,0,null,null,0]
[null,0,null,null,0,null,null,0,null,null,{"$f":"K71","v":0},null,null,0]
[null,0,null,null,0,null,null,0,null,null,0,null,null,0]
[]
[]
[null,null,{"$f":"'1-2a'!$C$85","v":0},null,null,{"$f":"'1-2a'!$F$85","v":0},null,null,{"$f":"'1-2a'!$I$85","v":0},null,null,{"$f":"'1-2a'!$L$85","v":0},null,null,{"$f":"'1-2a'!$O$85","v":0}]
[{"$f":"IF(A76=52,1,A76+1)","v":40},{"$f":"N76+3","v":"2020-09-28"},null,null,{"$f":"B86+1","v":"2020-09-29"},null,null,{"$f":"E86+1","v":"2020-09-30"},null,null,{"$f":"H86+1","v":"2020-10-01"},null,null,{"$f":"K86+1","v":"2020-10-02"}]
[null,{"$f":"B77","v":0},null,null,{"$f":"E77","v":0},null,null,{"$f":"H77","v":0},null,null,{"$f":"K77","v":0},null,null,{"$f":"N77","v":0}]
[9,0,null,null,0,null,null,0,null,null,0,null,null,0]
[null,0,null,null,0,null,null,0,null,null,0,null,null,0]
[null,0,null,null,0,null,null,0,null,null,0,null,null,0]
[null,0,null,null,0,null,null,0,null,null,0,null,null,0]
[null,0,null,null,0,null,null,0,null,null,0,null,null,0]
[]
[]
[null,null,{"$f":"'1-2a'!$C$95","v":0},null,null,{"$f":"'1-2a'!$F$95","v":0},null,null,{"$f":"'1-2a'!$I$95","v":0},null,null,{"$f":"'1-2a'!$L$95","v":0},null,null,{"$f":"'1-2a'!$O$95","v":0}]
[{"$f":"IF(A86=52,1,A86+1)","v":41},{"$f":"N86+3","v":"2020-10-05"},null,null,{"$f":"B96+1","v":"2020-10-06"},null,null,{"$f":"E96+1","v":"2020-10-07"},null,null,{"$f":"H96+1","v":"2020-10-08"},null,null,{"$f":"K96+1","v":"2020-10-09"}]
[null,{"$f":"B87","v":0},null,null,{"$f":"E87","v":0},null,null,{"$f":"H87","v":0},null,null,{"$f":"K87","v":0},null,null,{"$f":"N87","v":0}]
[10,0,null,null,0,null,null,0,null,null,0,null,null,0]
[null,0,null,null,0,null,null,0,null,null,0,null,null,0]
[null,0,null,null,0,null,null,0,null,null,0,null,null,0]
[null,0,null,null,0,null,null,0,null,null,{"$f":"K91","v":0},null,null,0]
[null,0,null,null,0,null,null,0,null,null,0,null,null,0]
[]
[]
[null,null,{"$f":"'1-2a'!$C$105","v":0},null,null,{"$f":"'1-2a'!$F$105","v":0},null,null,{"$f":"'1-2a'!$I$105","v":0},null,null,{"$f":"'1-2a'!$L$105","v":0},null,null,{"$f":"'1-2a'!$O$105","v":0}]
[{"$f":"IF(A96=52,1,A96+1)","v":42},{"$f":"N96+3","v":"2020-10-12"},null,null,{"$f":"B106+1","v":"2020-10-13"},null,null,{"$f":"E106+1","v":"2020-10-14"},null,null,{"$f":"H106+1","v":"2020-10-15"},null,null,{"$f":"K106+1","v":"2020-10-16"}]
[null,{"$f":"B97","v":0},null,null,{"$f":"E97","v":0},null,null,{"$f":"H97","v":0},null,null,{"$f":"K97","v":0},null,null,{"$f":"N97","v":0}]
[11,0,null,null,0,null,null,0,null,null,0,null,null,0]
[null,0,null,null,0,null,null,0,null,null,0,null,null,0]
[null,0,null,null,0,null,null,0,null,null,0,null,null,0]
[null,0,null,null,0,null,null,0,null,null,{"$f":"K101","v":0},null,null,0]
[null,0,null,null,0,null,null,0,null,null,0,null,null,0]
[]
[]
[null,null,{"$f":"'1-2a'!$C$115","v":0},null,null,{"$f":"'1-2a'!$F$115","v":0},null,null,{"$f":"'1-2a'!$I$115","v":0},null,null,{"$f":"'1-2a'!$L$115","v":0},null,null,{"$f":"'1-2a'!$O$115","v":0}]
[{"$f":"IF(A106=52,1,A106+1)","v":43},{"$f":"N106+3","v":"2020-10-19"},null,null,{"$f":"B116+1","v":"2020-10-20"},null,null,{"$f":"E116+1","v":"2020-10-21"},null,null,{"$f":"H116+1","v":"2020-10-22"},null,null,{"$f":"K116+1","v":"2020-10-23"}]
[null,{"$f":"B107","v":0},null,null,{"$f":"E107","v":0},null,null,{"$f":"H107","v":0},null,null,{"$f":"K107","v":0},null,null,{"$f":"N107","v":0}]
[12,0,null,null,0,null,null,0,null,null,0,null,null,0]
[null,0,null,null,0,null,null,0,null,null,0,null,null,0]
[null,0,null,null,0,null,null,0,null,null,0,null,null,0]
[null,0,null,null,0,null,null,0,null,null,{"$f":"K111","v":0},null,null,0]
[null,0,null,null,0,null,null,0,null,null,0,null,null,0]
[]
[]
[null,null,{"$f":"'1-2a'!$C$125","v":0},null,null,{"$f":"'1-2a'!$F$125","v":0},null,null,{"$f":"'1-2a'!$I$125","v":0},null,null,{"$f":"'1-2a'!$L$125","v":0},null,null,{"$f":"'1-2a'!$O$125","v":0}]
[{"$f":"IF(A116=52,1,A116+1)","v":44},{"$f":"N116+3","v":"2020-10-26"},null,null,{"$f":"B126+1","v":"2020-10-27"},null,null,{"$f":"E126+1","v":"2020-10-28"},null,null,{"$f":"H126+1","v":"2020-10-29"},null,null,{"$f":"K126+1","v":"2020-10-30"}]
[null,{"$f":"B117","v":0},null,null,{"$f":"E117","v":0},null,null,{"$f":"H117","v":0},null,null,{"$f":"K117","v":0},null,null,{"$f":"N117","v":0}]
[13,0,null,null,0,null,null,0,null,null,0,null,null,0]
[null,0,null,null,0,null,null,0,null,null,0,null,null,0]
[null,0,null,null,0,null,null,0,null,null,0,null,null,0]
[null,0,null,null,0,null,null,0,null,null,{"$f":"K121","v":0},null,null,0]
[null,0,null,null,0,null,null,0,null,null,0,null,null,0]
[]
[]
[null,null,{"$f":"'1-2a'!$C$135","v":0},null,null,{"$f":"'1-2a'!$F$135","v":0},null,null,{"$f":"'1-2a'!$I$135","v":0},null,null,{"$f":"'1-2a'!$L$135","v":0},null,null,{"$f":"'1-2a'!$O$135","v":0}]
[{"$f":"IF(A126=52,1,A126+1)","v":45},{"$f":"N126+3","v":"2020-11-02"},null,null,{"$f":"B136+1","v":"2020-11-03"},null,null,{"$f":"E136+1","v":"2020-11-04"},null,null,{"$f":"H136+1","v":"2020-11-05"},null,null,{"$f":"K136+1","v":"2020-11-06"}]
[null,{"$f":"B127","v":0},null,null,{"$f":"E127","v":0},null,null,{"$f":"H127","v":0},null,null,{"$f":"K127","v":0},null,null,{"$f":"N127","v":0}]
[14,0,null,null,0,null,null,0,null,null,0,null,null,0]
[null,0,null,null,0,null,null,0,null,null,0,null,null,0]
[null,0,null,null,0,null,null,0,null,null,0,null,null,0]
[null,0,null,null,0,null,null,0,null,null,{"$f":"K131","v":0},null,null,0]
[null,0,null,null,0,null,null,0,null,null,0,null,null,0]
[]
[]
[null,null,{"$f":"'1-2a'!$C$145","v":0},null,null,{"$f":"'1-2a'!$F$145","v":0},null,null,{"$f":"'1-2a'!$I$145","v":0},null,null,{"$f":"'1-2a'!$L$145","v":0},null,null,{"$f":"'1-2a'!$O$145","v":0}]
[{"$f":"IF(A136=52,1,A136+1)","v":46},{"$f":"N136+3","v":"2020-11-09"},null,null,{"$f":"B146+1","v":"2020-11-10"},null,null,{"$f":"E146+1","v":"2020-11-11"},null,null,{"$f":"H146+1","v":"2020-11-12"},null,null,{"$f":"K146+1","v":"2020-11-13"}]
[null,{"$f":"B137","v":0},null,null,{"$f":"E137","v":0},null,null,{"$f":"H137","v":0},null,null,{"$f":"K137","v":0},null,null,{"$f":"N137","v":0}]
[15,0,null,null,0,null,null,0,null,null,0,null,null,0]
[null,0,null,null,0,null,null,0,null,null,0,null,null,0]
[null,0,null,null,0,null,null,0,null,null,0,null,null,0]
[null,0,null,null,0,null,null,0,null,null,{"$f":"K141","v":0},null,null,0]
[null,0,null,null,0,null,null,0,null,null,0,null,null,0]
[]
[]
[null,null,{"$f":"'1-2a'!$C$155","v":0},null,null,{"$f":"'1-2a'!$F$155","v":0},null,null,{"$f":"'1-2a'!$I$155","v":0},null,null,{"$f":"'1-2a'!$L$155","v":0},null,null,{"$f":"'1-2a'!$O$155","v":0}]
[{"$f":"IF(A146=52,1,A146+1)","v":47},{"$f":"N146+3","v":"2020-11-16"},null,null,{"$f":"B156+1","v":"2020-11-17"},null,null,{"$f":"E156+1","v":"2020-11-18"},null,null,{"$f":"H156+1","v":"2020-11-19"},null,null,{"$f":"K156+1","v":"2020-11-20"}]
[null,{"$f":"B147","v":0},null,null,{"$f":"E147","v":0},null,null,{"$f":"H147","v":0},null,null,{"$f":"K147","v":0},null,null,{"$f":"N147","v":0}]
[16,0,null,null,0,null,null,0,null,null,0,null,null,0]
[null,0,null,null,0,null,null,0,null,null,0,null,null,0]
[null,0,null,null,0,null,null,0,null,null,0,null,null,0]
[null,0,null,null,0,null,null,0,null,null,{"$f":"K151","v":0},null,null,0]
[null,0,null,null,0,null,null,0,null,null,0,null,null,0]
[]
[]
[null,null,{"$f":"'1-2a'!$C$165","v":0},null,null,{"$f":"'1-2a'!$F$165","v":0},null,null,{"$f":"'1-2a'!$I$165","v":0},null,null,{"$f":"'1-2a'!$L$165","v":0},null,null,{"$f":"'1-2a'!$O$165","v":0}]
[{"$f":"IF(A156=52,1,A156+1)","v":48},{"$f":"N156+3","v":"2020-11-23"},null,null,{"$f":"B166+1","v":"2020-11-24"},null,null,{"$f":"E166+1","v":"2020-11-25"},null,null,{"$f":"H166+1","v":"2020-11-26"},null,null,{"$f":"K166+1","v":"2020-11-27"}]
[null,{"$f":"B157","v":0},null,null,{"$f":"E157","v":0},null,null,{"$f":"H157","v":0},null,null,{"$f":"K157","v":0},null,null,{"$f":"N157","v":0}]
[17,0,null,null,0,null,null,0,null,null,0,null,null,0]
[null,0,null,null,0,null,null,0,null,null,0,null,null,0]
[null,0,null,null,0,null,null,0,null,null,0,null,null,0]
[null,0,null,null,0,null,null,0,null,null,0,null,null,0]
[null,0,null,null,0,null,null,0,null,null,0,null,null,0]
[]
[]
[null,null,{"$f":"'1-2a'!$C$175","v":0},null,null,{"$f":"'1-2a'!$F$175","v":0},null,null,{"$f":"'1-2a'!$I$175","v":0},null,null,{"$f":"'1-2a'!$L$175","v":0},null,null,{"$f":"'1-2a'!$O$175","v":0}]
[{"$f":"IF(A166=52,1,A166+1)","v":49},{"$f":"N166+3","v":"2020-11-30"},null,null,{"$f":"B176+1","v":"2020-12-01"},null,null,{"$f":"E176+1","v":"2020-12-02"},null,null,{"$f":"H176+1","v":"2020-12-03"},null,null,{"$f":"K176+1","v":"2020-12-04"}]
[null,{"$f":"B167","v":0},null,null,{"$f":"E167","v":0},null,null,{"$f":"H167","v":0},null,null,{"$f":"K167","v":0},null,null,{"$f":"N167","v":0}]
[18,0,null,null,0,null,null,0,null,null,0,null,null,0]
[null,0,null,null,0,null,null,0,null,null,0,null,null,0]
[null,0,null,null,0,null,null,0,null,null,0,null,null,0]
[null,0,null,null,0,null,null,0,null,null,{"$f":"K171","v":0},null,null,0]
[null,0,null,null,0,null,null,0,null,null,0,null,null,0]
[]
[]
[null,null,{"$f":"'1-2a'!$C$185","v":0},null,null,{"$f":"'1-2a'!$F$185","v":0},null,null,{"$f":"'1-2a'!$I$185","v":0},null,null,{"$f":"'1-2a'!$L$185","v":0},null,null,{"$f":"'1-2a'!$O$185","v":0}]
[{"$f":"IF(A176=52,1,A176+1)","v":50},{"$f":"N176+3","v":"2020-12-07"},null,null,{"$f":"B186+1","v":"2020-12-08"},null,null,{"$f":"E186+1","v":"2020-12-09"},null,null,{"$f":"H186+1","v":"2020-12-10"},null,null,{"$f":"K186+1","v":"2020-12-11"}]
[null,{"$f":"B177","v":0},null,null,{"$f":"E177","v":0},null,null,{"$f":"H177","v":0},null,null,{"$f":"K177","v":0},null,null,{"$f":"N177","v":0}]
[19,0,null,null,0,null,null,0,null,null,0,null,null,0]
[null,0,null,null,0,null,null,0,null,null,0,null,null,0]
[null,0,null,null,0,null,null,0,null,null,0,null,null,0]
[null,0,null,null,0,null,null,0,null,null,{"$f":"K181","v":0},null,null,0]
[null,0,null,null,0,null,null,0,null,null,0,null,null,0]
[]
[]
[null,null,{"$f":"'1-2a'!$C$195","v":0},null,null,{"$f":"'1-2a'!$F$195","v":0},null,null,{"$f":"'1-2a'!$I$195","v":0},null,null,{"$f":"'1-2a'!$L$195","v":0},null,null,{"$f":"'1-2a'!$O$195","v":0}]
[{"$f":"IF(A186=52,1,A186+1)","v":51},{"$f":"N186+3","v":"2020-12-14"},null,null,{"$f":"B196+1","v":"2020-12-15"},null,null,{"$f":"E196+1","v":"2020-12-16"},null,null,{"$f":"H196+1","v":"2020-12-17"},null,null,{"$f":"K196+1","v":"2020-12-18"}]
[null,{"$f":"B187","v":0},null,null,{"$f":"E187","v":0},null,null,{"$f":"H187","v":0},null,null,{"$f":"K187","v":0},null,null,{"$f":"N187","v":0}]
[20,0,null,null,0,null,null,0,null,null,0,null,null,0]
[null,0,null,null,0,null,null,0,null,null,0,null,null,0]
[null,0,null,null,0,null,null,0,null,null,0,null,null,0]
[null,0,null,null,0,null,null,0,null,null,{"$f":"K191","v":0},null,null,0]
[null,0,null,null,0,null,null,0,null,null,0,null,null,0]
[]
[]
[null,null,{"$f":"'1-2a'!$C$205","v":0},null,null,{"$f":"'1-2a'!$F$205","v":0},null,null,{"$f":"'1-2a'!$I$205","v":0},null,null,{"$f":"'1-2a'!$L$205","v":0},null,null,{"$f":"'1-2a'!$O$205","v":0}]
[{"$f":"IF(A196=52,1,A196+1)","v":52},{"$f":"N196+3","v":"2020-12-21"},null,null,{"$f":"B206+1","v":"2020-12-22"},null,null,{"$f":"E206+1","v":"2020-12-23"},null,null,{"$f":"H206+1","v":"2020-12-24"},null,null,{"$f":"K206+1","v":"2020-12-25"}]
[null,{"$f":"B197","v":0},null,null,{"$f":"E197","v":0},null,null,{"$f":"H197","v":0},null,null,{"$f":"K197","v":0},null,null,{"$f":"N197","v":0}]
[21,0,null,null,0,null,null,0,null,null,0,null,null,0]
[null,0,null,null,0,null,null,0,null,null,0,null,null,0]
[null,0,null,null,0,null,null,0,null,null,0,null,null,0]
[null,0,null,null,0,null,null,0,null,null,{"$f":"K201","v":0},null,null,0]
[null,0,null,null,0,null,null,0,null,null,0,null,null,0]
[]
[]
[null,null,{"$f":"'1-2a'!$C$215","v":0},null,null,{"$f":"'1-2a'!$F$215","v":0},null,null,{"$f":"'1-2a'!$I$215","v":0},null,null,{"$f":"'1-2a'!$L$215","v":0},null,null,{"$f":"'1-2a'!$O$215","v":0}]
[{"$f":"IF(A206=52,1,A206+1)","v":1},{"$f":"N206+3","v":"2020-12-28"},null,null,{"$f":"B216+1","v":"2020-12-29"},null,null,{"$f":"E216+1","v":"2020-12-30"},null,null,{"$f":"H216+1","v":"2020-12-31"},null,null,{"$f":"K216+1","v":"2021-01-01"}]
[null,{"$f":"B207","v":0},null,null,{"$f":"E207","v":0},null,null,{"$f":"H207","v":0},null,null,{"$f":"K207","v":0},null,null,{"$f":"N207","v":0}]
[22,0,null,null,0,null,null,0,null,null,0,null,null,0]
[null,0,null,null,0,null,null,0,null,null,0,null,null,0]
[null,0,null,null,0,null,null,0,null,null,0,null,null,0]
[null,0,null,null,0,null,null,0,null,null,{"$f":"K211","v":0},null,null,0]
[null,0,null,null,0,null,null,0,null,null,0,null,null,0]
[]
[]
[null,null,{"$f":"'1-2a'!$C$225","v":0},null,null,{"$f":"'1-2a'!$F$225","v":0},null,null,{"$f":"'1-2a'!$I$225","v":0},null,null,{"$f":"'1-2a'!$L$225","v":0},null,null,{"$f":"'1-2a'!$O$225","v":0}]
[{"$f":"IF(A216=52,1,A216+1)","v":2},{"$f":"N216+3","v":"2021-01-04"},null,null,{"$f":"B226+1","v":"2021-01-05"},null,null,{"$f":"E226+1","v":"2021-01-06"},null,null,{"$f":"H226+1","v":"2021-01-07"},null,null,{"$f":"K226+1","v":"2021-01-08"}]
[null,{"$f":"B217","v":0},null,null,{"$f":"E217","v":0},null,null,{"$f":"H217","v":0},null,null,{"$f":"K217","v":0},null,null,{"$f":"N217","v":0}]
[23,0,null,null,0,null,null,0,null,null,0,null,null,0]
[null,0,null,null,0,null,null,0,null,null,0,null,null,0]
[null,0,null,null,0,null,null,0,null,null,0,null,null,0]
[null,0,null,null,0,null,null,0,null,null,{"$f":"K221","v":0},null,null,0]
[null,0,null,null,0,null,null,0,null,null,0,null,null,0]
[]
[]
[null,null,{"$f":"'1-2a'!$C$235","v":0},null,null,{"$f":"'1-2a'!$F$235","v":0},null,null,{"$f":"'1-2a'!$I$235","v":0},null,null,{"$f":"'1-2a'!$L$235","v":0},null,null,{"$f":"'1-2a'!$O$235","v":0}]
[{"$f":"IF(A226=52,1,A226+1)","v":3},{"$f":"N226+3","v":"2021-01-11"},null,null,{"$f":"B236+1","v":"2021-01-12"},null,null,{"$f":"E236+1","v":"2021-01-13"},null,null,{"$f":"H236+1","v":"2021-01-14"},null,null,{"$f":"K236+1","v":"2021-01-15"}]
[null,{"$f":"B227","v":0},null,null,{"$f":"E227","v":0},null,null,{"$f":"H227","v":0},null,null,{"$f":"K227","v":0},null,null,{"$f":"N227","v":0}]
[24,0,null,null,0,null,null,0,null,null,0,null,null,0]
[null,0,null,null,0,null,null,0,null,null,0,null,null,0]
[null,0,null,null,0,null,null,0,null,null,0,null,null,0]
[null,0,null,null,0,null,null,0,null,null,{"$f":"K231","v":0},null,null,0]
[null,0,null,null,0,null,null,0,null,null,0,null,null,0]
[]
[]
[null,null,{"$f":"'1-2a'!$C$245","v":0},null,null,{"$f":"'1-2a'!$F$245","v":0},null,null,{"$f":"'1-2a'!$I$245","v":0},null,null,{"$f":"'1-2a'!$L$245","v":0},null,null,{"$f":"'1-2a'!$O$245","v":0}]
[{"$f":"IF(A236=52,1,A236+1)","v":4},{"$f":"N236+3","v":"2021-01-18"},null,null,{"$f":"B246+1","v":"2021-01-19"},null,null,{"$f":"E246+1","v":"2021-01-20"},null,null,{"$f":"H246+1","v":"2021-01-21"},null,null,{"$f":"K246+1","v":"2021-01-22"}]
[null,{"$f":"B237","v":0},null,null,{"$f":"E237","v":0},null,null,{"$f":"H237","v":0},null,null,{"$f":"K237","v":0},null,null,{"$f":"N237","v":0}]
[25,0,null,null,0,null,null,0,null,null,0,null,null,0]
[null,0,null,null,0,null,null,0,null,null,0,null,null,0]
[null,0,null,null,0,null,null,0,null,null,0,null,null,0]
[null,0,null,null,0,null,null,0,null,null,0,null,null,0]
[null,0,null,null,0,null,null,0,null,null,0,null,null,0]
[]
[]
[null,null,{"$f":"'1-2a'!$C$255","v":0},null,null,{"$f":"'1-2a'!$F$255","v":0},null,null,{"$f":"'1-2a'!$I$255","v":0},null,null,{"$f":"'1-2a'!$L$255","v":0},null,null,{"$f":"'1-2a'!$O$255","v":0}]
[{"$f":"IF(A246=52,1,A246+1)","v":5},{"$f":"N246+3","v":"2021-01-25"},null,null,{"$f":"B256+1","v":"2021-01-26"},null,null,{"$f":"E256+1","v":"2021-01-27"},null,null,{"$f":"H256+1","v":"2021-01-28"},null,null,{"$f":"K256+1","v":"2021-01-29"}]
[null,{"$f":"B247","v":0},null,null,{"$f":"E247","v":0},null,null,{"$f":"H247","v":0},null,null,{"$f":"K247","v":0},null,null,{"$f":"N247","v":0}]
[26,0,null,null,0,null,null,0,null,null,0,null,null,0]
[null,0,null,null,0,null,null,0,null,null,0,null,null,0]
[null,0,null,null,0,null,null,0,null,null,0,null,null,0]
[null,0,null,null,0,null,null,0,null,null,{"$f":"K251","v":0},null,null,0]
[null,0,null,null,0,null,null,0,null,null,0,null,null,0]
[]
[]
[null,null,{"$f":"'1-2a'!$C$265","v":0},null,null,{"$f":"'1-2a'!$F$265","v":0},null,null,{"$f":"'1-2a'!$I$265","v":0},null,null,{"$f":"'1-2a'!$L$265","v":0},null,null,{"$f":"'1-2a'!$O$265","v":0}]
[{"$f":"IF(A256=52,1,A256+1)","v":6},{"$f":"N256+3","v":"2021-02-01"},null,null,{"$f":"B266+1","v":"2021-02-02"},null,null,{"$f":"E266+1","v":"2021-02-03"},null,null,{"$f":"H266+1","v":"2021-02-04"},null,null,{"$f":"K266+1","v":"2021-02-05"}]
[null,{"$f":"B257","v":0},null,null,{"$f":"E257","v":0},null,null,{"$f":"H257","v":0},null,null,{"$f":"K257","v":0},null,null,{"$f":"N257","v":0}]
[27,0,null,null,0,null,null,0,null,null,0,null,null,0]
[null,0,null,null,0,null,null,0,null,null,0,null,null,0]
[null,0,null,null,0,null,null,0,null,null,0,null,null,0]
[null,0,null,null,0,null,null,0,null,null,{"$f":"K261","v":0},null,null,0]
[null,0,null,null,0,null,null,0,null,null,0,null,null,0]
[]
[]
[null,null,{"$f":"'1-2a'!$C$275","v":0},null,null,{"$f":"'1-2a'!$F$275","v":0},null,null,{"$f":"'1-2a'!$I$275","v":0},null,null,{"$f":"'1-2a'!$L$275","v":0},null,null,{"$f":"'1-2a'!$O$275","v":0}]
[{"$f":"IF(A266=52,1,A266+1)","v":7},{"$f":"N266+3","v":"2021-02-08"},null,null,{"$f":"B276+1","v":"2021-02-09"},null,null,{"$f":"E276+1","v":"2021-02-10"},null,null,{"$f":"H276+1","v":"2021-02-11"},null,null,{"$f":"K276+1","v":"2021-02-12"}]
[null,{"$f":"B267","v":0},null,null,{"$f":"E267","v":0},null,null,{"$f":"H267","v":0},null,null,{"$f":"K267","v":0},null,null,{"$f":"N267","v":0}]
[28,0,null,null,0,null,null,0,null,null,0,null,null,0]
[null,0,null,null,0,null,null,0,null,null,0,null,null,0]
[null,0,null,null,0,null,null,0,null,null,0,null,null,0]
[null,0,null,null,0,null,null,0,null,null,{"$f":"K271","v":0},null,null,0]
[null,0,null,null,0,null,null,0,null,null,0,null,null,0]
[]
[]
[null,null,{"$f":"'1-2a'!$C$285","v":0},null,null,{"$f":"'1-2a'!$F$285","v":0},null,null,{"$f":"'1-2a'!$I$285","v":0},null,null,{"$f":"'1-2a'!$L$285","v":0},null,null,{"$f":"'1-2a'!$O$285","v":0}]
[{"$f":"IF(A276=52,1,A276+1)","v":8},{"$f":"N276+3","v":"2021-02-15"},null,null,{"$f":"B286+1","v":"2021-02-16"},null,null,{"$f":"E286+1","v":"2021-02-17"},null,null,{"$f":"H286+1","v":"2021-02-18"},null,null,{"$f":"K286+1","v":"2021-02-19"}]
[null,{"$f":"B277","v":0},null,null,{"$f":"E277","v":0},null,null,{"$f":"H277","v":0},null,null,{"$f":"K277","v":0},null,null,{"$f":"N277","v":0}]
[29,0,null,null,0,null,null,0,null,null,0,null,null,0]
[null,0,null,null,0,null,null,0,null,null,0,null,null,0]
[null,0,null,null,0,null,null,0,null,null,0,null,null,0]
[null,0,null,null,0,null,null,0,null,null,{"$f":"K281","v":0},null,null,0]
[null,0,null,null,0,null,null,0,null,null,0,null,null,0]
[]
[]
[null,null,{"$f":"'1-2a'!$C$295","v":0},null,null,{"$f":"'1-2a'!$F$295","v":0},null,null,{"$f":"'1-2a'!$I$295","v":0},null,null,{"$f":"'1-2a'!$L$295","v":0},null,null,{"$f":"'1-2a'!$O$295","v":0}]
[{"$f":"IF(A286=52,1,A286+1)","v":9},{"$f":"N286+3","v":"2021-02-22"},null,null,{"$f":"B296+1","v":"2021-02-23"},null,null,{"$f":"E296+1","v":"2021-02-24"},null,null,{"$f":"H296+1","v":"2021-02-25"},null,null,{"$f":"K296+1","v":"2021-02-26"}]
[null,{"$f":"B287","v":0},null,null,{"$f":"E287","v":0},null,null,{"$f":"H287","v":0},null,null,{"$f":"K287","v":0},null,null,{"$f":"N287","v":0}]
[30,0,null,null,0,null,null,0,null,null,0,null,null,0]
[null,0,null,null,0,null,null,0,null,null,0,null,null,0]
[null,0,null,null,0,null,null,0,null,null,0,null,null,0]
[null,0,null,null,0,null,null,0,null,null,{"$f":"K291","v":0},null,null,0]
[null,0,null,null,0,null,null,0,null,null,0,null,null,0]
[]
[]
[null,null,{"$f":"'1-2a'!$C$305","v":0},null,null,{"$f":"'1-2a'!$F$305","v":0},null,null,{"$f":"'1-2a'!$I$305","v":0},null,null,{"$f":"'1-2a'!$L$305","v":0},null,null,{"$f":"'1-2a'!$O$305","v":0}]
[{"$f":"IF(A296=52,1,A296+1)","v":10},{"$f":"N296+3","v":"2021-03-01"},null,null,{"$f":"B306+1","v":"2021-03-02"},null,null,{"$f":"E306+1","v":"2021-03-03"},null,null,{"$f":"H306+1","v":"2021-03-04"},null,null,{"$f":"K306+1","v":"2021-03-05"}]
[null,{"$f":"B297","v":0},null,null,{"$f":"E297","v":0},null,null,{"$f":"H297","v":0},null,null,{"$f":"K297","v":0},null,null,{"$f":"N297","v":0}]
[31,0,null,null,0,null,null,0,null,null,0,null,null,0]
[null,0,null,null,0,null,null,0,null,null,0,null,null,0]
[null,0,null,null,0,null,null,0,null,null,0,null,null,0]
[null,0,null,null,0,null,null,0,null,null,{"$f":"K301","v":0},null,null,0]
[null,0,null,null,0,null,null,0,null,null,0,null,null,0]
[]
[]
[null,null,{"$f":"'1-2a'!$C$315","v":0},null,null,{"$f":"'1-2a'!$F$315","v":0},null,null,{"$f":"'1-2a'!$I$315","v":0},null,null,{"$f":"'1-2a'!$L$315","v":0},null,null,{"$f":"'1-2a'!$O$315","v":0}]
[{"$f":"IF(A306=52,1,A306+1)","v":11},{"$f":"N306+3","v":"2021-03-08"},null,null,{"$f":"B316+1","v":"2021-03-09"},null,null,{"$f":"E316+1","v":"2021-03-10"},null,null,{"$f":"H316+1","v":"2021-03-11"},null,null,{"$f":"K316+1","v":"2021-03-12"}]
[null,{"$f":"B307","v":0},null,null,{"$f":"E307","v":0},null,null,{"$f":"H307","v":0},null,null,{"$f":"K307","v":0},null,null,{"$f":"N307","v":0}]
[32,0,null,null,0,null,null,0,null,null,0,null,null,0]
[null,0,null,null,0,null,null,0,null,null,0,null,null,0]
[null,0,null,null,0,null,null,0,null,null,0,null,null,0]
[null,0,null,null,0,null,null,0,null,null,{"$f":"K311","v":0},null,null,0]
[null,0,null,null,0,null,null,0,null,null,0,null,null,0]
[]
[]
[null,null,{"$f":"'1-2a'!$C$325","v":0},null,null,{"$f":"'1-2a'!$F$325","v":0},null,null,{"$f":"'1-2a'!$I$325","v":0},null,null,{"$f":"'1-2a'!$L$325","v":0},null,null,{"$f":"'1-2a'!$O$325","v":0}]
[{"$f":"IF(A316=52,1,A316+1)","v":12},{"$f":"N316+3","v":"2021-03-15"},null,null,{"$f":"B326+1","v":"2021-03-16"},null,null,{"$f":"E326+1","v":"2021-03-17"},null,null,{"$f":"H326+1","v":"2021-03-18"},null,null,{"$f":"K326+1","v":"2021-03-19"}]
[null,{"$f":"B317","v":0},null,null,{"$f":"E317","v":0},null,null,{"$f":"H317","v":0},null,null,{"$f":"K317","v":0},null,null,{"$f":"N317","v":0}]
[33,0,null,null,0,null,null,0,null,null,0,null,null,0]
[null,0,null,null,0,null,null,0,null,null,0,null,null,0]
[null,0,null,null,0,null,null,0,null,null,0,null,null,0]
[null,0,null,null,0,null,null,0,null,null,0,null,null,0]
[null,0,null,null,0,null,null,0,null,null,0,null,null,0]
[]
[]
[null,null,{"$f":"'1-2a'!$C$335","v":0},null,null,{"$f":"'1-2a'!$F$335","v":0},null,null,{"$f":"'1-2a'!$I$335","v":0},null,null,{"$f":"'1-2a'!$L$335","v":0},null,null,{"$f":"'1-2a'!$O$335","v":0}]
[{"$f":"IF(A326=52,1,A326+1)","v":13},{"$f":"N326+3","v":"2021-03-22"},null,null,{"$f":"B336+1","v":"2021-03-23"},null,null,{"$f":"E336+1","v":"2021-03-24"},null,null,{"$f":"H336+1","v":"2021-03-25"},null,null,{"$f":"K336+1","v":"2021-03-26"}]
[null,{"$f":"B327","v":0},null,null,{"$f":"E327","v":0},null,null,{"$f":"H327","v":0},null,null,{"$f":"K327","v":0},null,null,{"$f":"N327","v":0}]
[34,0,null,null,0,null,null,0,null,null,0,null,null,0]
[null,0,null,null,0,null,null,0,null,null,0,null,null,0]
[null,0,null,null,0,null,null,0,null,null,0,null,null,0]
[null,0,null,null,0,null,null,0,null,null,{"$f":"K331","v":0},null,null,0]
[null,0,null,null,0,null,null,0,null,null,0,null,null,0]
[]
[]
[null,null,{"$f":"'1-2a'!$C$345","v":0},null,null,{"$f":"'1-2a'!$F$345","v":0},null,null,{"$f":"'1-2a'!$I$345","v":0},null,null,{"$f":"'1-2a'!$L$345","v":0},null,null,{"$f":"'1-2a'!$O$345","v":0}]
[{"$f":"IF(A336=52,1,A336+1)","v":14},{"$f":"N336+3","v":"2021-03-29"},null,null,{"$f":"B346+1","v":"2021-03-30"},null,null,{"$f":"E346+1","v":"2021-03-31"},null,null,{"$f":"H346+1","v":"2021-04-01"},null,null,{"$f":"K346+1","v":"2021-04-02"}]
[null,{"$f":"B337","v":0},null,null,{"$f":"E337","v":0},null,null,{"$f":"H337","v":0},null,null,{"$f":"K337","v":0},null,null,{"$f":"N337","v":0}]
[35,0,null,null,0,null,null,0,null,null,0,null,null,0]
[null,0,null,null,0,null,null,0,null,null,0,null,null,0]
[null,0,null,null,0,null,null,0,null,null,0,null,null,0]
[null,0,null,null,0,null,null,0,null,null,{"$f":"K341","v":0},null,null,0]
[null,0,null,null,0,null,null,0,null,null,0,null,null,0]
[]
[]
[null,null,{"$f":"'1-2a'!$C$355","v":0},null,null,{"$f":"'1-2a'!$F$355","v":0},null,null,{"$f":"'1-2a'!$I$355","v":0},null,null,{"$f":"'1-2a'!$L$355","v":0},null,null,{"$f":"'1-2a'!$O$355","v":0}]
[{"$f":"IF(A346=52,1,A346+1)","v":15},{"$f":"N346+3","v":"2021-04-05"},null,null,{"$f":"B356+1","v":"2021-04-06"},null,null,{"$f":"E356+1","v":"2021-04-07"},null,null,{"$f":"H356+1","v":"2021-04-08"},null,null,{"$f":"K356+1","v":"2021-04-09"}]
[null,{"$f":"B347","v":0},null,null,{"$f":"E347","v":0},null,null,{"$f":"H347","v":0},null,null,{"$f":"K347","v":0},null,null,{"$f":"N347","v":0}]
[36,0,null,null,0,null,null,0,null,null,0,null,null,0]
[null,0,null,null,0,null,null,0,null,null,0,null,null,0]
[null,0,null,null,0,null,null,0,null,null,0,null,null,0]
[null,0,null,null,0,null,null,0,null,null,{"$f":"K351","v":0},null,null,0]
[null,0,null,null,0,null,null,0,null,null,0,null,null,0]
[]
[]
[null,null,{"$f":"'1-2a'!$C$365","v":0},null,null,{"$f":"'1-2a'!$F$365","v":0},null,null,{"$f":"'1-2a'!$I$365","v":0},null,null,{"$f":"'1-2a'!$L$365","v":0},null,null,{"$f":"'1-2a'!$O$365","v":0}]
[{"$f":"IF(A356=52,1,A356+1)","v":16},{"$f":"N356+3","v":"2021-04-12"},null,null,{"$f":"B366+1","v":"2021-04-13"},null,null,{"$f":"E366+1","v":"2021-04-14"},null,null,{"$f":"H366+1","v":"2021-04-15"},null,null,{"$f":"K366+1","v":"2021-04-16"}]
[null,{"$f":"B357","v":0},null,null,{"$f":"E357","v":0},null,null,{"$f":"H357","v":0},null,null,{"$f":"K357","v":0},null,null,{"$f":"N357","v":0}]
[37,0,null,null,0,null,null,0,null,null,0,null,null,0]
[null,0,null,null,0,null,null,0,null,null,0,null,null,0]
[null,0,null,null,0,null,null,0,null,null,0,null,null,0]
[null,0,null,null,0,null,null,0,null,null,{"$f":"K361","v":0},null,null,0]
[null,0,null,null,0,null,null,0,null,null,0,null,null,0]
[]
[]
[null,null,{"$f":"'1-2a'!$C$375","v":0},null,null,{"$f":"'1-2a'!$F$375","v":0},null,null,{"$f":"'1-2a'!$I$375","v":0},null,null,{"$f":"'1-2a'!$L$375","v":0},null,null,{"$f":"'1-2a'!$O$375","v":0}]
[{"$f":"IF(A366=52,1,A366+1)","v":17},{"$f":"N366+3","v":"2021-04-19"},null,null,{"$f":"B376+1","v":"2021-04-20"},null,null,{"$f":"E376+1","v":"2021-04-21"},null,null,{"$f":"H376+1","v":"2021-04-22"},null,null,{"$f":"K376+1","v":"2021-04-23"}]
[null,{"$f":"B367","v":0},null,null,{"$f":"E367","v":0},null,null,{"$f":"H367","v":0},null,null,{"$f":"K367","v":0},null,null,{"$f":"N367","v":0}]
[38,0,null,null,0,null,null,0,null,null,0,null,null,0]
[null,0,null,null,0,null,null,0,null,null,0,null,null,0]
[null,0,null,null,0,null,null,0,null,null,0,null,null,0]
[null,0,null,null,0,null,null,0,null,null,{"$f":"K371","v":0},null,null,0]
[null,0,null,null,0,null,null,0,null,null,0,null,null,0]
[]
[]
[null,null,{"$f":"'1-2a'!$C$385","v":0},null,null,{"$f":"'1-2a'!$F$385","v":0},null,null,{"$f":"'1-2a'!$I$385","v":0},null,null,{"$f":"'1-2a'!$L$385","v":0},null,null,{"$f":"'1-2a'!$O$385","v":0}]
[{"$f":"IF(A376=52,1,A376+1)","v":18},{"$f":"N376+3","v":"2021-04-26"},null,null,{"$f":"B386+1","v":"2021-04-27"},null,null,{"$f":"E386+1","v":"2021-04-28"},null,null,{"$f":"H386+1","v":"2021-04-29"},null,null,{"$f":"K386+1","v":"2021-04-30"}]
[null,{"$f":"B377","v":0},null,null,{"$f":"E377","v":0},null,null,{"$f":"H377","v":0},null,null,{"$f":"K377","v":0},null,null,{"$f":"N377","v":0}]
[39,0,null,null,0,null,null,0,null,null,0,null,null,0]
[null,0,null,null,0,null,null,0,null,null,0,null,null,0]
[null,0,null,null,0,null,null,0,null,null,0,null,null,0]
[null,0,null,null,0,null,null,0,null,null,{"$f":"K381","v":0},null,null,0]
[null,0,null,null,0,null,null,0,null,null,0,null,null,0]
[]
[]
[null,null,{"$f":"'1-2a'!$C$395","v":0},null,null,{"$f":"'1-2a'!$F$395","v":0},null,null,{"$f":"'1-2a'!$I$395","v":0},null,null,{"$f":"'1-2a'!$L$395","v":0},null,null,{"$f":"'1-2a'!$O$395","v":0}]
[{"$f":"IF(A386=52,1,A386+1)","v":19},{"$f":"N386+3","v":"2021-05-03"},null,null,{"$f":"B396+1","v":"2021-05-04"},null,null,{"$f":"E396+1","v":"2021-05-05"},null,null,{"$f":"H396+1","v":"2021-05-06"},null,null,{"$f":"K396+1","v":"2021-05-07"}]
[null,{"$f":"B387","v":0},null,null,{"$f":"E387","v":0},null,null,{"$f":"H387","v":0},null,null,{"$f":"K387","v":0},null,null,{"$f":"N387","v":0}]
[40,0,null,null,0,null,null,0,null,null,0,null,null,0]
[null,0,null,null,0,null,null,0,null,null,0,null,null,0]
[null,0,null,null,0,null,null,0,null,null,0,null,null,0]
[null,0,null,null,0,null,null,0,null,null,{"$f":"K391","v":0},null,null,0]
[null,0,null,null,0,null,null,0,null,null,0,null,null,0]
[]
[]
[null,null,{"$f":"'1-2a'!$C$405","v":0},null,null,{"$f":"'1-2a'!$F$405","v":0},null,null,{"$f":"'1-2a'!$I$405","v":0},null,null,{"$f":"'1-2a'!$L$405","v":0},null,null,{"$f":"'1-2a'!$O$405","v":0}]
[{"$f":"IF(A396=52,1,A396+1)","v":20},{"$f":"N396+3","v":"2021-05-10"},null,null,{"$f":"B406+1","v":"2021-05-11"},null,null,{"$f":"E406+1","v":"2021-05-12"},null,null,{"$f":"H406+1","v":"2021-05-13"},null,null,{"$f":"K406+1","v":"2021-05-14"}]
[null,{"$f":"B397","v":0},null,null,{"$f":"E397","v":0},null,null,{"$f":"H397","v":0},null,null,{"$f":"K397","v":0},null,null,{"$f":"N397","v":0}]
[41,0,null,null,0,null,null,0,null,null,0,null,null,0]
[null,0,null,null,0,null,null,0,null,null,0,null,null,0]
[null,0,null,null,0,null,null,0,null,null,0,null,null,0]
[null,0,null,null,0,null,null,0,null,null,0,null,null,0]
[null,0,null,null,0,null,null,0,null,null,0,null,null,0]
[]
[]
[null,null,{"$f":"'1-2a'!$C$415","v":0},null,null,{"$f":"'1-2a'!$F$415","v":0},null,null,{"$f":"'1-2a'!$I$415","v":0},null,null,{"$f":"'1-2a'!$L$415","v":0},null,null,{"$f":"'1-2a'!$O$415","v":0}]
[{"$f":"IF(A406=52,1,A406+1)","v":21},{"$f":"N406+3","v":"2021-05-17"},null,null,{"$f":"B416+1","v":"2021-05-18"},null,null,{"$f":"E416+1","v":"2021-05-19"},null,null,{"$f":"H416+1","v":"2021-05-20"},null,null,{"$f":"K416+1","v":"2021-05-21"}]
[null,{"$f":"B407","v":0},null,null,{"$f":"E407","v":0},null,null,{"$f":"H407","v":0},null,null,{"$f":"K407","v":0},null,null,{"$f":"N407","v":0}]
[42,0,null,null,0,null,null,0,null,null,0,null,null,0]
[null,0,null,null,0,null,null,0,null,null,0,null,null,0]
[null,0,null,null,0,null,null,0,null,null,0,null,null,0]
[null,0,null,null,0,null,null,0,null,null,{"$f":"K411","v":0},null,null,0]
[null,0,null,null,0,null,null,0,null,null,0,null,null,0]
[]
[]
[null,null,{"$f":"'1-2a'!$C$425","v":0},null,null,{"$f":"'1-2a'!$F$425","v":0},null,null,{"$f":"'1-2a'!$I$425","v":0},null,null,{"$f":"'1-2a'!$L$425","v":0},null,null,{"$f":"'1-2a'!$O$425","v":0}]
[{"$f":"IF(A416=52,1,A416+1)","v":22},{"$f":"N416+3","v":"2021-05-24"},null,null,{"$f":"B426+1","v":"2021-05-25"},null,null,{"$f":"E426+1","v":"2021-05-26"},null,null,{"$f":"H426+1","v":"2021-05-27"},null,null,{"$f":"K426+1","v":"2021-05-28"}]
[null,{"$f":"B417","v":0},null,null,{"$f":"E417","v":0},null,null,{"$f":"H417","v":0},null,null,{"$f":"K417","v":0},null,null,{"$f":"N417","v":0}]
[43,0,null,null,0,null,null,0,null,null,0,null,null,0]
[null,0,null,null,0,null,null,0,null,null,0,null,null,0]
[null,0,null,null,0,null,null,0,null,null,0,null,null,0]
[null,0,null,null,0,null,null,0,null,null,{"$f":"K421","v":0},null,null,0]
[null,0,null,null,0,null,null,0,null,null,0,null,null,0]
[]
[]
[null,null,{"$f":"'1-2a'!$C$435","v":0},null,null,{"$f":"'1-2a'!$F$435","v":0},null,null,{"$f":"'1-2a'!$I$435","v":0},null,null,{"$f":"'1-2a'!$L$435","v":0},null,null,{"$f":"'1-2a'!$O$435","v":0}]
[{"$f":"IF(A426=52,1,A426+1)","v":23},{"$f":"N426+3","v":"2021-05-31"},null,null,{"$f":"B436+1","v":"2021-06-01"},null,null,{"$f":"E436+1","v":"2021-06-02"},null,null,{"$f":"H436+1","v":"2021-06-03"},null,null,{"$f":"K436+1","v":"2021-06-04"}]
[null,{"$f":"B427","v":0},null,null,{"$f":"E427","v":0},null,null,{"$f":"H427","v":0},null,null,{"$f":"K427","v":0},null,null,{"$f":"N427","v":0}]
[44,0,null,null,0,null,null,0,null,null,0,null,null,0]
[null,0,null,null,0,null,null,0,null,null,0,null,null,0]
[null,0,null,null,0,null,null,0,null,null,0,null,null,0]
[null,0,null,null,0,null,null,0,null,null,{"$f":"K431","v":0},null,null,0]
[null,0,null,null,0,null,null,0,null,null,0,null,null,0]
[]
[]
[null,null,{"$f":"'1-2a'!$C$445","v":0},null,null,{"$f":"'1-2a'!$F$445","v":0},null,null,{"$f":"'1-2a'!$I$445","v":0},null,null,{"$f":"'1-2a'!$L$445","v":0},null,null,{"$f":"'1-2a'!$O$445","v":0}]
[{"$f":"IF(A436=52,1,A436+1)","v":24},{"$f":"N436+3","v":"2021-06-07"},null,null,{"$f":"B446+1","v":"2021-06-08"},null,null,{"$f":"E446+1","v":"2021-06-09"},null,null,{"$f":"H446+1","v":"2021-06-10"},null,null,{"$f":"K446+1","v":"2021-06-11"}]
[null,{"$f":"B437","v":0},null,null,{"$f":"E437","v":0},null,null,{"$f":"H437","v":0},null,null,{"$f":"K437","v":0},null,null,{"$f":"N437","v":0}]
[45,0,null,null,0,null,null,0,null,null,0,null,null,0]
[null,0,null,null,0,null,null,0,null,null,0,null,null,0]
[null,0,null,null,0,null,null,0,null,null,0,null,null,0]
[null,0,null,null,0,null,null,0,null,null,{"$f":"K441","v":0},null,null,0]
[null,0,null,null,0,null,null,0,null,null,0,null,null,0]
[]
[]
[null,null,{"$f":"'1-2a'!$C$455","v":0},null,null,{"$f":"'1-2a'!$F$455","v":0},null,null,{"$f":"'1-2a'!$I$455","v":0},null,null,{"$f":"'1-2a'!$L$455","v":0},null,null,{"$f":"'1-2a'!$O$455","v":0}]
[{"$f":"IF(A446=52,1,A446+1)","v":25},{"$f":"N446+3","v":"2021-06-14"},null,null,{"$f":"B456+1","v":"2021-06-15"},null,null,{"$f":"E456+1","v":"2021-06-16"},null,null,{"$f":"H456+1","v":"2021-06-17"},null,null,{"$f":"K456+1","v":"2021-06-18"}]
[null,{"$f":"B447","v":0},null,null,{"$f":"E447","v":0},null,null,{"$f":"H447","v":0},null,null,{"$f":"K447","v":0},null,null,{"$f":"N447","v":0}]
[46,0,null,null,0,null,null,0,null,null,0,null,null,0]
[null,0,null,null,0,null,null,0,null,null,0,null,null,0]
[null,0,null,null,0,null,null,0,null,null,0,null,null,0]
[null,0,null,null,0,null,null,0,null,null,{"$f":"K451","v":0},null,null,0]
[null,0,null,null,0,null,null,0,null,null,0,null,null,0]
[]
[]
[null,null,{"$f":"'1-2a'!$C$465","v":0},null,null,{"$f":"'1-2a'!$F$465","v":0},null,null,{"$f":"'1-2a'!$I$465","v":0},null,null,{"$f":"'1-2a'!$L$465","v":0},null,null,{"$f":"'1-2a'!$O$465","v":0}]
[{"$f":"IF(A456=52,1,A456+1)","v":26},{"$f":"N456+3","v":"2021-06-21"},null,null,{"$f":"B466+1","v":"2021-06-22"},null,null,{"$f":"E466+1","v":"2021-06-23"},null,null,{"$f":"H466+1","v":"2021-06-24"},null,null,{"$f":"K466+1","v":"2021-06-25"}]
[null,{"$f":"B457","v":0},null,null,{"$f":"E457","v":0},null,null,{"$f":"H457","v":0},null,null,{"$f":"K457","v":0},null,null,{"$f":"N457","v":0}]
[47,0,null,null,0,null,null,0,null,null,0,null,null,0]
[null,0,null,null,0,null,null,0,null,null,0,null,null,0]
[null,0,null,null,0,null,null,0,null,null,0,null,null,0]
[null,0,null,null,0,null,null,0,null,null,{"$f":"K461","v":0},null,null,0]
[null,0,null,null,0,null,null,0,null,null,0,null,null,0]
[]
[]
[null,null,{"$f":"'1-2a'!$C$475","v":0},null,null,{"$f":"'1-2a'!$F$475","v":0},null,null,{"$f":"'1-2a'!$I$475","v":0},null,null,{"$f":"'1-2a'!$L$475","v":0},null,null,{"$f":"'1-2a'!$O$475","v":0}]
[{"$f":"IF(A466=52,1,A466+1)","v":27},{"$f":"N466+3","v":"2021-06-28"},null,null,{"$f":"B476+1","v":"2021-06-29"},null,null,{"$f":"E476+1","v":"2021-06-30"},null,null,{"$f":"H476+1","v":"2021-07-01"},null,null,{"$f":"K476+1","v":"2021-07-02"}]
[null,{"$f":"B467","v":0},null,null,{"$f":"E467","v":0},null,null,{"$f":"H467","v":0},null,null,{"$f":"K467","v":0},null,null,{"$f":"N467","v":0}]
[48,0,null,null,0,null,null,0,null,null,0,null,null,0]
[null,0,null,null,0,null,null,0,null,null,0,null,null,0]
[null,0,null,null,0,null,null,0,null,null,0,null,null,0]
[null,0,null,null,0,null,null,0,null,null,{"$f":"K471","v":0},null,null,0]
[null,0,null,null,0,null,null,0,null,null,0,null,null,0]
[]
[]
[null,null,{"$f":"'1-2a'!$C$485","v":0},null,null,{"$f":"'1-2a'!$F$485","v":0},null,null,{"$f":"'1-2a'!$I$485","v":0},null,null,{"$f":"'1-2a'!$L$485","v":0},null,null,{"$f":"'1-2a'!$O$485","v":0}]
[{"$f":"IF(A476=52,1,A476+1)","v":28},{"$f":"N476+3","v":"2021-07-05"},null,null,{"$f":"B486+1","v":"2021-07-06"},null,null,{"$f":"E486+1","v":"2021-07-07"},null,null,{"$f":"H486+1","v":"2021-07-08"},null,null,{"$f":"K486+1","v":"2021-07-09"}]
[null,{"$f":"B477","v":0},null,null,{"$f":"E477","v":0},null,null,{"$f":"H477","v":0},null,null,{"$f":"K477","v":0},null,null,{"$f":"N477","v":0}]
[49,0,null,null,0,null,null,0,null,null,0,null,null,0]
[null,0,null,null,0,null,null,0,null,null,0,null,null,0]
[null,0,null,null,0,null,null,0,null,null,0,null,null,0]
[null,0,null,null,0,null,null,0,null,null,0,null,null,0]
[null,0,null,null,0,null,null,0,null,null,0,null,null,0]
[]
[]
[null,null,{"$f":"'1-2a'!$C$495","v":0},null,null,{"$f":"'1-2a'!$F$495","v":0},null,null,{"$f":"'1-2a'!$I$495","v":0},null,null,{"$f":"'1-2a'!$L$495","v":0},null,null,{"$f":"'1-2a'!$O$495","v":0}]
[{"$f":"IF(A486=52,1,A486+1)","v":29},{"$f":"N486+3","v":"2021-07-12"},null,null,{"$f":"B496+1","v":"2021-07-13"},null,null,{"$f":"E496+1","v":"2021-07-14"},null,null,{"$f":"H496+1","v":"2021-07-15"},null,null,{"$f":"K496+1","v":"2021-07-16"}]
[null,{"$f":"B487","v":0},null,null,{"$f":"E487","v":0},null,null,{"$f":"H487","v":0},null,null,{"$f":"K487","v":0},null,null,{"$f":"N487","v":0}]
[50,0,null,null,0,null,null,0,null,null,0]
[null,0,null,null,0,null,null,0,null,null,0,null,null,0]
[null,0,null,null,0,null,null,0,null,null,0,null,null,0]
[null,0,null,null,0,null,null,0,null,null,{"$f":"K491","v":0},null,null,0]
[null,0,null,null,0,null,null,0,null,null,0]

{"sheet":"19","index":19,"n_rows":502,"n_cols":15,"rows_kept":502,"cut":false,"hidden":false,"merged":[[5,1,5,3],[5,4,5,6],[5,7,5,9],[5,10,5,12],[5,13,5,15],[7,0,8,0],[1,1,2,7],[1,9,2,12],[1,13,2,15],[3,1,3,3],[3,4,3,6],[3,7,3,9],[3,10,3,12],[3,13,3,15],[12,1,13,3],[12,4,13,6],[12,7,13,9],[12,10,13,12],[12,13,13,15],[15,1,15,3],[15,4,15,6],[15,7,15,9],[15,10,15,12],[15,13,15,15],[25,1,25,3],[25,4,25,6],[25,7,25,9],[25,10,25,12],[25,13,25,15],[27,0,28,0],[17,0,18,0],[22,1,23,3],[22,4,23,6],[22,7,23,9],[22,10,23,12],[22,13,23,15],[32,1,33,3],[32,4,33,6],[32,7,33,9],[32,10,33,12],[32,13,33,15],[35,1,35,3],[35,4,35,6],[35,7,35,9],[35,10,35,12],[35,13,35,15],[45,1,45,3],[45,4,45,6],[45,7,45,9],[45,10,45,12],[45,13,45,15],[47,0,48,0],[37,0,38,0],[42,1,43,3],[42,4,43,6],[42,7,43,9],[42,10,43,12],[42,13,43,15],[52,1,53,3],[52,4,53,6],[52,7,53,9],[52,10,53,12],[52,13,53,15],[55,1,55,3],[55,4,55,6],[55,7,55,9],[55,10,55,12],[55,13,55,15],[65,1,65,3],[65,4,65,6],[65,7,65,9],[65,10,65,12],[65,13,65,15],[67,0,68,0],[57,0,58,0],[62,1,63,3],[62,4,63,6],[62,7,63,9],[62,10,63,12],[62,13,63,15],[72,1,73,3],[72,4,73,6],[72,7,73,9],[72,10,73,12],[72,13,73,15],[75,1,75,3],[75,4,75,6],[75,7,75,9],[75,10,75,12],[75,13,75,15],[85,1,85,3],[85,4,85,6],[85,7,85,9],[85,10,85,12],[85,13,85,15],[87,0,88,0],[77,0,78,0],[82,1,83,3],[82,4,83,6],[82,7,83,9],[82,10,83,12],[82,13,83,15],[92,1,93,3],[92,4,93,6],[92,7,93,9],[92,10,93,12],[92,13,93,15],[95,1,95,3],[95,4,95,6],[95,7,95,9],[95,10,95,12],[95,13,95,15],[105,1,105,3],[105,4,105,6],[105,7,105,9],[105,10,105,12],[105,13,105,15],[107,0,108,0],[97,0,98,0],[99,16,100,19],[102,1,103,3],[102,4,103,6],[102,7,103,9],[102,10,103,12],[102,13,103,15],[112,1,113,3],[112,4,113,6],[112,7,113,9],[112,10,113,12],[112,13,113,15],[115,1,115,3],[115,4,115,6],[115,7,115,9],[115,10,115,12],[115,13,115,15],[125,1,125,3],[125,4,125,6],[125,7,125,9],[125,10,125,12],[125,13,125,15],[127,0,128,0],[117,0,118,0],[122,1,123,3],[122,4,123,6],[122,7,123,9],[122,10,123,12],[122,13,123,15],[132,1,133,3],[132,4,133,6],[132,7,133,9],[132,10,133,12],[132,13,133,15],[135,1,135,3],[135,4,135,6],[135,7,135,9],[135,10,135,12],[135,13,135,15],[145,1,145,3],[145,4,145,6],[145,7,145,9],[145,10,145,12],[145,13,145,15],[147,0,148,0],[137,0,138,0],[142,1,143,3],[142,4,143,6],[142,7,143,9],[142,10,143,12],[142,13,143,15],[152,1,153,3],[152,4,153,6],[152,7,153,9],[152,10,153,12],[152,13,153,15],[155,1,155,3],[155,4,155,6],[155,7,155,9],[155,10,155,12],[155,13,155,15],[165,1,165,3],[165,4,165,6],[165,7,165,9],[165,10,165,12],[165,13,165,15],[167,0,168,0],[157,0,158,0],[162,1,163,3],[162,4,163,6],[162,7,163,9],[162,10,163,12],[162,13,163,15],[172,1,173,3],[172,4,173,6],[172,7,173,9],[172,10,173,12],[172,13,173,15],[175,1,175,3],[175,4,175,6],[175,7,175,9],[175,10,175,12],[175,13,175,15],[185,1,185,3],[185,4,185,6],[185,7,185,9],[185,10,185,12],[185,13,185,15],[187,0,188,0],[177,0,178,0],[179,16,180,19],[182,1,183,3],[182,4,183,6],[182,7,183,9],[182,10,183,12],[182,13,183,15],[192,1,193,3],[192,4,193,6],[192,7,193,9],[192,10,193,12],[192,13,193,15],[195,1,195,3],[195,4,195,6],[195,7,195,9],[195,10,195,12],[195,13,195,15],[205,1,205,3],[205,4,205,6],[205,7,205,9],[205,10,205,12],[205,13,205,15],[207,0,208,0],[197,0,198,0],[202,1,203,3],[202,4,203,6],[202,7,203,9],[202,10,203,12],[202,13,203,15],[212,1,213,3],[212,4,213,6],[212,7,213,9],[212,10,213,12],[212,13,213,15],[215,1,215,3],[215,4,215,6],[215,7,215,9],[215,10,215,12],[215,13,215,15],[225,1,225,3],[225,4,225,6],[225,7,225,9],[225,10,225,12],[225,13,225,15],[227,0,228,0],[217,0,218,0],[222,1,223,3],[222,4,223,6],[222,7,223,9],[222,10,223,12],[222,13,223,15],[232,1,233,3],[232,4,233,6],[232,7,233,9],[232,10,233,12],[232,13,233,15],[235,1,235,3],[235,4,235,6],[235,7,235,9],[235,10,235,12],[235,13,235,15],[245,1,245,3],[245,4,245,6],[245,7,245,9],[245,10,245,12],[245,13,245,15],[247,0,248,0],[237,0,238,0],[242,1,243,3],[242,4,243,6],[242,7,243,9],[242,10,243,12],[242,13,243,15],[252,1,253,3],[252,4,253,6],[252,7,253,9],[252,10,253,12],[252,13,253,15],[255,1,255,3],[255,4,255,6],[255,7,255,9],[255,10,255,12],[255,13,255,15],[265,1,265,3],[265,4,265,6],[265,7,265,9],[265,10,265,12],[265,13,265,15],[267,0,268,0],[257,0,258,0],[259,16,260,19],[262,1,263,3],[262,4,263,6],[262,7,263,9],[262,10,263,12],[262,13,263,15],[272,1,273,3],[272,4,273,6],[272,7,273,9],[272,10,273,12],[272,13,273,15],[275,1,275,3],[275,4,275,6],[275,7,275,9],[275,10,275,12],[275,13,275,15],[285,1,285,3],[285,4,285,6],[285,7,285,9],[285,10,285,12],[285,13,285,15],[287,0,288,0],[277,0,278,0],[282,1,283,3],[282,4,283,6],[282,7,283,9],[282,10,283,12],[282,13,283,15],[292,1,293,3],[292,4,293,6],[292,7,293,9],[292,10,293,12],[292,13,293,15],[295,1,295,3],[295,4,295,6],[295,7,295,9],[295,10,295,12],[295,13,295,15],[305,1,305,3],[305,4,305,6],[305,7,305,9],[305,10,305,12],[305,13,305,15],[307,0,308,0],[297,0,298,0],[302,1,303,3],[302,4,303,6],[302,7,303,9],[302,10,303,12],[302,13,303,15],[312,1,313,3],[312,4,313,6],[312,7,313,9],[312,10,313,12],[312,13,313,15],[315,1,315,3],[315,4,315,6],[315,7,315,9],[315,10,315,12],[315,13,315,15],[325,1,325,3],[325,4,325,6],[325,7,325,9],[325,10,325,12],[325,13,325,15],[327,0,328,0],[317,0,318,0],[322,1,323,3],[322,4,323,6],[322,7,323,9],[322,10,323,12],[322,13,323,15],[332,1,333,3],[332,4,333,6],[332,7,333,9],[332,10,333,12],[332,13,333,15],[335,1,335,3],[335,4,335,6],[335,7,335,9],[335,10,335,12],[335,13,335,15],[345,1,345,3],[345,4,345,6],[345,7,345,9],[345,10,345,12],[345,13,345,15],[347,0,348,0],[337,0,338,0],[339,16,340,19],[342,1,343,3],[342,4,343,6],[342,7,343,9],[342,10,343,12],[342,13,343,15],[352,1,353,3],[352,4,353,6],[352,7,353,9],[352,10,353,12],[352,13,353,15],[355,1,355,3],[355,4,355,6],[355,7,355,9],[355,10,355,12],[355,13,355,15],[365,1,365,3],[365,4,365,6],[365,7,365,9],[365,10,365,12],[365,13,365,15],[367,0,368,0],[357,0,358,0],[362,1,363,3],[362,4,363,6],[362,7,363,9],[362,10,363,12],[362,13,363,15],[372,1,373,3],[372,4,373,6],[372,7,373,9],[372,10,373,12],[372,13,373,15],[375,1,375,3],[375,4,375,6],[375,7,375,9],[375,10,375,12],[375,13,375,15],[385,1,385,3],[385,4,385,6],[385,7,385,9],[385,10,385,12],[385,13,385,15],[387,0,388,0],[377,0,378,0],[382,1,383,3],[382,4,383,6],[382,7,383,9],[382,10,383,12],[382,13,383,15],[392,1,393,3],[392,4,393,6],[392,7,393,9],[392,10,393,12],[392,13,393,15],[395,1,395,3],[395,4,395,6],[395,7,395,9],[395,10,395,12],[395,13,395,15],[405,1,405,3],[405,4,405,6],[405,7,405,9],[405,10,405,12],[405,13,405,15],[407,0,408,0],[397,0,398,0],[402,1,403,3],[402,4,403,6],[402,7,403,9],[402,10,403,12],[402,13,403,15],[412,1,413,3],[412,4,413,6],[412,7,413,9],[412,10,413,12],[412,13,413,15],[415,1,415,3],[415,4,415,6],[415,7,415,9],[415,10,415,12],[415,13,415,15],[425,1,425,3],[425,4,425,6],[425,7,425,9],[425,10,425,12],[425,13,425,15],[427,0,428,0],[417,0,418,0],[419,16,420,19],[422,1,423,3],[422,4,423,6],[422,7,423,9],[422,10,423,12],[422,13,423,15],[432,1,433,3],[432,4,433,6],[432,7,433,9],[432,10,433,12],[432,13,433,15],[435,1,435,3],[435,4,435,6],[435,7,435,9],[435,10,435,12],[435,13,435,15],[445,1,445,3],[445,4,445,6],[445,7,445,9],[445,10,445,12],[445,13,445,15],[447,0,448,0],[437,0,438,0],[442,1,443,3],[442,4,443,6],[442,7,443,9],[442,10,443,12],[442,13,443,15],[452,1,453,3],[452,4,453,6],[452,7,453,9],[452,10,453,12],[452,13,453,15],[455,1,455,3],[455,4,455,6],[455,7,455,9],[455,10,455,12],[455,13,455,15],[465,1,465,3],[465,4,465,6],[465,7,465,9],[465,10,465,12],[465,13,465,15],[467,0,468,0],[457,0,458,0],[462,1,463,3],[462,4,463,6],[462,7,463,9],[462,10,463,12],[462,13,463,15],[472,1,473,3],[472,4,473,6],[472,7,473,9],[472,10,473,12],[472,13,473,15],[475,1,475,3],[475,4,475,6],[475,7,475,9],[475,10,475,12],[475,13,475,15],[485,1,485,3],[485,4,485,6],[485,7,485,9],[485,10,485,12],[485,13,485,15],[487,0,488,0],[477,0,478,0],[482,1,483,3],[482,4,483,6],[482,7,483,9],[482,10,483,12],[482,13,483,15],[497,0,498,0],[499,16,500,19],[502,1,503,3],[502,4,503,6],[502,7,503,9],[502,10,503,12],[502,13,503,15],[492,1,493,3],[492,4,493,6],[492,7,493,9],[492,10,493,12],[492,13,493,15],[495,1,495,3],[495,4,495,6],[495,7,495,9],[495,10,495,12],[495,13,495,15]]}
[]
[null,{"$f":"'1-2a'!B2:H3","v":"Basisschool De Grote Beer        schooljaar 2020/2021"},null,null,null,null,null,null,null,"Groepsplanner van groep:",null,null,null,"19"]
[]
[null,"maandag 1e schoolweek",null,null,"dinsdag",null,null,"woensdag",null,null,"donderdag",null,null,"vrijdag"]
[null,null,{"$f":"'1-2a'!C$5","v":0},null,null,{"$f":"'1-2a'!F5","v":0},null,null,{"$f":"'1-2a'!I$5","v":0},null,null,{"$f":"'1-2a'!L$5","v":"s"},null,null,{"$f":"'1-2a'!O$5","v":0}]
[{"$f":"(B6-WEEKDAY(B6-1)+4-(TRUNC(DATE(YEAR(B6-WEEKDAY(B6-1)+4),1,2)/7)*7-2))/7","v":32},{"$f":"'1-2a'!B6:D6","v":"2020-08-03"},null,null,{"$f":"B6+1","v":"2020-08-04"},null,null,{"$f":"E6+1","v":"2020-08-05"},null,null,{"$f":"H6+1","v":"2020-08-06"},null,null,{"$f":"K6+1","v":"2020-08-07"}]
[]
[1]
[]
[]
[]
[]
[]
[]
[null,null,{"$f":"'1-2a'!C$15","v":0},null,null,{"$f":"'1-2a'!F$15","v":0},null,null,{"$f":"'1-2a'!I$15","v":0},null,null,{"$f":"'1-2a'!L$15","v":0},null,null,{"$f":"'1-2a'!O15","v":0}]
[{"$f":"IF(A6=52,1,A6+1)","v":33},{"$f":"N6+3","v":"2020-08-10"},null,null,{"$f":"B16+1","v":"2020-08-11"},null,null,{"$f":"E16+1","v":"2020-08-12"},null,null,{"$f":"H16+1","v":"2020-08-13"},null,null,{"$f":"K16+1","v":"2020-08-14"}]
[null,{"$f":"B7","v":0},null,null,{"$f":"E7","v":0},null,null,{"$f":"H7","v":0},null,null,{"$f":"K7","v":0},null,null,{"$f":"N7","v":0}]
[2,0,null,null,0,null,null,0,null,null,0,null,null,0]
[null,0,null,null,0,null,null,0,null,null,0,null,null,0]
[null,0,null,null,0,null,null,0,null,null,0,null,null,0]
[null,0,null,null,0,null,null,0,null,null,0,null,null,0]
[null,0,null,null,0,null,null,0,null,null,0,null,null,0]
[]
[]
[null,null,{"$f":"'1-2a'!C$25","v":0},null,null,{"$f":"'1-2a'!F$25","v":0},null,null,{"$f":"'1-2a'!I25","v":0},null,null,{"$f":"'1-2a'!L25","v":0},null,null,{"$f":"'1-2a'!O25","v":0}]
[{"$f":"IF(A16=52,1,A16+1)","v":34},{"$f":"N16+3","v":"2020-08-17"},null,null,{"$f":"B26+1","v":"2020-08-18"},null,null,{"$f":"E26+1","v":"2020-08-19"},null,null,{"$f":"H26+1","v":"2020-08-20"},null,null,{"$f":"K26+1","v":"2020-08-21"}]
[null,{"$f":"B17","v":0},null,null,{"$f":"E17","v":0},null,null,{"$f":"H17","v":0},null,null,{"$f":"K17","v":0},null,null,{"$f":"N17","v":0}]
[3,0,null,null,0,null,null,0,null,null,0,null,null,0]
[null,0,null,null,0,null,null,0,null,null,0,null,null,0]
[null,0,null,null,0,null,null,0,null,null,0,null,null,0]
[null,0,null,null,0,null,null,0,null,null,{"$f":"K21","v":0},null,null,0]
[null,0,null,null,0,null,null,0,null,null,0,null,null,0]
[]
[]
[null,null,{"$f":"'1-2a'!$C$35","v":0},null,null,{"$f":"'1-2a'!$F$35","v":0},null,null,{"$f":"'1-2a'!$I$35","v":0},null,null,{"$f":"'1-2a'!$L$35","v":0},null,null,{"$f":"'1-2a'!$O$35","v":0}]
[{"$f":"IF(A26=52,1,A26+1)","v":35},{"$f":"N26+3","v":"2020-08-24"},null,null,{"$f":"B36+1","v":"2020-08-25"},null,null,{"$f":"E36+1","v":"2020-08-26"},null,null,{"$f":"H36+1","v":"2020-08-27"},null,null,{"$f":"K36+1","v":"2020-08-28"}]
[null,{"$f":"B27","v":0},null,null,{"$f":"E27","v":0},null,null,{"$f":"H27","v":0},null,null,{"$f":"K27","v":0},null,null,{"$f":"N27","v":0}]
[4,0,null,null,0,null,null,0,null,null,0,null,null,0]
[null,0,null,null,0,null,null,0,null,null,0,null,null,0]
[null,0,null,null,0,null,null,0,null,null,0,null,null,0]
[null,0,null,null,0,null,null,0,null,null,{"$f":"K31","v":0},null,null,0]
[null,0,null,null,0,null,null,0,null,null,0,null,null,0]
[]
[]
[null,null,{"$f":"'1-2a'!$C$45","v":0},null,null,{"$f":"'1-2a'!$F$45","v":0},null,null,{"$f":"'1-2a'!$I$45","v":0},null,null,{"$f":"'1-2a'!$L$45","v":0},null,null,{"$f":"'1-2a'!$O$45","v":0}]
[{"$f":"IF(A36=52,1,A36+1)","v":36},{"$f":"N36+3","v":"2020-08-31"},null,null,{"$f":"B46+1","v":"2020-09-01"},null,null,{"$f":"E46+1","v":"2020-09-02"},null,null,{"$f":"H46+1","v":"2020-09-03"},null,null,{"$f":"K46+1","v":"2020-09-04"}]
[null,{"$f":"B37","v":0},null,null,{"$f":"E37","v":0},null,null,{"$f":"H37","v":0},null,null,{"$f":"K37","v":0},null,null,{"$f":"N37","v":0}]
[5,0,null,null,0,null,null,0,null,null,0,null,null,0]
[null,0,null,null,0,null,null,0,null,null,0,null,null,0]
[null,0,null,null,0,null,null,0,null,null,0,null,null,0]
[null,0,null,null,0,null,null,0,null,null,{"$f":"K41","v":0},null,null,0]
[null,0,null,null,0,null,null,0,null,null,0,null,null,0]
[]
[]
[null,null,{"$f":"'1-2a'!$C$55","v":0},null,null,{"$f":"'1-2a'!$F$55","v":0},null,null,{"$f":"'1-2a'!$I$55","v":0},null,null,{"$f":"'1-2a'!$L$55","v":0},null,null,{"$f":"'1-2a'!O55","v":0}]
[{"$f":"IF(A46=52,1,A46+1)","v":37},{"$f":"N46+3","v":"2020-09-07"},null,null,{"$f":"B56+1","v":"2020-09-08"},null,null,{"$f":"E56+1","v":"2020-09-09"},null,null,{"$f":"H56+1","v":"2020-09-10"},null,null,{"$f":"K56+1","v":"2020-09-11"}]
[null,{"$f":"B47","v":0},null,null,{"$f":"E47","v":0},null,null,{"$f":"H47","v":0},null,null,{"$f":"K47","v":0},null,null,{"$f":"N47","v":0}]
[6,0,null,null,0,null,null,0,null,null,0,null,null,0]
[null,0,null,null,0,null,null,0,null,null,0,null,null,0]
[null,0,null,null,0,null,null,0,null,null,0,null,null,0]
[null,0,null,null,0,null,null,0,null,null,{"$f":"K51","v":0},null,null,0]
[null,0,null,null,0,null,null,0,null,null,0,null,null,0]
[]
[]
[null,null,{"$f":"'1-2a'!$C$65","v":0},null,null,{"$f":"'1-2a'!$F$65","v":0},null,null,{"$f":"'1-2a'!$I$65","v":0},null,null,{"$f":"'1-2a'!$L$65","v":0},null,null,{"$f":"'1-2a'!$O$65","v":0}]
[{"$f":"IF(A56=52,1,A56+1)","v":38},{"$f":"N56+3","v":"2020-09-14"},null,null,{"$f":"B66+1","v":"2020-09-15"},null,null,{"$f":"E66+1","v":"2020-09-16"},null,null,{"$f":"H66+1","v":"2020-09-17"},null,null,{"$f":"K66+1","v":"2020-09-18"}]
[null,{"$f":"B57","v":0},null,null,{"$f":"E57","v":0},null,null,{"$f":"H57","v":0},null,null,{"$f":"K57","v":0},null,null,{"$f":"N57","v":0}]
[7,0,null,null,0,null,null,0,null,null,0,null,null,0]
[null,0,null,null,0,null,null,0,null,null,0,null,null,0]
[null,0,null,null,0,null,null,0,null,null,0,null,null,0]
[null,0,null,null,0,null,null,0,null,null,{"$f":"K61","v":0},null,null,0]
[null,0,null,null,0,null,null,0,null,null,0,null,null,0]
[]
[]
[null,null,{"$f":"'1-2a'!$C$75","v":0},null,null,{"$f":"'1-2a'!$F$75","v":0},null,null,{"$f":"'1-2a'!$I$75","v":0},null,null,{"$f":"'1-2a'!$L$75","v":0},null,null,{"$f":"'1-2a'!$O$75","v":0}]
[{"$f":"IF(A66=52,1,A66+1)","v":39},{"$f":"N66+3","v":"2020-09-21"},null,null,{"$f":"B76+1","v":"2020-09-22"},null,null,{"$f":"E76+1","v":"2020-09-23"},null,null,{"$f":"H76+1","v":"2020-09-24"},null,null,{"$f":"K76+1","v":"2020-09-25"}]
[null,{"$f":"B67","v":0},null,null,{"$f":"E67","v":0},null,null,{"$f":"H67","v":0},null,null,{"$f":"K67","v":0},null,null,{"$f":"N67","v":0}]
[8,0,null,null,0,null,null,0,null,null,0,null,null,0]
[null,0,null,null,0,null,null,0,null,null,0,null,null,0]
[null,0,null,null,0,null,null,0,null,null,0,null,null,0]
[null,0,null,null,0,null,null,0,null,null,{"$f":"K71","v":0},null,null,0]
[null,0,null,null,0,null,null,0,null,null,0,null,null,0]
[]
[]
[null,null,{"$f":"'1-2a'!$C$85","v":0},null,null,{"$f":"'1-2a'!$F$85","v":0},null,null,{"$f":"'1-2a'!$I$85","v":0},null,null,{"$f":"'1-2a'!$L$85","v":0},null,null,{"$f":"'1-2a'!$O$85","v":0}]
[{"$f":"IF(A76=52,1,A76+1)","v":40},{"$f":"N76+3","v":"2020-09-28"},null,null,{"$f":"B86+1","v":"2020-09-29"},null,null,{"$f":"E86+1","v":"2020-09-30"},null,null,{"$f":"H86+1","v":"2020-10-01"},null,null,{"$f":"K86+1","v":"2020-10-02"}]
[null,{"$f":"B77","v":0},null,null,{"$f":"E77","v":0},null,null,{"$f":"H77","v":0},null,null,{"$f":"K77","v":0},null,null,{"$f":"N77","v":0}]
[9,0,null,null,0,null,null,0,null,null,0,null,null,0]
[null,0,null,null,0,null,null,0,null,null,0,null,null,0]
[null,0,null,null,0,null,null,0,null,null,0,null,null,0]
[null,0,null,null,0,null,null,0,null,null,0,null,null,0]
[null,0,null,null,0,null,null,0,null,null,0,null,null,0]
[]
[]
[null,null,{"$f":"'1-2a'!$C$95","v":0},null,null,{"$f":"'1-2a'!$F$95","v":0},null,null,{"$f":"'1-2a'!$I$95","v":0},null,null,{"$f":"'1-2a'!$L$95","v":0},null,null,{"$f":"'1-2a'!$O$95","v":0}]
[{"$f":"IF(A86=52,1,A86+1)","v":41},{"$f":"N86+3","v":"2020-10-05"},null,null,{"$f":"B96+1","v":"2020-10-06"},null,null,{"$f":"E96+1","v":"2020-10-07"},null,null,{"$f":"H96+1","v":"2020-10-08"},null,null,{"$f":"K96+1","v":"2020-10-09"}]
[null,{"$f":"B87","v":0},null,null,{"$f":"E87","v":0},null,null,{"$f":"H87","v":0},null,null,{"$f":"K87","v":0},null,null,{"$f":"N87","v":0}]
[10,0,null,null,0,null,null,0,null,null,0,null,null,0]
[null,0,null,null,0,null,null,0,null,null,0,null,null,0]
[null,0,null,null,0,null,null,0,null,null,0,null,null,0]
[null,0,null,null,0,null,null,0,null,null,{"$f":"K91","v":0},null,null,0]
[null,0,null,null,0,null,null,0,null,null,0,null,null,0]
[]
[]
[null,null,{"$f":"'1-2a'!$C$105","v":0},null,null,{"$f":"'1-2a'!$F$105","v":0},null,null,{"$f":"'1-2a'!$I$105","v":0},null,null,{"$f":"'1-2a'!$L$105","v":0},null,null,{"$f":"'1-2a'!$O$105","v":0}]
[{"$f":"IF(A96=52,1,A96+1)","v":42},{"$f":"N96+3","v":"2020-10-12"},null,null,{"$f":"B106+1","v":"2020-10-13"},null,null,{"$f":"E106+1","v":"2020-10-14"},null,null,{"$f":"H106+1","v":"2020-10-15"},null,null,{"$f":"K106+1","v":"2020-10-16"}]
[null,{"$f":"B97","v":0},null,null,{"$f":"E97","v":0},null,null,{"$f":"H97","v":0},null,null,{"$f":"K97","v":0},null,null,{"$f":"N97","v":0}]
[11,0,null,null,0,null,null,0,null,null,0,null,null,0]
[null,0,null,null,0,null,null,0,null,null,0,null,null,0]
[null,0,null,null,0,null,null,0,null,null,0,null,null,0]
[null,0,null,null,0,null,null,0,null,null,{"$f":"K101","v":0},null,null,0]
[null,0,null,null,0,null,null,0,null,null,0,null,null,0]
[]
[]
[null,null,{"$f":"'1-2a'!$C$115","v":0},null,null,{"$f":"'1-2a'!$F$115","v":0},null,null,{"$f":"'1-2a'!$I$115","v":0},null,null,{"$f":"'1-2a'!$L$115","v":0},null,null,{"$f":"'1-2a'!$O$115","v":0}]
[{"$f":"IF(A106=52,1,A106+1)","v":43},{"$f":"N106+3","v":"2020-10-19"},null,null,{"$f":"B116+1","v":"2020-10-20"},null,null,{"$f":"E116+1","v":"2020-10-21"},null,null,{"$f":"H116+1","v":"2020-10-22"},null,null,{"$f":"K116+1","v":"2020-10-23"}]
[null,{"$f":"B107","v":0},null,null,{"$f":"E107","v":0},null,null,{"$f":"H107","v":0},null,null,{"$f":"K107","v":0},null,null,{"$f":"N107","v":0}]
[12,0,null,null,0,null,null,0,null,null,0,null,null,0]
[null,0,null,null,0,null,null,0,null,null,0,null,null,0]
[null,0,null,null,0,null,null,0,null,null,0,null,null,0]
[null,0,null,null,0,null,null,0,null,null,{"$f":"K111","v":0},null,null,0]
[null,0,null,null,0,null,null,0,null,null,0,null,null,0]
[]
[]
[null,null,{"$f":"'1-2a'!$C$125","v":0},null,null,{"$f":"'1-2a'!$F$125","v":0},null,null,{"$f":"'1-2a'!$I$125","v":0},null,null,{"$f":"'1-2a'!$L$125","v":0},null,null,{"$f":"'1-2a'!$O$125","v":0}]
[{"$f":"IF(A116=52,1,A116+1)","v":44},{"$f":"N116+3","v":"2020-10-26"},null,null,{"$f":"B126+1","v":"2020-10-27"},null,null,{"$f":"E126+1","v":"2020-10-28"},null,null,{"$f":"H126+1","v":"2020-10-29"},null,null,{"$f":"K126+1","v":"2020-10-30"}]
[null,{"$f":"B117","v":0},null,null,{"$f":"E117","v":0},null,null,{"$f":"H117","v":0},null,null,{"$f":"K117","v":0},null,null,{"$f":"N117","v":0}]
[13,0,null,null,0,null,null,0,null,null,0,null,null,0]
[null,0,null,null,0,null,null,0,null,null,0,null,null,0]
[null,0,null,null,0,null,null,0,null,null,0,null,null,0]
[null,0,null,null,0,null,null,0,null,null,{"$f":"K121","v":0},null,null,0]
[null,0,null,null,0,null,null,0,null,null,0,null,null,0]
[]
[]
[null,null,{"$f":"'1-2a'!$C$135","v":0},null,null,{"$f":"'1-2a'!$F$135","v":0},null,null,{"$f":"'1-2a'!$I$135","v":0},null,null,{"$f":"'1-2a'!$L$135","v":0},null,null,{"$f":"'1-2a'!$O$135","v":0}]
[{"$f":"IF(A126=52,1,A126+1)","v":45},{"$f":"N126+3","v":"2020-11-02"},null,null,{"$f":"B136+1","v":"2020-11-03"},null,null,{"$f":"E136+1","v":"2020-11-04"},null,null,{"$f":"H136+1","v":"2020-11-05"},null,null,{"$f":"K136+1","v":"2020-11-06"}]
[null,{"$f":"B127","v":0},null,null,{"$f":"E127","v":0},null,null,{"$f":"H127","v":0},null,null,{"$f":"K127","v":0},null,null,{"$f":"N127","v":0}]
[14,0,null,null,0,null,null,0,null,null,0,null,null,0]
[null,0,null,null,0,null,null,0,null,null,0,null,null,0]
[null,0,null,null,0,null,null,0,null,null,0,null,null,0]
[null,0,null,null,0,null,null,0,null,null,{"$f":"K131","v":0},null,null,0]
[null,0,null,null,0,null,null,0,null,null,0,null,null,0]
[]
[]
[null,null,{"$f":"'1-2a'!$C$145","v":0},null,null,{"$f":"'1-2a'!$F$145","v":0},null,null,{"$f":"'1-2a'!$I$145","v":0},null,null,{"$f":"'1-2a'!$L$145","v":0},null,null,{"$f":"'1-2a'!$O$145","v":0}]
[{"$f":"IF(A136=52,1,A136+1)","v":46},{"$f":"N136+3","v":"2020-11-09"},null,null,{"$f":"B146+1","v":"2020-11-10"},null,null,{"$f":"E146+1","v":"2020-11-11"},null,null,{"$f":"H146+1","v":"2020-11-12"},null,null,{"$f":"K146+1","v":"2020-11-13"}]
[null,{"$f":"B137","v":0},null,null,{"$f":"E137","v":0},null,null,{"$f":"H137","v":0},null,null,{"$f":"K137","v":0},null,null,{"$f":"N137","v":0}]
[15,0,null,null,0,null,null,0,null,null,0,null,null,0]
[null,0,null,null,0,null,null,0,null,null,0,null,null,0]
[null,0,null,null,0,null,null,0,null,null,0,null,null,0]
[null,0,null,null,0,null,null,0,null,null,{"$f":"K141","v":0},null,null,0]
[null,0,null,null,0,null,null,0,null,null,0,null,null,0]
[]
[]
[null,null,{"$f":"'1-2a'!$C$155","v":0},null,null,{"$f":"'1-2a'!$F$155","v":0},null,null,{"$f":"'1-2a'!$I$155","v":0},null,null,{"$f":"'1-2a'!$L$155","v":0},null,null,{"$f":"'1-2a'!$O$155","v":0}]
[{"$f":"IF(A146=52,1,A146+1)","v":47},{"$f":"N146+3","v":"2020-11-16"},null,null,{"$f":"B156+1","v":"2020-11-17"},null,null,{"$f":"E156+1","v":"2020-11-18"},null,null,{"$f":"H156+1","v":"2020-11-19"},null,null,{"$f":"K156+1","v":"2020-11-20"}]
[null,{"$f":"B147","v":0},null,null,{"$f":"E147","v":0},null,null,{"$f":"H147","v":0},null,null,{"$f":"K147","v":0},null,null,{"$f":"N147","v":0}]
[16,0,null,null,0,null,null,0,null,null,0,null,null,0]
[null,0,null,null,0,null,null,0,null,null,0,null,null,0]
[null,0,null,null,0,null,null,0,null,null,0,null,null,0]
[null,0,null,null,0,null,null,0,null,null,{"$f":"K151","v":0},null,null,0]
[null,0,null,null,0,null,null,0,null,null,0,null,null,0]
[]
[]
[null,null,{"$f":"'1-2a'!$C$165","v":0},null,null,{"$f":"'1-2a'!$F$165","v":0},null,null,{"$f":"'1-2a'!$I$165","v":0},null,null,{"$f":"'1-2a'!$L$165","v":0},null,null,{"$f":"'1-2a'!$O$165","v":0}]
[{"$f":"IF(A156=52,1,A156+1)","v":48},{"$f":"N156+3","v":"2020-11-23"},null,null,{"$f":"B166+1","v":"2020-11-24"},null,null,{"$f":"E166+1","v":"2020-11-25"},null,null,{"$f":"H166+1","v":"2020-11-26"},null,null,{"$f":"K166+1","v":"2020-11-27"}]
[null,{"$f":"B157","v":0},null,null,{"$f":"E157","v":0},null,null,{"$f":"H157","v":0},null,null,{"$f":"K157","v":0},null,null,{"$f":"N157","v":0}]
[17,0,null,null,0,null,null,0,null,null,0,null,null,0]
[null,0,null,null,0,null,null,0,null,null,0,null,null,0]
[null,0,null,null,0,null,null,0,null,null,0,null,null,0]
[null,0,null,null,0,null,null,0,null,null,0,null,null,0]
[null,0,null,null,0,null,null,0,null,null,0,null,null,0]
[]
[]
[null,null,{"$f":"'1-2a'!$C$175","v":0},null,null,{"$f":"'1-2a'!$F$175","v":0},null,null,{"$f":"'1-2a'!$I$175","v":0},null,null,{"$f":"'1-2a'!$L$175","v":0},null,null,{"$f":"'1-2a'!$O$175","v":0}]
[{"$f":"IF(A166=52,1,A166+1)","v":49},{"$f":"N166+3","v":"2020-11-30"},null,null,{"$f":"B176+1","v":"2020-12-01"},null,null,{"$f":"E176+1","v":"2020-12-02"},null,null,{"$f":"H176+1","v":"2020-12-03"},null,null,{"$f":"K176+1","v":"2020-12-04"}]
[null,{"$f":"B167","v":0},null,null,{"$f":"E167","v":0},null,null,{"$f":"H167","v":0},null,null,{"$f":"K167","v":0},null,null,{"$f":"N167","v":0}]
[18,0,null,null,0,null,null,0,null,null,0,null,null,0]
[null,0,null,null,0,null,null,0,null,null,0,null,null,0]
[null,0,null,null,0,null,null,0,null,null,0,null,null,0]
[null,0,null,null,0,null,null,0,null,null,{"$f":"K171","v":0},null,null,0]
[null,0,null,null,0,null,null,0,null,null,0,null,null,0]
[]
[]
[null,null,{"$f":"'1-2a'!$C$185","v":0},null,null,{"$f":"'1-2a'!$F$185","v":0},null,null,{"$f":"'1-2a'!$I$185","v":0},null,null,{"$f":"'1-2a'!$L$185","v":0},null,null,{"$f":"'1-2a'!$O$185","v":0}]
[{"$f":"IF(A176=52,1,A176+1)","v":50},{"$f":"N176+3","v":"2020-12-07"},null,null,{"$f":"B186+1","v":"2020-12-08"},null,null,{"$f":"E186+1","v":"2020-12-09"},null,null,{"$f":"H186+1","v":"2020-12-10"},null,null,{"$f":"K186+1","v":"2020-12-11"}]
[null,{"$f":"B177","v":0},null,null,{"$f":"E177","v":0},null,null,{"$f":"H177","v":0},null,null,{"$f":"K177","v":0},null,null,{"$f":"N177","v":0}]
[19,0,null,null,0,null,null,0,null,null,0,null,null,0]
[null,0,null,null,0,null,null,0,null,null,0,null,null,0]
[null,0,null,null,0,null,null,0,null,null,0,null,null,0]
[null,0,null,null,0,null,null,0,null,null,{"$f":"K181","v":0},null,null,0]
[null,0,null,null,0,null,null,0,null,null,0,null,null,0]
[]
[]
[null,null,{"$f":"'1-2a'!$C$195","v":0},null,null,{"$f":"'1-2a'!$F$195","v":0},null,null,{"$f":"'1-2a'!$I$195","v":0},null,null,{"$f":"'1-2a'!$L$195","v":0},null,null,{"$f":"'1-2a'!$O$195","v":0}]
[{"$f":"IF(A186=52,1,A186+1)","v":51},{"$f":"N186+3","v":"2020-12-14"},null,null,{"$f":"B196+1","v":"2020-12-15"},null,null,{"$f":"E196+1","v":"2020-12-16"},null,null,{"$f":"H196+1","v":"2020-12-17"},null,null,{"$f":"K196+1","v":"2020-12-18"}]
[null,{"$f":"B187","v":0},null,null,{"$f":"E187","v":0},null,null,{"$f":"H187","v":0},null,null,{"$f":"K187","v":0},null,null,{"$f":"N187","v":0}]
[20,0,null,null,0,null,null,0,null,null,0,null,null,0]
[null,0,null,null,0,null,null,0,null,null,0,null,null,0]
[null,0,null,null,0,null,null,0,null,null,0,null,null,0]
[null,0,null,null,0,null,null,0,null,null,{"$f":"K191","v":0},null,null,0]
[null,0,null,null,0,null,null,0,null,null,0,null,null,0]
[]
[]
[null,null,{"$f":"'1-2a'!$C$205","v":0},null,null,{"$f":"'1-2a'!$F$205","v":0},null,null,{"$f":"'1-2a'!$I$205","v":0},null,null,{"$f":"'1-2a'!$L$205","v":0},null,null,{"$f":"'1-2a'!$O$205","v":0}]
[{"$f":"IF(A196=52,1,A196+1)","v":52},{"$f":"N196+3","v":"2020-12-21"},null,null,{"$f":"B206+1","v":"2020-12-22"},null,null,{"$f":"E206+1","v":"2020-12-23"},null,null,{"$f":"H206+1","v":"2020-12-24"},null,null,{"$f":"K206+1","v":"2020-12-25"}]
[null,{"$f":"B197","v":0},null,null,{"$f":"E197","v":0},null,null,{"$f":"H197","v":0},null,null,{"$f":"K197","v":0},null,null,{"$f":"N197","v":0}]
[21,0,null,null,0,null,null,0,null,null,0,null,null,0]
[null,0,null,null,0,null,null,0,null,null,0,null,null,0]
[null,0,null,null,0,null,null,0,null,null,0,null,null,0]
[null,0,null,null,0,null,null,0,null,null,{"$f":"K201","v":0},null,null,0]
[null,0,null,null,0,null,null,0,null,null,0,null,null,0]
[]
[]
[null,null,{"$f":"'1-2a'!$C$215","v":0},null,null,{"$f":"'1-2a'!$F$215","v":0},null,null,{"$f":"'1-2a'!$I$215","v":0},null,null,{"$f":"'1-2a'!$L$215","v":0},null,null,{"$f":"'1-2a'!$O$215","v":0}]
[{"$f":"IF(A206=52,1,A206+1)","v":1},{"$f":"N206+3","v":"2020-12-28"},null,null,{"$f":"B216+1","v":"2020-12-29"},null,null,{"$f":"E216+1","v":"2020-12-30"},null,null,{"$f":"H216+1","v":"2020-12-31"},null,null,{"$f":"K216+1","v":"2021-01-01"}]
[null,{"$f":"B207","v":0},null,null,{"$f":"E207","v":0},null,null,{"$f":"H207","v":0},null,null,{"$f":"K207","v":0},null,null,{"$f":"N207","v":0}]
[22,0,null,null,0,null,null,0,null,null,0,null,null,0]
[null,0,null,null,0,null,null,0,null,null,0,null,null,0]
[null,0,null,null,0,null,null,0,null,null,0,null,null,0]
[null,0,null,null,0,null,null,0,null,null,{"$f":"K211","v":0},null,null,0]
[null,0,null,null,0,null,null,0,null,null,0,null,null,0]
[]
[]
[null,null,{"$f":"'1-2a'!$C$225","v":0},null,null,{"$f":"'1-2a'!$F$225","v":0},null,null,{"$f":"'1-2a'!$I$225","v":0},null,null,{"$f":"'1-2a'!$L$225","v":0},null,null,{"$f":"'1-2a'!$O$225","v":0}]
[{"$f":"IF(A216=52,1,A216+1)","v":2},{"$f":"N216+3","v":"2021-01-04"},null,null,{"$f":"B226+1","v":"2021-01-05"},null,null,{"$f":"E226+1","v":"2021-01-06"},null,null,{"$f":"H226+1","v":"2021-01-07"},null,null,{"$f":"K226+1","v":"2021-01-08"}]
[null,{"$f":"B217","v":0},null,null,{"$f":"E217","v":0},null,null,{"$f":"H217","v":0},null,null,{"$f":"K217","v":0},null,null,{"$f":"N217","v":0}]
[23,0,null,null,0,null,null,0,null,null,0,null,null,0]
[null,0,null,null,0,null,null,0,null,null,0,null,null,0]
[null,0,null,null,0,null,null,0,null,null,0,null,null,0]
[null,0,null,null,0,null,null,0,null,null,{"$f":"K221","v":0},null,null,0]
[null,0,null,null,0,null,null,0,null,null,0,null,null,0]
[]
[]
[null,null,{"$f":"'1-2a'!$C$235","v":0},null,null,{"$f":"'1-2a'!$F$235","v":0},null,null,{"$f":"'1-2a'!$I$235","v":0},null,null,{"$f":"'1-2a'!$L$235","v":0},null,null,{"$f":"'1-2a'!$O$235","v":0}]
[{"$f":"IF(A226=52,1,A226+1)","v":3},{"$f":"N226+3","v":"2021-01-11"},null,null,{"$f":"B236+1","v":"2021-01-12"},null,null,{"$f":"E236+1","v":"2021-01-13"},null,null,{"$f":"H236+1","v":"2021-01-14"},null,null,{"$f":"K236+1","v":"2021-01-15"}]
[null,{"$f":"B227","v":0},null,null,{"$f":"E227","v":0},null,null,{"$f":"H227","v":0},null,null,{"$f":"K227","v":0},null,null,{"$f":"N227","v":0}]
[24,0,null,null,0,null,null,0,null,null,0,null,null,0]
[null,0,null,null,0,null,null,0,null,null,0,null,null,0]
[null,0,null,null,0,null,null,0,null,null,0,null,null,0]
[null,0,null,null,0,null,null,0,null,null,{"$f":"K231","v":0},null,null,0]
[null,0,null,null,0,null,null,0,null,null,0,null,null,0]
[]
[]
[null,null,{"$f":"'1-2a'!$C$245","v":0},null,null,{"$f":"'1-2a'!$F$245","v":0},null,null,{"$f":"'1-2a'!$I$245","v":0},null,null,{"$f":"'1-2a'!$L$245","v":0},null,null,{"$f":"'1-2a'!$O$245","v":0}]
[{"$f":"IF(A236=52,1,A236+1)","v":4},{"$f":"N236+3","v":"2021-01-18"},null,null,{"$f":"B246+1","v":"2021-01-19"},null,null,{"$f":"E246+1","v":"2021-01-20"},null,null,{"$f":"H246+1","v":"2021-01-21"},null,null,{"$f":"K246+1","v":"2021-01-22"}]
[null,{"$f":"B237","v":0},null,null,{"$f":"E237","v":0},null,null,{"$f":"H237","v":0},null,null,{"$f":"K237","v":0},null,null,{"$f":"N237","v":0}]
[25,0,null,null,0,null,null,0,null,null,0,null,null,0]
[null,0,null,null,0,null,null,0,null,null,0,null,null,0]
[null,0,null,null,0,null,null,0,null,null,0,null,null,0]
[null,0,null,null,0,null,null,0,null,null,0,null,null,0]
[null,0,null,null,0,null,null,0,null,null,0,null,null,0]
[]
[]
[null,null,{"$f":"'1-2a'!$C$255","v":0},null,null,{"$f":"'1-2a'!$F$255","v":0},null,null,{"$f":"'1-2a'!$I$255","v":0},null,null,{"$f":"'1-2a'!$L$255","v":0},null,null,{"$f":"'1-2a'!$O$255","v":0}]
[{"$f":"IF(A246=52,1,A246+1)","v":5},{"$f":"N246+3","v":"2021-01-25"},null,null,{"$f":"B256+1","v":"2021-01-26"},null,null,{"$f":"E256+1","v":"2021-01-27"},null,null,{"$f":"H256+1","v":"2021-01-28"},null,null,{"$f":"K256+1","v":"2021-01-29"}]
[null,{"$f":"B247","v":0},null,null,{"$f":"E247","v":0},null,null,{"$f":"H247","v":0},null,null,{"$f":"K247","v":0},null,null,{"$f":"N247","v":0}]
[26,0,null,null,0,null,null,0,null,null,0,null,null,0]
[null,0,null,null,0,null,null,0,null,null,0,null,null,0]
[null,0,null,null,0,null,null,0,null,null,0,null,null,0]
[null,0,null,null,0,null,null,0,null,null,{"$f":"K251","v":0},null,null,0]
[null,0,null,null,0,null,null,0,null,null,0,null,null,0]
[]
[]
[null,null,{"$f":"'1-2a'!$C$265","v":0},null,null,{"$f":"'1-2a'!$F$265","v":0},null,null,{"$f":"'1-2a'!$I$265","v":0},null,null,{"$f":"'1-2a'!$L$265","v":0},null,null,{"$f":"'1-2a'!$O$265","v":0}]
[{"$f":"IF(A256=52,1,A256+1)","v":6},{"$f":"N256+3","v":"2021-02-01"},null,null,{"$f":"B266+1","v":"2021-02-02"},null,null,{"$f":"E266+1","v":"2021-02-03"},null,null,{"$f":"H266+1","v":"2021-02-04"},null,null,{"$f":"K266+1","v":"2021-02-05"}]
[null,{"$f":"B257","v":0},null,null,{"$f":"E257","v":0},null,null,{"$f":"H257","v":0},null,null,{"$f":"K257","v":0},null,null,{"$f":"N257","v":0}]
[27,0,null,null,0,null,null,0,null,null,0,null,null,0]
[null,0,null,null,0,null,null,0,null,null,0,null,null,0]
[null,0,null,null,0,null,null,0,null,null,0,null,null,0]
[null,0,null,null,0,null,null,0,null,null,{"$f":"K261","v":0},null,null,0]
[null,0,null,null,0,null,null,0,null,null,0,null,null,0]
[]
[]
[null,null,{"$f":"'1-2a'!$C$275","v":0},null,null,{"$f":"'1-2a'!$F$275","v":0},null,null,{"$f":"'1-2a'!$I$275","v":0},null,null,{"$f":"'1-2a'!$L$275","v":0},null,null,{"$f":"'1-2a'!$O$275","v":0}]
[{"$f":"IF(A266=52,1,A266+1)","v":7},{"$f":"N266+3","v":"2021-02-08"},null,null,{"$f":"B276+1","v":"2021-02-09"},null,null,{"$f":"E276+1","v":"2021-02-10"},null,null,{"$f":"H276+1","v":"2021-02-11"},null,null,{"$f":"K276+1","v":"2021-02-12"}]
[null,{"$f":"B267","v":0},null,null,{"$f":"E267","v":0},null,null,{"$f":"H267","v":0},null,null,{"$f":"K267","v":0},null,null,{"$f":"N267","v":0}]
[28,0,null,null,0,null,null,0,null,null,0,null,null,0]
[null,0,null,null,0,null,null,0,null,null,0,null,null,0]
[null,0,null,null,0,null,null,0,null,null,0,null,null,0]
[null,0,null,null,0,null,null,0,null,null,{"$f":"K271","v":0},null,null,0]
[null,0,null,null,0,null,null,0,null,null,0,null,null,0]
[]
[]
[null,null,{"$f":"'1-2a'!$C$285","v":0},null,null,{"$f":"'1-2a'!$F$285","v":0},null,null,{"$f":"'1-2a'!$I$285","v":0},null,null,{"$f":"'1-2a'!$L$285","v":0},null,null,{"$f":"'1-2a'!$O$285","v":0}]
[{"$f":"IF(A276=52,1,A276+1)","v":8},{"$f":"N276+3","v":"2021-02-15"},null,null,{"$f":"B286+1","v":"2021-02-16"},null,null,{"$f":"E286+1","v":"2021-02-17"},null,null,{"$f":"H286+1","v":"2021-02-18"},null,null,{"$f":"K286+1","v":"2021-02-19"}]
[null,{"$f":"B277","v":0},null,null,{"$f":"E277","v":0},null,null,{"$f":"H277","v":0},null,null,{"$f":"K277","v":0},null,null,{"$f":"N277","v":0}]
[29,0,null,null,0,null,null,0,null,null,0,null,null,0]
[null,0,null,null,0,null,null,0,null,null,0,null,null,0]
[null,0,null,null,0,null,null,0,null,null,0,null,null,0]
[null,0,null,null,0,null,null,0,null,null,{"$f":"K281","v":0},null,null,0]
[null,0,null,null,0,null,null,0,null,null,0,null,null,0]
[]
[]
[null,null,{"$f":"'1-2a'!$C$295","v":0},null,null,{"$f":"'1-2a'!$F$295","v":0},null,null,{"$f":"'1-2a'!$I$295","v":0},null,null,{"$f":"'1-2a'!$L$295","v":0},null,null,{"$f":"'1-2a'!$O$295","v":0}]
[{"$f":"IF(A286=52,1,A286+1)","v":9},{"$f":"N286+3","v":"2021-02-22"},null,null,{"$f":"B296+1","v":"2021-02-23"},null,null,{"$f":"E296+1","v":"2021-02-24"},null,null,{"$f":"H296+1","v":"2021-02-25"},null,null,{"$f":"K296+1","v":"2021-02-26"}]
[null,{"$f":"B287","v":0},null,null,{"$f":"E287","v":0},null,null,{"$f":"H287","v":0},null,null,{"$f":"K287","v":0},null,null,{"$f":"N287","v":0}]
[30,0,null,null,0,null,null,0,null,null,0,null,null,0]
[null,0,null,null,0,null,null,0,null,null,0,null,null,0]
[null,0,null,null,0,null,null,0,null,null,0,null,null,0]
[null,0,null,null,0,null,null,0,null,null,{"$f":"K291","v":0},null,null,0]
[null,0,null,null,0,null,null,0,null,null,0,null,null,0]
[]
[]
[null,null,{"$f":"'1-2a'!$C$305","v":0},null,null,{"$f":"'1-2a'!$F$305","v":0},null,null,{"$f":"'1-2a'!$I$305","v":0},null,null,{"$f":"'1-2a'!$L$305","v":0},null,null,{"$f":"'1-2a'!$O$305","v":0}]
[{"$f":"IF(A296=52,1,A296+1)","v":10},{"$f":"N296+3","v":"2021-03-01"},null,null,{"$f":"B306+1","v":"2021-03-02"},null,null,{"$f":"E306+1","v":"2021-03-03"},null,null,{"$f":"H306+1","v":"2021-03-04"},null,null,{"$f":"K306+1","v":"2021-03-05"}]
[null,{"$f":"B297","v":0},null,null,{"$f":"E297","v":0},null,null,{"$f":"H297","v":0},null,null,{"$f":"K297","v":0},null,null,{"$f":"N297","v":0}]
[31,0,null,null,0,null,null,0,null,null,0,null,null,0]
[null,0,null,null,0,null,null,0,null,null,0,null,null,0]
[null,0,null,null,0,null,null,0,null,null,0,null,null,0]
[null,0,null,null,0,null,null,0,null,null,{"$f":"K301","v":0},null,null,0]
[null,0,null,null,0,null,null,0,null,null,0,null,null,0]
[]
[]
[null,null,{"$f":"'1-2a'!$C$315","v":0},null,null,{"$f":"'1-2a'!$F$315","v":0},null,null,{"$f":"'1-2a'!$I$315","v":0},null,null,{"$f":"'1-2a'!$L$315","v":0},null,null,{"$f":"'1-2a'!$O$315","v":0}]
[{"$f":"IF(A306=52,1,A306+1)","v":11},{"$f":"N306+3","v":"2021-03-08"},null,null,{"$f":"B316+1","v":"2021-03-09"},null,null,{"$f":"E316+1","v":"2021-03-10"},null,null,{"$f":"H316+1","v":"2021-03-11"},null,null,{"$f":"K316+1","v":"2021-03-12"}]
[null,{"$f":"B307","v":0},null,null,{"$f":"E307","v":0},null,null,{"$f":"H307","v":0},null,null,{"$f":"K307","v":0},null,null,{"$f":"N307","v":0}]
[32,0,null,null,0,null,null,0,null,null,0,null,null,0]
[null,0,null,null,0,null,null,0,null,null,0,null,null,0]
[null,0,null,null,0,null,null,0,null,null,0,null,null,0]
[null,0,null,null,0,null,null,0,null,null,{"$f":"K311","v":0},null,null,0]
[null,0,null,null,0,null,null,0,null,null,0,null,null,0]
[]
[]
[null,null,{"$f":"'1-2a'!$C$325","v":0},null,null,{"$f":"'1-2a'!$F$325","v":0},null,null,{"$f":"'1-2a'!$I$325","v":0},null,null,{"$f":"'1-2a'!$L$325","v":0},null,null,{"$f":"'1-2a'!$O$325","v":0}]
[{"$f":"IF(A316=52,1,A316+1)","v":12},{"$f":"N316+3","v":"2021-03-15"},null,null,{"$f":"B326+1","v":"2021-03-16"},null,null,{"$f":"E326+1","v":"2021-03-17"},null,null,{"$f":"H326+1","v":"2021-03-18"},null,null,{"$f":"K326+1","v":"2021-03-19"}]
[null,{"$f":"B317","v":0},null,null,{"$f":"E317","v":0},null,null,{"$f":"H317","v":0},null,null,{"$f":"K317","v":0},null,null,{"$f":"N317","v":0}]
[33,0,null,null,0,null,null,0,null,null,0,null,null,0]
[null,0,null,null,0,null,null,0,null,null,0,null,null,0]
[null,0,null,null,0,null,null,0,null,null,0,null,null,0]
[null,0,null,null,0,null,null,0,null,null,0,null,null,0]
[null,0,null,null,0,null,null,0,null,null,0,null,null,0]
[]
[]
[null,null,{"$f":"'1-2a'!$C$335","v":0},null,null,{"$f":"'1-2a'!$F$335","v":0},null,null,{"$f":"'1-2a'!$I$335","v":0},null,null,{"$f":"'1-2a'!$L$335","v":0},null,null,{"$f":"'1-2a'!$O$335","v":0}]
[{"$f":"IF(A326=52,1,A326+1)","v":13},{"$f":"N326+3","v":"2021-03-22"},null,null,{"$f":"B336+1","v":"2021-03-23"},null,null,{"$f":"E336+1","v":"2021-03-24"},null,null,{"$f":"H336+1","v":"2021-03-25"},null,null,{"$f":"K336+1","v":"2021-03-26"}]
[null,{"$f":"B327","v":0},null,null,{"$f":"E327","v":0},null,null,{"$f":"H327","v":0},null,null,{"$f":"K327","v":0},null,null,{"$f":"N327","v":0}]
[34,0,null,null,0,null,null,0,null,null,0,null,null,0]
[null,0,null,null,0,null,null,0,null,null,0,null,null,0]
[null,0,null,null,0,null,null,0,null,null,0,null,null,0]
[null,0,null,null,0,null,null,0,null,null,{"$f":"K331","v":0},null,null,0]
[null,0,null,null,0,null,null,0,null,null,0,null,null,0]
[]
[]
[null,null,{"$f":"'1-2a'!$C$345","v":0},null,null,{"$f":"'1-2a'!$F$345","v":0},null,null,{"$f":"'1-2a'!$I$345","v":0},null,null,{"$f":"'1-2a'!$L$345","v":0},null,null,{"$f":"'1-2a'!$O$345","v":0}]
[{"$f":"IF(A336=52,1,A336+1)","v":14},{"$f":"N336+3","v":"2021-03-29"},null,null,{"$f":"B346+1","v":"2021-03-30"},null,null,{"$f":"E346+1","v":"2021-03-31"},null,null,{"$f":"H346+1","v":"2021-04-01"},null,null,{"$f":"K346+1","v":"2021-04-02"}]
[null,{"$f":"B337","v":0},null,null,{"$f":"E337","v":0},null,null,{"$f":"H337","v":0},null,null,{"$f":"K337","v":0},null,null,{"$f":"N337","v":0}]
[35,0,null,null,0,null,null,0,null,null,0,null,null,0]
[null,0,null,null,0,null,null,0,null,null,0,null,null,0]
[null,0,null,null,0,null,null,0,null,null,0,null,null,0]
[null,0,null,null,0,null,null,0,null,null,{"$f":"K341","v":0},null,null,0]
[null,0,null,null,0,null,null,0,null,null,0,null,null,0]
[]
[]
[null,null,{"$f":"'1-2a'!$C$355","v":0},null,null,{"$f":"'1-2a'!$F$355","v":0},null,null,{"$f":"'1-2a'!$I$355","v":0},null,null,{"$f":"'1-2a'!$L$355","v":0},null,null,{"$f":"'1-2a'!$O$355","v":0}]
[{"$f":"IF(A346=52,1,A346+1)","v":15},{"$f":"N346+3","v":"2021-04-05"},null,null,{"$f":"B356+1","v":"2021-04-06"},null,null,{"$f":"E356+1","v":"2021-04-07"},null,null,{"$f":"H356+1","v":"2021-04-08"},null,null,{"$f":"K356+1","v":"2021-04-09"}]
[null,{"$f":"B347","v":0},null,null,{"$f":"E347","v":0},null,null,{"$f":"H347","v":0},null,null,{"$f":"K347","v":0},null,null,{"$f":"N347","v":0}]
[36,0,null,null,0,null,null,0,null,null,0,null,null,0]
[null,0,null,null,0,null,null,0,null,null,0,null,null,0]
[null,0,null,null,0,null,null,0,null,null,0,null,null,0]
[null,0,null,null,0,null,null,0,null,null,{"$f":"K351","v":0},null,null,0]
[null,0,null,null,0,null,null,0,null,null,0,null,null,0]
[]
[]
[null,null,{"$f":"'1-2a'!$C$365","v":0},null,null,{"$f":"'1-2a'!$F$365","v":0},null,null,{"$f":"'1-2a'!$I$365","v":0},null,null,{"$f":"'1-2a'!$L$365","v":0},null,null,{"$f":"'1-2a'!$O$365","v":0}]
[{"$f":"IF(A356=52,1,A356+1)","v":16},{"$f":"N356+3","v":"2021-04-12"},null,null,{"$f":"B366+1","v":"2021-04-13"},null,null,{"$f":"E366+1","v":"2021-04-14"},null,null,{"$f":"H366+1","v":"2021-04-15"},null,null,{"$f":"K366+1","v":"2021-04-16"}]
[null,{"$f":"B357","v":0},null,null,{"$f":"E357","v":0},null,null,{"$f":"H357","v":0},null,null,{"$f":"K357","v":0},null,null,{"$f":"N357","v":0}]
[37,0,null,null,0,null,null,0,null,null,0,null,null,0]
[null,0,null,null,0,null,null,0,null,null,0,null,null,0]
[null,0,null,null,0,null,null,0,null,null,0,null,null,0]
[null,0,null,null,0,null,null,0,null,null,{"$f":"K361","v":0},null,null,0]
[null,0,null,null,0,null,null,0,null,null,0,null,null,0]
[]
[]
[null,null,{"$f":"'1-2a'!$C$375","v":0},null,null,{"$f":"'1-2a'!$F$375","v":0},null,null,{"$f":"'1-2a'!$I$375","v":0},null,null,{"$f":"'1-2a'!$L$375","v":0},null,null,{"$f":"'1-2a'!$O$375","v":0}]
[{"$f":"IF(A366=52,1,A366+1)","v":17},{"$f":"N366+3","v":"2021-04-19"},null,null,{"$f":"B376+1","v":"2021-04-20"},null,null,{"$f":"E376+1","v":"2021-04-21"},null,null,{"$f":"H376+1","v":"2021-04-22"},null,null,{"$f":"K376+1","v":"2021-04-23"}]
[null,{"$f":"B367","v":0},null,null,{"$f":"E367","v":0},null,null,{"$f":"H367","v":0},null,null,{"$f":"K367","v":0},null,null,{"$f":"N367","v":0}]
[38,0,null,null,0,null,null,0,null,null,0,null,null,0]
[null,0,null,null,0,null,null,0,null,null,0,null,null,0]
[null,0,null,null,0,null,null,0,null,null,0,null,null,0]
[null,0,null,null,0,null,null,0,null,null,{"$f":"K371","v":0},null,null,0]
[null,0,null,null,0,null,null,0,null,null,0,null,null,0]
[]
[]
[null,null,{"$f":"'1-2a'!$C$385","v":0},null,null,{"$f":"'1-2a'!$F$385","v":0},null,null,{"$f":"'1-2a'!$I$385","v":0},null,null,{"$f":"'1-2a'!$L$385","v":0},null,null,{"$f":"'1-2a'!$O$385","v":0}]
[{"$f":"IF(A376=52,1,A376+1)","v":18},{"$f":"N376+3","v":"2021-04-26"},null,null,{"$f":"B386+1","v":"2021-04-27"},null,null,{"$f":"E386+1","v":"2021-04-28"},null,null,{"$f":"H386+1","v":"2021-04-29"},null,null,{"$f":"K386+1","v":"2021-04-30"}]
[null,{"$f":"B377","v":0},null,null,{"$f":"E377","v":0},null,null,{"$f":"H377","v":0},null,null,{"$f":"K377","v":0},null,null,{"$f":"N377","v":0}]
[39,0,null,null,0,null,null,0,null,null,0,null,null,0]
[null,0,null,null,0,null,null,0,null,null,0,null,null,0]
[null,0,null,null,0,null,null,0,null,null,0,null,null,0]
[null,0,null,null,0,null,null,0,null,null,{"$f":"K381","v":0},null,null,0]
[null,0,null,null,0,null,null,0,null,null,0,null,null,0]
[]
[]
[null,null,{"$f":"'1-2a'!$C$395","v":0},null,null,{"$f":"'1-2a'!$F$395","v":0},null,null,{"$f":"'1-2a'!$I$395","v":0},null,null,{"$f":"'1-2a'!$L$395","v":0},null,null,{"$f":"'1-2a'!$O$395","v":0}]
[{"$f":"IF(A386=52,1,A386+1)","v":19},{"$f":"N386+3","v":"2021-05-03"},null,null,{"$f":"B396+1","v":"2021-05-04"},null,null,{"$f":"E396+1","v":"2021-05-05"},null,null,{"$f":"H396+1","v":"2021-05-06"},null,null,{"$f":"K396+1","v":"2021-05-07"}]
[null,{"$f":"B387","v":0},null,null,{"$f":"E387","v":0},null,null,{"$f":"H387","v":0},null,null,{"$f":"K387","v":0},null,null,{"$f":"N387","v":0}]
[40,0,null,null,0,null,null,0,null,null,0,null,null,0]
[null,0,null,null,0,null,null,0,null,null,0,null,null,0]
[null,0,null,null,0,null,null,0,null,null,0,null,null,0]
[null,0,null,null,0,null,null,0,null,null,{"$f":"K391","v":0},null,null,0]
[null,0,null,null,0,null,null,0,null,null,0,null,null,0]
[]
[]
[null,null,{"$f":"'1-2a'!$C$405","v":0},null,null,{"$f":"'1-2a'!$F$405","v":0},null,null,{"$f":"'1-2a'!$I$405","v":0},null,null,{"$f":"'1-2a'!$L$405","v":0},null,null,{"$f":"'1-2a'!$O$405","v":0}]
[{"$f":"IF(A396=52,1,A396+1)","v":20},{"$f":"N396+3","v":"2021-05-10"},null,null,{"$f":"B406+1","v":"2021-05-11"},null,null,{"$f":"E406+1","v":"2021-05-12"},null,null,{"$f":"H406+1","v":"2021-05-13"},null,null,{"$f":"K406+1","v":"2021-05-14"}]
[null,{"$f":"B397","v":0},null,null,{"$f":"E397","v":0},null,null,{"$f":"H397","v":0},null,null,{"$f":"K397","v":0},null,null,{"$f":"N397","v":0}]
[41,0,null,null,0,null,null,0,null,null,0,null,null,0]
[null,0,null,null,0,null,null,0,null,null,0,null,null,0]
[null,0,null,null,0,null,null,0,null,null,0,null,null,0]
[null,0,null,null,0,null,null,0,null,null,0,null,null,0]
[null,0,null,null,0,null,null,0,null,null,0,null,null,0]
[]
[]
[null,null,{"$f":"'1-2a'!$C$415","v":0},null,null,{"$f":"'1-2a'!$F$415","v":0},null,null,{"$f":"'1-2a'!$I$415","v":0},null,null,{"$f":"'1-2a'!$L$415","v":0},null,null,{"$f":"'1-2a'!$O$415","v":0}]
[{"$f":"IF(A406=52,1,A406+1)","v":21},{"$f":"N406+3","v":"2021-05-17"},null,null,{"$f":"B416+1","v":"2021-05-18"},null,null,{"$f":"E416+1","v":"2021-05-19"},null,null,{"$f":"H416+1","v":"2021-05-20"},null,null,{"$f":"K416+1","v":"2021-05-21"}]
[null,{"$f":"B407","v":0},null,null,{"$f":"E407","v":0},null,null,{"$f":"H407","v":0},null,null,{"$f":"K407","v":0},null,null,{"$f":"N407","v":0}]
[42,0,null,null,0,null,null,0,null,null,0,null,null,0]
[null,0,null,null,0,null,null,0,null,null,0,null,null,0]
[null,0,null,null,0,null,null,0,null,null,0,null,null,0]
[null,0,null,null,0,null,null,0,null,null,{"$f":"K411","v":0},null,null,0]
[null,0,null,null,0,null,null,0,null,null,0,null,null,0]
[]
[]
[null,null,{"$f":"'1-2a'!$C$425","v":0},null,null,{"$f":"'1-2a'!$F$425","v":0},null,null,{"$f":"'1-2a'!$I$425","v":0},null,null,{"$f":"'1-2a'!$L$425","v":0},null,null,{"$f":"'1-2a'!$O$425","v":0}]
[{"$f":"IF(A416=52,1,A416+1)","v":22},{"$f":"N416+3","v":"2021-05-24"},null,null,{"$f":"B426+1","v":"2021-05-25"},null,null,{"$f":"E426+1","v":"2021-05-26"},null,null,{"$f":"H426+1","v":"2021-05-27"},null,null,{"$f":"K426+1","v":"2021-05-28"}]
[null,{"$f":"B417","v":0},null,null,{"$f":"E417","v":0},null,null,{"$f":"H417","v":0},null,null,{"$f":"K417","v":0},null,null,{"$f":"N417","v":0}]
[43,0,null,null,0,null,null,0,null,null,0,null,null,0]
[null,0,null,null,0,null,null,0,null,null,0,null,null,0]
[null,0,null,null,0,null,null,0,null,null,0,null,null,0]
[null,0,null,null,0,null,null,0,null,null,{"$f":"K421","v":0},null,null,0]
[null,0,null,null,0,null,null,0,null,null,0,null,null,0]
[]
[]
[null,null,{"$f":"'1-2a'!$C$435","v":0},null,null,{"$f":"'1-2a'!$F$435","v":0},null,null,{"$f":"'1-2a'!$I$435","v":0},null,null,{"$f":"'1-2a'!$L$435","v":0},null,null,{"$f":"'1-2a'!$O$435","v":0}]
[{"$f":"IF(A426=52,1,A426+1)","v":23},{"$f":"N426+3","v":"2021-05-31"},null,null,{"$f":"B436+1","v":"2021-06-01"},null,null,{"$f":"E436+1","v":"2021-06-02"},null,null,{"$f":"H436+1","v":"2021-06-03"},null,null,{"$f":"K436+1","v":"2021-06-04"}]
[null,{"$f":"B427","v":0},null,null,{"$f":"E427","v":0},null,null,{"$f":"H427","v":0},null,null,{"$f":"K427","v":0},null,null,{"$f":"N427","v":0}]
[44,0,null,null,0,null,null,0,null,null,0,null,null,0]
[null,0,null,null,0,null,null,0,null,null,0,null,null,0]
[null,0,null,null,0,null,null,0,null,null,0,null,null,0]
[null,0,null,null,0,null,null,0,null,null,{"$f":"K431","v":0},null,null,0]
[null,0,null,null,0,null,null,0,null,null,0,null,null,0]
[]
[]
[null,null,{"$f":"'1-2a'!$C$445","v":0},null,null,{"$f":"'1-2a'!$F$445","v":0},null,null,{"$f":"'1-2a'!$I$445","v":0},null,null,{"$f":"'1-2a'!$L$445","v":0},null,null,{"$f":"'1-2a'!$O$445","v":0}]
[{"$f":"IF(A436=52,1,A436+1)","v":24},{"$f":"N436+3","v":"2021-06-07"},null,null,{"$f":"B446+1","v":"2021-06-08"},null,null,{"$f":"E446+1","v":"2021-06-09"},null,null,{"$f":"H446+1","v":"2021-06-10"},null,null,{"$f":"K446+1","v":"2021-06-11"}]
[null,{"$f":"B437","v":0},null,null,{"$f":"E437","v":0},null,null,{"$f":"H437","v":0},null,null,{"$f":"K437","v":0},null,null,{"$f":"N437","v":0}]
[45,0,null,null,0,null,null,0,null,null,0,null,null,0]
[null,0,null,null,0,null,null,0,null,null,0,null,null,0]
[null,0,null,null,0,null,null,0,null,null,0,null,null,0]
[null,0,null,null,0,null,null,0,null,null,{"$f":"K441","v":0},null,null,0]
[null,0,null,null,0,null,null,0,null,null,0,null,null,0]
[]
[]
[null,null,{"$f":"'1-2a'!$C$455","v":0},null,null,{"$f":"'1-2a'!$F$455","v":0},null,null,{"$f":"'1-2a'!$I$455","v":0},null,null,{"$f":"'1-2a'!$L$455","v":0},null,null,{"$f":"'1-2a'!$O$455","v":0}]
[{"$f":"IF(A446=52,1,A446+1)","v":25},{"$f":"N446+3","v":"2021-06-14"},null,null,{"$f":"B456+1","v":"2021-06-15"},null,null,{"$f":"E456+1","v":"2021-06-16"},null,null,{"$f":"H456+1","v":"2021-06-17"},null,null,{"$f":"K456+1","v":"2021-06-18"}]
[null,{"$f":"B447","v":0},null,null,{"$f":"E447","v":0},null,null,{"$f":"H447","v":0},null,null,{"$f":"K447","v":0},null,null,{"$f":"N447","v":0}]
[46,0,null,null,0,null,null,0,null,null,0,null,null,0]
[null,0,null,null,0,null,null,0,null,null,0,null,null,0]
[null,0,null,null,0,null,null,0,null,null,0,null,null,0]
[null,0,null,null,0,null,null,0,null,null,{"$f":"K451","v":0},null,null,0]
[null,0,null,null,0,null,null,0,null,null,0,null,null,0]
[]
[]
[null,null,{"$f":"'1-2a'!$C$465","v":0},null,null,{"$f":"'1-2a'!$F$465","v":0},null,null,{"$f":"'1-2a'!$I$465","v":0},null,null,{"$f":"'1-2a'!$L$465","v":0},null,null,{"$f":"'1-2a'!$O$465","v":0}]
[{"$f":"IF(A456=52,1,A456+1)","v":26},{"$f":"N456+3","v":"2021-06-21"},null,null,{"$f":"B466+1","v":"2021-06-22"},null,null,{"$f":"E466+1","v":"2021-06-23"},null,null,{"$f":"H466+1","v":"2021-06-24"},null,null,{"$f":"K466+1","v":"2021-06-25"}]
[null,{"$f":"B457","v":0},null,null,{"$f":"E457","v":0},null,null,{"$f":"H457","v":0},null,null,{"$f":"K457","v":0},null,null,{"$f":"N457","v":0}]
[47,0,null,null,0,null,null,0,null,null,0,null,null,0]
[null,0,null,null,0,null,null,0,null,null,0,null,null,0]
[null,0,null,null,0,null,null,0,null,null,0,null,null,0]
[null,0,null,null,0,null,null,0,null,null,{"$f":"K461","v":0},null,null,0]
[null,0,null,null,0,null,null,0,null,null,0,null,null,0]
[]
[]
[null,null,{"$f":"'1-2a'!$C$475","v":0},null,null,{"$f":"'1-2a'!$F$475","v":0},null,null,{"$f":"'1-2a'!$I$475","v":0},null,null,{"$f":"'1-2a'!$L$475","v":0},null,null,{"$f":"'1-2a'!$O$475","v":0}]
[{"$f":"IF(A466=52,1,A466+1)","v":27},{"$f":"N466+3","v":"2021-06-28"},null,null,{"$f":"B476+1","v":"2021-06-29"},null,null,{"$f":"E476+1","v":"2021-06-30"},null,null,{"$f":"H476+1","v":"2021-07-01"},null,null,{"$f":"K476+1","v":"2021-07-02"}]
[null,{"$f":"B467","v":0},null,null,{"$f":"E467","v":0},null,null,{"$f":"H467","v":0},null,null,{"$f":"K467","v":0},null,null,{"$f":"N467","v":0}]
[48,0,null,null,0,null,null,0,null,null,0,null,null,0]
[null,0,null,null,0,null,null,0,null,null,0,null,null,0]
[null,0,null,null,0,null,null,0,null,null,0,null,null,0]
[null,0,null,null,0,null,null,0,null,null,{"$f":"K471","v":0},null,null,0]
[null,0,null,null,0,null,null,0,null,null,0,null,null,0]
[]
[]
[null,null,{"$f":"'1-2a'!$C$485","v":0},null,null,{"$f":"'1-2a'!$F$485","v":0},null,null,{"$f":"'1-2a'!$I$485","v":0},null,null,{"$f":"'1-2a'!$L$485","v":0},null,null,{"$f":"'1-2a'!$O$485","v":0}]
[{"$f":"IF(A476=52,1,A476+1)","v":28},{"$f":"N476+3","v":"2021-07-05"},null,null,{"$f":"B486+1","v":"2021-07-06"},null,null,{"$f":"E486+1","v":"2021-07-07"},null,null,{"$f":"H486+1","v":"2021-07-08"},null,null,{"$f":"K486+1","v":"2021-07-09"}]
[null,{"$f":"B477","v":0},null,null,{"$f":"E477","v":0},null,null,{"$f":"H477","v":0},null,null,{"$f":"K477","v":0},null,null,{"$f":"N477","v":0}]
[49,0,null,null,0,null,null,0,null,null,0,null,null,0]
[null,0,null,null,0,null,null,0,null,null,0,null,null,0]
[null,0,null,null,0,null,null,0,null,null,0,null,null,0]
[null,0,null,null,0,null,null,0,null,null,0,null,null,0]
[null,0,null,null,0,null,null,0,null,null,0,null,null,0]
[]
[]
[null,null,{"$f":"'1-2a'!$C$495","v":0},null,null,{"$f":"'1-2a'!$F$495","v":0},null,null,{"$f":"'1-2a'!$I$495","v":0},null,null,{"$f":"'1-2a'!$L$495","v":0},null,null,{"$f":"'1-2a'!$O$495","v":0}]
[{"$f":"IF(A486=52,1,A486+1)","v":29},{"$f":"N486+3","v":"2021-07-12"},null,null,{"$f":"B496+1","v":"2021-07-13"},null,null,{"$f":"E496+1","v":"2021-07-14"},null,null,{"$f":"H496+1","v":"2021-07-15"},null,null,{"$f":"K496+1","v":"2021-07-16"}]
[null,{"$f":"B487","v":0},null,null,{"$f":"E487","v":0},null,null,{"$f":"H487","v":0},null,null,{"$f":"K487","v":0},null,null,{"$f":"N487","v":0}]
[50,0,null,null,0,null,null,0,null,null,0]
[null,0,null,null,0,null,null,0,null,null,0,null,null,0]
[null,0,null,null,0,null,null,0,null,null,0,null,null,0]
[null,0,null,null,0,null,null,0,null,null,{"$f":"K491","v":0},null,null,0]
[null,0,null,null,0,null,null,0,null,null,0]

{"sheet":"20","index":20,"n_rows":502,"n_cols":15,"rows_kept":502,"cut":false,"hidden":false,"merged":[[5,1,5,3],[5,4,5,6],[5,7,5,9],[5,10,5,12],[5,13,5,15],[7,0,8,0],[1,1,2,7],[1,9,2,12],[1,13,2,15],[3,1,3,3],[3,4,3,6],[3,7,3,9],[3,10,3,12],[3,13,3,15],[12,1,13,3],[12,4,13,6],[12,7,13,9],[12,10,13,12],[12,13,13,15],[15,1,15,3],[15,4,15,6],[15,7,15,9],[15,10,15,12],[15,13,15,15],[25,1,25,3],[25,4,25,6],[25,7,25,9],[25,10,25,12],[25,13,25,15],[27,0,28,0],[17,0,18,0],[22,1,23,3],[22,4,23,6],[22,7,23,9],[22,10,23,12],[22,13,23,15],[32,1,33,3],[32,4,33,6],[32,7,33,9],[32,10,33,12],[32,13,33,15],[35,1,35,3],[35,4,35,6],[35,7,35,9],[35,10,35,12],[35,13,35,15],[45,1,45,3],[45,4,45,6],[45,7,45,9],[45,10,45,12],[45,13,45,15],[47,0,48,0],[37,0,38,0],[42,1,43,3],[42,4,43,6],[42,7,43,9],[42,10,43,12],[42,13,43,15],[52,1,53,3],[52,4,53,6],[52,7,53,9],[52,10,53,12],[52,13,53,15],[55,1,55,3],[55,4,55,6],[55,7,55,9],[55,10,55,12],[55,13,55,15],[65,1,65,3],[65,4,65,6],[65,7,65,9],[65,10,65,12],[65,13,65,15],[67,0,68,0],[57,0,58,0],[62,1,63,3],[62,4,63,6],[62,7,63,9],[62,10,63,12],[62,13,63,15],[72,1,73,3],[72,4,73,6],[72,7,73,9],[72,10,73,12],[72,13,73,15],[75,1,75,3],[75,4,75,6],[75,7,75,9],[75,10,75,12],[75,13,75,15],[85,1,85,3],[85,4,85,6],[85,7,85,9],[85,10,85,12],[85,13,85,15],[87,0,88,0],[77,0,78,0],[82,1,83,3],[82,4,83,6],[82,7,83,9],[82,10,83,12],[82,13,83,15],[92,1,93,3],[92,4,93,6],[92,7,93,9],[92,10,93,12],[92,13,93,15],[95,1,95,3],[95,4,95,6],[95,7,95,9],[95,10,95,12],[95,13,95,15],[105,1,105,3],[105,4,105,6],[105,7,105,9],[105,10,105,12],[105,13,105,15],[107,0,108,0],[97,0,98,0],[99,16,100,19],[102,1,103,3],[102,4,103,6],[102,7,103,9],[102,10,103,12],[102,13,103,15],[112,1,113,3],[112,4,113,6],[112,7,113,9],[112,10,113,12],[112,13,113,15],[115,1,115,3],[115,4,115,6],[115,7,115,9],[115,10,115,12],[115,13,115,15],[125,1,125,3],[125,4,125,6],[125,7,125,9],[125,10,125,12],[125,13,125,15],[127,0,128,0],[117,0,118,0],[122,1,123,3],[122,4,123,6],[122,7,123,9],[122,10,123,12],[122,13,123,15],[132,1,133,3],[132,4,133,6],[132,7,133,9],[132,10,133,12],[132,13,133,15],[135,1,135,3],[135,4,135,6],[135,7,135,9],[135,10,135,12],[135,13,135,15],[145,1,145,3],[145,4,145,6],[145,7,145,9],[145,10,145,12],[145,13,145,15],[147,0,148,0],[137,0,138,0],[142,1,143,3],[142,4,143,6],[142,7,143,9],[142,10,143,12],[142,13,143,15],[152,1,153,3],[152,4,153,6],[152,7,153,9],[152,10,153,12],[152,13,153,15],[155,1,155,3],[155,4,155,6],[155,7,155,9],[155,10,155,12],[155,13,155,15],[165,1,165,3],[165,4,165,6],[165,7,165,9],[165,10,165,12],[165,13,165,15],[167,0,168,0],[157,0,158,0],[162,1,163,3],[162,4,163,6],[162,7,163,9],[162,10,163,12],[162,13,163,15],[172,1,173,3],[172,4,173,6],[172,7,173,9],[172,10,173,12],[172,13,173,15],[175,1,175,3],[175,4,175,6],[175,7,175,9],[175,10,175,12],[175,13,175,15],[185,1,185,3],[185,4,185,6],[185,7,185,9],[185,10,185,12],[185,13,185,15],[187,0,188,0],[177,0,178,0],[179,16,180,19],[182,1,183,3],[182,4,183,6],[182,7,183,9],[182,10,183,12],[182,13,183,15],[192,1,193,3],[192,4,193,6],[192,7,193,9],[192,10,193,12],[192,13,193,15],[195,1,195,3],[195,4,195,6],[195,7,195,9],[195,10,195,12],[195,13,195,15],[205,1,205,3],[205,4,205,6],[205,7,205,9],[205,10,205,12],[205,13,205,15],[207,0,208,0],[197,0,198,0],[202,1,203,3],[202,4,203,6],[202,7,203,9],[202,10,203,12],[202,13,203,15],[212,1,213,3],[212,4,213,6],[212,7,213,9],[212,10,213,12],[212,13,213,15],[215,1,215,3],[215,4,215,6],[215,7,215,9],[215,10,215,12],[215,13,215,15],[225,1,225,3],[225,4,225,6],[225,7,225,9],[225,10,225,12],[225,13,225,15],[227,0,228,0],[217,0,218,0],[222,1,223,3],[222,4,223,6],[222,7,223,9],[222,10,223,12],[222,13,223,15],[232,1,233,3],[232,4,233,6],[232,7,233,9],[232,10,233,12],[232,13,233,15],[235,1,235,3],[235,4,235,6],[235,7,235,9],[235,10,235,12],[235,13,235,15],[245,1,245,3],[245,4,245,6],[245,7,245,9],[245,10,245,12],[245,13,245,15],[247,0,248,0],[237,0,238,0],[242,1,243,3],[242,4,243,6],[242,7,243,9],[242,10,243,12],[242,13,243,15],[252,1,253,3],[252,4,253,6],[252,7,253,9],[252,10,253,12],[252,13,253,15],[255,1,255,3],[255,4,255,6],[255,7,255,9],[255,10,255,12],[255,13,255,15],[265,1,265,3],[265,4,265,6],[265,7,265,9],[265,10,265,12],[265,13,265,15],[267,0,268,0],[257,0,258,0],[259,16,260,19],[262,1,263,3],[262,4,263,6],[262,7,263,9],[262,10,263,12],[262,13,263,15],[272,1,273,3],[272,4,273,6],[272,7,273,9],[272,10,273,12],[272,13,273,15],[275,1,275,3],[275,4,275,6],[275,7,275,9],[275,10,275,12],[275,13,275,15],[285,1,285,3],[285,4,285,6],[285,7,285,9],[285,10,285,12],[285,13,285,15],[287,0,288,0],[277,0,278,0],[282,1,283,3],[282,4,283,6],[282,7,283,9],[282,10,283,12],[282,13,283,15],[292,1,293,3],[292,4,293,6],[292,7,293,9],[292,10,293,12],[292,13,293,15],[295,1,295,3],[295,4,295,6],[295,7,295,9],[295,10,295,12],[295,13,295,15],[305,1,305,3],[305,4,305,6],[305,7,305,9],[305,10,305,12],[305,13,305,15],[307,0,308,0],[297,0,298,0],[302,1,303,3],[302,4,303,6],[302,7,303,9],[302,10,303,12],[302,13,303,15],[312,1,313,3],[312,4,313,6],[312,7,313,9],[312,10,313,12],[312,13,313,15],[315,1,315,3],[315,4,315,6],[315,7,315,9],[315,10,315,12],[315,13,315,15],[325,1,325,3],[325,4,325,6],[325,7,325,9],[325,10,325,12],[325,13,325,15],[327,0,328,0],[317,0,318,0],[322,1,323,3],[322,4,323,6],[322,7,323,9],[322,10,323,12],[322,13,323,15],[332,1,333,3],[332,4,333,6],[332,7,333,9],[332,10,333,12],[332,13,333,15],[335,1,335,3],[335,4,335,6],[335,7,335,9],[335,10,335,12],[335,13,335,15],[345,1,345,3],[345,4,345,6],[345,7,345,9],[345,10,345,12],[345,13,345,15],[347,0,348,0],[337,0,338,0],[339,16,340,19],[342,1,343,3],[342,4,343,6],[342,7,343,9],[342,10,343,12],[342,13,343,15],[352,1,353,3],[352,4,353,6],[352,7,353,9],[352,10,353,12],[352,13,353,15],[355,1,355,3],[355,4,355,6],[355,7,355,9],[355,10,355,12],[355,13,355,15],[365,1,365,3],[365,4,365,6],[365,7,365,9],[365,10,365,12],[365,13,365,15],[367,0,368,0],[357,0,358,0],[362,1,363,3],[362,4,363,6],[362,7,363,9],[362,10,363,12],[362,13,363,15],[372,1,373,3],[372,4,373,6],[372,7,373,9],[372,10,373,12],[372,13,373,15],[375,1,375,3],[375,4,375,6],[375,7,375,9],[375,10,375,12],[375,13,375,15],[385,1,385,3],[385,4,385,6],[385,7,385,9],[385,10,385,12],[385,13,385,15],[387,0,388,0],[377,0,378,0],[382,1,383,3],[382,4,383,6],[382,7,383,9],[382,10,383,12],[382,13,383,15],[392,1,393,3],[392,4,393,6],[392,7,393,9],[392,10,393,12],[392,13,393,15],[395,1,395,3],[395,4,395,6],[395,7,395,9],[395,10,395,12],[395,13,395,15],[405,1,405,3],[405,4,405,6],[405,7,405,9],[405,10,405,12],[405,13,405,15],[407,0,408,0],[397,0,398,0],[402,1,403,3],[402,4,403,6],[402,7,403,9],[402,10,403,12],[402,13,403,15],[412,1,413,3],[412,4,413,6],[412,7,413,9],[412,10,413,12],[412,13,413,15],[415,1,415,3],[415,4,415,6],[415,7,415,9],[415,10,415,12],[415,13,415,15],[425,1,425,3],[425,4,425,6],[425,7,425,9],[425,10,425,12],[425,13,425,15],[427,0,428,0],[417,0,418,0],[419,16,420,19],[422,1,423,3],[422,4,423,6],[422,7,423,9],[422,10,423,12],[422,13,423,15],[432,1,433,3],[432,4,433,6],[432,7,433,9],[432,10,433,12],[432,13,433,15],[435,1,435,3],[435,4,435,6],[435,7,435,9],[435,10,435,12],[435,13,435,15],[445,1,445,3],[445,4,445,6],[445,7,445,9],[445,10,445,12],[445,13,445,15],[447,0,448,0],[437,0,438,0],[442,1,443,3],[442,4,443,6],[442,7,443,9],[442,10,443,12],[442,13,443,15],[452,1,453,3],[452,4,453,6],[452,7,453,9],[452,10,453,12],[452,13,453,15],[455,1,455,3],[455,4,455,6],[455,7,455,9],[455,10,455,12],[455,13,455,15],[465,1,465,3],[465,4,465,6],[465,7,465,9],[465,10,465,12],[465,13,465,15],[467,0,468,0],[457,0,458,0],[462,1,463,3],[462,4,463,6],[462,7,463,9],[462,10,463,12],[462,13,463,15],[472,1,473,3],[472,4,473,6],[472,7,473,9],[472,10,473,12],[472,13,473,15],[475,1,475,3],[475,4,475,6],[475,7,475,9],[475,10,475,12],[475,13,475,15],[485,1,485,3],[485,4,485,6],[485,7,485,9],[485,10,485,12],[485,13,485,15],[487,0,488,0],[477,0,478,0],[482,1,483,3],[482,4,483,6],[482,7,483,9],[482,10,483,12],[482,13,483,15],[497,0,498,0],[499,16,500,19],[502,1,503,3],[502,4,503,6],[502,7,503,9],[502,10,503,12],[502,13,503,15],[492,1,493,3],[492,4,493,6],[492,7,493,9],[492,10,493,12],[492,13,493,15],[495,1,495,3],[495,4,495,6],[495,7,495,9],[495,10,495,12],[495,13,495,15]]}
[]
[null,{"$f":"'1-2a'!B2:H3","v":"Basisschool De Grote Beer        schooljaar 2020/2021"},null,null,null,null,null,null,null,"Groepsplanner van groep:",null,null,null,"20"]
[]
[null,"maandag 1e schoolweek",null,null,"dinsdag",null,null,"woensdag",null,null,"donderdag",null,null,"vrijdag"]
[null,null,{"$f":"'1-2a'!C$5","v":0},null,null,{"$f":"'1-2a'!F5","v":0},null,null,{"$f":"'1-2a'!I$5","v":0},null,null,{"$f":"'1-2a'!L$5","v":"s"},null,null,{"$f":"'1-2a'!O$5","v":0}]
[{"$f":"(B6-WEEKDAY(B6-1)+4-(TRUNC(DATE(YEAR(B6-WEEKDAY(B6-1)+4),1,2)/7)*7-2))/7","v":32},{"$f":"'1-2a'!B6:D6","v":"2020-08-03"},null,null,{"$f":"B6+1","v":"2020-08-04"},null,null,{"$f":"E6+1","v":"2020-08-05"},null,null,{"$f":"H6+1","v":"2020-08-06"},null,null,{"$f":"K6+1","v":"2020-08-07"}]
[]
[1]
[]
[]
[]
[]
[]
[]
[null,null,{"$f":"'1-2a'!C$15","v":0},null,null,{"$f":"'1-2a'!F$15","v":0},null,null,{"$f":"'1-2a'!I$15","v":0},null,null,{"$f":"'1-2a'!L$15","v":0},null,null,{"$f":"'1-2a'!O15","v":0}]
[{"$f":"IF(A6=52,1,A6+1)","v":33},{"$f":"N6+3","v":"2020-08-10"},null,null,{"$f":"B16+1","v":"2020-08-11"},null,null,{"$f":"E16+1","v":"2020-08-12"},null,null,{"$f":"H16+1","v":"2020-08-13"},null,null,{"$f":"K16+1","v":"2020-08-14"}]
[null,{"$f":"B7","v":0},null,null,{"$f":"E7","v":0},null,null,{"$f":"H7","v":0},null,null,{"$f":"K7","v":0},null,null,{"$f":"N7","v":0}]
[2,0,null,null,0,null,null,0,null,null,0,null,null,0]
[null,0,null,null,0,null,null,0,null,null,0,null,null,0]
[null,0,null,null,0,null,null,0,null,null,0,null,null,0]
[null,0,null,null,0,null,null,0,null,null,0,null,null,0]
[null,0,null,null,0,null,null,0,null,null,0,null,null,0]
[]
[]
[null,null,{"$f":"'1-2a'!C$25","v":0},null,null,{"$f":"'1-2a'!F$25","v":0},null,null,{"$f":"'1-2a'!I25","v":0},null,null,{"$f":"'1-2a'!L25","v":0},null,null,{"$f":"'1-2a'!O25","v":0}]
[{"$f":"IF(A16=52,1,A16+1)","v":34},{"$f":"N16+3","v":"2020-08-17"},null,null,{"$f":"B26+1","v":"2020-08-18"},null,null,{"$f":"E26+1","v":"2020-08-19"},null,null,{"$f":"H26+1","v":"2020-08-20"},null,null,{"$f":"K26+1","v":"2020-08-21"}]
[null,{"$f":"B17","v":0},null,null,{"$f":"E17","v":0},null,null,{"$f":"H17","v":0},null,null,{"$f":"K17","v":0},null,null,{"$f":"N17","v":0}]
[3,0,null,null,0,null,null,0,null,null,0,null,null,0]
[null,0,null,null,0,null,null,0,null,null,0,null,null,0]
[null,0,null,null,0,null,null,0,null,null,0,null,null,0]
[null,0,null,null,0,null,null,0,null,null,{"$f":"K21","v":0},null,null,0]
[null,0,null,null,0,null,null,0,null,null,0,null,null,0]
[]
[]
[null,null,{"$f":"'1-2a'!$C$35","v":0},null,null,{"$f":"'1-2a'!$F$35","v":0},null,null,{"$f":"'1-2a'!$I$35","v":0},null,null,{"$f":"'1-2a'!$L$35","v":0},null,null,{"$f":"'1-2a'!$O$35","v":0}]
[{"$f":"IF(A26=52,1,A26+1)","v":35},{"$f":"N26+3","v":"2020-08-24"},null,null,{"$f":"B36+1","v":"2020-08-25"},null,null,{"$f":"E36+1","v":"2020-08-26"},null,null,{"$f":"H36+1","v":"2020-08-27"},null,null,{"$f":"K36+1","v":"2020-08-28"}]
[null,{"$f":"B27","v":0},null,null,{"$f":"E27","v":0},null,null,{"$f":"H27","v":0},null,null,{"$f":"K27","v":0},null,null,{"$f":"N27","v":0}]
[4,0,null,null,0,null,null,0,null,null,0,null,null,0]
[null,0,null,null,0,null,null,0,null,null,0,null,null,0]
[null,0,null,null,0,null,null,0,null,null,0,null,null,0]
[null,0,null,null,0,null,null,0,null,null,{"$f":"K31","v":0},null,null,0]
[null,0,null,null,0,null,null,0,null,null,0,null,null,0]
[]
[]
[null,null,{"$f":"'1-2a'!$C$45","v":0},null,null,{"$f":"'1-2a'!$F$45","v":0},null,null,{"$f":"'1-2a'!$I$45","v":0},null,null,{"$f":"'1-2a'!$L$45","v":0},null,null,{"$f":"'1-2a'!$O$45","v":0}]
[{"$f":"IF(A36=52,1,A36+1)","v":36},{"$f":"N36+3","v":"2020-08-31"},null,null,{"$f":"B46+1","v":"2020-09-01"},null,null,{"$f":"E46+1","v":"2020-09-02"},null,null,{"$f":"H46+1","v":"2020-09-03"},null,null,{"$f":"K46+1","v":"2020-09-04"}]
[null,{"$f":"B37","v":0},null,null,{"$f":"E37","v":0},null,null,{"$f":"H37","v":0},null,null,{"$f":"K37","v":0},null,null,{"$f":"N37","v":0}]
[5,0,null,null,0,null,null,0,null,null,0,null,null,0]
[null,0,null,null,0,null,null,0,null,null,0,null,null,0]
[null,0,null,null,0,null,null,0,null,null,0,null,null,0]
[null,0,null,null,0,null,null,0,null,null,{"$f":"K41","v":0},null,null,0]
[null,0,null,null,0,null,null,0,null,null,0,null,null,0]
[]
[]
[null,null,{"$f":"'1-2a'!$C$55","v":0},null,null,{"$f":"'1-2a'!$F$55","v":0},null,null,{"$f":"'1-2a'!$I$55","v":0},null,null,{"$f":"'1-2a'!$L$55","v":0},null,null,{"$f":"'1-2a'!O55","v":0}]
[{"$f":"IF(A46=52,1,A46+1)","v":37},{"$f":"N46+3","v":"2020-09-07"},null,null,{"$f":"B56+1","v":"2020-09-08"},null,null,{"$f":"E56+1","v":"2020-09-09"},null,null,{"$f":"H56+1","v":"2020-09-10"},null,null,{"$f":"K56+1","v":"2020-09-11"}]
[null,{"$f":"B47","v":0},null,null,{"$f":"E47","v":0},null,null,{"$f":"H47","v":0},null,null,{"$f":"K47","v":0},null,null,{"$f":"N47","v":0}]
[6,0,null,null,0,null,null,0,null,null,0,null,null,0]
[null,0,null,null,0,null,null,0,null,null,0,null,null,0]
[null,0,null,null,0,null,null,0,null,null,0,null,null,0]
[null,0,null,null,0,null,null,0,null,null,{"$f":"K51","v":0},null,null,0]
[null,0,null,null,0,null,null,0,null,null,0,null,null,0]
[]
[]
[null,null,{"$f":"'1-2a'!$C$65","v":0},null,null,{"$f":"'1-2a'!$F$65","v":0},null,null,{"$f":"'1-2a'!$I$65","v":0},null,null,{"$f":"'1-2a'!$L$65","v":0},null,null,{"$f":"'1-2a'!$O$65","v":0}]
[{"$f":"IF(A56=52,1,A56+1)","v":38},{"$f":"N56+3","v":"2020-09-14"},null,null,{"$f":"B66+1","v":"2020-09-15"},null,null,{"$f":"E66+1","v":"2020-09-16"},null,null,{"$f":"H66+1","v":"2020-09-17"},null,null,{"$f":"K66+1","v":"2020-09-18"}]
[null,{"$f":"B57","v":0},null,null,{"$f":"E57","v":0},null,null,{"$f":"H57","v":0},null,null,{"$f":"K57","v":0},null,null,{"$f":"N57","v":0}]
[7,0,null,null,0,null,null,0,null,null,0,null,null,0]
[null,0,null,null,0,null,null,0,null,null,0,null,null,0]
[null,0,null,null,0,null,null,0,null,null,0,null,null,0]
[null,0,null,null,0,null,null,0,null,null,{"$f":"K61","v":0},null,null,0]
[null,0,null,null,0,null,null,0,null,null,0,null,null,0]
[]
[]
[null,null,{"$f":"'1-2a'!$C$75","v":0},null,null,{"$f":"'1-2a'!$F$75","v":0},null,null,{"$f":"'1-2a'!$I$75","v":0},null,null,{"$f":"'1-2a'!$L$75","v":0},null,null,{"$f":"'1-2a'!$O$75","v":0}]
[{"$f":"IF(A66=52,1,A66+1)","v":39},{"$f":"N66+3","v":"2020-09-21"},null,null,{"$f":"B76+1","v":"2020-09-22"},null,null,{"$f":"E76+1","v":"2020-09-23"},null,null,{"$f":"H76+1","v":"2020-09-24"},null,null,{"$f":"K76+1","v":"2020-09-25"}]
[null,{"$f":"B67","v":0},null,null,{"$f":"E67","v":0},null,null,{"$f":"H67","v":0},null,null,{"$f":"K67","v":0},null,null,{"$f":"N67","v":0}]
[8,0,null,null,0,null,null,0,null,null,0,null,null,0]
[null,0,null,null,0,null,null,0,null,null,0,null,null,0]
[null,0,null,null,0,null,null,0,null,null,0,null,null,0]
[null,0,null,null,0,null,null,0,null,null,{"$f":"K71","v":0},null,null,0]
[null,0,null,null,0,null,null,0,null,null,0,null,null,0]
[]
[]
[null,null,{"$f":"'1-2a'!$C$85","v":0},null,null,{"$f":"'1-2a'!$F$85","v":0},null,null,{"$f":"'1-2a'!$I$85","v":0},null,null,{"$f":"'1-2a'!$L$85","v":0},null,null,{"$f":"'1-2a'!$O$85","v":0}]
[{"$f":"IF(A76=52,1,A76+1)","v":40},{"$f":"N76+3","v":"2020-09-28"},null,null,{"$f":"B86+1","v":"2020-09-29"},null,null,{"$f":"E86+1","v":"2020-09-30"},null,null,{"$f":"H86+1","v":"2020-10-01"},null,null,{"$f":"K86+1","v":"2020-10-02"}]
[null,{"$f":"B77","v":0},null,null,{"$f":"E77","v":0},null,null,{"$f":"H77","v":0},null,null,{"$f":"K77","v":0},null,null,{"$f":"N77","v":0}]
[9,0,null,null,0,null,null,0,null,null,0,null,null,0]
[null,0,null,null,0,null,null,0,null,null,0,null,null,0]
[null,0,null,null,0,null,null,0,null,null,0,null,null,0]
[null,0,null,null,0,null,null,0,null,null,0,null,null,0]
[null,0,null,null,0,null,null,0,null,null,0,null,null,0]
[]
[]
[null,null,{"$f":"'1-2a'!$C$95","v":0},null,null,{"$f":"'1-2a'!$F$95","v":0},null,null,{"$f":"'1-2a'!$I$95","v":0},null,null,{"$f":"'1-2a'!$L$95","v":0},null,null,{"$f":"'1-2a'!$O$95","v":0}]
[{"$f":"IF(A86=52,1,A86+1)","v":41},{"$f":"N86+3","v":"2020-10-05"},null,null,{"$f":"B96+1","v":"2020-10-06"},null,null,{"$f":"E96+1","v":"2020-10-07"},null,null,{"$f":"H96+1","v":"2020-10-08"},null,null,{"$f":"K96+1","v":"2020-10-09"}]
[null,{"$f":"B87","v":0},null,null,{"$f":"E87","v":0},null,null,{"$f":"H87","v":0},null,null,{"$f":"K87","v":0},null,null,{"$f":"N87","v":0}]
[10,0,null,null,0,null,null,0,null,null,0,null,null,0]
[null,0,null,null,0,null,null,0,null,null,0,null,null,0]
[null,0,null,null,0,null,null,0,null,null,0,null,null,0]
[null,0,null,null,0,null,null,0,null,null,{"$f":"K91","v":0},null,null,0]
[null,0,null,null,0,null,null,0,null,null,0,null,null,0]
[]
[]
[null,null,{"$f":"'1-2a'!$C$105","v":0},null,null,{"$f":"'1-2a'!$F$105","v":0},null,null,{"$f":"'1-2a'!$I$105","v":0},null,null,{"$f":"'1-2a'!$L$105","v":0},null,null,{"$f":"'1-2a'!$O$105","v":0}]
[{"$f":"IF(A96=52,1,A96+1)","v":42},{"$f":"N96+3","v":"2020-10-12"},null,null,{"$f":"B106+1","v":"2020-10-13"},null,null,{"$f":"E106+1","v":"2020-10-14"},null,null,{"$f":"H106+1","v":"2020-10-15"},null,null,{"$f":"K106+1","v":"2020-10-16"}]
[null,{"$f":"B97","v":0},null,null,{"$f":"E97","v":0},null,null,{"$f":"H97","v":0},null,null,{"$f":"K97","v":0},null,null,{"$f":"N97","v":0}]
[11,0,null,null,0,null,null,0,null,null,0,null,null,0]
[null,0,null,null,0,null,null,0,null,null,0,null,null,0]
[null,0,null,null,0,null,null,0,null,null,0,null,null,0]
[null,0,null,null,0,null,null,0,null,null,{"$f":"K101","v":0},null,null,0]
[null,0,null,null,0,null,null,0,null,null,0,null,null,0]
[]
[]
[null,null,{"$f":"'1-2a'!$C$115","v":0},null,null,{"$f":"'1-2a'!$F$115","v":0},null,null,{"$f":"'1-2a'!$I$115","v":0},null,null,{"$f":"'1-2a'!$L$115","v":0},null,null,{"$f":"'1-2a'!$O$115","v":0}]
[{"$f":"IF(A106=52,1,A106+1)","v":43},{"$f":"N106+3","v":"2020-10-19"},null,null,{"$f":"B116+1","v":"2020-10-20"},null,null,{"$f":"E116+1","v":"2020-10-21"},null,null,{"$f":"H116+1","v":"2020-10-22"},null,null,{"$f":"K116+1","v":"2020-10-23"}]
[null,{"$f":"B107","v":0},null,null,{"$f":"E107","v":0},null,null,{"$f":"H107","v":0},null,null,{"$f":"K107","v":0},null,null,{"$f":"N107","v":0}]
[12,0,null,null,0,null,null,0,null,null,0,null,null,0]
[null,0,null,null,0,null,null,0,null,null,0,null,null,0]
[null,0,null,null,0,null,null,0,null,null,0,null,null,0]
[null,0,null,null,0,null,null,0,null,null,{"$f":"K111","v":0},null,null,0]
[null,0,null,null,0,null,null,0,null,null,0,null,null,0]
[]
[]
[null,null,{"$f":"'1-2a'!$C$125","v":0},null,null,{"$f":"'1-2a'!$F$125","v":0},null,null,{"$f":"'1-2a'!$I$125","v":0},null,null,{"$f":"'1-2a'!$L$125","v":0},null,null,{"$f":"'1-2a'!$O$125","v":0}]
[{"$f":"IF(A116=52,1,A116+1)","v":44},{"$f":"N116+3","v":"2020-10-26"},null,null,{"$f":"B126+1","v":"2020-10-27"},null,null,{"$f":"E126+1","v":"2020-10-28"},null,null,{"$f":"H126+1","v":"2020-10-29"},null,null,{"$f":"K126+1","v":"2020-10-30"}]
[null,{"$f":"B117","v":0},null,null,{"$f":"E117","v":0},null,null,{"$f":"H117","v":0},null,null,{"$f":"K117","v":0},null,null,{"$f":"N117","v":0}]
[13,0,null,null,0,null,null,0,null,null,0,null,null,0]
[null,0,null,null,0,null,null,0,null,null,0,null,null,0]
[null,0,null,null,0,null,null,0,null,null,0,null,null,0]
[null,0,null,null,0,null,null,0,null,null,{"$f":"K121","v":0},null,null,0]
[null,0,null,null,0,null,null,0,null,null,0,null,null,0]
[]
[]
[null,null,{"$f":"'1-2a'!$C$135","v":0},null,null,{"$f":"'1-2a'!$F$135","v":0},null,null,{"$f":"'1-2a'!$I$135","v":0},null,null,{"$f":"'1-2a'!$L$135","v":0},null,null,{"$f":"'1-2a'!$O$135","v":0}]
[{"$f":"IF(A126=52,1,A126+1)","v":45},{"$f":"N126+3","v":"2020-11-02"},null,null,{"$f":"B136+1","v":"2020-11-03"},null,null,{"$f":"E136+1","v":"2020-11-04"},null,null,{"$f":"H136+1","v":"2020-11-05"},null,null,{"$f":"K136+1","v":"2020-11-06"}]
[null,{"$f":"B127","v":0},null,null,{"$f":"E127","v":0},null,null,{"$f":"H127","v":0},null,null,{"$f":"K127","v":0},null,null,{"$f":"N127","v":0}]
[14,0,null,null,0,null,null,0,null,null,0,null,null,0]
[null,0,null,null,0,null,null,0,null,null,0,null,null,0]
[null,0,null,null,0,null,null,0,null,null,0,null,null,0]
[null,0,null,null,0,null,null,0,null,null,{"$f":"K131","v":0},null,null,0]
[null,0,null,null,0,null,null,0,null,null,0,null,null,0]
[]
[]
[null,null,{"$f":"'1-2a'!$C$145","v":0},null,null,{"$f":"'1-2a'!$F$145","v":0},null,null,{"$f":"'1-2a'!$I$145","v":0},null,null,{"$f":"'1-2a'!$L$145","v":0},null,null,{"$f":"'1-2a'!$O$145","v":0}]
[{"$f":"IF(A136=52,1,A136+1)","v":46},{"$f":"N136+3","v":"2020-11-09"},null,null,{"$f":"B146+1","v":"2020-11-10"},null,null,{"$f":"E146+1","v":"2020-11-11"},null,null,{"$f":"H146+1","v":"2020-11-12"},null,null,{"$f":"K146+1","v":"2020-11-13"}]
[null,{"$f":"B137","v":0},null,null,{"$f":"E137","v":0},null,null,{"$f":"H137","v":0},null,null,{"$f":"K137","v":0},null,null,{"$f":"N137","v":0}]
[15,0,null,null,0,null,null,0,null,null,0,null,null,0]
[null,0,null,null,0,null,null,0,null,null,0,null,null,0]
[null,0,null,null,0,null,null,0,null,null,0,null,null,0]
[null,0,null,null,0,null,null,0,null,null,{"$f":"K141","v":0},null,null,0]
[null,0,null,null,0,null,null,0,null,null,0,null,null,0]
[]
[]
[null,null,{"$f":"'1-2a'!$C$155","v":0},null,null,{"$f":"'1-2a'!$F$155","v":0},null,null,{"$f":"'1-2a'!$I$155","v":0},null,null,{"$f":"'1-2a'!$L$155","v":0},null,null,{"$f":"'1-2a'!$O$155","v":0}]
[{"$f":"IF(A146=52,1,A146+1)","v":47},{"$f":"N146+3","v":"2020-11-16"},null,null,{"$f":"B156+1","v":"2020-11-17"},null,null,{"$f":"E156+1","v":"2020-11-18"},null,null,{"$f":"H156+1","v":"2020-11-19"},null,null,{"$f":"K156+1","v":"2020-11-20"}]
[null,{"$f":"B147","v":0},null,null,{"$f":"E147","v":0},null,null,{"$f":"H147","v":0},null,null,{"$f":"K147","v":0},null,null,{"$f":"N147","v":0}]
[16,0,null,null,0,null,null,0,null,null,0,null,null,0]
[null,0,null,null,0,null,null,0,null,null,0,null,null,0]
[null,0,null,null,0,null,null,0,null,null,0,null,null,0]
[null,0,null,null,0,null,null,0,null,null,{"$f":"K151","v":0},null,null,0]
[null,0,null,null,0,null,null,0,null,null,0,null,null,0]
[]
[]
[null,null,{"$f":"'1-2a'!$C$165","v":0},null,null,{"$f":"'1-2a'!$F$165","v":0},null,null,{"$f":"'1-2a'!$I$165","v":0},null,null,{"$f":"'1-2a'!$L$165","v":0},null,null,{"$f":"'1-2a'!$O$165","v":0}]
[{"$f":"IF(A156=52,1,A156+1)","v":48},{"$f":"N156+3","v":"2020-11-23"},null,null,{"$f":"B166+1","v":"2020-11-24"},null,null,{"$f":"E166+1","v":"2020-11-25"},null,null,{"$f":"H166+1","v":"2020-11-26"},null,null,{"$f":"K166+1","v":"2020-11-27"}]
[null,{"$f":"B157","v":0},null,null,{"$f":"E157","v":0},null,null,{"$f":"H157","v":0},null,null,{"$f":"K157","v":0},null,null,{"$f":"N157","v":0}]
[17,0,null,null,0,null,null,0,null,null,0,null,null,0]
[null,0,null,null,0,null,null,0,null,null,0,null,null,0]
[null,0,null,null,0,null,null,0,null,null,0,null,null,0]
[null,0,null,null,0,null,null,0,null,null,0,null,null,0]
[null,0,null,null,0,null,null,0,null,null,0,null,null,0]
[]
[]
[null,null,{"$f":"'1-2a'!$C$175","v":0},null,null,{"$f":"'1-2a'!$F$175","v":0},null,null,{"$f":"'1-2a'!$I$175","v":0},null,null,{"$f":"'1-2a'!$L$175","v":0},null,null,{"$f":"'1-2a'!$O$175","v":0}]
[{"$f":"IF(A166=52,1,A166+1)","v":49},{"$f":"N166+3","v":"2020-11-30"},null,null,{"$f":"B176+1","v":"2020-12-01"},null,null,{"$f":"E176+1","v":"2020-12-02"},null,null,{"$f":"H176+1","v":"2020-12-03"},null,null,{"$f":"K176+1","v":"2020-12-04"}]
[null,{"$f":"B167","v":0},null,null,{"$f":"E167","v":0},null,null,{"$f":"H167","v":0},null,null,{"$f":"K167","v":0},null,null,{"$f":"N167","v":0}]
[18,0,null,null,0,null,null,0,null,null,0,null,null,0]
[null,0,null,null,0,null,null,0,null,null,0,null,null,0]
[null,0,null,null,0,null,null,0,null,null,0,null,null,0]
[null,0,null,null,0,null,null,0,null,null,{"$f":"K171","v":0},null,null,0]
[null,0,null,null,0,null,null,0,null,null,0,null,null,0]
[]
[]
[null,null,{"$f":"'1-2a'!$C$185","v":0},null,null,{"$f":"'1-2a'!$F$185","v":0},null,null,{"$f":"'1-2a'!$I$185","v":0},null,null,{"$f":"'1-2a'!$L$185","v":0},null,null,{"$f":"'1-2a'!$O$185","v":0}]
[{"$f":"IF(A176=52,1,A176+1)","v":50},{"$f":"N176+3","v":"2020-12-07"},null,null,{"$f":"B186+1","v":"2020-12-08"},null,null,{"$f":"E186+1","v":"2020-12-09"},null,null,{"$f":"H186+1","v":"2020-12-10"},null,null,{"$f":"K186+1","v":"2020-12-11"}]
[null,{"$f":"B177","v":0},null,null,{"$f":"E177","v":0},null,null,{"$f":"H177","v":0},null,null,{"$f":"K177","v":0},null,null,{"$f":"N177","v":0}]
[19,0,null,null,0,null,null,0,null,null,0,null,null,0]
[null,0,null,null,0,null,null,0,null,null,0,null,null,0]
[null,0,null,null,0,null,null,0,null,null,0,null,null,0]
[null,0,null,null,0,null,null,0,null,null,{"$f":"K181","v":0},null,null,0]
[null,0,null,null,0,null,null,0,null,null,0,null,null,0]
[]
[]
[null,null,{"$f":"'1-2a'!$C$195","v":0},null,null,{"$f":"'1-2a'!$F$195","v":0},null,null,{"$f":"'1-2a'!$I$195","v":0},null,null,{"$f":"'1-2a'!$L$195","v":0},null,null,{"$f":"'1-2a'!$O$195","v":0}]
[{"$f":"IF(A186=52,1,A186+1)","v":51},{"$f":"N186+3","v":"2020-12-14"},null,null,{"$f":"B196+1","v":"2020-12-15"},null,null,{"$f":"E196+1","v":"2020-12-16"},null,null,{"$f":"H196+1","v":"2020-12-17"},null,null,{"$f":"K196+1","v":"2020-12-18"}]
[null,{"$f":"B187","v":0},null,null,{"$f":"E187","v":0},null,null,{"$f":"H187","v":0},null,null,{"$f":"K187","v":0},null,null,{"$f":"N187","v":0}]
[20,0,null,null,0,null,null,0,null,null,0,null,null,0]
[null,0,null,null,0,null,null,0,null,null,0,null,null,0]
[null,0,null,null,0,null,null,0,null,null,0,null,null,0]
[null,0,null,null,0,null,null,0,null,null,{"$f":"K191","v":0},null,null,0]
[null,0,null,null,0,null,null,0,null,null,0,null,null,0]
[]
[]
[null,null,{"$f":"'1-2a'!$C$205","v":0},null,null,{"$f":"'1-2a'!$F$205","v":0},null,null,{"$f":"'1-2a'!$I$205","v":0},null,null,{"$f":"'1-2a'!$L$205","v":0},null,null,{"$f":"'1-2a'!$O$205","v":0}]
[{"$f":"IF(A196=52,1,A196+1)","v":52},{"$f":"N196+3","v":"2020-12-21"},null,null,{"$f":"B206+1","v":"2020-12-22"},null,null,{"$f":"E206+1","v":"2020-12-23"},null,null,{"$f":"H206+1","v":"2020-12-24"},null,null,{"$f":"K206+1","v":"2020-12-25"}]
[null,{"$f":"B197","v":0},null,null,{"$f":"E197","v":0},null,null,{"$f":"H197","v":0},null,null,{"$f":"K197","v":0},null,null,{"$f":"N197","v":0}]
[21,0,null,null,0,null,null,0,null,null,0,null,null,0]
[null,0,null,null,0,null,null,0,null,null,0,null,null,0]
[null,0,null,null,0,null,null,0,null,null,0,null,null,0]
[null,0,null,null,0,null,null,0,null,null,{"$f":"K201","v":0},null,null,0]
[null,0,null,null,0,null,null,0,null,null,0,null,null,0]
[]
[]
[null,null,{"$f":"'1-2a'!$C$215","v":0},null,null,{"$f":"'1-2a'!$F$215","v":0},null,null,{"$f":"'1-2a'!$I$215","v":0},null,null,{"$f":"'1-2a'!$L$215","v":0},null,null,{"$f":"'1-2a'!$O$215","v":0}]
[{"$f":"IF(A206=52,1,A206+1)","v":1},{"$f":"N206+3","v":"2020-12-28"},null,null,{"$f":"B216+1","v":"2020-12-29"},null,null,{"$f":"E216+1","v":"2020-12-30"},null,null,{"$f":"H216+1","v":"2020-12-31"},null,null,{"$f":"K216+1","v":"2021-01-01"}]
[null,{"$f":"B207","v":0},null,null,{"$f":"E207","v":0},null,null,{"$f":"H207","v":0},null,null,{"$f":"K207","v":0},null,null,{"$f":"N207","v":0}]
[22,0,null,null,0,null,null,0,null,null,0,null,null,0]
[null,0,null,null,0,null,null,0,null,null,0,null,null,0]
[null,0,null,null,0,null,null,0,null,null,0,null,null,0]
[null,0,null,null,0,null,null,0,null,null,{"$f":"K211","v":0},null,null,0]
[null,0,null,null,0,null,null,0,null,null,0,null,null,0]
[]
[]
[null,null,{"$f":"'1-2a'!$C$225","v":0},null,null,{"$f":"'1-2a'!$F$225","v":0},null,null,{"$f":"'1-2a'!$I$225","v":0},null,null,{"$f":"'1-2a'!$L$225","v":0},null,null,{"$f":"'1-2a'!$O$225","v":0}]
[{"$f":"IF(A216=52,1,A216+1)","v":2},{"$f":"N216+3","v":"2021-01-04"},null,null,{"$f":"B226+1","v":"2021-01-05"},null,null,{"$f":"E226+1","v":"2021-01-06"},null,null,{"$f":"H226+1","v":"2021-01-07"},null,null,{"$f":"K226+1","v":"2021-01-08"}]
[null,{"$f":"B217","v":0},null,null,{"$f":"E217","v":0},null,null,{"$f":"H217","v":0},null,null,{"$f":"K217","v":0},null,null,{"$f":"N217","v":0}]
[23,0,null,null,0,null,null,0,null,null,0,null,null,0]
[null,0,null,null,0,null,null,0,null,null,0,null,null,0]
[null,0,null,null,0,null,null,0,null,null,0,null,null,0]
[null,0,null,null,0,null,null,0,null,null,{"$f":"K221","v":0},null,null,0]
[null,0,null,null,0,null,null,0,null,null,0,null,null,0]
[]
[]
[null,null,{"$f":"'1-2a'!$C$235","v":0},null,null,{"$f":"'1-2a'!$F$235","v":0},null,null,{"$f":"'1-2a'!$I$235","v":0},null,null,{"$f":"'1-2a'!$L$235","v":0},null,null,{"$f":"'1-2a'!$O$235","v":0}]
[{"$f":"IF(A226=52,1,A226+1)","v":3},{"$f":"N226+3","v":"2021-01-11"},null,null,{"$f":"B236+1","v":"2021-01-12"},null,null,{"$f":"E236+1","v":"2021-01-13"},null,null,{"$f":"H236+1","v":"2021-01-14"},null,null,{"$f":"K236+1","v":"2021-01-15"}]
[null,{"$f":"B227","v":0},null,null,{"$f":"E227","v":0},null,null,{"$f":"H227","v":0},null,null,{"$f":"K227","v":0},null,null,{"$f":"N227","v":0}]
[24,0,null,null,0,null,null,0,null,null,0,null,null,0]
[null,0,null,null,0,null,null,0,null,null,0,null,null,0]
[null,0,null,null,0,null,null,0,null,null,0,null,null,0]
[null,0,null,null,0,null,null,0,null,null,{"$f":"K231","v":0},null,null,0]
[null,0,null,null,0,null,null,0,null,null,0,null,null,0]
[]
[]
[null,null,{"$f":"'1-2a'!$C$245","v":0},null,null,{"$f":"'1-2a'!$F$245","v":0},null,null,{"$f":"'1-2a'!$I$245","v":0},null,null,{"$f":"'1-2a'!$L$245","v":0},null,null,{"$f":"'1-2a'!$O$245","v":0}]
[{"$f":"IF(A236=52,1,A236+1)","v":4},{"$f":"N236+3","v":"2021-01-18"},null,null,{"$f":"B246+1","v":"2021-01-19"},null,null,{"$f":"E246+1","v":"2021-01-20"},null,null,{"$f":"H246+1","v":"2021-01-21"},null,null,{"$f":"K246+1","v":"2021-01-22"}]
[null,{"$f":"B237","v":0},null,null,{"$f":"E237","v":0},null,null,{"$f":"H237","v":0},null,null,{"$f":"K237","v":0},null,null,{"$f":"N237","v":0}]
[25,0,null,null,0,null,null,0,null,null,0,null,null,0]
[null,0,null,null,0,null,null,0,null,null,0,null,null,0]
[null,0,null,null,0,null,null,0,null,null,0,null,null,0]
[null,0,null,null,0,null,null,0,null,null,0,null,null,0]
[null,0,null,null,0,null,null,0,null,null,0,null,null,0]
[]
[]
[null,null,{"$f":"'1-2a'!$C$255","v":0},null,null,{"$f":"'1-2a'!$F$255","v":0},null,null,{"$f":"'1-2a'!$I$255","v":0},null,null,{"$f":"'1-2a'!$L$255","v":0},null,null,{"$f":"'1-2a'!$O$255","v":0}]
[{"$f":"IF(A246=52,1,A246+1)","v":5},{"$f":"N246+3","v":"2021-01-25"},null,null,{"$f":"B256+1","v":"2021-01-26"},null,null,{"$f":"E256+1","v":"2021-01-27"},null,null,{"$f":"H256+1","v":"2021-01-28"},null,null,{"$f":"K256+1","v":"2021-01-29"}]
[null,{"$f":"B247","v":0},null,null,{"$f":"E247","v":0},null,null,{"$f":"H247","v":0},null,null,{"$f":"K247","v":0},null,null,{"$f":"N247","v":0}]
[26,0,null,null,0,null,null,0,null,null,0,null,null,0]
[null,0,null,null,0,null,null,0,null,null,0,null,null,0]
[null,0,null,null,0,null,null,0,null,null,0,null,null,0]
[null,0,null,null,0,null,null,0,null,null,{"$f":"K251","v":0},null,null,0]
[null,0,null,null,0,null,null,0,null,null,0,null,null,0]
[]
[]
[null,null,{"$f":"'1-2a'!$C$265","v":0},null,null,{"$f":"'1-2a'!$F$265","v":0},null,null,{"$f":"'1-2a'!$I$265","v":0},null,null,{"$f":"'1-2a'!$L$265","v":0},null,null,{"$f":"'1-2a'!$O$265","v":0}]
[{"$f":"IF(A256=52,1,A256+1)","v":6},{"$f":"N256+3","v":"2021-02-01"},null,null,{"$f":"B266+1","v":"2021-02-02"},null,null,{"$f":"E266+1","v":"2021-02-03"},null,null,{"$f":"H266+1","v":"2021-02-04"},null,null,{"$f":"K266+1","v":"2021-02-05"}]
[null,{"$f":"B257","v":0},null,null,{"$f":"E257","v":0},null,null,{"$f":"H257","v":0},null,null,{"$f":"K257","v":0},null,null,{"$f":"N257","v":0}]
[27,0,null,null,0,null,null,0,null,null,0,null,null,0]
[null,0,null,null,0,null,null,0,null,null,0,null,null,0]
[null,0,null,null,0,null,null,0,null,null,0,null,null,0]
[null,0,null,null,0,null,null,0,null,null,{"$f":"K261","v":0},null,null,0]
[null,0,null,null,0,null,null,0,null,null,0,null,null,0]
[]
[]
[null,null,{"$f":"'1-2a'!$C$275","v":0},null,null,{"$f":"'1-2a'!$F$275","v":0},null,null,{"$f":"'1-2a'!$I$275","v":0},null,null,{"$f":"'1-2a'!$L$275","v":0},null,null,{"$f":"'1-2a'!$O$275","v":0}]
[{"$f":"IF(A266=52,1,A266+1)","v":7},{"$f":"N266+3","v":"2021-02-08"},null,null,{"$f":"B276+1","v":"2021-02-09"},null,null,{"$f":"E276+1","v":"2021-02-10"},null,null,{"$f":"H276+1","v":"2021-02-11"},null,null,{"$f":"K276+1","v":"2021-02-12"}]
[null,{"$f":"B267","v":0},null,null,{"$f":"E267","v":0},null,null,{"$f":"H267","v":0},null,null,{"$f":"K267","v":0},null,null,{"$f":"N267","v":0}]
[28,0,null,null,0,null,null,0,null,null,0,null,null,0]
[null,0,null,null,0,null,null,0,null,null,0,null,null,0]
[null,0,null,null,0,null,null,0,null,null,0,null,null,0]
[null,0,null,null,0,null,null,0,null,null,{"$f":"K271","v":0},null,null,0]
[null,0,null,null,0,null,null,0,null,null,0,null,null,0]
[]
[]
[null,null,{"$f":"'1-2a'!$C$285","v":0},null,null,{"$f":"'1-2a'!$F$285","v":0},null,null,{"$f":"'1-2a'!$I$285","v":0},null,null,{"$f":"'1-2a'!$L$285","v":0},null,null,{"$f":"'1-2a'!$O$285","v":0}]
[{"$f":"IF(A276=52,1,A276+1)","v":8},{"$f":"N276+3","v":"2021-02-15"},null,null,{"$f":"B286+1","v":"2021-02-16"},null,null,{"$f":"E286+1","v":"2021-02-17"},null,null,{"$f":"H286+1","v":"2021-02-18"},null,null,{"$f":"K286+1","v":"2021-02-19"}]
[null,{"$f":"B277","v":0},null,null,{"$f":"E277","v":0},null,null,{"$f":"H277","v":0},null,null,{"$f":"K277","v":0},null,null,{"$f":"N277","v":0}]
[29,0,null,null,0,null,null,0,null,null,0,null,null,0]
[null,0,null,null,0,null,null,0,null,null,0,null,null,0]
[null,0,null,null,0,null,null,0,null,null,0,null,null,0]
[null,0,null,null,0,null,null,0,null,null,{"$f":"K281","v":0},null,null,0]
[null,0,null,null,0,null,null,0,null,null,0,null,null,0]
[]
[]
[null,null,{"$f":"'1-2a'!$C$295","v":0},null,null,{"$f":"'1-2a'!$F$295","v":0},null,null,{"$f":"'1-2a'!$I$295","v":0},null,null,{"$f":"'1-2a'!$L$295","v":0},null,null,{"$f":"'1-2a'!$O$295","v":0}]
[{"$f":"IF(A286=52,1,A286+1)","v":9},{"$f":"N286+3","v":"2021-02-22"},null,null,{"$f":"B296+1","v":"2021-02-23"},null,null,{"$f":"E296+1","v":"2021-02-24"},null,null,{"$f":"H296+1","v":"2021-02-25"},null,null,{"$f":"K296+1","v":"2021-02-26"}]
[null,{"$f":"B287","v":0},null,null,{"$f":"E287","v":0},null,null,{"$f":"H287","v":0},null,null,{"$f":"K287","v":0},null,null,{"$f":"N287","v":0}]
[30,0,null,null,0,null,null,0,null,null,0,null,null,0]
[null,0,null,null,0,null,null,0,null,null,0,null,null,0]
[null,0,null,null,0,null,null,0,null,null,0,null,null,0]
[null,0,null,null,0,null,null,0,null,null,{"$f":"K291","v":0},null,null,0]
[null,0,null,null,0,null,null,0,null,null,0,null,null,0]
[]
[]
[null,null,{"$f":"'1-2a'!$C$305","v":0},null,null,{"$f":"'1-2a'!$F$305","v":0},null,null,{"$f":"'1-2a'!$I$305","v":0},null,null,{"$f":"'1-2a'!$L$305","v":0},null,null,{"$f":"'1-2a'!$O$305","v":0}]
[{"$f":"IF(A296=52,1,A296+1)","v":10},{"$f":"N296+3","v":"2021-03-01"},null,null,{"$f":"B306+1","v":"2021-03-02"},null,null,{"$f":"E306+1","v":"2021-03-03"},null,null,{"$f":"H306+1","v":"2021-03-04"},null,null,{"$f":"K306+1","v":"2021-03-05"}]
[null,{"$f":"B297","v":0},null,null,{"$f":"E297","v":0},null,null,{"$f":"H297","v":0},null,null,{"$f":"K297","v":0},null,null,{"$f":"N297","v":0}]
[31,0,null,null,0,null,null,0,null,null,0,null,null,0]
[null,0,null,null,0,null,null,0,null,null,0,null,null,0]
[null,0,null,null,0,null,null,0,null,null,0,null,null,0]
[null,0,null,null,0,null,null,0,null,null,{"$f":"K301","v":0},null,null,0]
[null,0,null,null,0,null,null,0,null,null,0,null,null,0]
[]
[]
[null,null,{"$f":"'1-2a'!$C$315","v":0},null,null,{"$f":"'1-2a'!$F$315","v":0},null,null,{"$f":"'1-2a'!$I$315","v":0},null,null,{"$f":"'1-2a'!$L$315","v":0},null,null,{"$f":"'1-2a'!$O$315","v":0}]
[{"$f":"IF(A306=52,1,A306+1)","v":11},{"$f":"N306+3","v":"2021-03-08"},null,null,{"$f":"B316+1","v":"2021-03-09"},null,null,{"$f":"E316+1","v":"2021-03-10"},null,null,{"$f":"H316+1","v":"2021-03-11"},null,null,{"$f":"K316+1","v":"2021-03-12"}]
[null,{"$f":"B307","v":0},null,null,{"$f":"E307","v":0},null,null,{"$f":"H307","v":0},null,null,{"$f":"K307","v":0},null,null,{"$f":"N307","v":0}]
[32,0,null,null,0,null,null,0,null,null,0,null,null,0]
[null,0,null,null,0,null,null,0,null,null,0,null,null,0]
[null,0,null,null,0,null,null,0,null,null,0,null,null,0]
[null,0,null,null,0,null,null,0,null,null,{"$f":"K311","v":0},null,null,0]
[null,0,null,null,0,null,null,0,null,null,0,null,null,0]
[]
[]
[null,null,{"$f":"'1-2a'!$C$325","v":0},null,null,{"$f":"'1-2a'!$F$325","v":0},null,null,{"$f":"'1-2a'!$I$325","v":0},null,null,{"$f":"'1-2a'!$L$325","v":0},null,null,{"$f":"'1-2a'!$O$325","v":0}]
[{"$f":"IF(A316=52,1,A316+1)","v":12},{"$f":"N316+3","v":"2021-03-15"},null,null,{"$f":"B326+1","v":"2021-03-16"},null,null,{"$f":"E326+1","v":"2021-03-17"},null,null,{"$f":"H326+1","v":"2021-03-18"},null,null,{"$f":"K326+1","v":"2021-03-19"}]
[null,{"$f":"B317","v":0},null,null,{"$f":"E317","v":0},null,null,{"$f":"H317","v":0},null,null,{"$f":"K317","v":0},null,null,{"$f":"N317","v":0}]
[33,0,null,null,0,null,null,0,null,null,0,null,null,0]
[null,0,null,null,0,null,null,0,null,null,0,null,null,0]
[null,0,null,null,0,null,null,0,null,null,0,null,null,0]
[null,0,null,null,0,null,null,0,null,null,0,null,null,0]
[null,0,null,null,0,null,null,0,null,null,0,null,null,0]
[]
[]
[null,null,{"$f":"'1-2a'!$C$335","v":0},null,null,{"$f":"'1-2a'!$F$335","v":0},null,null,{"$f":"'1-2a'!$I$335","v":0},null,null,{"$f":"'1-2a'!$L$335","v":0},null,null,{"$f":"'1-2a'!$O$335","v":0}]
[{"$f":"IF(A326=52,1,A326+1)","v":13},{"$f":"N326+3","v":"2021-03-22"},null,null,{"$f":"B336+1","v":"2021-03-23"},null,null,{"$f":"E336+1","v":"2021-03-24"},null,null,{"$f":"H336+1","v":"2021-03-25"},null,null,{"$f":"K336+1","v":"2021-03-26"}]
[null,{"$f":"B327","v":0},null,null,{"$f":"E327","v":0},null,null,{"$f":"H327","v":0},null,null,{"$f":"K327","v":0},null,null,{"$f":"N327","v":0}]
[34,0,null,null,0,null,null,0,null,null,0,null,null,0]
[null,0,null,null,0,null,null,0,null,null,0,null,null,0]
[null,0,null,null,0,null,null,0,null,null,0,null,null,0]
[null,0,null,null,0,null,null,0,null,null,{"$f":"K331","v":0},null,null,0]
[null,0,null,null,0,null,null,0,null,null,0,null,null,0]
[]
[]
[null,null,{"$f":"'1-2a'!$C$345","v":0},null,null,{"$f":"'1-2a'!$F$345","v":0},null,null,{"$f":"'1-2a'!$I$345","v":0},null,null,{"$f":"'1-2a'!$L$345","v":0},null,null,{"$f":"'1-2a'!$O$345","v":0}]
[{"$f":"IF(A336=52,1,A336+1)","v":14},{"$f":"N336+3","v":"2021-03-29"},null,null,{"$f":"B346+1","v":"2021-03-30"},null,null,{"$f":"E346+1","v":"2021-03-31"},null,null,{"$f":"H346+1","v":"2021-04-01"},null,null,{"$f":"K346+1","v":"2021-04-02"}]
[null,{"$f":"B337","v":0},null,null,{"$f":"E337","v":0},null,null,{"$f":"H337","v":0},null,null,{"$f":"K337","v":0},null,null,{"$f":"N337","v":0}]
[35,0,null,null,0,null,null,0,null,null,0,null,null,0]
[null,0,null,null,0,null,null,0,null,null,0,null,null,0]
[null,0,null,null,0,null,null,0,null,null,0,null,null,0]
[null,0,null,null,0,null,null,0,null,null,{"$f":"K341","v":0},null,null,0]
[null,0,null,null,0,null,null,0,null,null,0,null,null,0]
[]
[]
[null,null,{"$f":"'1-2a'!$C$355","v":0},null,null,{"$f":"'1-2a'!$F$355","v":0},null,null,{"$f":"'1-2a'!$I$355","v":0},null,null,{"$f":"'1-2a'!$L$355","v":0},null,null,{"$f":"'1-2a'!$O$355","v":0}]
[{"$f":"IF(A346=52,1,A346+1)","v":15},{"$f":"N346+3","v":"2021-04-05"},null,null,{"$f":"B356+1","v":"2021-04-06"},null,null,{"$f":"E356+1","v":"2021-04-07"},null,null,{"$f":"H356+1","v":"2021-04-08"},null,null,{"$f":"K356+1","v":"2021-04-09"}]
[null,{"$f":"B347","v":0},null,null,{"$f":"E347","v":0},null,null,{"$f":"H347","v":0},null,null,{"$f":"K347","v":0},null,null,{"$f":"N347","v":0}]
[36,0,null,null,0,null,null,0,null,null,0,null,null,0]
[null,0,null,null,0,null,null,0,null,null,0,null,null,0]
[null,0,null,null,0,null,null,0,null,null,0,null,null,0]
[null,0,null,null,0,null,null,0,null,null,{"$f":"K351","v":0},null,null,0]
[null,0,null,null,0,null,null,0,null,null,0,null,null,0]
[]
[]
[null,null,{"$f":"'1-2a'!$C$365","v":0},null,null,{"$f":"'1-2a'!$F$365","v":0},null,null,{"$f":"'1-2a'!$I$365","v":0},null,null,{"$f":"'1-2a'!$L$365","v":0},null,null,{"$f":"'1-2a'!$O$365","v":0}]
[{"$f":"IF(A356=52,1,A356+1)","v":16},{"$f":"N356+3","v":"2021-04-12"},null,null,{"$f":"B366+1","v":"2021-04-13"},null,null,{"$f":"E366+1","v":"2021-04-14"},null,null,{"$f":"H366+1","v":"2021-04-15"},null,null,{"$f":"K366+1","v":"2021-04-16"}]
[null,{"$f":"B357","v":0},null,null,{"$f":"E357","v":0},null,null,{"$f":"H357","v":0},null,null,{"$f":"K357","v":0},null,null,{"$f":"N357","v":0}]
[37,0,null,null,0,null,null,0,null,null,0,null,null,0]
[null,0,null,null,0,null,null,0,null,null,0,null,null,0]
[null,0,null,null,0,null,null,0,null,null,0,null,null,0]
[null,0,null,null,0,null,null,0,null,null,{"$f":"K361","v":0},null,null,0]
[null,0,null,null,0,null,null,0,null,null,0,null,null,0]
[]
[]
[null,null,{"$f":"'1-2a'!$C$375","v":0},null,null,{"$f":"'1-2a'!$F$375","v":0},null,null,{"$f":"'1-2a'!$I$375","v":0},null,null,{"$f":"'1-2a'!$L$375","v":0},null,null,{"$f":"'1-2a'!$O$375","v":0}]
[{"$f":"IF(A366=52,1,A366+1)","v":17},{"$f":"N366+3","v":"2021-04-19"},null,null,{"$f":"B376+1","v":"2021-04-20"},null,null,{"$f":"E376+1","v":"2021-04-21"},null,null,{"$f":"H376+1","v":"2021-04-22"},null,null,{"$f":"K376+1","v":"2021-04-23"}]
[null,{"$f":"B367","v":0},null,null,{"$f":"E367","v":0},null,null,{"$f":"H367","v":0},null,null,{"$f":"K367","v":0},null,null,{"$f":"N367","v":0}]
[38,0,null,null,0,null,null,0,null,null,0,null,null,0]
[null,0,null,null,0,null,null,0,null,null,0,null,null,0]
[null,0,null,null,0,null,null,0,null,null,0,null,null,0]
[null,0,null,null,0,null,null,0,null,null,{"$f":"K371","v":0},null,null,0]
[null,0,null,null,0,null,null,0,null,null,0,null,null,0]
[]
[]
[null,null,{"$f":"'1-2a'!$C$385","v":0},null,null,{"$f":"'1-2a'!$F$385","v":0},null,null,{"$f":"'1-2a'!$I$385","v":0},null,null,{"$f":"'1-2a'!$L$385","v":0},null,null,{"$f":"'1-2a'!$O$385","v":0}]
[{"$f":"IF(A376=52,1,A376+1)","v":18},{"$f":"N376+3","v":"2021-04-26"},null,null,{"$f":"B386+1","v":"2021-04-27"},null,null,{"$f":"E386+1","v":"2021-04-28"},null,null,{"$f":"H386+1","v":"2021-04-29"},null,null,{"$f":"K386+1","v":"2021-04-30"}]
[null,{"$f":"B377","v":0},null,null,{"$f":"E377","v":0},null,null,{"$f":"H377","v":0},null,null,{"$f":"K377","v":0},null,null,{"$f":"N377","v":0}]
[39,0,null,null,0,null,null,0,null,null,0,null,null,0]
[null,0,null,null,0,null,null,0,null,null,0,null,null,0]
[null,0,null,null,0,null,null,0,null,null,0,null,null,0]
[null,0,null,null,0,null,null,0,null,null,{"$f":"K381","v":0},null,null,0]
[null,0,null,null,0,null,null,0,null,null,0,null,null,0]
[]
[]
[null,null,{"$f":"'1-2a'!$C$395","v":0},null,null,{"$f":"'1-2a'!$F$395","v":0},null,null,{"$f":"'1-2a'!$I$395","v":0},null,null,{"$f":"'1-2a'!$L$395","v":0},null,null,{"$f":"'1-2a'!$O$395","v":0}]
[{"$f":"IF(A386=52,1,A386+1)","v":19},{"$f":"N386+3","v":"2021-05-03"},null,null,{"$f":"B396+1","v":"2021-05-04"},null,null,{"$f":"E396+1","v":"2021-05-05"},null,null,{"$f":"H396+1","v":"2021-05-06"},null,null,{"$f":"K396+1","v":"2021-05-07"}]
[null,{"$f":"B387","v":0},null,null,{"$f":"E387","v":0},null,null,{"$f":"H387","v":0},null,null,{"$f":"K387","v":0},null,null,{"$f":"N387","v":0}]
[40,0,null,null,0,null,null,0,null,null,0,null,null,0]
[null,0,null,null,0,null,null,0,null,null,0,null,null,0]
[null,0,null,null,0,null,null,0,null,null,0,null,null,0]
[null,0,null,null,0,null,null,0,null,null,{"$f":"K391","v":0},null,null,0]
[null,0,null,null,0,null,null,0,null,null,0,null,null,0]
[]
[]
[null,null,{"$f":"'1-2a'!$C$405","v":0},null,null,{"$f":"'1-2a'!$F$405","v":0},null,null,{"$f":"'1-2a'!$I$405","v":0},null,null,{"$f":"'1-2a'!$L$405","v":0},null,null,{"$f":"'1-2a'!$O$405","v":0}]
[{"$f":"IF(A396=52,1,A396+1)","v":20},{"$f":"N396+3","v":"2021-05-10"},null,null,{"$f":"B406+1","v":"2021-05-11"},null,null,{"$f":"E406+1","v":"2021-05-12"},null,null,{"$f":"H406+1","v":"2021-05-13"},null,null,{"$f":"K406+1","v":"2021-05-14"}]
[null,{"$f":"B397","v":0},null,null,{"$f":"E397","v":0},null,null,{"$f":"H397","v":0},null,null,{"$f":"K397","v":0},null,null,{"$f":"N397","v":0}]
[41,0,null,null,0,null,null,0,null,null,0,null,null,0]
[null,0,null,null,0,null,null,0,null,null,0,null,null,0]
[null,0,null,null,0,null,null,0,null,null,0,null,null,0]
[null,0,null,null,0,null,null,0,null,null,0,null,null,0]
[null,0,null,null,0,null,null,0,null,null,0,null,null,0]
[]
[]
[null,null,{"$f":"'1-2a'!$C$415","v":0},null,null,{"$f":"'1-2a'!$F$415","v":0},null,null,{"$f":"'1-2a'!$I$415","v":0},null,null,{"$f":"'1-2a'!$L$415","v":0},null,null,{"$f":"'1-2a'!$O$415","v":0}]
[{"$f":"IF(A406=52,1,A406+1)","v":21},{"$f":"N406+3","v":"2021-05-17"},null,null,{"$f":"B416+1","v":"2021-05-18"},null,null,{"$f":"E416+1","v":"2021-05-19"},null,null,{"$f":"H416+1","v":"2021-05-20"},null,null,{"$f":"K416+1","v":"2021-05-21"}]
[null,{"$f":"B407","v":0},null,null,{"$f":"E407","v":0},null,null,{"$f":"H407","v":0},null,null,{"$f":"K407","v":0},null,null,{"$f":"N407","v":0}]
[42,0,null,null,0,null,null,0,null,null,0,null,null,0]
[null,0,null,null,0,null,null,0,null,null,0,null,null,0]
[null,0,null,null,0,null,null,0,null,null,0,null,null,0]
[null,0,null,null,0,null,null,0,null,null,{"$f":"K411","v":0},null,null,0]
[null,0,null,null,0,null,null,0,null,null,0,null,null,0]
[]
[]
[null,null,{"$f":"'1-2a'!$C$425","v":0},null,null,{"$f":"'1-2a'!$F$425","v":0},null,null,{"$f":"'1-2a'!$I$425","v":0},null,null,{"$f":"'1-2a'!$L$425","v":0},null,null,{"$f":"'1-2a'!$O$425","v":0}]
[{"$f":"IF(A416=52,1,A416+1)","v":22},{"$f":"N416+3","v":"2021-05-24"},null,null,{"$f":"B426+1","v":"2021-05-25"},null,null,{"$f":"E426+1","v":"2021-05-26"},null,null,{"$f":"H426+1","v":"2021-05-27"},null,null,{"$f":"K426+1","v":"2021-05-28"}]
[null,{"$f":"B417","v":0},null,null,{"$f":"E417","v":0},null,null,{"$f":"H417","v":0},null,null,{"$f":"K417","v":0},null,null,{"$f":"N417","v":0}]
[43,0,null,null,0,null,null,0,null,null,0,null,null,0]
[null,0,null,null,0,null,null,0,null,null,0,null,null,0]
[null,0,null,null,0,null,null,0,null,null,0,null,null,0]
[null,0,null,null,0,null,null,0,null,null,{"$f":"K421","v":0},null,null,0]
[null,0,null,null,0,null,null,0,null,null,0,null,null,0]
[]
[]
[null,null,{"$f":"'1-2a'!$C$435","v":0},null,null,{"$f":"'1-2a'!$F$435","v":0},null,null,{"$f":"'1-2a'!$I$435","v":0},null,null,{"$f":"'1-2a'!$L$435","v":0},null,null,{"$f":"'1-2a'!$O$435","v":0}]
[{"$f":"IF(A426=52,1,A426+1)","v":23},{"$f":"N426+3","v":"2021-05-31"},null,null,{"$f":"B436+1","v":"2021-06-01"},null,null,{"$f":"E436+1","v":"2021-06-02"},null,null,{"$f":"H436+1","v":"2021-06-03"},null,null,{"$f":"K436+1","v":"2021-06-04"}]
[null,{"$f":"B427","v":0},null,null,{"$f":"E427","v":0},null,null,{"$f":"H427","v":0},null,null,{"$f":"K427","v":0},null,null,{"$f":"N427","v":0}]
[44,0,null,null,0,null,null,0,null,null,0,null,null,0]
[null,0,null,null,0,null,null,0,null,null,0,null,null,0]
[null,0,null,null,0,null,null,0,null,null,0,null,null,0]
[null,0,null,null,0,null,null,0,null,null,{"$f":"K431","v":0},null,null,0]
[null,0,null,null,0,null,null,0,null,null,0,null,null,0]
[]
[]
[null,null,{"$f":"'1-2a'!$C$445","v":0},null,null,{"$f":"'1-2a'!$F$445","v":0},null,null,{"$f":"'1-2a'!$I$445","v":0},null,null,{"$f":"'1-2a'!$L$445","v":0},null,null,{"$f":"'1-2a'!$O$445","v":0}]
[{"$f":"IF(A436=52,1,A436+1)","v":24},{"$f":"N436+3","v":"2021-06-07"},null,null,{"$f":"B446+1","v":"2021-06-08"},null,null,{"$f":"E446+1","v":"2021-06-09"},null,null,{"$f":"H446+1","v":"2021-06-10"},null,null,{"$f":"K446+1","v":"2021-06-11"}]
[null,{"$f":"B437","v":0},null,null,{"$f":"E437","v":0},null,null,{"$f":"H437","v":0},null,null,{"$f":"K437","v":0},null,null,{"$f":"N437","v":0}]
[45,0,null,null,0,null,null,0,null,null,0,null,null,0]
[null,0,null,null,0,null,null,0,null,null,0,null,null,0]
[null,0,null,null,0,null,null,0,null,null,0,null,null,0]
[null,0,null,null,0,null,null,0,null,null,{"$f":"K441","v":0},null,null,0]
[null,0,null,null,0,null,null,0,null,null,0,null,null,0]
[]
[]
[null,null,{"$f":"'1-2a'!$C$455","v":0},null,null,{"$f":"'1-2a'!$F$455","v":0},null,null,{"$f":"'1-2a'!$I$455","v":0},null,null,{"$f":"'1-2a'!$L$455","v":0},null,null,{"$f":"'1-2a'!$O$455","v":0}]
[{"$f":"IF(A446=52,1,A446+1)","v":25},{"$f":"N446+3","v":"2021-06-14"},null,null,{"$f":"B456+1","v":"2021-06-15"},null,null,{"$f":"E456+1","v":"2021-06-16"},null,null,{"$f":"H456+1","v":"2021-06-17"},null,null,{"$f":"K456+1","v":"2021-06-18"}]
[null,{"$f":"B447","v":0},null,null,{"$f":"E447","v":0},null,null,{"$f":"H447","v":0},null,null,{"$f":"K447","v":0},null,null,{"$f":"N447","v":0}]
[46,0,null,null,0,null,null,0,null,null,0,null,null,0]
[null,0,null,null,0,null,null,0,null,null,0,null,null,0]
[null,0,null,null,0,null,null,0,null,null,0,null,null,0]
[null,0,null,null,0,null,null,0,null,null,{"$f":"K451","v":0},null,null,0]
[null,0,null,null,0,null,null,0,null,null,0,null,null,0]
[]
[]
[null,null,{"$f":"'1-2a'!$C$465","v":0},null,null,{"$f":"'1-2a'!$F$465","v":0},null,null,{"$f":"'1-2a'!$I$465","v":0},null,null,{"$f":"'1-2a'!$L$465","v":0},null,null,{"$f":"'1-2a'!$O$465","v":0}]
[{"$f":"IF(A456=52,1,A456+1)","v":26},{"$f":"N456+3","v":"2021-06-21"},null,null,{"$f":"B466+1","v":"2021-06-22"},null,null,{"$f":"E466+1","v":"2021-06-23"},null,null,{"$f":"H466+1","v":"2021-06-24"},null,null,{"$f":"K466+1","v":"2021-06-25"}]
[null,{"$f":"B457","v":0},null,null,{"$f":"E457","v":0},null,null,{"$f":"H457","v":0},null,null,{"$f":"K457","v":0},null,null,{"$f":"N457","v":0}]
[47,0,null,null,0,null,null,0,null,null,0,null,null,0]
[null,0,null,null,0,null,null,0,null,null,0,null,null,0]
[null,0,null,null,0,null,null,0,null,null,0,null,null,0]
[null,0,null,null,0,null,null,0,null,null,{"$f":"K461","v":0},null,null,0]
[null,0,null,null,0,null,null,0,null,null,0,null,null,0]
[]
[]
[null,null,{"$f":"'1-2a'!$C$475","v":0},null,null,{"$f":"'1-2a'!$F$475","v":0},null,null,{"$f":"'1-2a'!$I$475","v":0},null,null,{"$f":"'1-2a'!$L$475","v":0},null,null,{"$f":"'1-2a'!$O$475","v":0}]
[{"$f":"IF(A466=52,1,A466+1)","v":27},{"$f":"N466+3","v":"2021-06-28"},null,null,{"$f":"B476+1","v":"2021-06-29"},null,null,{"$f":"E476+1","v":"2021-06-30"},null,null,{"$f":"H476+1","v":"2021-07-01"},null,null,{"$f":"K476+1","v":"2021-07-02"}]
[null,{"$f":"B467","v":0},null,null,{"$f":"E467","v":0},null,null,{"$f":"H467","v":0},null,null,{"$f":"K467","v":0},null,null,{"$f":"N467","v":0}]
[48,0,null,null,0,null,null,0,null,null,0,null,null,0]
[null,0,null,null,0,null,null,0,null,null,0,null,null,0]
[null,0,null,null,0,null,null,0,null,null,0,null,null,0]
[null,0,null,null,0,null,null,0,null,null,{"$f":"K471","v":0},null,null,0]
[null,0,null,null,0,null,null,0,null,null,0,null,null,0]
[]
[]
[null,null,{"$f":"'1-2a'!$C$485","v":0},null,null,{"$f":"'1-2a'!$F$485","v":0},null,null,{"$f":"'1-2a'!$I$485","v":0},null,null,{"$f":"'1-2a'!$L$485","v":0},null,null,{"$f":"'1-2a'!$O$485","v":0}]
[{"$f":"IF(A476=52,1,A476+1)","v":28},{"$f":"N476+3","v":"2021-07-05"},null,null,{"$f":"B486+1","v":"2021-07-06"},null,null,{"$f":"E486+1","v":"2021-07-07"},null,null,{"$f":"H486+1","v":"2021-07-08"},null,null,{"$f":"K486+1","v":"2021-07-09"}]
[null,{"$f":"B477","v":0},null,null,{"$f":"E477","v":0},null,null,{"$f":"H477","v":0},null,null,{"$f":"K477","v":0},null,null,{"$f":"N477","v":0}]
[49,0,null,null,0,null,null,0,null,null,0,null,null,0]
[null,0,null,null,0,null,null,0,null,null,0,null,null,0]
[null,0,null,null,0,null,null,0,null,null,0,null,null,0]
[null,0,null,null,0,null,null,0,null,null,0,null,null,0]
[null,0,null,null,0,null,null,0,null,null,0,null,null,0]
[]
[]
[null,null,{"$f":"'1-2a'!$C$495","v":0},null,null,{"$f":"'1-2a'!$F$495","v":0},null,null,{"$f":"'1-2a'!$I$495","v":0},null,null,{"$f":"'1-2a'!$L$495","v":0},null,null,{"$f":"'1-2a'!$O$495","v":0}]
[{"$f":"IF(A486=52,1,A486+1)","v":29},{"$f":"N486+3","v":"2021-07-12"},null,null,{"$f":"B496+1","v":"2021-07-13"},null,null,{"$f":"E496+1","v":"2021-07-14"},null,null,{"$f":"H496+1","v":"2021-07-15"},null,null,{"$f":"K496+1","v":"2021-07-16"}]
[null,{"$f":"B487","v":0},null,null,{"$f":"E487","v":0},null,null,{"$f":"H487","v":0},null,null,{"$f":"K487","v":0},null,null,{"$f":"N487","v":0}]
[50,0,null,null,0,null,null,0,null,null,0]
[null,0,null,null,0,null,null,0,null,null,0,null,null,0]
[null,0,null,null,0,null,null,0,null,null,0,null,null,0]
[null,0,null,null,0,null,null,0,null,null,{"$f":"K491","v":0},null,null,0]
[null,0,null,null,0,null,null,0,null,null,0]

{"sheet":"21","index":21,"n_rows":502,"n_cols":15,"rows_kept":502,"cut":false,"hidden":false,"merged":[[5,1,5,3],[5,4,5,6],[5,7,5,9],[5,10,5,12],[5,13,5,15],[7,0,8,0],[1,1,2,7],[1,9,2,12],[1,13,2,15],[3,1,3,3],[3,4,3,6],[3,7,3,9],[3,10,3,12],[3,13,3,15],[12,1,13,3],[12,4,13,6],[12,7,13,9],[12,10,13,12],[12,13,13,15],[15,1,15,3],[15,4,15,6],[15,7,15,9],[15,10,15,12],[15,13,15,15],[25,1,25,3],[25,4,25,6],[25,7,25,9],[25,10,25,12],[25,13,25,15],[27,0,28,0],[17,0,18,0],[22,1,23,3],[22,4,23,6],[22,7,23,9],[22,10,23,12],[22,13,23,15],[32,1,33,3],[32,4,33,6],[32,7,33,9],[32,10,33,12],[32,13,33,15],[35,1,35,3],[35,4,35,6],[35,7,35,9],[35,10,35,12],[35,13,35,15],[45,1,45,3],[45,4,45,6],[45,7,45,9],[45,10,45,12],[45,13,45,15],[47,0,48,0],[37,0,38,0],[42,1,43,3],[42,4,43,6],[42,7,43,9],[42,10,43,12],[42,13,43,15],[52,1,53,3],[52,4,53,6],[52,7,53,9],[52,10,53,12],[52,13,53,15],[55,1,55,3],[55,4,55,6],[55,7,55,9],[55,10,55,12],[55,13,55,15],[65,1,65,3],[65,4,65,6],[65,7,65,9],[65,10,65,12],[65,13,65,15],[67,0,68,0],[57,0,58,0],[62,1,63,3],[62,4,63,6],[62,7,63,9],[62,10,63,12],[62,13,63,15],[72,1,73,3],[72,4,73,6],[72,7,73,9],[72,10,73,12],[72,13,73,15],[75,1,75,3],[75,4,75,6],[75,7,75,9],[75,10,75,12],[75,13,75,15],[85,1,85,3],[85,4,85,6],[85,7,85,9],[85,10,85,12],[85,13,85,15],[87,0,88,0],[77,0,78,0],[82,1,83,3],[82,4,83,6],[82,7,83,9],[82,10,83,12],[82,13,83,15],[92,1,93,3],[92,4,93,6],[92,7,93,9],[92,10,93,12],[92,13,93,15],[95,1,95,3],[95,4,95,6],[95,7,95,9],[95,10,95,12],[95,13,95,15],[105,1,105,3],[105,4,105,6],[105,7,105,9],[105,10,105,12],[105,13,105,15],[107,0,108,0],[97,0,98,0],[99,16,100,19],[102,1,103,3],[102,4,103,6],[102,7,103,9],[102,10,103,12],[102,13,103,15],[112,1,113,3],[112,4,113,6],[112,7,113,9],[112,10,113,12],[112,13,113,15],[115,1,115,3],[115,4,115,6],[115,7,115,9],[115,10,115,12],[115,13,115,15],[125,1,125,3],[125,4,125,6],[125,7,125,9],[125,10,125,12],[125,13,125,15],[127,0,128,0],[117,0,118,0],[122,1,123,3],[122,4,123,6],[122,7,123,9],[122,10,123,12],[122,13,123,15],[132,1,133,3],[132,4,133,6],[132,7,133,9],[132,10,133,12],[132,13,133,15],[135,1,135,3],[135,4,135,6],[135,7,135,9],[135,10,135,12],[135,13,135,15],[145,1,145,3],[145,4,145,6],[145,7,145,9],[145,10,145,12],[145,13,145,15],[147,0,148,0],[137,0,138,0],[142,1,143,3],[142,4,143,6],[142,7,143,9],[142,10,143,12],[142,13,143,15],[152,1,153,3],[152,4,153,6],[152,7,153,9],[152,10,153,12],[152,13,153,15],[155,1,155,3],[155,4,155,6],[155,7,155,9],[155,10,155,12],[155,13,155,15],[165,1,165,3],[165,4,165,6],[165,7,165,9],[165,10,165,12],[165,13,165,15],[167,0,168,0],[157,0,158,0],[162,1,163,3],[162,4,163,6],[162,7,163,9],[162,10,163,12],[162,13,163,15],[172,1,173,3],[172,4,173,6],[172,7,173,9],[172,10,173,12],[172,13,173,15],[175,1,175,3],[175,4,175,6],[175,7,175,9],[175,10,175,12],[175,13,175,15],[185,1,185,3],[185,4,185,6],[185,7,185,9],[185,10,185,12],[185,13,185,15],[187,0,188,0],[177,0,178,0],[179,16,180,19],[182,1,183,3],[182,4,183,6],[182,7,183,9],[182,10,183,12],[182,13,183,15],[192,1,193,3],[192,4,193,6],[192,7,193,9],[192,10,193,12],[192,13,193,15],[195,1,195,3],[195,4,195,6],[195,7,195,9],[195,10,195,12],[195,13,195,15],[205,1,205,3],[205,4,205,6],[205,7,205,9],[205,10,205,12],[205,13,205,15],[207,0,208,0],[197,0,198,0],[202,1,203,3],[202,4,203,6],[202,7,203,9],[202,10,203,12],[202,13,203,15],[212,1,213,3],[212,4,213,6],[212,7,213,9],[212,10,213,12],[212,13,213,15],[215,1,215,3],[215,4,215,6],[215,7,215,9],[215,10,215,12],[215,13,215,15],[225,1,225,3],[225,4,225,6],[225,7,225,9],[225,10,225,12],[225,13,225,15],[227,0,228,0],[217,0,218,0],[222,1,223,3],[222,4,223,6],[222,7,223,9],[222,10,223,12],[222,13,223,15],[232,1,233,3],[232,4,233,6],[232,7,233,9],[232,10,233,12],[232,13,233,15],[235,1,235,3],[235,4,235,6],[235,7,235,9],[235,10,235,12],[235,13,235,15],[245,1,245,3],[245,4,245,6],[245,7,245,9],[245,10,245,12],[245,13,245,15],[247,0,248,0],[237,0,238,0],[242,1,243,3],[242,4,243,6],[242,7,243,9],[242,10,243,12],[242,13,243,15],[252,1,253,3],[252,4,253,6],[252,7,253,9],[252,10,253,12],[252,13,253,15],[255,1,255,3],[255,4,255,6],[255,7,255,9],[255,10,255,12],[255,13,255,15],[265,1,265,3],[265,4,265,6],[265,7,265,9],[265,10,265,12],[265,13,265,15],[267,0,268,0],[257,0,258,0],[259,16,260,19],[262,1,263,3],[262,4,263,6],[262,7,263,9],[262,10,263,12],[262,13,263,15],[272,1,273,3],[272,4,273,6],[272,7,273,9],[272,10,273,12],[272,13,273,15],[275,1,275,3],[275,4,275,6],[275,7,275,9],[275,10,275,12],[275,13,275,15],[285,1,285,3],[285,4,285,6],[285,7,285,9],[285,10,285,12],[285,13,285,15],[287,0,288,0],[277,0,278,0],[282,1,283,3],[282,4,283,6],[282,7,283,9],[282,10,283,12],[282,13,283,15],[292,1,293,3],[292,4,293,6],[292,7,293,9],[292,10,293,12],[292,13,293,15],[295,1,295,3],[295,4,295,6],[295,7,295,9],[295,10,295,12],[295,13,295,15],[305,1,305,3],[305,4,305,6],[305,7,305,9],[305,10,305,12],[305,13,305,15],[307,0,308,0],[297,0,298,0],[302,1,303,3],[302,4,303,6],[302,7,303,9],[302,10,303,12],[302,13,303,15],[312,1,313,3],[312,4,313,6],[312,7,313,9],[312,10,313,12],[312,13,313,15],[315,1,315,3],[315,4,315,6],[315,7,315,9],[315,10,315,12],[315,13,315,15],[325,1,325,3],[325,4,325,6],[325,7,325,9],[325,10,325,12],[325,13,325,15],[327,0,328,0],[317,0,318,0],[322,1,323,3],[322,4,323,6],[322,7,323,9],[322,10,323,12],[322,13,323,15],[332,1,333,3],[332,4,333,6],[332,7,333,9],[332,10,333,12],[332,13,333,15],[335,1,335,3],[335,4,335,6],[335,7,335,9],[335,10,335,12],[335,13,335,15],[345,1,345,3],[345,4,345,6],[345,7,345,9],[345,10,345,12],[345,13,345,15],[347,0,348,0],[337,0,338,0],[339,16,340,19],[342,1,343,3],[342,4,343,6],[342,7,343,9],[342,10,343,12],[342,13,343,15],[352,1,353,3],[352,4,353,6],[352,7,353,9],[352,10,353,12],[352,13,353,15],[355,1,355,3],[355,4,355,6],[355,7,355,9],[355,10,355,12],[355,13,355,15],[365,1,365,3],[365,4,365,6],[365,7,365,9],[365,10,365,12],[365,13,365,15],[367,0,368,0],[357,0,358,0],[362,1,363,3],[362,4,363,6],[362,7,363,9],[362,10,363,12],[362,13,363,15],[372,1,373,3],[372,4,373,6],[372,7,373,9],[372,10,373,12],[372,13,373,15],[375,1,375,3],[375,4,375,6],[375,7,375,9],[375,10,375,12],[375,13,375,15],[385,1,385,3],[385,4,385,6],[385,7,385,9],[385,10,385,12],[385,13,385,15],[387,0,388,0],[377,0,378,0],[382,1,383,3],[382,4,383,6],[382,7,383,9],[382,10,383,12],[382,13,383,15],[392,1,393,3],[392,4,393,6],[392,7,393,9],[392,10,393,12],[392,13,393,15],[395,1,395,3],[395,4,395,6],[395,7,395,9],[395,10,395,12],[395,13,395,15],[405,1,405,3],[405,4,405,6],[405,7,405,9],[405,10,405,12],[405,13,405,15],[407,0,408,0],[397,0,398,0],[402,1,403,3],[402,4,403,6],[402,7,403,9],[402,10,403,12],[402,13,403,15],[412,1,413,3],[412,4,413,6],[412,7,413,9],[412,10,413,12],[412,13,413,15],[415,1,415,3],[415,4,415,6],[415,7,415,9],[415,10,415,12],[415,13,415,15],[425,1,425,3],[425,4,425,6],[425,7,425,9],[425,10,425,12],[425,13,425,15],[427,0,428,0],[417,0,418,0],[419,16,420,19],[422,1,423,3],[422,4,423,6],[422,7,423,9],[422,10,423,12],[422,13,423,15],[432,1,433,3],[432,4,433,6],[432,7,433,9],[432,10,433,12],[432,13,433,15],[435,1,435,3],[435,4,435,6],[435,7,435,9],[435,10,435,12],[435,13,435,15],[445,1,445,3],[445,4,445,6],[445,7,445,9],[445,10,445,12],[445,13,445,15],[447,0,448,0],[437,0,438,0],[442,1,443,3],[442,4,443,6],[442,7,443,9],[442,10,443,12],[442,13,443,15],[452,1,453,3],[452,4,453,6],[452,7,453,9],[452,10,453,12],[452,13,453,15],[455,1,455,3],[455,4,455,6],[455,7,455,9],[455,10,455,12],[455,13,455,15],[465,1,465,3],[465,4,465,6],[465,7,465,9],[465,10,465,12],[465,13,465,15],[467,0,468,0],[457,0,458,0],[462,1,463,3],[462,4,463,6],[462,7,463,9],[462,10,463,12],[462,13,463,15],[472,1,473,3],[472,4,473,6],[472,7,473,9],[472,10,473,12],[472,13,473,15],[475,1,475,3],[475,4,475,6],[475,7,475,9],[475,10,475,12],[475,13,475,15],[485,1,485,3],[485,4,485,6],[485,7,485,9],[485,10,485,12],[485,13,485,15],[487,0,488,0],[477,0,478,0],[482,1,483,3],[482,4,483,6],[482,7,483,9],[482,10,483,12],[482,13,483,15],[497,0,498,0],[499,16,500,19],[502,1,503,3],[502,4,503,6],[502,7,503,9],[502,10,503,12],[502,13,503,15],[492,1,493,3],[492,4,493,6],[492,7,493,9],[492,10,493,12],[492,13,493,15],[495,1,495,3],[495,4,495,6],[495,7,495,9],[495,10,495,12],[495,13,495,15]]}
[]
[null,{"$f":"'1-2a'!B2:H3","v":"Basisschool De Grote Beer        schooljaar 2020/2021"},null,null,null,null,null,null,null,"Groepsplanner van groep:",null,null,null,"21"]
[]
[null,"maandag 1e schoolweek",null,null,"dinsdag",null,null,"woensdag",null,null,"donderdag",null,null,"vrijdag"]
[null,null,{"$f":"'1-2a'!C$5","v":0},null,null,{"$f":"'1-2a'!F5","v":0},null,null,{"$f":"'1-2a'!I$5","v":0},null,null,{"$f":"'1-2a'!L$5","v":"s"},null,null,{"$f":"'1-2a'!O$5","v":0}]
[{"$f":"(B6-WEEKDAY(B6-1)+4-(TRUNC(DATE(YEAR(B6-WEEKDAY(B6-1)+4),1,2)/7)*7-2))/7","v":32},{"$f":"'1-2a'!B6:D6","v":"2020-08-03"},null,null,{"$f":"B6+1","v":"2020-08-04"},null,null,{"$f":"E6+1","v":"2020-08-05"},null,null,{"$f":"H6+1","v":"2020-08-06"},null,null,{"$f":"K6+1","v":"2020-08-07"}]
[]
[1]
[]
[]
[]
[]
[]
[]
[null,null,{"$f":"'1-2a'!C$15","v":0},null,null,{"$f":"'1-2a'!F$15","v":0},null,null,{"$f":"'1-2a'!I$15","v":0},null,null,{"$f":"'1-2a'!L$15","v":0},null,null,{"$f":"'1-2a'!O15","v":0}]
[{"$f":"IF(A6=52,1,A6+1)","v":33},{"$f":"N6+3","v":"2020-08-10"},null,null,{"$f":"B16+1","v":"2020-08-11"},null,null,{"$f":"E16+1","v":"2020-08-12"},null,null,{"$f":"H16+1","v":"2020-08-13"},null,null,{"$f":"K16+1","v":"2020-08-14"}]
[null,{"$f":"B7","v":0},null,null,{"$f":"E7","v":0},null,null,{"$f":"H7","v":0},null,null,{"$f":"K7","v":0},null,null,{"$f":"N7","v":0}]
[2,0,null,null,0,null,null,0,null,null,0,null,null,0]
[null,0,null,null,0,null,null,0,null,null,0,null,null,0]
[null,0,null,null,0,null,null,0,null,null,0,null,null,0]
[null,0,null,null,0,null,null,0,null,null,0,null,null,0]
[null,0,null,null,0,null,null,0,null,null,0,null,null,0]
[]
[]
[null,null,{"$f":"'1-2a'!C$25","v":0},null,null,{"$f":"'1-2a'!F$25","v":0},null,null,{"$f":"'1-2a'!I25","v":0},null,null,{"$f":"'1-2a'!L25","v":0},null,null,{"$f":"'1-2a'!O25","v":0}]
[{"$f":"IF(A16=52,1,A16+1)","v":34},{"$f":"N16+3","v":"2020-08-17"},null,null,{"$f":"B26+1","v":"2020-08-18"},null,null,{"$f":"E26+1","v":"2020-08-19"},null,null,{"$f":"H26+1","v":"2020-08-20"},null,null,{"$f":"K26+1","v":"2020-08-21"}]
[null,{"$f":"B17","v":0},null,null,{"$f":"E17","v":0},null,null,{"$f":"H17","v":0},null,null,{"$f":"K17","v":0},null,null,{"$f":"N17","v":0}]
[3,0,null,null,0,null,null,0,null,null,0,null,null,0]
[null,0,null,null,0,null,null,0,null,null,0,null,null,0]
[null,0,null,null,0,null,null,0,null,null,0,null,null,0]
[null,0,null,null,0,null,null,0,null,null,{"$f":"K21","v":0},null,null,0]
[null,0,null,null,0,null,null,0,null,null,0,null,null,0]
[]
[]
[null,null,{"$f":"'1-2a'!$C$35","v":0},null,null,{"$f":"'1-2a'!$F$35","v":0},null,null,{"$f":"'1-2a'!$I$35","v":0},null,null,{"$f":"'1-2a'!$L$35","v":0},null,null,{"$f":"'1-2a'!$O$35","v":0}]
[{"$f":"IF(A26=52,1,A26+1)","v":35},{"$f":"N26+3","v":"2020-08-24"},null,null,{"$f":"B36+1","v":"2020-08-25"},null,null,{"$f":"E36+1","v":"2020-08-26"},null,null,{"$f":"H36+1","v":"2020-08-27"},null,null,{"$f":"K36+1","v":"2020-08-28"}]
[null,{"$f":"B27","v":0},null,null,{"$f":"E27","v":0},null,null,{"$f":"H27","v":0},null,null,{"$f":"K27","v":0},null,null,{"$f":"N27","v":0}]
[4,0,null,null,0,null,null,0,null,null,0,null,null,0]
[null,0,null,null,0,null,null,0,null,null,0,null,null,0]
[null,0,null,null,0,null,null,0,null,null,0,null,null,0]
[null,0,null,null,0,null,null,0,null,null,{"$f":"K31","v":0},null,null,0]
[null,0,null,null,0,null,null,0,null,null,0,null,null,0]
[]
[]
[null,null,{"$f":"'1-2a'!$C$45","v":0},null,null,{"$f":"'1-2a'!$F$45","v":0},null,null,{"$f":"'1-2a'!$I$45","v":0},null,null,{"$f":"'1-2a'!$L$45","v":0},null,null,{"$f":"'1-2a'!$O$45","v":0}]
[{"$f":"IF(A36=52,1,A36+1)","v":36},{"$f":"N36+3","v":"2020-08-31"},null,null,{"$f":"B46+1","v":"2020-09-01"},null,null,{"$f":"E46+1","v":"2020-09-02"},null,null,{"$f":"H46+1","v":"2020-09-03"},null,null,{"$f":"K46+1","v":"2020-09-04"}]
[null,{"$f":"B37","v":0},null,null,{"$f":"E37","v":0},null,null,{"$f":"H37","v":0},null,null,{"$f":"K37","v":0},null,null,{"$f":"N37","v":0}]
[5,0,null,null,0,null,null,0,null,null,0,null,null,0]
[null,0,null,null,0,null,null,0,null,null,0,null,null,0]
[null,0,null,null,0,null,null,0,null,null,0,null,null,0]
[null,0,null,null,0,null,null,0,null,null,{"$f":"K41","v":0},null,null,0]
[null,0,null,null,0,null,null,0,null,null,0,null,null,0]
[]
[]
[null,null,{"$f":"'1-2a'!$C$55","v":0},null,null,{"$f":"'1-2a'!$F$55","v":0},null,null,{"$f":"'1-2a'!$I$55","v":0},null,null,{"$f":"'1-2a'!$L$55","v":0},null,null,{"$f":"'1-2a'!O55","v":0}]
[{"$f":"IF(A46=52,1,A46+1)","v":37},{"$f":"N46+3","v":"2020-09-07"},null,null,{"$f":"B56+1","v":"2020-09-08"},null,null,{"$f":"E56+1","v":"2020-09-09"},null,null,{"$f":"H56+1","v":"2020-09-10"},null,null,{"$f":"K56+1","v":"2020-09-11"}]
[null,{"$f":"B47","v":0},null,null,{"$f":"E47","v":0},null,null,{"$f":"H47","v":0},null,null,{"$f":"K47","v":0},null,null,{"$f":"N47","v":0}]
[6,0,null,null,0,null,null,0,null,null,0,null,null,0]
[null,0,null,null,0,null,null,0,null,null,0,null,null,0]
[null,0,null,null,0,null,null,0,null,null,0,null,null,0]
[null,0,null,null,0,null,null,0,null,null,{"$f":"K51","v":0},null,null,0]
[null,0,null,null,0,null,null,0,null,null,0,null,null,0]
[]
[]
[null,null,{"$f":"'1-2a'!$C$65","v":0},null,null,{"$f":"'1-2a'!$F$65","v":0},null,null,{"$f":"'1-2a'!$I$65","v":0},null,null,{"$f":"'1-2a'!$L$65","v":0},null,null,{"$f":"'1-2a'!$O$65","v":0}]
[{"$f":"IF(A56=52,1,A56+1)","v":38},{"$f":"N56+3","v":"2020-09-14"},null,null,{"$f":"B66+1","v":"2020-09-15"},null,null,{"$f":"E66+1","v":"2020-09-16"},null,null,{"$f":"H66+1","v":"2020-09-17"},null,null,{"$f":"K66+1","v":"2020-09-18"}]
[null,{"$f":"B57","v":0},null,null,{"$f":"E57","v":0},null,null,{"$f":"H57","v":0},null,null,{"$f":"K57","v":0},null,null,{"$f":"N57","v":0}]
[7,0,null,null,0,null,null,0,null,null,0,null,null,0]
[null,0,null,null,0,null,null,0,null,null,0,null,null,0]
[null,0,null,null,0,null,null,0,null,null,0,null,null,0]
[null,0,null,null,0,null,null,0,null,null,{"$f":"K61","v":0},null,null,0]
[null,0,null,null,0,null,null,0,null,null,0,null,null,0]
[]
[]
[null,null,{"$f":"'1-2a'!$C$75","v":0},null,null,{"$f":"'1-2a'!$F$75","v":0},null,null,{"$f":"'1-2a'!$I$75","v":0},null,null,{"$f":"'1-2a'!$L$75","v":0},null,null,{"$f":"'1-2a'!$O$75","v":0}]
[{"$f":"IF(A66=52,1,A66+1)","v":39},{"$f":"N66+3","v":"2020-09-21"},null,null,{"$f":"B76+1","v":"2020-09-22"},null,null,{"$f":"E76+1","v":"2020-09-23"},null,null,{"$f":"H76+1","v":"2020-09-24"},null,null,{"$f":"K76+1","v":"2020-09-25"}]
[null,{"$f":"B67","v":0},null,null,{"$f":"E67","v":0},null,null,{"$f":"H67","v":0},null,null,{"$f":"K67","v":0},null,null,{"$f":"N67","v":0}]
[8,0,null,null,0,null,null,0,null,null,0,null,null,0]
[null,0,null,null,0,null,null,0,null,null,0,null,null,0]
[null,0,null,null,0,null,null,0,null,null,0,null,null,0]
[null,0,null,null,0,null,null,0,null,null,{"$f":"K71","v":0},null,null,0]
[null,0,null,null,0,null,null,0,null,null,0,null,null,0]
[]
[]
[null,null,{"$f":"'1-2a'!$C$85","v":0},null,null,{"$f":"'1-2a'!$F$85","v":0},null,null,{"$f":"'1-2a'!$I$85","v":0},null,null,{"$f":"'1-2a'!$L$85","v":0},null,null,{"$f":"'1-2a'!$O$85","v":0}]
[{"$f":"IF(A76=52,1,A76+1)","v":40},{"$f":"N76+3","v":"2020-09-28"},null,null,{"$f":"B86+1","v":"2020-09-29"},null,null,{"$f":"E86+1","v":"2020-09-30"},null,null,{"$f":"H86+1","v":"2020-10-01"},null,null,{"$f":"K86+1","v":"2020-10-02"}]
[null,{"$f":"B77","v":0},null,null,{"$f":"E77","v":0},null,null,{"$f":"H77","v":0},null,null,{"$f":"K77","v":0},null,null,{"$f":"N77","v":0}]
[9,0,null,null,0,null,null,0,null,null,0,null,null,0]
[null,0,null,null,0,null,null,0,null,null,0,null,null,0]
[null,0,null,null,0,null,null,0,null,null,0,null,null,0]
[null,0,null,null,0,null,null,0,null,null,0,null,null,0]
[null,0,null,null,0,null,null,0,null,null,0,null,null,0]
[]
[]
[null,null,{"$f":"'1-2a'!$C$95","v":0},null,null,{"$f":"'1-2a'!$F$95","v":0},null,null,{"$f":"'1-2a'!$I$95","v":0},null,null,{"$f":"'1-2a'!$L$95","v":0},null,null,{"$f":"'1-2a'!$O$95","v":0}]
[{"$f":"IF(A86=52,1,A86+1)","v":41},{"$f":"N86+3","v":"2020-10-05"},null,null,{"$f":"B96+1","v":"2020-10-06"},null,null,{"$f":"E96+1","v":"2020-10-07"},null,null,{"$f":"H96+1","v":"2020-10-08"},null,null,{"$f":"K96+1","v":"2020-10-09"}]
[null,{"$f":"B87","v":0},null,null,{"$f":"E87","v":0},null,null,{"$f":"H87","v":0},null,null,{"$f":"K87","v":0},null,null,{"$f":"N87","v":0}]
[10,0,null,null,0,null,null,0,null,null,0,null,null,0]
[null,0,null,null,0,null,null,0,null,null,0,null,null,0]
[null,0,null,null,0,null,null,0,null,null,0,null,null,0]
[null,0,null,null,0,null,null,0,null,null,{"$f":"K91","v":0},null,null,0]
[null,0,null,null,0,null,null,0,null,null,0,null,null,0]
[]
[]
[null,null,{"$f":"'1-2a'!$C$105","v":0},null,null,{"$f":"'1-2a'!$F$105","v":0},null,null,{"$f":"'1-2a'!$I$105","v":0},null,null,{"$f":"'1-2a'!$L$105","v":0},null,null,{"$f":"'1-2a'!$O$105","v":0}]
[{"$f":"IF(A96=52,1,A96+1)","v":42},{"$f":"N96+3","v":"2020-10-12"},null,null,{"$f":"B106+1","v":"2020-10-13"},null,null,{"$f":"E106+1","v":"2020-10-14"},null,null,{"$f":"H106+1","v":"2020-10-15"},null,null,{"$f":"K106+1","v":"2020-10-16"}]
[null,{"$f":"B97","v":0},null,null,{"$f":"E97","v":0},null,null,{"$f":"H97","v":0},null,null,{"$f":"K97","v":0},null,null,{"$f":"N97","v":0}]
[11,0,null,null,0,null,null,0,null,null,0,null,null,0]
[null,0,null,null,0,null,null,0,null,null,0,null,null,0]
[null,0,null,null,0,null,null,0,null,null,0,null,null,0]
[null,0,null,null,0,null,null,0,null,null,{"$f":"K101","v":0},null,null,0]
[null,0,null,null,0,null,null,0,null,null,0,null,null,0]
[]
[]
[null,null,{"$f":"'1-2a'!$C$115","v":0},null,null,{"$f":"'1-2a'!$F$115","v":0},null,null,{"$f":"'1-2a'!$I$115","v":0},null,null,{"$f":"'1-2a'!$L$115","v":0},null,null,{"$f":"'1-2a'!$O$115","v":0}]
[{"$f":"IF(A106=52,1,A106+1)","v":43},{"$f":"N106+3","v":"2020-10-19"},null,null,{"$f":"B116+1","v":"2020-10-20"},null,null,{"$f":"E116+1","v":"2020-10-21"},null,null,{"$f":"H116+1","v":"2020-10-22"},null,null,{"$f":"K116+1","v":"2020-10-23"}]
[null,{"$f":"B107","v":0},null,null,{"$f":"E107","v":0},null,null,{"$f":"H107","v":0},null,null,{"$f":"K107","v":0},null,null,{"$f":"N107","v":0}]
[12,0,null,null,0,null,null,0,null,null,0,null,null,0]
[null,0,null,null,0,null,null,0,null,null,0,null,null,0]
[null,0,null,null,0,null,null,0,null,null,0,null,null,0]
[null,0,null,null,0,null,null,0,null,null,{"$f":"K111","v":0},null,null,0]
[null,0,null,null,0,null,null,0,null,null,0,null,null,0]
[]
[]
[null,null,{"$f":"'1-2a'!$C$125","v":0},null,null,{"$f":"'1-2a'!$F$125","v":0},null,null,{"$f":"'1-2a'!$I$125","v":0},null,null,{"$f":"'1-2a'!$L$125","v":0},null,null,{"$f":"'1-2a'!$O$125","v":0}]
[{"$f":"IF(A116=52,1,A116+1)","v":44},{"$f":"N116+3","v":"2020-10-26"},null,null,{"$f":"B126+1","v":"2020-10-27"},null,null,{"$f":"E126+1","v":"2020-10-28"},null,null,{"$f":"H126+1","v":"2020-10-29"},null,null,{"$f":"K126+1","v":"2020-10-30"}]
[null,{"$f":"B117","v":0},null,null,{"$f":"E117","v":0},null,null,{"$f":"H117","v":0},null,null,{"$f":"K117","v":0},null,null,{"$f":"N117","v":0}]
[13,0,null,null,0,null,null,0,null,null,0,null,null,0]
[null,0,null,null,0,null,null,0,null,null,0,null,null,0]
[null,0,null,null,0,null,null,0,null,null,0,null,null,0]
[null,0,null,null,0,null,null,0,null,null,{"$f":"K121","v":0},null,null,0]
[null,0,null,null,0,null,null,0,null,null,0,null,null,0]
[]
[]
[null,null,{"$f":"'1-2a'!$C$135","v":0},null,null,{"$f":"'1-2a'!$F$135","v":0},null,null,{"$f":"'1-2a'!$I$135","v":0},null,null,{"$f":"'1-2a'!$L$135","v":0},null,null,{"$f":"'1-2a'!$O$135","v":0}]
[{"$f":"IF(A126=52,1,A126+1)","v":45},{"$f":"N126+3","v":"2020-11-02"},null,null,{"$f":"B136+1","v":"2020-11-03"},null,null,{"$f":"E136+1","v":"2020-11-04"},null,null,{"$f":"H136+1","v":"2020-11-05"},null,null,{"$f":"K136+1","v":"2020-11-06"}]
[null,{"$f":"B127","v":0},null,null,{"$f":"E127","v":0},null,null,{"$f":"H127","v":0},null,null,{"$f":"K127","v":0},null,null,{"$f":"N127","v":0}]
[14,0,null,null,0,null,null,0,null,null,0,null,null,0]
[null,0,null,null,0,null,null,0,null,null,0,null,null,0]
[null,0,null,null,0,null,null,0,null,null,0,null,null,0]
[null,0,null,null,0,null,null,0,null,null,{"$f":"K131","v":0},null,null,0]
[null,0,null,null,0,null,null,0,null,null,0,null,null,0]
[]
[]
[null,null,{"$f":"'1-2a'!$C$145","v":0},null,null,{"$f":"'1-2a'!$F$145","v":0},null,null,{"$f":"'1-2a'!$I$145","v":0},null,null,{"$f":"'1-2a'!$L$145","v":0},null,null,{"$f":"'1-2a'!$O$145","v":0}]
[{"$f":"IF(A136=52,1,A136+1)","v":46},{"$f":"N136+3","v":"2020-11-09"},null,null,{"$f":"B146+1","v":"2020-11-10"},null,null,{"$f":"E146+1","v":"2020-11-11"},null,null,{"$f":"H146+1","v":"2020-11-12"},null,null,{"$f":"K146+1","v":"2020-11-13"}]
[null,{"$f":"B137","v":0},null,null,{"$f":"E137","v":0},null,null,{"$f":"H137","v":0},null,null,{"$f":"K137","v":0},null,null,{"$f":"N137","v":0}]
[15,0,null,null,0,null,null,0,null,null,0,null,null,0]
[null,0,null,null,0,null,null,0,null,null,0,null,null,0]
[null,0,null,null,0,null,null,0,null,null,0,null,null,0]
[null,0,null,null,0,null,null,0,null,null,{"$f":"K141","v":0},null,null,0]
[null,0,null,null,0,null,null,0,null,null,0,null,null,0]
[]
[]
[null,null,{"$f":"'1-2a'!$C$155","v":0},null,null,{"$f":"'1-2a'!$F$155","v":0},null,null,{"$f":"'1-2a'!$I$155","v":0},null,null,{"$f":"'1-2a'!$L$155","v":0},null,null,{"$f":"'1-2a'!$O$155","v":0}]
[{"$f":"IF(A146=52,1,A146+1)","v":47},{"$f":"N146+3","v":"2020-11-16"},null,null,{"$f":"B156+1","v":"2020-11-17"},null,null,{"$f":"E156+1","v":"2020-11-18"},null,null,{"$f":"H156+1","v":"2020-11-19"},null,null,{"$f":"K156+1","v":"2020-11-20"}]
[null,{"$f":"B147","v":0},null,null,{"$f":"E147","v":0},null,null,{"$f":"H147","v":0},null,null,{"$f":"K147","v":0},null,null,{"$f":"N147","v":0}]
[16,0,null,null,0,null,null,0,null,null,0,null,null,0]
[null,0,null,null,0,null,null,0,null,null,0,null,null,0]
[null,0,null,null,0,null,null,0,null,null,0,null,null,0]
[null,0,null,null,0,null,null,0,null,null,{"$f":"K151","v":0},null,null,0]
[null,0,null,null,0,null,null,0,null,null,0,null,null,0]
[]
[]
[null,null,{"$f":"'1-2a'!$C$165","v":0},null,null,{"$f":"'1-2a'!$F$165","v":0},null,null,{"$f":"'1-2a'!$I$165","v":0},null,null,{"$f":"'1-2a'!$L$165","v":0},null,null,{"$f":"'1-2a'!$O$165","v":0}]
[{"$f":"IF(A156=52,1,A156+1)","v":48},{"$f":"N156+3","v":"2020-11-23"},null,null,{"$f":"B166+1","v":"2020-11-24"},null,null,{"$f":"E166+1","v":"2020-11-25"},null,null,{"$f":"H166+1","v":"2020-11-26"},null,null,{"$f":"K166+1","v":"2020-11-27"}]
[null,{"$f":"B157","v":0},null,null,{"$f":"E157","v":0},null,null,{"$f":"H157","v":0},null,null,{"$f":"K157","v":0},null,null,{"$f":"N157","v":0}]
[17,0,null,null,0,null,null,0,null,null,0,null,null,0]
[null,0,null,null,0,null,null,0,null,null,0,null,null,0]
[null,0,null,null,0,null,null,0,null,null,0,null,null,0]
[null,0,null,null,0,null,null,0,null,null,0,null,null,0]
[null,0,null,null,0,null,null,0,null,null,0,null,null,0]
[]
[]
[null,null,{"$f":"'1-2a'!$C$175","v":0},null,null,{"$f":"'1-2a'!$F$175","v":0},null,null,{"$f":"'1-2a'!$I$175","v":0},null,null,{"$f":"'1-2a'!$L$175","v":0},null,null,{"$f":"'1-2a'!$O$175","v":0}]
[{"$f":"IF(A166=52,1,A166+1)","v":49},{"$f":"N166+3","v":"2020-11-30"},null,null,{"$f":"B176+1","v":"2020-12-01"},null,null,{"$f":"E176+1","v":"2020-12-02"},null,null,{"$f":"H176+1","v":"2020-12-03"},null,null,{"$f":"K176+1","v":"2020-12-04"}]
[null,{"$f":"B167","v":0},null,null,{"$f":"E167","v":0},null,null,{"$f":"H167","v":0},null,null,{"$f":"K167","v":0},null,null,{"$f":"N167","v":0}]
[18,0,null,null,0,null,null,0,null,null,0,null,null,0]
[null,0,null,null,0,null,null,0,null,null,0,null,null,0]
[null,0,null,null,0,null,null,0,null,null,0,null,null,0]
[null,0,null,null,0,null,null,0,null,null,{"$f":"K171","v":0},null,null,0]
[null,0,null,null,0,null,null,0,null,null,0,null,null,0]
[]
[]
[null,null,{"$f":"'1-2a'!$C$185","v":0},null,null,{"$f":"'1-2a'!$F$185","v":0},null,null,{"$f":"'1-2a'!$I$185","v":0},null,null,{"$f":"'1-2a'!$L$185","v":0},null,null,{"$f":"'1-2a'!$O$185","v":0}]
[{"$f":"IF(A176=52,1,A176+1)","v":50},{"$f":"N176+3","v":"2020-12-07"},null,null,{"$f":"B186+1","v":"2020-12-08"},null,null,{"$f":"E186+1","v":"2020-12-09"},null,null,{"$f":"H186+1","v":"2020-12-10"},null,null,{"$f":"K186+1","v":"2020-12-11"}]
[null,{"$f":"B177","v":0},null,null,{"$f":"E177","v":0},null,null,{"$f":"H177","v":0},null,null,{"$f":"K177","v":0},null,null,{"$f":"N177","v":0}]
[19,0,null,null,0,null,null,0,null,null,0,null,null,0]
[null,0,null,null,0,null,null,0,null,null,0,null,null,0]
[null,0,null,null,0,null,null,0,null,null,0,null,null,0]
[null,0,null,null,0,null,null,0,null,null,{"$f":"K181","v":0},null,null,0]
[null,0,null,null,0,null,null,0,null,null,0,null,null,0]
[]
[]
[null,null,{"$f":"'1-2a'!$C$195","v":0},null,null,{"$f":"'1-2a'!$F$195","v":0},null,null,{"$f":"'1-2a'!$I$195","v":0},null,null,{"$f":"'1-2a'!$L$195","v":0},null,null,{"$f":"'1-2a'!$O$195","v":0}]
[{"$f":"IF(A186=52,1,A186+1)","v":51},{"$f":"N186+3","v":"2020-12-14"},null,null,{"$f":"B196+1","v":"2020-12-15"},null,null,{"$f":"E196+1","v":"2020-12-16"},null,null,{"$f":"H196+1","v":"2020-12-17"},null,null,{"$f":"K196+1","v":"2020-12-18"}]
[null,{"$f":"B187","v":0},null,null,{"$f":"E187","v":0},null,null,{"$f":"H187","v":0},null,null,{"$f":"K187","v":0},null,null,{"$f":"N187","v":0}]
[20,0,null,null,0,null,null,0,null,null,0,null,null,0]
[null,0,null,null,0,null,null,0,null,null,0,null,null,0]
[null,0,null,null,0,null,null,0,null,null,0,null,null,0]
[null,0,null,null,0,null,null,0,null,null,{"$f":"K191","v":0},null,null,0]
[null,0,null,null,0,null,null,0,null,null,0,null,null,0]
[]
[]
[null,null,{"$f":"'1-2a'!$C$205","v":0},null,null,{"$f":"'1-2a'!$F$205","v":0},null,null,{"$f":"'1-2a'!$I$205","v":0},null,null,{"$f":"'1-2a'!$L$205","v":0},null,null,{"$f":"'1-2a'!$O$205","v":0}]
[{"$f":"IF(A196=52,1,A196+1)","v":52},{"$f":"N196+3","v":"2020-12-21"},null,null,{"$f":"B206+1","v":"2020-12-22"},null,null,{"$f":"E206+1","v":"2020-12-23"},null,null,{"$f":"H206+1","v":"2020-12-24"},null,null,{"$f":"K206+1","v":"2020-12-25"}]
[null,{"$f":"B197","v":0},null,null,{"$f":"E197","v":0},null,null,{"$f":"H197","v":0},null,null,{"$f":"K197","v":0},null,null,{"$f":"N197","v":0}]
[21,0,null,null,0,null,null,0,null,null,0,null,null,0]
[null,0,null,null,0,null,null,0,null,null,0,null,null,0]
[null,0,null,null,0,null,null,0,null,null,0,null,null,0]
[null,0,null,null,0,null,null,0,null,null,{"$f":"K201","v":0},null,null,0]
[null,0,null,null,0,null,null,0,null,null,0,null,null,0]
[]
[]
[null,null,{"$f":"'1-2a'!$C$215","v":0},null,null,{"$f":"'1-2a'!$F$215","v":0},null,null,{"$f":"'1-2a'!$I$215","v":0},null,null,{"$f":"'1-2a'!$L$215","v":0},null,null,{"$f":"'1-2a'!$O$215","v":0}]
[{"$f":"IF(A206=52,1,A206+1)","v":1},{"$f":"N206+3","v":"2020-12-28"},null,null,{"$f":"B216+1","v":"2020-12-29"},null,null,{"$f":"E216+1","v":"2020-12-30"},null,null,{"$f":"H216+1","v":"2020-12-31"},null,null,{"$f":"K216+1","v":"2021-01-01"}]
[null,{"$f":"B207","v":0},null,null,{"$f":"E207","v":0},null,null,{"$f":"H207","v":0},null,null,{"$f":"K207","v":0},null,null,{"$f":"N207","v":0}]
[22,0,null,null,0,null,null,0,null,null,0,null,null,0]
[null,0,null,null,0,null,null,0,null,null,0,null,null,0]
[null,0,null,null,0,null,null,0,null,null,0,null,null,0]
[null,0,null,null,0,null,null,0,null,null,{"$f":"K211","v":0},null,null,0]
[null,0,null,null,0,null,null,0,null,null,0,null,null,0]
[]
[]
[null,null,{"$f":"'1-2a'!$C$225","v":0},null,null,{"$f":"'1-2a'!$F$225","v":0},null,null,{"$f":"'1-2a'!$I$225","v":0},null,null,{"$f":"'1-2a'!$L$225","v":0},null,null,{"$f":"'1-2a'!$O$225","v":0}]
[{"$f":"IF(A216=52,1,A216+1)","v":2},{"$f":"N216+3","v":"2021-01-04"},null,null,{"$f":"B226+1","v":"2021-01-05"},null,null,{"$f":"E226+1","v":"2021-01-06"},null,null,{"$f":"H226+1","v":"2021-01-07"},null,null,{"$f":"K226+1","v":"2021-01-08"}]
[null,{"$f":"B217","v":0},null,null,{"$f":"E217","v":0},null,null,{"$f":"H217","v":0},null,null,{"$f":"K217","v":0},null,null,{"$f":"N217","v":0}]
[23,0,null,null,0,null,null,0,null,null,0,null,null,0]
[null,0,null,null,0,null,null,0,null,null,0,null,null,0]
[null,0,null,null,0,null,null,0,null,null,0,null,null,0]
[null,0,null,null,0,null,null,0,null,null,{"$f":"K221","v":0},null,null,0]
[null,0,null,null,0,null,null,0,null,null,0,null,null,0]
[]
[]
[null,null,{"$f":"'1-2a'!$C$235","v":0},null,null,{"$f":"'1-2a'!$F$235","v":0},null,null,{"$f":"'1-2a'!$I$235","v":0},null,null,{"$f":"'1-2a'!$L$235","v":0},null,null,{"$f":"'1-2a'!$O$235","v":0}]
[{"$f":"IF(A226=52,1,A226+1)","v":3},{"$f":"N226+3","v":"2021-01-11"},null,null,{"$f":"B236+1","v":"2021-01-12"},null,null,{"$f":"E236+1","v":"2021-01-13"},null,null,{"$f":"H236+1","v":"2021-01-14"},null,null,{"$f":"K236+1","v":"2021-01-15"}]
[null,{"$f":"B227","v":0},null,null,{"$f":"E227","v":0},null,null,{"$f":"H227","v":0},null,null,{"$f":"K227","v":0},null,null,{"$f":"N227","v":0}]
[24,0,null,null,0,null,null,0,null,null,0,null,null,0]
[null,0,null,null,0,null,null,0,null,null,0,null,null,0]
[null,0,null,null,0,null,null,0,null,null,0,null,null,0]
[null,0,null,null,0,null,null,0,null,null,{"$f":"K231","v":0},null,null,0]
[null,0,null,null,0,null,null,0,null,null,0,null,null,0]
[]
[]
[null,null,{"$f":"'1-2a'!$C$245","v":0},null,null,{"$f":"'1-2a'!$F$245","v":0},null,null,{"$f":"'1-2a'!$I$245","v":0},null,null,{"$f":"'1-2a'!$L$245","v":0},null,null,{"$f":"'1-2a'!$O$245","v":0}]
[{"$f":"IF(A236=52,1,A236+1)","v":4},{"$f":"N236+3","v":"2021-01-18"},null,null,{"$f":"B246+1","v":"2021-01-19"},null,null,{"$f":"E246+1","v":"2021-01-20"},null,null,{"$f":"H246+1","v":"2021-01-21"},null,null,{"$f":"K246+1","v":"2021-01-22"}]
[null,{"$f":"B237","v":0},null,null,{"$f":"E237","v":0},null,null,{"$f":"H237","v":0},null,null,{"$f":"K237","v":0},null,null,{"$f":"N237","v":0}]
[25,0,null,null,0,null,null,0,null,null,0,null,null,0]
[null,0,null,null,0,null,null,0,null,null,0,null,null,0]
[null,0,null,null,0,null,null,0,null,null,0,null,null,0]
[null,0,null,null,0,null,null,0,null,null,0,null,null,0]
[null,0,null,null,0,null,null,0,null,null,0,null,null,0]
[]
[]
[null,null,{"$f":"'1-2a'!$C$255","v":0},null,null,{"$f":"'1-2a'!$F$255","v":0},null,null,{"$f":"'1-2a'!$I$255","v":0},null,null,{"$f":"'1-2a'!$L$255","v":0},null,null,{"$f":"'1-2a'!$O$255","v":0}]
[{"$f":"IF(A246=52,1,A246+1)","v":5},{"$f":"N246+3","v":"2021-01-25"},null,null,{"$f":"B256+1","v":"2021-01-26"},null,null,{"$f":"E256+1","v":"2021-01-27"},null,null,{"$f":"H256+1","v":"2021-01-28"},null,null,{"$f":"K256+1","v":"2021-01-29"}]
[null,{"$f":"B247","v":0},null,null,{"$f":"E247","v":0},null,null,{"$f":"H247","v":0},null,null,{"$f":"K247","v":0},null,null,{"$f":"N247","v":0}]
[26,0,null,null,0,null,null,0,null,null,0,null,null,0]
[null,0,null,null,0,null,null,0,null,null,0,null,null,0]
[null,0,null,null,0,null,null,0,null,null,0,null,null,0]
[null,0,null,null,0,null,null,0,null,null,{"$f":"K251","v":0},null,null,0]
[null,0,null,null,0,null,null,0,null,null,0,null,null,0]
[]
[]
[null,null,{"$f":"'1-2a'!$C$265","v":0},null,null,{"$f":"'1-2a'!$F$265","v":0},null,null,{"$f":"'1-2a'!$I$265","v":0},null,null,{"$f":"'1-2a'!$L$265","v":0},null,null,{"$f":"'1-2a'!$O$265","v":0}]
[{"$f":"IF(A256=52,1,A256+1)","v":6},{"$f":"N256+3","v":"2021-02-01"},null,null,{"$f":"B266+1","v":"2021-02-02"},null,null,{"$f":"E266+1","v":"2021-02-03"},null,null,{"$f":"H266+1","v":"2021-02-04"},null,null,{"$f":"K266+1","v":"2021-02-05"}]
[null,{"$f":"B257","v":0},null,null,{"$f":"E257","v":0},null,null,{"$f":"H257","v":0},null,null,{"$f":"K257","v":0},null,null,{"$f":"N257","v":0}]
[27,0,null,null,0,null,null,0,null,null,0,null,null,0]
[null,0,null,null,0,null,null,0,null,null,0,null,null,0]
[null,0,null,null,0,null,null,0,null,null,0,null,null,0]
[null,0,null,null,0,null,null,0,null,null,{"$f":"K261","v":0},null,null,0]
[null,0,null,null,0,null,null,0,null,null,0,null,null,0]
[]
[]
[null,null,{"$f":"'1-2a'!$C$275","v":0},null,null,{"$f":"'1-2a'!$F$275","v":0},null,null,{"$f":"'1-2a'!$I$275","v":0},null,null,{"$f":"'1-2a'!$L$275","v":0},null,null,{"$f":"'1-2a'!$O$275","v":0}]
[{"$f":"IF(A266=52,1,A266+1)","v":7},{"$f":"N266+3","v":"2021-02-08"},null,null,{"$f":"B276+1","v":"2021-02-09"},null,null,{"$f":"E276+1","v":"2021-02-10"},null,null,{"$f":"H276+1","v":"2021-02-11"},null,null,{"$f":"K276+1","v":"2021-02-12"}]
[null,{"$f":"B267","v":0},null,null,{"$f":"E267","v":0},null,null,{"$f":"H267","v":0},null,null,{"$f":"K267","v":0},null,null,{"$f":"N267","v":0}]
[28,0,null,null,0,null,null,0,null,null,0,null,null,0]
[null,0,null,null,0,null,null,0,null,null,0,null,null,0]
[null,0,null,null,0,null,null,0,null,null,0,null,null,0]
[null,0,null,null,0,null,null,0,null,null,{"$f":"K271","v":0},null,null,0]
[null,0,null,null,0,null,null,0,null,null,0,null,null,0]
[]
[]
[null,null,{"$f":"'1-2a'!$C$285","v":0},null,null,{"$f":"'1-2a'!$F$285","v":0},null,null,{"$f":"'1-2a'!$I$285","v":0},null,null,{"$f":"'1-2a'!$L$285","v":0},null,null,{"$f":"'1-2a'!$O$285","v":0}]
[{"$f":"IF(A276=52,1,A276+1)","v":8},{"$f":"N276+3","v":"2021-02-15"},null,null,{"$f":"B286+1","v":"2021-02-16"},null,null,{"$f":"E286+1","v":"2021-02-17"},null,null,{"$f":"H286+1","v":"2021-02-18"},null,null,{"$f":"K286+1","v":"2021-02-19"}]
[null,{"$f":"B277","v":0},null,null,{"$f":"E277","v":0},null,null,{"$f":"H277","v":0},null,null,{"$f":"K277","v":0},null,null,{"$f":"N277","v":0}]
[29,0,null,null,0,null,null,0,null,null,0,null,null,0]
[null,0,null,null,0,null,null,0,null,null,0,null,null,0]
[null,0,null,null,0,null,null,0,null,null,0,null,null,0]
[null,0,null,null,0,null,null,0,null,null,{"$f":"K281","v":0},null,null,0]
[null,0,null,null,0,null,null,0,null,null,0,null,null,0]
[]
[]
[null,null,{"$f":"'1-2a'!$C$295","v":0},null,null,{"$f":"'1-2a'!$F$295","v":0},null,null,{"$f":"'1-2a'!$I$295","v":0},null,null,{"$f":"'1-2a'!$L$295","v":0},null,null,{"$f":"'1-2a'!$O$295","v":0}]
[{"$f":"IF(A286=52,1,A286+1)","v":9},{"$f":"N286+3","v":"2021-02-22"},null,null,{"$f":"B296+1","v":"2021-02-23"},null,null,{"$f":"E296+1","v":"2021-02-24"},null,null,{"$f":"H296+1","v":"2021-02-25"},null,null,{"$f":"K296+1","v":"2021-02-26"}]
[null,{"$f":"B287","v":0},null,null,{"$f":"E287","v":0},null,null,{"$f":"H287","v":0},null,null,{"$f":"K287","v":0},null,null,{"$f":"N287","v":0}]
[30,0,null,null,0,null,null,0,null,null,0,null,null,0]
[null,0,null,null,0,null,null,0,null,null,0,null,null,0]
[null,0,null,null,0,null,null,0,null,null,0,null,null,0]
[null,0,null,null,0,null,null,0,null,null,{"$f":"K291","v":0},null,null,0]
[null,0,null,null,0,null,null,0,null,null,0,null,null,0]
[]
[]
[null,null,{"$f":"'1-2a'!$C$305","v":0},null,null,{"$f":"'1-2a'!$F$305","v":0},null,null,{"$f":"'1-2a'!$I$305","v":0},null,null,{"$f":"'1-2a'!$L$305","v":0},null,null,{"$f":"'1-2a'!$O$305","v":0}]
[{"$f":"IF(A296=52,1,A296+1)","v":10},{"$f":"N296+3","v":"2021-03-01"},null,null,{"$f":"B306+1","v":"2021-03-02"},null,null,{"$f":"E306+1","v":"2021-03-03"},null,null,{"$f":"H306+1","v":"2021-03-04"},null,null,{"$f":"K306+1","v":"2021-03-05"}]
[null,{"$f":"B297","v":0},null,null,{"$f":"E297","v":0},null,null,{"$f":"H297","v":0},null,null,{"$f":"K297","v":0},null,null,{"$f":"N297","v":0}]
[31,0,null,null,0,null,null,0,null,null,0,null,null,0]
[null,0,null,null,0,null,null,0,null,null,0,null,null,0]
[null,0,null,null,0,null,null,0,null,null,0,null,null,0]
[null,0,null,null,0,null,null,0,null,null,{"$f":"K301","v":0},null,null,0]
[null,0,null,null,0,null,null,0,null,null,0,null,null,0]
[]
[]
[null,null,{"$f":"'1-2a'!$C$315","v":0},null,null,{"$f":"'1-2a'!$F$315","v":0},null,null,{"$f":"'1-2a'!$I$315","v":0},null,null,{"$f":"'1-2a'!$L$315","v":0},null,null,{"$f":"'1-2a'!$O$315","v":0}]
[{"$f":"IF(A306=52,1,A306+1)","v":11},{"$f":"N306+3","v":"2021-03-08"},null,null,{"$f":"B316+1","v":"2021-03-09"},null,null,{"$f":"E316+1","v":"2021-03-10"},null,null,{"$f":"H316+1","v":"2021-03-11"},null,null,{"$f":"K316+1","v":"2021-03-12"}]
[null,{"$f":"B307","v":0},null,null,{"$f":"E307","v":0},null,null,{"$f":"H307","v":0},null,null,{"$f":"K307","v":0},null,null,{"$f":"N307","v":0}]
[32,0,null,null,0,null,null,0,null,null,0,null,null,0]
[null,0,null,null,0,null,null,0,null,null,0,null,null,0]
[null,0,null,null,0,null,null,0,null,null,0,null,null,0]
[null,0,null,null,0,null,null,0,null,null,{"$f":"K311","v":0},null,null,0]
[null,0,null,null,0,null,null,0,null,null,0,null,null,0]
[]
[]
[null,null,{"$f":"'1-2a'!$C$325","v":0},null,null,{"$f":"'1-2a'!$F$325","v":0},null,null,{"$f":"'1-2a'!$I$325","v":0},null,null,{"$f":"'1-2a'!$L$325","v":0},null,null,{"$f":"'1-2a'!$O$325","v":0}]
[{"$f":"IF(A316=52,1,A316+1)","v":12},{"$f":"N316+3","v":"2021-03-15"},null,null,{"$f":"B326+1","v":"2021-03-16"},null,null,{"$f":"E326+1","v":"2021-03-17"},null,null,{"$f":"H326+1","v":"2021-03-18"},null,null,{"$f":"K326+1","v":"2021-03-19"}]
[null,{"$f":"B317","v":0},null,null,{"$f":"E317","v":0},null,null,{"$f":"H317","v":0},null,null,{"$f":"K317","v":0},null,null,{"$f":"N317","v":0}]
[33,0,null,null,0,null,null,0,null,null,0,null,null,0]
[null,0,null,null,0,null,null,0,null,null,0,null,null,0]
[null,0,null,null,0,null,null,0,null,null,0,null,null,0]
[null,0,null,null,0,null,null,0,null,null,0,null,null,0]
[null,0,null,null,0,null,null,0,null,null,0,null,null,0]
[]
[]
[null,null,{"$f":"'1-2a'!$C$335","v":0},null,null,{"$f":"'1-2a'!$F$335","v":0},null,null,{"$f":"'1-2a'!$I$335","v":0},null,null,{"$f":"'1-2a'!$L$335","v":0},null,null,{"$f":"'1-2a'!$O$335","v":0}]
[{"$f":"IF(A326=52,1,A326+1)","v":13},{"$f":"N326+3","v":"2021-03-22"},null,null,{"$f":"B336+1","v":"2021-03-23"},null,null,{"$f":"E336+1","v":"2021-03-24"},null,null,{"$f":"H336+1","v":"2021-03-25"},null,null,{"$f":"K336+1","v":"2021-03-26"}]
[null,{"$f":"B327","v":0},null,null,{"$f":"E327","v":0},null,null,{"$f":"H327","v":0},null,null,{"$f":"K327","v":0},null,null,{"$f":"N327","v":0}]
[34,0,null,null,0,null,null,0,null,null,0,null,null,0]
[null,0,null,null,0,null,null,0,null,null,0,null,null,0]
[null,0,null,null,0,null,null,0,null,null,0,null,null,0]
[null,0,null,null,0,null,null,0,null,null,{"$f":"K331","v":0},null,null,0]
[null,0,null,null,0,null,null,0,null,null,0,null,null,0]
[]
[]
[null,null,{"$f":"'1-2a'!$C$345","v":0},null,null,{"$f":"'1-2a'!$F$345","v":0},null,null,{"$f":"'1-2a'!$I$345","v":0},null,null,{"$f":"'1-2a'!$L$345","v":0},null,null,{"$f":"'1-2a'!$O$345","v":0}]
[{"$f":"IF(A336=52,1,A336+1)","v":14},{"$f":"N336+3","v":"2021-03-29"},null,null,{"$f":"B346+1","v":"2021-03-30"},null,null,{"$f":"E346+1","v":"2021-03-31"},null,null,{"$f":"H346+1","v":"2021-04-01"},null,null,{"$f":"K346+1","v":"2021-04-02"}]
[null,{"$f":"B337","v":0},null,null,{"$f":"E337","v":0},null,null,{"$f":"H337","v":0},null,null,{"$f":"K337","v":0},null,null,{"$f":"N337","v":0}]
[35,0,null,null,0,null,null,0,null,null,0,null,null,0]
[null,0,null,null,0,null,null,0,null,null,0,null,null,0]
[null,0,null,null,0,null,null,0,null,null,0,null,null,0]
[null,0,null,null,0,null,null,0,null,null,{"$f":"K341","v":0},null,null,0]
[null,0,null,null,0,null,null,0,null,null,0,null,null,0]
[]
[]
[null,null,{"$f":"'1-2a'!$C$355","v":0},null,null,{"$f":"'1-2a'!$F$355","v":0},null,null,{"$f":"'1-2a'!$I$355","v":0},null,null,{"$f":"'1-2a'!$L$355","v":0},null,null,{"$f":"'1-2a'!$O$355","v":0}]
[{"$f":"IF(A346=52,1,A346+1)","v":15},{"$f":"N346+3","v":"2021-04-05"},null,null,{"$f":"B356+1","v":"2021-04-06"},null,null,{"$f":"E356+1","v":"2021-04-07"},null,null,{"$f":"H356+1","v":"2021-04-08"},null,null,{"$f":"K356+1","v":"2021-04-09"}]
[null,{"$f":"B347","v":0},null,null,{"$f":"E347","v":0},null,null,{"$f":"H347","v":0},null,null,{"$f":"K347","v":0},null,null,{"$f":"N347","v":0}]
[36,0,null,null,0,null,null,0,null,null,0,null,null,0]
[null,0,null,null,0,null,null,0,null,null,0,null,null,0]
[null,0,null,null,0,null,null,0,null,null,0,null,null,0]
[null,0,null,null,0,null,null,0,null,null,{"$f":"K351","v":0},null,null,0]
[null,0,null,null,0,null,null,0,null,null,0,null,null,0]
[]
[]
[null,null,{"$f":"'1-2a'!$C$365","v":0},null,null,{"$f":"'1-2a'!$F$365","v":0},null,null,{"$f":"'1-2a'!$I$365","v":0},null,null,{"$f":"'1-2a'!$L$365","v":0},null,null,{"$f":"'1-2a'!$O$365","v":0}]
[{"$f":"IF(A356=52,1,A356+1)","v":16},{"$f":"N356+3","v":"2021-04-12"},null,null,{"$f":"B366+1","v":"2021-04-13"},null,null,{"$f":"E366+1","v":"2021-04-14"},null,null,{"$f":"H366+1","v":"2021-04-15"},null,null,{"$f":"K366+1","v":"2021-04-16"}]
[null,{"$f":"B357","v":0},null,null,{"$f":"E357","v":0},null,null,{"$f":"H357","v":0},null,null,{"$f":"K357","v":0},null,null,{"$f":"N357","v":0}]
[37,0,null,null,0,null,null,0,null,null,0,null,null,0]
[null,0,null,null,0,null,null,0,null,null,0,null,null,0]
[null,0,null,null,0,null,null,0,null,null,0,null,null,0]
[null,0,null,null,0,null,null,0,null,null,{"$f":"K361","v":0},null,null,0]
[null,0,null,null,0,null,null,0,null,null,0,null,null,0]
[]
[]
[null,null,{"$f":"'1-2a'!$C$375","v":0},null,null,{"$f":"'1-2a'!$F$375","v":0},null,null,{"$f":"'1-2a'!$I$375","v":0},null,null,{"$f":"'1-2a'!$L$375","v":0},null,null,{"$f":"'1-2a'!$O$375","v":0}]
[{"$f":"IF(A366=52,1,A366+1)","v":17},{"$f":"N366+3","v":"2021-04-19"},null,null,{"$f":"B376+1","v":"2021-04-20"},null,null,{"$f":"E376+1","v":"2021-04-21"},null,null,{"$f":"H376+1","v":"2021-04-22"},null,null,{"$f":"K376+1","v":"2021-04-23"}]
[null,{"$f":"B367","v":0},null,null,{"$f":"E367","v":0},null,null,{"$f":"H367","v":0},null,null,{"$f":"K367","v":0},null,null,{"$f":"N367","v":0}]
[38,0,null,null,0,null,null,0,null,null,0,null,null,0]
[null,0,null,null,0,null,null,0,null,null,0,null,null,0]
[null,0,null,null,0,null,null,0,null,null,0,null,null,0]
[null,0,null,null,0,null,null,0,null,null,{"$f":"K371","v":0},null,null,0]
[null,0,null,null,0,null,null,0,null,null,0,null,null,0]
[]
[]
[null,null,{"$f":"'1-2a'!$C$385","v":0},null,null,{"$f":"'1-2a'!$F$385","v":0},null,null,{"$f":"'1-2a'!$I$385","v":0},null,null,{"$f":"'1-2a'!$L$385","v":0},null,null,{"$f":"'1-2a'!$O$385","v":0}]
[{"$f":"IF(A376=52,1,A376+1)","v":18},{"$f":"N376+3","v":"2021-04-26"},null,null,{"$f":"B386+1","v":"2021-04-27"},null,null,{"$f":"E386+1","v":"2021-04-28"},null,null,{"$f":"H386+1","v":"2021-04-29"},null,null,{"$f":"K386+1","v":"2021-04-30"}]
[null,{"$f":"B377","v":0},null,null,{"$f":"E377","v":0},null,null,{"$f":"H377","v":0},null,null,{"$f":"K377","v":0},null,null,{"$f":"N377","v":0}]
[39,0,null,null,0,null,null,0,null,null,0,null,null,0]
[null,0,null,null,0,null,null,0,null,null,0,null,null,0]
[null,0,null,null,0,null,null,0,null,null,0,null,null,0]
[null,0,null,null,0,null,null,0,null,null,{"$f":"K381","v":0},null,null,0]
[null,0,null,null,0,null,null,0,null,null,0,null,null,0]
[]
[]
[null,null,{"$f":"'1-2a'!$C$395","v":0},null,null,{"$f":"'1-2a'!$F$395","v":0},null,null,{"$f":"'1-2a'!$I$395","v":0},null,null,{"$f":"'1-2a'!$L$395","v":0},null,null,{"$f":"'1-2a'!$O$395","v":0}]
[{"$f":"IF(A386=52,1,A386+1)","v":19},{"$f":"N386+3","v":"2021-05-03"},null,null,{"$f":"B396+1","v":"2021-05-04"},null,null,{"$f":"E396+1","v":"2021-05-05"},null,null,{"$f":"H396+1","v":"2021-05-06"},null,null,{"$f":"K396+1","v":"2021-05-07"}]
[null,{"$f":"B387","v":0},null,null,{"$f":"E387","v":0},null,null,{"$f":"H387","v":0},null,null,{"$f":"K387","v":0},null,null,{"$f":"N387","v":0}]
[40,0,null,null,0,null,null,0,null,null,0,null,null,0]
[null,0,null,null,0,null,null,0,null,null,0,null,null,0]
[null,0,null,null,0,null,null,0,null,null,0,null,null,0]
[null,0,null,null,0,null,null,0,null,null,{"$f":"K391","v":0},null,null,0]
[null,0,null,null,0,null,null,0,null,null,0,null,null,0]
[]
[]
[null,null,{"$f":"'1-2a'!$C$405","v":0},null,null,{"$f":"'1-2a'!$F$405","v":0},null,null,{"$f":"'1-2a'!$I$405","v":0},null,null,{"$f":"'1-2a'!$L$405","v":0},null,null,{"$f":"'1-2a'!$O$405","v":0}]
[{"$f":"IF(A396=52,1,A396+1)","v":20},{"$f":"N396+3","v":"2021-05-10"},null,null,{"$f":"B406+1","v":"2021-05-11"},null,null,{"$f":"E406+1","v":"2021-05-12"},null,null,{"$f":"H406+1","v":"2021-05-13"},null,null,{"$f":"K406+1","v":"2021-05-14"}]
[null,{"$f":"B397","v":0},null,null,{"$f":"E397","v":0},null,null,{"$f":"H397","v":0},null,null,{"$f":"K397","v":0},null,null,{"$f":"N397","v":0}]
[41,0,null,null,0,null,null,0,null,null,0,null,null,0]
[null,0,null,null,0,null,null,0,null,null,0,null,null,0]
[null,0,null,null,0,null,null,0,null,null,0,null,null,0]
[null,0,null,null,0,null,null,0,null,null,0,null,null,0]
[null,0,null,null,0,null,null,0,null,null,0,null,null,0]
[]
[]
[null,null,{"$f":"'1-2a'!$C$415","v":0},null,null,{"$f":"'1-2a'!$F$415","v":0},null,null,{"$f":"'1-2a'!$I$415","v":0},null,null,{"$f":"'1-2a'!$L$415","v":0},null,null,{"$f":"'1-2a'!$O$415","v":0}]
[{"$f":"IF(A406=52,1,A406+1)","v":21},{"$f":"N406+3","v":"2021-05-17"},null,null,{"$f":"B416+1","v":"2021-05-18"},null,null,{"$f":"E416+1","v":"2021-05-19"},null,null,{"$f":"H416+1","v":"2021-05-20"},null,null,{"$f":"K416+1","v":"2021-05-21"}]
[null,{"$f":"B407","v":0},null,null,{"$f":"E407","v":0},null,null,{"$f":"H407","v":0},null,null,{"$f":"K407","v":0},null,null,{"$f":"N407","v":0}]
[42,0,null,null,0,null,null,0,null,null,0,null,null,0]
[null,0,null,null,0,null,null,0,null,null,0,null,null,0]
[null,0,null,null,0,null,null,0,null,null,0,null,null,0]
[null,0,null,null,0,null,null,0,null,null,{"$f":"K411","v":0},null,null,0]
[null,0,null,null,0,null,null,0,null,null,0,null,null,0]
[]
[]
[null,null,{"$f":"'1-2a'!$C$425","v":0},null,null,{"$f":"'1-2a'!$F$425","v":0},null,null,{"$f":"'1-2a'!$I$425","v":0},null,null,{"$f":"'1-2a'!$L$425","v":0},null,null,{"$f":"'1-2a'!$O$425","v":0}]
[{"$f":"IF(A416=52,1,A416+1)","v":22},{"$f":"N416+3","v":"2021-05-24"},null,null,{"$f":"B426+1","v":"2021-05-25"},null,null,{"$f":"E426+1","v":"2021-05-26"},null,null,{"$f":"H426+1","v":"2021-05-27"},null,null,{"$f":"K426+1","v":"2021-05-28"}]
[null,{"$f":"B417","v":0},null,null,{"$f":"E417","v":0},null,null,{"$f":"H417","v":0},null,null,{"$f":"K417","v":0},null,null,{"$f":"N417","v":0}]
[43,0,null,null,0,null,null,0,null,null,0,null,null,0]
[null,0,null,null,0,null,null,0,null,null,0,null,null,0]
[null,0,null,null,0,null,null,0,null,null,0,null,null,0]
[null,0,null,null,0,null,null,0,null,null,{"$f":"K421","v":0},null,null,0]
[null,0,null,null,0,null,null,0,null,null,0,null,null,0]
[]
[]
[null,null,{"$f":"'1-2a'!$C$435","v":0},null,null,{"$f":"'1-2a'!$F$435","v":0},null,null,{"$f":"'1-2a'!$I$435","v":0},null,null,{"$f":"'1-2a'!$L$435","v":0},null,null,{"$f":"'1-2a'!$O$435","v":0}]
[{"$f":"IF(A426=52,1,A426+1)","v":23},{"$f":"N426+3","v":"2021-05-31"},null,null,{"$f":"B436+1","v":"2021-06-01"},null,null,{"$f":"E436+1","v":"2021-06-02"},null,null,{"$f":"H436+1","v":"2021-06-03"},null,null,{"$f":"K436+1","v":"2021-06-04"}]
[null,{"$f":"B427","v":0},null,null,{"$f":"E427","v":0},null,null,{"$f":"H427","v":0},null,null,{"$f":"K427","v":0},null,null,{"$f":"N427","v":0}]
[44,0,null,null,0,null,null,0,null,null,0,null,null,0]
[null,0,null,null,0,null,null,0,null,null,0,null,null,0]
[null,0,null,null,0,null,null,0,null,null,0,null,null,0]
[null,0,null,null,0,null,null,0,null,null,{"$f":"K431","v":0},null,null,0]
[null,0,null,null,0,null,null,0,null,null,0,null,null,0]
[]
[]
[null,null,{"$f":"'1-2a'!$C$445","v":0},null,null,{"$f":"'1-2a'!$F$445","v":0},null,null,{"$f":"'1-2a'!$I$445","v":0},null,null,{"$f":"'1-2a'!$L$445","v":0},null,null,{"$f":"'1-2a'!$O$445","v":0}]
[{"$f":"IF(A436=52,1,A436+1)","v":24},{"$f":"N436+3","v":"2021-06-07"},null,null,{"$f":"B446+1","v":"2021-06-08"},null,null,{"$f":"E446+1","v":"2021-06-09"},null,null,{"$f":"H446+1","v":"2021-06-10"},null,null,{"$f":"K446+1","v":"2021-06-11"}]
[null,{"$f":"B437","v":0},null,null,{"$f":"E437","v":0},null,null,{"$f":"H437","v":0},null,null,{"$f":"K437","v":0},null,null,{"$f":"N437","v":0}]
[45,0,null,null,0,null,null,0,null,null,0,null,null,0]
[null,0,null,null,0,null,null,0,null,null,0,null,null,0]
[null,0,null,null,0,null,null,0,null,null,0,null,null,0]
[null,0,null,null,0,null,null,0,null,null,{"$f":"K441","v":0},null,null,0]
[null,0,null,null,0,null,null,0,null,null,0,null,null,0]
[]
[]
[null,null,{"$f":"'1-2a'!$C$455","v":0},null,null,{"$f":"'1-2a'!$F$455","v":0},null,null,{"$f":"'1-2a'!$I$455","v":0},null,null,{"$f":"'1-2a'!$L$455","v":0},null,null,{"$f":"'1-2a'!$O$455","v":0}]
[{"$f":"IF(A446=52,1,A446+1)","v":25},{"$f":"N446+3","v":"2021-06-14"},null,null,{"$f":"B456+1","v":"2021-06-15"},null,null,{"$f":"E456+1","v":"2021-06-16"},null,null,{"$f":"H456+1","v":"2021-06-17"},null,null,{"$f":"K456+1","v":"2021-06-18"}]
[null,{"$f":"B447","v":0},null,null,{"$f":"E447","v":0},null,null,{"$f":"H447","v":0},null,null,{"$f":"K447","v":0},null,null,{"$f":"N447","v":0}]
[46,0,null,null,0,null,null,0,null,null,0,null,null,0]
[null,0,null,null,0,null,null,0,null,null,0,null,null,0]
[null,0,null,null,0,null,null,0,null,null,0,null,null,0]
[null,0,null,null,0,null,null,0,null,null,{"$f":"K451","v":0},null,null,0]
[null,0,null,null,0,null,null,0,null,null,0,null,null,0]
[]
[]
[null,null,{"$f":"'1-2a'!$C$465","v":0},null,null,{"$f":"'1-2a'!$F$465","v":0},null,null,{"$f":"'1-2a'!$I$465","v":0},null,null,{"$f":"'1-2a'!$L$465","v":0},null,null,{"$f":"'1-2a'!$O$465","v":0}]
[{"$f":"IF(A456=52,1,A456+1)","v":26},{"$f":"N456+3","v":"2021-06-21"},null,null,{"$f":"B466+1","v":"2021-06-22"},null,null,{"$f":"E466+1","v":"2021-06-23"},null,null,{"$f":"H466+1","v":"2021-06-24"},null,null,{"$f":"K466+1","v":"2021-06-25"}]
[null,{"$f":"B457","v":0},null,null,{"$f":"E457","v":0},null,null,{"$f":"H457","v":0},null,null,{"$f":"K457","v":0},null,null,{"$f":"N457","v":0}]
[47,0,null,null,0,null,null,0,null,null,0,null,null,0]
[null,0,null,null,0,null,null,0,null,null,0,null,null,0]
[null,0,null,null,0,null,null,0,null,null,0,null,null,0]
[null,0,null,null,0,null,null,0,null,null,{"$f":"K461","v":0},null,null,0]
[null,0,null,null,0,null,null,0,null,null,0,null,null,0]
[]
[]
[null,null,{"$f":"'1-2a'!$C$475","v":0},null,null,{"$f":"'1-2a'!$F$475","v":0},null,null,{"$f":"'1-2a'!$I$475","v":0},null,null,{"$f":"'1-2a'!$L$475","v":0},null,null,{"$f":"'1-2a'!$O$475","v":0}]
[{"$f":"IF(A466=52,1,A466+1)","v":27},{"$f":"N466+3","v":"2021-06-28"},null,null,{"$f":"B476+1","v":"2021-06-29"},null,null,{"$f":"E476+1","v":"2021-06-30"},null,null,{"$f":"H476+1","v":"2021-07-01"},null,null,{"$f":"K476+1","v":"2021-07-02"}]
[null,{"$f":"B467","v":0},null,null,{"$f":"E467","v":0},null,null,{"$f":"H467","v":0},null,null,{"$f":"K467","v":0},null,null,{"$f":"N467","v":0}]
[48,0,null,null,0,null,null,0,null,null,0,null,null,0]
[null,0,null,null,0,null,null,0,null,null,0,null,null,0]
[null,0,null,null,0,null,null,0,null,null,0,null,null,0]
[null,0,null,null,0,null,null,0,null,null,{"$f":"K471","v":0},null,null,0]
[null,0,null,null,0,null,null,0,null,null,0,null,null,0]
[]
[]
[null,null,{"$f":"'1-2a'!$C$485","v":0},null,null,{"$f":"'1-2a'!$F$485","v":0},null,null,{"$f":"'1-2a'!$I$485","v":0},null,null,{"$f":"'1-2a'!$L$485","v":0},null,null,{"$f":"'1-2a'!$O$485","v":0}]
[{"$f":"IF(A476=52,1,A476+1)","v":28},{"$f":"N476+3","v":"2021-07-05"},null,null,{"$f":"B486+1","v":"2021-07-06"},null,null,{"$f":"E486+1","v":"2021-07-07"},null,null,{"$f":"H486+1","v":"2021-07-08"},null,null,{"$f":"K486+1","v":"2021-07-09"}]
[null,{"$f":"B477","v":0},null,null,{"$f":"E477","v":0},null,null,{"$f":"H477","v":0},null,null,{"$f":"K477","v":0},null,null,{"$f":"N477","v":0}]
[49,0,null,null,0,null,null,0,null,null,0,null,null,0]
[null,0,null,null,0,null,null,0,null,null,0,null,null,0]
[null,0,null,null,0,null,null,0,null,null,0,null,null,0]
[null,0,null,null,0,null,null,0,null,null,0,null,null,0]
[null,0,null,null,0,null,null,0,null,null,0,null,null,0]
[]
[]
[null,null,{"$f":"'1-2a'!$C$495","v":0},null,null,{"$f":"'1-2a'!$F$495","v":0},null,null,{"$f":"'1-2a'!$I$495","v":0},null,null,{"$f":"'1-2a'!$L$495","v":0},null,null,{"$f":"'1-2a'!$O$495","v":0}]
[{"$f":"IF(A486=52,1,A486+1)","v":29},{"$f":"N486+3","v":"2021-07-12"},null,null,{"$f":"B496+1","v":"2021-07-13"},null,null,{"$f":"E496+1","v":"2021-07-14"},null,null,{"$f":"H496+1","v":"2021-07-15"},null,null,{"$f":"K496+1","v":"2021-07-16"}]
[null,{"$f":"B487","v":0},null,null,{"$f":"E487","v":0},null,null,{"$f":"H487","v":0},null,null,{"$f":"K487","v":0},null,null,{"$f":"N487","v":0}]
[50,0,null,null,0,null,null,0,null,null,0]
[null,0,null,null,0,null,null,0,null,null,0,null,null,0]
[null,0,null,null,0,null,null,0,null,null,0,null,null,0]
[null,0,null,null,0,null,null,0,null,null,{"$f":"K491","v":0},null,null,0]
[null,0,null,null,0,null,null,0,null,null,0]

{"sheet":"22","index":22,"n_rows":502,"n_cols":15,"rows_kept":502,"cut":false,"hidden":false,"merged":[[5,1,5,3],[5,4,5,6],[5,7,5,9],[5,10,5,12],[5,13,5,15],[7,0,8,0],[1,1,2,7],[1,9,2,12],[1,13,2,15],[3,1,3,3],[3,4,3,6],[3,7,3,9],[3,10,3,12],[3,13,3,15],[12,1,13,3],[12,4,13,6],[12,7,13,9],[12,10,13,12],[12,13,13,15],[15,1,15,3],[15,4,15,6],[15,7,15,9],[15,10,15,12],[15,13,15,15],[25,1,25,3],[25,4,25,6],[25,7,25,9],[25,10,25,12],[25,13,25,15],[27,0,28,0],[17,0,18,0],[22,1,23,3],[22,4,23,6],[22,7,23,9],[22,10,23,12],[22,13,23,15],[32,1,33,3],[32,4,33,6],[32,7,33,9],[32,10,33,12],[32,13,33,15],[35,1,35,3],[35,4,35,6],[35,7,35,9],[35,10,35,12],[35,13,35,15],[45,1,45,3],[45,4,45,6],[45,7,45,9],[45,10,45,12],[45,13,45,15],[47,0,48,0],[37,0,38,0],[42,1,43,3],[42,4,43,6],[42,7,43,9],[42,10,43,12],[42,13,43,15],[52,1,53,3],[52,4,53,6],[52,7,53,9],[52,10,53,12],[52,13,53,15],[55,1,55,3],[55,4,55,6],[55,7,55,9],[55,10,55,12],[55,13,55,15],[65,1,65,3],[65,4,65,6],[65,7,65,9],[65,10,65,12],[65,13,65,15],[67,0,68,0],[57,0,58,0],[62,1,63,3],[62,4,63,6],[62,7,63,9],[62,10,63,12],[62,13,63,15],[72,1,73,3],[72,4,73,6],[72,7,73,9],[72,10,73,12],[72,13,73,15],[75,1,75,3],[75,4,75,6],[75,7,75,9],[75,10,75,12],[75,13,75,15],[85,1,85,3],[85,4,85,6],[85,7,85,9],[85,10,85,12],[85,13,85,15],[87,0,88,0],[77,0,78,0],[82,1,83,3],[82,4,83,6],[82,7,83,9],[82,10,83,12],[82,13,83,15],[92,1,93,3],[92,4,93,6],[92,7,93,9],[92,10,93,12],[92,13,93,15],[95,1,95,3],[95,4,95,6],[95,7,95,9],[95,10,95,12],[95,13,95,15],[105,1,105,3],[105,4,105,6],[105,7,105,9],[105,10,105,12],[105,13,105,15],[107,0,108,0],[97,0,98,0],[99,16,100,19],[102,1,103,3],[102,4,103,6],[102,7,103,9],[102,10,103,12],[102,13,103,15],[112,1,113,3],[112,4,113,6],[112,7,113,9],[112,10,113,12],[112,13,113,15],[115,1,115,3],[115,4,115,6],[115,7,115,9],[115,10,115,12],[115,13,115,15],[125,1,125,3],[125,4,125,6],[125,7,125,9],[125,10,125,12],[125,13,125,15],[127,0,128,0],[117,0,118,0],[122,1,123,3],[122,4,123,6],[122,7,123,9],[122,10,123,12],[122,13,123,15],[132,1,133,3],[132,4,133,6],[132,7,133,9],[132,10,133,12],[132,13,133,15],[135,1,135,3],[135,4,135,6],[135,7,135,9],[135,10,135,12],[135,13,135,15],[145,1,145,3],[145,4,145,6],[145,7,145,9],[145,10,145,12],[145,13,145,15],[147,0,148,0],[137,0,138,0],[142,1,143,3],[142,4,143,6],[142,7,143,9],[142,10,143,12],[142,13,143,15],[152,1,153,3],[152,4,153,6],[152,7,153,9],[152,10,153,12],[152,13,153,15],[155,1,155,3],[155,4,155,6],[155,7,155,9],[155,10,155,12],[155,13,155,15],[165,1,165,3],[165,4,165,6],[165,7,165,9],[165,10,165,12],[165,13,165,15],[167,0,168,0],[157,0,158,0],[162,1,163,3],[162,4,163,6],[162,7,163,9],[162,10,163,12],[162,13,163,15],[172,1,173,3],[172,4,173,6],[172,7,173,9],[172,10,173,12],[172,13,173,15],[175,1,175,3],[175,4,175,6],[175,7,175,9],[175,10,175,12],[175,13,175,15],[185,1,185,3],[185,4,185,6],[185,7,185,9],[185,10,185,12],[185,13,185,15],[187,0,188,0],[177,0,178,0],[179,16,180,19],[182,1,183,3],[182,4,183,6],[182,7,183,9],[182,10,183,12],[182,13,183,15],[192,1,193,3],[192,4,193,6],[192,7,193,9],[192,10,193,12],[192,13,193,15],[195,1,195,3],[195,4,195,6],[195,7,195,9],[195,10,195,12],[195,13,195,15],[205,1,205,3],[205,4,205,6],[205,7,205,9],[205,10,205,12],[205,13,205,15],[207,0,208,0],[197,0,198,0],[202,1,203,3],[202,4,203,6],[202,7,203,9],[202,10,203,12],[202,13,203,15],[212,1,213,3],[212,4,213,6],[212,7,213,9],[212,10,213,12],[212,13,213,15],[215,1,215,3],[215,4,215,6],[215,7,215,9],[215,10,215,12],[215,13,215,15],[225,1,225,3],[225,4,225,6],[225,7,225,9],[225,10,225,12],[225,13,225,15],[227,0,228,0],[217,0,218,0],[222,1,223,3],[222,4,223,6],[222,7,223,9],[222,10,223,12],[222,13,223,15],[232,1,233,3],[232,4,233,6],[232,7,233,9],[232,10,233,12],[232,13,233,15],[235,1,235,3],[235,4,235,6],[235,7,235,9],[235,10,235,12],[235,13,235,15],[245,1,245,3],[245,4,245,6],[245,7,245,9],[245,10,245,12],[245,13,245,15],[247,0,248,0],[237,0,238,0],[242,1,243,3],[242,4,243,6],[242,7,243,9],[242,10,243,12],[242,13,243,15],[252,1,253,3],[252,4,253,6],[252,7,253,9],[252,10,253,12],[252,13,253,15],[255,1,255,3],[255,4,255,6],[255,7,255,9],[255,10,255,12],[255,13,255,15],[265,1,265,3],[265,4,265,6],[265,7,265,9],[265,10,265,12],[265,13,265,15],[267,0,268,0],[257,0,258,0],[259,16,260,19],[262,1,263,3],[262,4,263,6],[262,7,263,9],[262,10,263,12],[262,13,263,15],[272,1,273,3],[272,4,273,6],[272,7,273,9],[272,10,273,12],[272,13,273,15],[275,1,275,3],[275,4,275,6],[275,7,275,9],[275,10,275,12],[275,13,275,15],[285,1,285,3],[285,4,285,6],[285,7,285,9],[285,10,285,12],[285,13,285,15],[287,0,288,0],[277,0,278,0],[282,1,283,3],[282,4,283,6],[282,7,283,9],[282,10,283,12],[282,13,283,15],[292,1,293,3],[292,4,293,6],[292,7,293,9],[292,10,293,12],[292,13,293,15],[295,1,295,3],[295,4,295,6],[295,7,295,9],[295,10,295,12],[295,13,295,15],[305,1,305,3],[305,4,305,6],[305,7,305,9],[305,10,305,12],[305,13,305,15],[307,0,308,0],[297,0,298,0],[302,1,303,3],[302,4,303,6],[302,7,303,9],[302,10,303,12],[302,13,303,15],[312,1,313,3],[312,4,313,6],[312,7,313,9],[312,10,313,12],[312,13,313,15],[315,1,315,3],[315,4,315,6],[315,7,315,9],[315,10,315,12],[315,13,315,15],[325,1,325,3],[325,4,325,6],[325,7,325,9],[325,10,325,12],[325,13,325,15],[327,0,328,0],[317,0,318,0],[322,1,323,3],[322,4,323,6],[322,7,323,9],[322,10,323,12],[322,13,323,15],[332,1,333,3],[332,4,333,6],[332,7,333,9],[332,10,333,12],[332,13,333,15],[335,1,335,3],[335,4,335,6],[335,7,335,9],[335,10,335,12],[335,13,335,15],[345,1,345,3],[345,4,345,6],[345,7,345,9],[345,10,345,12],[345,13,345,15],[347,0,348,0],[337,0,338,0],[339,16,340,19],[342,1,343,3],[342,4,343,6],[342,7,343,9],[342,10,343,12],[342,13,343,15],[352,1,353,3],[352,4,353,6],[352,7,353,9],[352,10,353,12],[352,13,353,15],[355,1,355,3],[355,4,355,6],[355,7,355,9],[355,10,355,12],[355,13,355,15],[365,1,365,3],[365,4,365,6],[365,7,365,9],[365,10,365,12],[365,13,365,15],[367,0,368,0],[357,0,358,0],[362,1,363,3],[362,4,363,6],[362,7,363,9],[362,10,363,12],[362,13,363,15],[372,1,373,3],[372,4,373,6],[372,7,373,9],[372,10,373,12],[372,13,373,15],[375,1,375,3],[375,4,375,6],[375,7,375,9],[375,10,375,12],[375,13,375,15],[385,1,385,3],[385,4,385,6],[385,7,385,9],[385,10,385,12],[385,13,385,15],[387,0,388,0],[377,0,378,0],[382,1,383,3],[382,4,383,6],[382,7,383,9],[382,10,383,12],[382,13,383,15],[392,1,393,3],[392,4,393,6],[392,7,393,9],[392,10,393,12],[392,13,393,15],[395,1,395,3],[395,4,395,6],[395,7,395,9],[395,10,395,12],[395,13,395,15],[405,1,405,3],[405,4,405,6],[405,7,405,9],[405,10,405,12],[405,13,405,15],[407,0,408,0],[397,0,398,0],[402,1,403,3],[402,4,403,6],[402,7,403,9],[402,10,403,12],[402,13,403,15],[412,1,413,3],[412,4,413,6],[412,7,413,9],[412,10,413,12],[412,13,413,15],[415,1,415,3],[415,4,415,6],[415,7,415,9],[415,10,415,12],[415,13,415,15],[425,1,425,3],[425,4,425,6],[425,7,425,9],[425,10,425,12],[425,13,425,15],[427,0,428,0],[417,0,418,0],[419,16,420,19],[422,1,423,3],[422,4,423,6],[422,7,423,9],[422,10,423,12],[422,13,423,15],[432,1,433,3],[432,4,433,6],[432,7,433,9],[432,10,433,12],[432,13,433,15],[435,1,435,3],[435,4,435,6],[435,7,435,9],[435,10,435,12],[435,13,435,15],[445,1,445,3],[445,4,445,6],[445,7,445,9],[445,10,445,12],[445,13,445,15],[447,0,448,0],[437,0,438,0],[442,1,443,3],[442,4,443,6],[442,7,443,9],[442,10,443,12],[442,13,443,15],[452,1,453,3],[452,4,453,6],[452,7,453,9],[452,10,453,12],[452,13,453,15],[455,1,455,3],[455,4,455,6],[455,7,455,9],[455,10,455,12],[455,13,455,15],[465,1,465,3],[465,4,465,6],[465,7,465,9],[465,10,465,12],[465,13,465,15],[467,0,468,0],[457,0,458,0],[462,1,463,3],[462,4,463,6],[462,7,463,9],[462,10,463,12],[462,13,463,15],[472,1,473,3],[472,4,473,6],[472,7,473,9],[472,10,473,12],[472,13,473,15],[475,1,475,3],[475,4,475,6],[475,7,475,9],[475,10,475,12],[475,13,475,15],[485,1,485,3],[485,4,485,6],[485,7,485,9],[485,10,485,12],[485,13,485,15],[487,0,488,0],[477,0,478,0],[482,1,483,3],[482,4,483,6],[482,7,483,9],[482,10,483,12],[482,13,483,15],[497,0,498,0],[499,16,500,19],[502,1,503,3],[502,4,503,6],[502,7,503,9],[502,10,503,12],[502,13,503,15],[492,1,493,3],[492,4,493,6],[492,7,493,9],[492,10,493,12],[492,13,493,15],[495,1,495,3],[495,4,495,6],[495,7,495,9],[495,10,495,12],[495,13,495,15]]}
[]
[null,{"$f":"'1-2a'!B2:H3","v":"Basisschool De Grote Beer        schooljaar 2020/2021"},null,null,null,null,null,null,null,"Groepsplanner van groep:",null,null,null,"22"]
[]
[null,"maandag 1e schoolweek",null,null,"dinsdag",null,null,"woensdag",null,null,"donderdag",null,null,"vrijdag"]
[null,null,{"$f":"'1-2a'!C$5","v":0},null,null,{"$f":"'1-2a'!F5","v":0},null,null,{"$f":"'1-2a'!I$5","v":0},null,null,{"$f":"'1-2a'!L$5","v":"s"},null,null,{"$f":"'1-2a'!O$5","v":0}]
[{"$f":"(B6-WEEKDAY(B6-1)+4-(TRUNC(DATE(YEAR(B6-WEEKDAY(B6-1)+4),1,2)/7)*7-2))/7","v":32},{"$f":"'1-2a'!B6:D6","v":"2020-08-03"},null,null,{"$f":"B6+1","v":"2020-08-04"},null,null,{"$f":"E6+1","v":"2020-08-05"},null,null,{"$f":"H6+1","v":"2020-08-06"},null,null,{"$f":"K6+1","v":"2020-08-07"}]
[]
[1]
[]
[]
[]
[]
[]
[]
[null,null,{"$f":"'1-2a'!C$15","v":0},null,null,{"$f":"'1-2a'!F$15","v":0},null,null,{"$f":"'1-2a'!I$15","v":0},null,null,{"$f":"'1-2a'!L$15","v":0},null,null,{"$f":"'1-2a'!O15","v":0}]
[{"$f":"IF(A6=52,1,A6+1)","v":33},{"$f":"N6+3","v":"2020-08-10"},null,null,{"$f":"B16+1","v":"2020-08-11"},null,null,{"$f":"E16+1","v":"2020-08-12"},null,null,{"$f":"H16+1","v":"2020-08-13"},null,null,{"$f":"K16+1","v":"2020-08-14"}]
[null,{"$f":"B7","v":0},null,null,{"$f":"E7","v":0},null,null,{"$f":"H7","v":0},null,null,{"$f":"K7","v":0},null,null,{"$f":"N7","v":0}]
[2,0,null,null,0,null,null,0,null,null,0,null,null,0]
[null,0,null,null,0,null,null,0,null,null,0,null,null,0]
[null,0,null,null,0,null,null,0,null,null,0,null,null,0]
[null,0,null,null,0,null,null,0,null,null,0,null,null,0]
[null,0,null,null,0,null,null,0,null,null,0,null,null,0]
[]
[]
[null,null,{"$f":"'1-2a'!C$25","v":0},null,null,{"$f":"'1-2a'!F$25","v":0},null,null,{"$f":"'1-2a'!I25","v":0},null,null,{"$f":"'1-2a'!L25","v":0},null,null,{"$f":"'1-2a'!O25","v":0}]
[{"$f":"IF(A16=52,1,A16+1)","v":34},{"$f":"N16+3","v":"2020-08-17"},null,null,{"$f":"B26+1","v":"2020-08-18"},null,null,{"$f":"E26+1","v":"2020-08-19"},null,null,{"$f":"H26+1","v":"2020-08-20"},null,null,{"$f":"K26+1","v":"2020-08-21"}]
[null,{"$f":"B17","v":0},null,null,{"$f":"E17","v":0},null,null,{"$f":"H17","v":0},null,null,{"$f":"K17","v":0},null,null,{"$f":"N17","v":0}]
[3,0,null,null,0,null,null,0,null,null,0,null,null,0]
[null,0,null,null,0,null,null,0,null,null,0,null,null,0]
[null,0,null,null,0,null,null,0,null,null,0,null,null,0]
[null,0,null,null,0,null,null,0,null,null,{"$f":"K21","v":0},null,null,0]
[null,0,null,null,0,null,null,0,null,null,0,null,null,0]
[]
[]
[null,null,{"$f":"'1-2a'!$C$35","v":0},null,null,{"$f":"'1-2a'!$F$35","v":0},null,null,{"$f":"'1-2a'!$I$35","v":0},null,null,{"$f":"'1-2a'!$L$35","v":0},null,null,{"$f":"'1-2a'!$O$35","v":0}]
[{"$f":"IF(A26=52,1,A26+1)","v":35},{"$f":"N26+3","v":"2020-08-24"},null,null,{"$f":"B36+1","v":"2020-08-25"},null,null,{"$f":"E36+1","v":"2020-08-26"},null,null,{"$f":"H36+1","v":"2020-08-27"},null,null,{"$f":"K36+1","v":"2020-08-28"}]
[null,{"$f":"B27","v":0},null,null,{"$f":"E27","v":0},null,null,{"$f":"H27","v":0},null,null,{"$f":"K27","v":0},null,null,{"$f":"N27","v":0}]
[4,0,null,null,0,null,null,0,null,null,0,null,null,0]
[null,0,null,null,0,null,null,0,null,null,0,null,null,0]
[null,0,null,null,0,null,null,0,null,null,0,null,null,0]
[null,0,null,null,0,null,null,0,null,null,{"$f":"K31","v":0},null,null,0]
[null,0,null,null,0,null,null,0,null,null,0,null,null,0]
[]
[]
[null,null,{"$f":"'1-2a'!$C$45","v":0},null,null,{"$f":"'1-2a'!$F$45","v":0},null,null,{"$f":"'1-2a'!$I$45","v":0},null,null,{"$f":"'1-2a'!$L$45","v":0},null,null,{"$f":"'1-2a'!$O$45","v":0}]
[{"$f":"IF(A36=52,1,A36+1)","v":36},{"$f":"N36+3","v":"2020-08-31"},null,null,{"$f":"B46+1","v":"2020-09-01"},null,null,{"$f":"E46+1","v":"2020-09-02"},null,null,{"$f":"H46+1","v":"2020-09-03"},null,null,{"$f":"K46+1","v":"2020-09-04"}]
[null,{"$f":"B37","v":0},null,null,{"$f":"E37","v":0},null,null,{"$f":"H37","v":0},null,null,{"$f":"K37","v":0},null,null,{"$f":"N37","v":0}]
[5,0,null,null,0,null,null,0,null,null,0,null,null,0]
[null,0,null,null,0,null,null,0,null,null,0,null,null,0]
[null,0,null,null,0,null,null,0,null,null,0,null,null,0]
[null,0,null,null,0,null,null,0,null,null,{"$f":"K41","v":0},null,null,0]
[null,0,null,null,0,null,null,0,null,null,0,null,null,0]
[]
[]
[null,null,{"$f":"'1-2a'!$C$55","v":0},null,null,{"$f":"'1-2a'!$F$55","v":0},null,null,{"$f":"'1-2a'!$I$55","v":0},null,null,{"$f":"'1-2a'!$L$55","v":0},null,null,{"$f":"'1-2a'!O55","v":0}]
[{"$f":"IF(A46=52,1,A46+1)","v":37},{"$f":"N46+3","v":"2020-09-07"},null,null,{"$f":"B56+1","v":"2020-09-08"},null,null,{"$f":"E56+1","v":"2020-09-09"},null,null,{"$f":"H56+1","v":"2020-09-10"},null,null,{"$f":"K56+1","v":"2020-09-11"}]
[null,{"$f":"B47","v":0},null,null,{"$f":"E47","v":0},null,null,{"$f":"H47","v":0},null,null,{"$f":"K47","v":0},null,null,{"$f":"N47","v":0}]
[6,0,null,null,0,null,null,0,null,null,0,null,null,0]
[null,0,null,null,0,null,null,0,null,null,0,null,null,0]
[null,0,null,null,0,null,null,0,null,null,0,null,null,0]
[null,0,null,null,0,null,null,0,null,null,{"$f":"K51","v":0},null,null,0]
[null,0,null,null,0,null,null,0,null,null,0,null,null,0]
[]
[]
[null,null,{"$f":"'1-2a'!$C$65","v":0},null,null,{"$f":"'1-2a'!$F$65","v":0},null,null,{"$f":"'1-2a'!$I$65","v":0},null,null,{"$f":"'1-2a'!$L$65","v":0},null,null,{"$f":"'1-2a'!$O$65","v":0}]
[{"$f":"IF(A56=52,1,A56+1)","v":38},{"$f":"N56+3","v":"2020-09-14"},null,null,{"$f":"B66+1","v":"2020-09-15"},null,null,{"$f":"E66+1","v":"2020-09-16"},null,null,{"$f":"H66+1","v":"2020-09-17"},null,null,{"$f":"K66+1","v":"2020-09-18"}]
[null,{"$f":"B57","v":0},null,null,{"$f":"E57","v":0},null,null,{"$f":"H57","v":0},null,null,{"$f":"K57","v":0},null,null,{"$f":"N57","v":0}]
[7,0,null,null,0,null,null,0,null,null,0,null,null,0]
[null,0,null,null,0,null,null,0,null,null,0,null,null,0]
[null,0,null,null,0,null,null,0,null,null,0,null,null,0]
[null,0,null,null,0,null,null,0,null,null,{"$f":"K61","v":0},null,null,0]
[null,0,null,null,0,null,null,0,null,null,0,null,null,0]
[]
[]
[null,null,{"$f":"'1-2a'!$C$75","v":0},null,null,{"$f":"'1-2a'!$F$75","v":0},null,null,{"$f":"'1-2a'!$I$75","v":0},null,null,{"$f":"'1-2a'!$L$75","v":0},null,null,{"$f":"'1-2a'!$O$75","v":0}]
[{"$f":"IF(A66=52,1,A66+1)","v":39},{"$f":"N66+3","v":"2020-09-21"},null,null,{"$f":"B76+1","v":"2020-09-22"},null,null,{"$f":"E76+1","v":"2020-09-23"},null,null,{"$f":"H76+1","v":"2020-09-24"},null,null,{"$f":"K76+1","v":"2020-09-25"}]
[null,{"$f":"B67","v":0},null,null,{"$f":"E67","v":0},null,null,{"$f":"H67","v":0},null,null,{"$f":"K67","v":0},null,null,{"$f":"N67","v":0}]
[8,0,null,null,0,null,null,0,null,null,0,null,null,0]
[null,0,null,null,0,null,null,0,null,null,0,null,null,0]
[null,0,null,null,0,null,null,0,null,null,0,null,null,0]
[null,0,null,null,0,null,null,0,null,null,{"$f":"K71","v":0},null,null,0]
[null,0,null,null,0,null,null,0,null,null,0,null,null,0]
[]
[]
[null,null,{"$f":"'1-2a'!$C$85","v":0},null,null,{"$f":"'1-2a'!$F$85","v":0},null,null,{"$f":"'1-2a'!$I$85","v":0},null,null,{"$f":"'1-2a'!$L$85","v":0},null,null,{"$f":"'1-2a'!$O$85","v":0}]
[{"$f":"IF(A76=52,1,A76+1)","v":40},{"$f":"N76+3","v":"2020-09-28"},null,null,{"$f":"B86+1","v":"2020-09-29"},null,null,{"$f":"E86+1","v":"2020-09-30"},null,null,{"$f":"H86+1","v":"2020-10-01"},null,null,{"$f":"K86+1","v":"2020-10-02"}]
[null,{"$f":"B77","v":0},null,null,{"$f":"E77","v":0},null,null,{"$f":"H77","v":0},null,null,{"$f":"K77","v":0},null,null,{"$f":"N77","v":0}]
[9,0,null,null,0,null,null,0,null,null,0,null,null,0]
[null,0,null,null,0,null,null,0,null,null,0,null,null,0]
[null,0,null,null,0,null,null,0,null,null,0,null,null,0]
[null,0,null,null,0,null,null,0,null,null,0,null,null,0]
[null,0,null,null,0,null,null,0,null,null,0,null,null,0]
[]
[]
[null,null,{"$f":"'1-2a'!$C$95","v":0},null,null,{"$f":"'1-2a'!$F$95","v":0},null,null,{"$f":"'1-2a'!$I$95","v":0},null,null,{"$f":"'1-2a'!$L$95","v":0},null,null,{"$f":"'1-2a'!$O$95","v":0}]
[{"$f":"IF(A86=52,1,A86+1)","v":41},{"$f":"N86+3","v":"2020-10-05"},null,null,{"$f":"B96+1","v":"2020-10-06"},null,null,{"$f":"E96+1","v":"2020-10-07"},null,null,{"$f":"H96+1","v":"2020-10-08"},null,null,{"$f":"K96+1","v":"2020-10-09"}]
[null,{"$f":"B87","v":0},null,null,{"$f":"E87","v":0},null,null,{"$f":"H87","v":0},null,null,{"$f":"K87","v":0},null,null,{"$f":"N87","v":0}]
[10,0,null,null,0,null,null,0,null,null,0,null,null,0]
[null,0,null,null,0,null,null,0,null,null,0,null,null,0]
[null,0,null,null,0,null,null,0,null,null,0,null,null,0]
[null,0,null,null,0,null,null,0,null,null,{"$f":"K91","v":0},null,null,0]
[null,0,null,null,0,null,null,0,null,null,0,null,null,0]
[]
[]
[null,null,{"$f":"'1-2a'!$C$105","v":0},null,null,{"$f":"'1-2a'!$F$105","v":0},null,null,{"$f":"'1-2a'!$I$105","v":0},null,null,{"$f":"'1-2a'!$L$105","v":0},null,null,{"$f":"'1-2a'!$O$105","v":0}]
[{"$f":"IF(A96=52,1,A96+1)","v":42},{"$f":"N96+3","v":"2020-10-12"},null,null,{"$f":"B106+1","v":"2020-10-13"},null,null,{"$f":"E106+1","v":"2020-10-14"},null,null,{"$f":"H106+1","v":"2020-10-15"},null,null,{"$f":"K106+1","v":"2020-10-16"}]
[null,{"$f":"B97","v":0},null,null,{"$f":"E97","v":0},null,null,{"$f":"H97","v":0},null,null,{"$f":"K97","v":0},null,null,{"$f":"N97","v":0}]
[11,0,null,null,0,null,null,0,null,null,0,null,null,0]
[null,0,null,null,0,null,null,0,null,null,0,null,null,0]
[null,0,null,null,0,null,null,0,null,null,0,null,null,0]
[null,0,null,null,0,null,null,0,null,null,{"$f":"K101","v":0},null,null,0]
[null,0,null,null,0,null,null,0,null,null,0,null,null,0]
[]
[]
[null,null,{"$f":"'1-2a'!$C$115","v":0},null,null,{"$f":"'1-2a'!$F$115","v":0},null,null,{"$f":"'1-2a'!$I$115","v":0},null,null,{"$f":"'1-2a'!$L$115","v":0},null,null,{"$f":"'1-2a'!$O$115","v":0}]
[{"$f":"IF(A106=52,1,A106+1)","v":43},{"$f":"N106+3","v":"2020-10-19"},null,null,{"$f":"B116+1","v":"2020-10-20"},null,null,{"$f":"E116+1","v":"2020-10-21"},null,null,{"$f":"H116+1","v":"2020-10-22"},null,null,{"$f":"K116+1","v":"2020-10-23"}]
[null,{"$f":"B107","v":0},null,null,{"$f":"E107","v":0},null,null,{"$f":"H107","v":0},null,null,{"$f":"K107","v":0},null,null,{"$f":"N107","v":0}]
[12,0,null,null,0,null,null,0,null,null,0,null,null,0]
[null,0,null,null,0,null,null,0,null,null,0,null,null,0]
[null,0,null,null,0,null,null,0,null,null,0,null,null,0]
[null,0,null,null,0,null,null,0,null,null,{"$f":"K111","v":0},null,null,0]
[null,0,null,null,0,null,null,0,null,null,0,null,null,0]
[]
[]
[null,null,{"$f":"'1-2a'!$C$125","v":0},null,null,{"$f":"'1-2a'!$F$125","v":0},null,null,{"$f":"'1-2a'!$I$125","v":0},null,null,{"$f":"'1-2a'!$L$125","v":0},null,null,{"$f":"'1-2a'!$O$125","v":0}]
[{"$f":"IF(A116=52,1,A116+1)","v":44},{"$f":"N116+3","v":"2020-10-26"},null,null,{"$f":"B126+1","v":"2020-10-27"},null,null,{"$f":"E126+1","v":"2020-10-28"},null,null,{"$f":"H126+1","v":"2020-10-29"},null,null,{"$f":"K126+1","v":"2020-10-30"}]
[null,{"$f":"B117","v":0},null,null,{"$f":"E117","v":0},null,null,{"$f":"H117","v":0},null,null,{"$f":"K117","v":0},null,null,{"$f":"N117","v":0}]
[13,0,null,null,0,null,null,0,null,null,0,null,null,0]
[null,0,null,null,0,null,null,0,null,null,0,null,null,0]
[null,0,null,null,0,null,null,0,null,null,0,null,null,0]
[null,0,null,null,0,null,null,0,null,null,{"$f":"K121","v":0},null,null,0]
[null,0,null,null,0,null,null,0,null,null,0,null,null,0]
[]
[]
[null,null,{"$f":"'1-2a'!$C$135","v":0},null,null,{"$f":"'1-2a'!$F$135","v":0},null,null,{"$f":"'1-2a'!$I$135","v":0},null,null,{"$f":"'1-2a'!$L$135","v":0},null,null,{"$f":"'1-2a'!$O$135","v":0}]
[{"$f":"IF(A126=52,1,A126+1)","v":45},{"$f":"N126+3","v":"2020-11-02"},null,null,{"$f":"B136+1","v":"2020-11-03"},null,null,{"$f":"E136+1","v":"2020-11-04"},null,null,{"$f":"H136+1","v":"2020-11-05"},null,null,{"$f":"K136+1","v":"2020-11-06"}]
[null,{"$f":"B127","v":0},null,null,{"$f":"E127","v":0},null,null,{"$f":"H127","v":0},null,null,{"$f":"K127","v":0},null,null,{"$f":"N127","v":0}]
[14,0,null,null,0,null,null,0,null,null,0,null,null,0]
[null,0,null,null,0,null,null,0,null,null,0,null,null,0]
[null,0,null,null,0,null,null,0,null,null,0,null,null,0]
[null,0,null,null,0,null,null,0,null,null,{"$f":"K131","v":0},null,null,0]
[null,0,null,null,0,null,null,0,null,null,0,null,null,0]
[]
[]
[null,null,{"$f":"'1-2a'!$C$145","v":0},null,null,{"$f":"'1-2a'!$F$145","v":0},null,null,{"$f":"'1-2a'!$I$145","v":0},null,null,{"$f":"'1-2a'!$L$145","v":0},null,null,{"$f":"'1-2a'!$O$145","v":0}]
[{"$f":"IF(A136=52,1,A136+1)","v":46},{"$f":"N136+3","v":"2020-11-09"},null,null,{"$f":"B146+1","v":"2020-11-10"},null,null,{"$f":"E146+1","v":"2020-11-11"},null,null,{"$f":"H146+1","v":"2020-11-12"},null,null,{"$f":"K146+1","v":"2020-11-13"}]
[null,{"$f":"B137","v":0},null,null,{"$f":"E137","v":0},null,null,{"$f":"H137","v":0},null,null,{"$f":"K137","v":0},null,null,{"$f":"N137","v":0}]
[15,0,null,null,0,null,null,0,null,null,0,null,null,0]
[null,0,null,null,0,null,null,0,null,null,0,null,null,0]
[null,0,null,null,0,null,null,0,null,null,0,null,null,0]
[null,0,null,null,0,null,null,0,null,null,{"$f":"K141","v":0},null,null,0]
[null,0,null,null,0,null,null,0,null,null,0,null,null,0]
[]
[]
[null,null,{"$f":"'1-2a'!$C$155","v":0},null,null,{"$f":"'1-2a'!$F$155","v":0},null,null,{"$f":"'1-2a'!$I$155","v":0},null,null,{"$f":"'1-2a'!$L$155","v":0},null,null,{"$f":"'1-2a'!$O$155","v":0}]
[{"$f":"IF(A146=52,1,A146+1)","v":47},{"$f":"N146+3","v":"2020-11-16"},null,null,{"$f":"B156+1","v":"2020-11-17"},null,null,{"$f":"E156+1","v":"2020-11-18"},null,null,{"$f":"H156+1","v":"2020-11-19"},null,null,{"$f":"K156+1","v":"2020-11-20"}]
[null,{"$f":"B147","v":0},null,null,{"$f":"E147","v":0},null,null,{"$f":"H147","v":0},null,null,{"$f":"K147","v":0},null,null,{"$f":"N147","v":0}]
[16,0,null,null,0,null,null,0,null,null,0,null,null,0]
[null,0,null,null,0,null,null,0,null,null,0,null,null,0]
[null,0,null,null,0,null,null,0,null,null,0,null,null,0]
[null,0,null,null,0,null,null,0,null,null,{"$f":"K151","v":0},null,null,0]
[null,0,null,null,0,null,null,0,null,null,0,null,null,0]
[]
[]
[null,null,{"$f":"'1-2a'!$C$165","v":0},null,null,{"$f":"'1-2a'!$F$165","v":0},null,null,{"$f":"'1-2a'!$I$165","v":0},null,null,{"$f":"'1-2a'!$L$165","v":0},null,null,{"$f":"'1-2a'!$O$165","v":0}]
[{"$f":"IF(A156=52,1,A156+1)","v":48},{"$f":"N156+3","v":"2020-11-23"},null,null,{"$f":"B166+1","v":"2020-11-24"},null,null,{"$f":"E166+1","v":"2020-11-25"},null,null,{"$f":"H166+1","v":"2020-11-26"},null,null,{"$f":"K166+1","v":"2020-11-27"}]
[null,{"$f":"B157","v":0},null,null,{"$f":"E157","v":0},null,null,{"$f":"H157","v":0},null,null,{"$f":"K157","v":0},null,null,{"$f":"N157","v":0}]
[17,0,null,null,0,null,null,0,null,null,0,null,null,0]
[null,0,null,null,0,null,null,0,null,null,0,null,null,0]
[null,0,null,null,0,null,null,0,null,null,0,null,null,0]
[null,0,null,null,0,null,null,0,null,null,0,null,null,0]
[null,0,null,null,0,null,null,0,null,null,0,null,null,0]
[]
[]
[null,null,{"$f":"'1-2a'!$C$175","v":0},null,null,{"$f":"'1-2a'!$F$175","v":0},null,null,{"$f":"'1-2a'!$I$175","v":0},null,null,{"$f":"'1-2a'!$L$175","v":0},null,null,{"$f":"'1-2a'!$O$175","v":0}]
[{"$f":"IF(A166=52,1,A166+1)","v":49},{"$f":"N166+3","v":"2020-11-30"},null,null,{"$f":"B176+1","v":"2020-12-01"},null,null,{"$f":"E176+1","v":"2020-12-02"},null,null,{"$f":"H176+1","v":"2020-12-03"},null,null,{"$f":"K176+1","v":"2020-12-04"}]
[null,{"$f":"B167","v":0},null,null,{"$f":"E167","v":0},null,null,{"$f":"H167","v":0},null,null,{"$f":"K167","v":0},null,null,{"$f":"N167","v":0}]
[18,0,null,null,0,null,null,0,null,null,0,null,null,0]
[null,0,null,null,0,null,null,0,null,null,0,null,null,0]
[null,0,null,null,0,null,null,0,null,null,0,null,null,0]
[null,0,null,null,0,null,null,0,null,null,{"$f":"K171","v":0},null,null,0]
[null,0,null,null,0,null,null,0,null,null,0,null,null,0]
[]
[]
[null,null,{"$f":"'1-2a'!$C$185","v":0},null,null,{"$f":"'1-2a'!$F$185","v":0},null,null,{"$f":"'1-2a'!$I$185","v":0},null,null,{"$f":"'1-2a'!$L$185","v":0},null,null,{"$f":"'1-2a'!$O$185","v":0}]
[{"$f":"IF(A176=52,1,A176+1)","v":50},{"$f":"N176+3","v":"2020-12-07"},null,null,{"$f":"B186+1","v":"2020-12-08"},null,null,{"$f":"E186+1","v":"2020-12-09"},null,null,{"$f":"H186+1","v":"2020-12-10"},null,null,{"$f":"K186+1","v":"2020-12-11"}]
[null,{"$f":"B177","v":0},null,null,{"$f":"E177","v":0},null,null,{"$f":"H177","v":0},null,null,{"$f":"K177","v":0},null,null,{"$f":"N177","v":0}]
[19,0,null,null,0,null,null,0,null,null,0,null,null,0]
[null,0,null,null,0,null,null,0,null,null,0,null,null,0]
[null,0,null,null,0,null,null,0,null,null,0,null,null,0]
[null,0,null,null,0,null,null,0,null,null,{"$f":"K181","v":0},null,null,0]
[null,0,null,null,0,null,null,0,null,null,0,null,null,0]
[]
[]
[null,null,{"$f":"'1-2a'!$C$195","v":0},null,null,{"$f":"'1-2a'!$F$195","v":0},null,null,{"$f":"'1-2a'!$I$195","v":0},null,null,{"$f":"'1-2a'!$L$195","v":0},null,null,{"$f":"'1-2a'!$O$195","v":0}]
[{"$f":"IF(A186=52,1,A186+1)","v":51},{"$f":"N186+3","v":"2020-12-14"},null,null,{"$f":"B196+1","v":"2020-12-15"},null,null,{"$f":"E196+1","v":"2020-12-16"},null,null,{"$f":"H196+1","v":"2020-12-17"},null,null,{"$f":"K196+1","v":"2020-12-18"}]
[null,{"$f":"B187","v":0},null,null,{"$f":"E187","v":0},null,null,{"$f":"H187","v":0},null,null,{"$f":"K187","v":0},null,null,{"$f":"N187","v":0}]
[20,0,null,null,0,null,null,0,null,null,0,null,null,0]
[null,0,null,null,0,null,null,0,null,null,0,null,null,0]
[null,0,null,null,0,null,null,0,null,null,0,null,null,0]
[null,0,null,null,0,null,null,0,null,null,{"$f":"K191","v":0},null,null,0]
[null,0,null,null,0,null,null,0,null,null,0,null,null,0]
[]
[]
[null,null,{"$f":"'1-2a'!$C$205","v":0},null,null,{"$f":"'1-2a'!$F$205","v":0},null,null,{"$f":"'1-2a'!$I$205","v":0},null,null,{"$f":"'1-2a'!$L$205","v":0},null,null,{"$f":"'1-2a'!$O$205","v":0}]
[{"$f":"IF(A196=52,1,A196+1)","v":52},{"$f":"N196+3","v":"2020-12-21"},null,null,{"$f":"B206+1","v":"2020-12-22"},null,null,{"$f":"E206+1","v":"2020-12-23"},null,null,{"$f":"H206+1","v":"2020-12-24"},null,null,{"$f":"K206+1","v":"2020-12-25"}]
[null,{"$f":"B197","v":0},null,null,{"$f":"E197","v":0},null,null,{"$f":"H197","v":0},null,null,{"$f":"K197","v":0},null,null,{"$f":"N197","v":0}]
[21,0,null,null,0,null,null,0,null,null,0,null,null,0]
[null,0,null,null,0,null,null,0,null,null,0,null,null,0]
[null,0,null,null,0,null,null,0,null,null,0,null,null,0]
[null,0,null,null,0,null,null,0,null,null,{"$f":"K201","v":0},null,null,0]
[null,0,null,null,0,null,null,0,null,null,0,null,null,0]
[]
[]
[null,null,{"$f":"'1-2a'!$C$215","v":0},null,null,{"$f":"'1-2a'!$F$215","v":0},null,null,{"$f":"'1-2a'!$I$215","v":0},null,null,{"$f":"'1-2a'!$L$215","v":0},null,null,{"$f":"'1-2a'!$O$215","v":0}]
[{"$f":"IF(A206=52,1,A206+1)","v":1},{"$f":"N206+3","v":"2020-12-28"},null,null,{"$f":"B216+1","v":"2020-12-29"},null,null,{"$f":"E216+1","v":"2020-12-30"},null,null,{"$f":"H216+1","v":"2020-12-31"},null,null,{"$f":"K216+1","v":"2021-01-01"}]
[null,{"$f":"B207","v":0},null,null,{"$f":"E207","v":0},null,null,{"$f":"H207","v":0},null,null,{"$f":"K207","v":0},null,null,{"$f":"N207","v":0}]
[22,0,null,null,0,null,null,0,null,null,0,null,null,0]
[null,0,null,null,0,null,null,0,null,null,0,null,null,0]
[null,0,null,null,0,null,null,0,null,null,0,null,null,0]
[null,0,null,null,0,null,null,0,null,null,{"$f":"K211","v":0},null,null,0]
[null,0,null,null,0,null,null,0,null,null,0,null,null,0]
[]
[]
[null,null,{"$f":"'1-2a'!$C$225","v":0},null,null,{"$f":"'1-2a'!$F$225","v":0},null,null,{"$f":"'1-2a'!$I$225","v":0},null,null,{"$f":"'1-2a'!$L$225","v":0},null,null,{"$f":"'1-2a'!$O$225","v":0}]
[{"$f":"IF(A216=52,1,A216+1)","v":2},{"$f":"N216+3","v":"2021-01-04"},null,null,{"$f":"B226+1","v":"2021-01-05"},null,null,{"$f":"E226+1","v":"2021-01-06"},null,null,{"$f":"H226+1","v":"2021-01-07"},null,null,{"$f":"K226+1","v":"2021-01-08"}]
[null,{"$f":"B217","v":0},null,null,{"$f":"E217","v":0},null,null,{"$f":"H217","v":0},null,null,{"$f":"K217","v":0},null,null,{"$f":"N217","v":0}]
[23,0,null,null,0,null,null,0,null,null,0,null,null,0]
[null,0,null,null,0,null,null,0,null,null,0,null,null,0]
[null,0,null,null,0,null,null,0,null,null,0,null,null,0]
[null,0,null,null,0,null,null,0,null,null,{"$f":"K221","v":0},null,null,0]
[null,0,null,null,0,null,null,0,null,null,0,null,null,0]
[]
[]
[null,null,{"$f":"'1-2a'!$C$235","v":0},null,null,{"$f":"'1-2a'!$F$235","v":0},null,null,{"$f":"'1-2a'!$I$235","v":0},null,null,{"$f":"'1-2a'!$L$235","v":0},null,null,{"$f":"'1-2a'!$O$235","v":0}]
[{"$f":"IF(A226=52,1,A226+1)","v":3},{"$f":"N226+3","v":"2021-01-11"},null,null,{"$f":"B236+1","v":"2021-01-12"},null,null,{"$f":"E236+1","v":"2021-01-13"},null,null,{"$f":"H236+1","v":"2021-01-14"},null,null,{"$f":"K236+1","v":"2021-01-15"}]
[null,{"$f":"B227","v":0},null,null,{"$f":"E227","v":0},null,null,{"$f":"H227","v":0},null,null,{"$f":"K227","v":0},null,null,{"$f":"N227","v":0}]
[24,0,null,null,0,null,null,0,null,null,0,null,null,0]
[null,0,null,null,0,null,null,0,null,null,0,null,null,0]
[null,0,null,null,0,null,null,0,null,null,0,null,null,0]
[null,0,null,null,0,null,null,0,null,null,{"$f":"K231","v":0},null,null,0]
[null,0,null,null,0,null,null,0,null,null,0,null,null,0]
[]
[]
[null,null,{"$f":"'1-2a'!$C$245","v":0},null,null,{"$f":"'1-2a'!$F$245","v":0},null,null,{"$f":"'1-2a'!$I$245","v":0},null,null,{"$f":"'1-2a'!$L$245","v":0},null,null,{"$f":"'1-2a'!$O$245","v":0}]
[{"$f":"IF(A236=52,1,A236+1)","v":4},{"$f":"N236+3","v":"2021-01-18"},null,null,{"$f":"B246+1","v":"2021-01-19"},null,null,{"$f":"E246+1","v":"2021-01-20"},null,null,{"$f":"H246+1","v":"2021-01-21"},null,null,{"$f":"K246+1","v":"2021-01-22"}]
[null,{"$f":"B237","v":0},null,null,{"$f":"E237","v":0},null,null,{"$f":"H237","v":0},null,null,{"$f":"K237","v":0},null,null,{"$f":"N237","v":0}]
[25,0,null,null,0,null,null,0,null,null,0,null,null,0]
[null,0,null,null,0,null,null,0,null,null,0,null,null,0]
[null,0,null,null,0,null,null,0,null,null,0,null,null,0]
[null,0,null,null,0,null,null,0,null,null,0,null,null,0]
[null,0,null,null,0,null,null,0,null,null,0,null,null,0]
[]
[]
[null,null,{"$f":"'1-2a'!$C$255","v":0},null,null,{"$f":"'1-2a'!$F$255","v":0},null,null,{"$f":"'1-2a'!$I$255","v":0},null,null,{"$f":"'1-2a'!$L$255","v":0},null,null,{"$f":"'1-2a'!$O$255","v":0}]
[{"$f":"IF(A246=52,1,A246+1)","v":5},{"$f":"N246+3","v":"2021-01-25"},null,null,{"$f":"B256+1","v":"2021-01-26"},null,null,{"$f":"E256+1","v":"2021-01-27"},null,null,{"$f":"H256+1","v":"2021-01-28"},null,null,{"$f":"K256+1","v":"2021-01-29"}]
[null,{"$f":"B247","v":0},null,null,{"$f":"E247","v":0},null,null,{"$f":"H247","v":0},null,null,{"$f":"K247","v":0},null,null,{"$f":"N247","v":0}]
[26,0,null,null,0,null,null,0,null,null,0,null,null,0]
[null,0,null,null,0,null,null,0,null,null,0,null,null,0]
[null,0,null,null,0,null,null,0,null,null,0,null,null,0]
[null,0,null,null,0,null,null,0,null,null,{"$f":"K251","v":0},null,null,0]
[null,0,null,null,0,null,null,0,null,null,0,null,null,0]
[]
[]
[null,null,{"$f":"'1-2a'!$C$265","v":0},null,null,{"$f":"'1-2a'!$F$265","v":0},null,null,{"$f":"'1-2a'!$I$265","v":0},null,null,{"$f":"'1-2a'!$L$265","v":0},null,null,{"$f":"'1-2a'!$O$265","v":0}]
[{"$f":"IF(A256=52,1,A256+1)","v":6},{"$f":"N256+3","v":"2021-02-01"},null,null,{"$f":"B266+1","v":"2021-02-02"},null,null,{"$f":"E266+1","v":"2021-02-03"},null,null,{"$f":"H266+1","v":"2021-02-04"},null,null,{"$f":"K266+1","v":"2021-02-05"}]
[null,{"$f":"B257","v":0},null,null,{"$f":"E257","v":0},null,null,{"$f":"H257","v":0},null,null,{"$f":"K257","v":0},null,null,{"$f":"N257","v":0}]
[27,0,null,null,0,null,null,0,null,null,0,null,null,0]
[null,0,null,null,0,null,null,0,null,null,0,null,null,0]
[null,0,null,null,0,null,null,0,null,null,0,null,null,0]
[null,0,null,null,0,null,null,0,null,null,{"$f":"K261","v":0},null,null,0]
[null,0,null,null,0,null,null,0,null,null,0,null,null,0]
[]
[]
[null,null,{"$f":"'1-2a'!$C$275","v":0},null,null,{"$f":"'1-2a'!$F$275","v":0},null,null,{"$f":"'1-2a'!$I$275","v":0},null,null,{"$f":"'1-2a'!$L$275","v":0},null,null,{"$f":"'1-2a'!$O$275","v":0}]
[{"$f":"IF(A266=52,1,A266+1)","v":7},{"$f":"N266+3","v":"2021-02-08"},null,null,{"$f":"B276+1","v":"2021-02-09"},null,null,{"$f":"E276+1","v":"2021-02-10"},null,null,{"$f":"H276+1","v":"2021-02-11"},null,null,{"$f":"K276+1","v":"2021-02-12"}]
[null,{"$f":"B267","v":0},null,null,{"$f":"E267","v":0},null,null,{"$f":"H267","v":0},null,null,{"$f":"K267","v":0},null,null,{"$f":"N267","v":0}]
[28,0,null,null,0,null,null,0,null,null,0,null,null,0]
[null,0,null,null,0,null,null,0,null,null,0,null,null,0]
[null,0,null,null,0,null,null,0,null,null,0,null,null,0]
[null,0,null,null,0,null,null,0,null,null,{"$f":"K271","v":0},null,null,0]
[null,0,null,null,0,null,null,0,null,null,0,null,null,0]
[]
[]
[null,null,{"$f":"'1-2a'!$C$285","v":0},null,null,{"$f":"'1-2a'!$F$285","v":0},null,null,{"$f":"'1-2a'!$I$285","v":0},null,null,{"$f":"'1-2a'!$L$285","v":0},null,null,{"$f":"'1-2a'!$O$285","v":0}]
[{"$f":"IF(A276=52,1,A276+1)","v":8},{"$f":"N276+3","v":"2021-02-15"},null,null,{"$f":"B286+1","v":"2021-02-16"},null,null,{"$f":"E286+1","v":"2021-02-17"},null,null,{"$f":"H286+1","v":"2021-02-18"},null,null,{"$f":"K286+1","v":"2021-02-19"}]
[null,{"$f":"B277","v":0},null,null,{"$f":"E277","v":0},null,null,{"$f":"H277","v":0},null,null,{"$f":"K277","v":0},null,null,{"$f":"N277","v":0}]
[29,0,null,null,0,null,null,0,null,null,0,null,null,0]
[null,0,null,null,0,null,null,0,null,null,0,null,null,0]
[null,0,null,null,0,null,null,0,null,null,0,null,null,0]
[null,0,null,null,0,null,null,0,null,null,{"$f":"K281","v":0},null,null,0]
[null,0,null,null,0,null,null,0,null,null,0,null,null,0]
[]
[]
[null,null,{"$f":"'1-2a'!$C$295","v":0},null,null,{"$f":"'1-2a'!$F$295","v":0},null,null,{"$f":"'1-2a'!$I$295","v":0},null,null,{"$f":"'1-2a'!$L$295","v":0},null,null,{"$f":"'1-2a'!$O$295","v":0}]
[{"$f":"IF(A286=52,1,A286+1)","v":9},{"$f":"N286+3","v":"2021-02-22"},null,null,{"$f":"B296+1","v":"2021-02-23"},null,null,{"$f":"E296+1","v":"2021-02-24"},null,null,{"$f":"H296+1","v":"2021-02-25"},null,null,{"$f":"K296+1","v":"2021-02-26"}]
[null,{"$f":"B287","v":0},null,null,{"$f":"E287","v":0},null,null,{"$f":"H287","v":0},null,null,{"$f":"K287","v":0},null,null,{"$f":"N287","v":0}]
[30,0,null,null,0,null,null,0,null,null,0,null,null,0]
[null,0,null,null,0,null,null,0,null,null,0,null,null,0]
[null,0,null,null,0,null,null,0,null,null,0,null,null,0]
[null,0,null,null,0,null,null,0,null,null,{"$f":"K291","v":0},null,null,0]
[null,0,null,null,0,null,null,0,null,null,0,null,null,0]
[]
[]
[null,null,{"$f":"'1-2a'!$C$305","v":0},null,null,{"$f":"'1-2a'!$F$305","v":0},null,null,{"$f":"'1-2a'!$I$305","v":0},null,null,{"$f":"'1-2a'!$L$305","v":0},null,null,{"$f":"'1-2a'!$O$305","v":0}]
[{"$f":"IF(A296=52,1,A296+1)","v":10},{"$f":"N296+3","v":"2021-03-01"},null,null,{"$f":"B306+1","v":"2021-03-02"},null,null,{"$f":"E306+1","v":"2021-03-03"},null,null,{"$f":"H306+1","v":"2021-03-04"},null,null,{"$f":"K306+1","v":"2021-03-05"}]
[null,{"$f":"B297","v":0},null,null,{"$f":"E297","v":0},null,null,{"$f":"H297","v":0},null,null,{"$f":"K297","v":0},null,null,{"$f":"N297","v":0}]
[31,0,null,null,0,null,null,0,null,null,0,null,null,0]
[null,0,null,null,0,null,null,0,null,null,0,null,null,0]
[null,0,null,null,0,null,null,0,null,null,0,null,null,0]
[null,0,null,null,0,null,null,0,null,null,{"$f":"K301","v":0},null,null,0]
[null,0,null,null,0,null,null,0,null,null,0,null,null,0]
[]
[]
[null,null,{"$f":"'1-2a'!$C$315","v":0},null,null,{"$f":"'1-2a'!$F$315","v":0},null,null,{"$f":"'1-2a'!$I$315","v":0},null,null,{"$f":"'1-2a'!$L$315","v":0},null,null,{"$f":"'1-2a'!$O$315","v":0}]
[{"$f":"IF(A306=52,1,A306+1)","v":11},{"$f":"N306+3","v":"2021-03-08"},null,null,{"$f":"B316+1","v":"2021-03-09"},null,null,{"$f":"E316+1","v":"2021-03-10"},null,null,{"$f":"H316+1","v":"2021-03-11"},null,null,{"$f":"K316+1","v":"2021-03-12"}]
[null,{"$f":"B307","v":0},null,null,{"$f":"E307","v":0},null,null,{"$f":"H307","v":0},null,null,{"$f":"K307","v":0},null,null,{"$f":"N307","v":0}]
[32,0,null,null,0,null,null,0,null,null,0,null,null,0]
[null,0,null,null,0,null,null,0,null,null,0,null,null,0]
[null,0,null,null,0,null,null,0,null,null,0,null,null,0]
[null,0,null,null,0,null,null,0,null,null,{"$f":"K311","v":0},null,null,0]
[null,0,null,null,0,null,null,0,null,null,0,null,null,0]
[]
[]
[null,null,{"$f":"'1-2a'!$C$325","v":0},null,null,{"$f":"'1-2a'!$F$325","v":0},null,null,{"$f":"'1-2a'!$I$325","v":0},null,null,{"$f":"'1-2a'!$L$325","v":0},null,null,{"$f":"'1-2a'!$O$325","v":0}]
[{"$f":"IF(A316=52,1,A316+1)","v":12},{"$f":"N316+3","v":"2021-03-15"},null,null,{"$f":"B326+1","v":"2021-03-16"},null,null,{"$f":"E326+1","v":"2021-03-17"},null,null,{"$f":"H326+1","v":"2021-03-18"},null,null,{"$f":"K326+1","v":"2021-03-19"}]
[null,{"$f":"B317","v":0},null,null,{"$f":"E317","v":0},null,null,{"$f":"H317","v":0},null,null,{"$f":"K317","v":0},null,null,{"$f":"N317","v":0}]
[33,0,null,null,0,null,null,0,null,null,0,null,null,0]
[null,0,null,null,0,null,null,0,null,null,0,null,null,0]
[null,0,null,null,0,null,null,0,null,null,0,null,null,0]
[null,0,null,null,0,null,null,0,null,null,0,null,null,0]
[null,0,null,null,0,null,null,0,null,null,0,null,null,0]
[]
[]
[null,null,{"$f":"'1-2a'!$C$335","v":0},null,null,{"$f":"'1-2a'!$F$335","v":0},null,null,{"$f":"'1-2a'!$I$335","v":0},null,null,{"$f":"'1-2a'!$L$335","v":0},null,null,{"$f":"'1-2a'!$O$335","v":0}]
[{"$f":"IF(A326=52,1,A326+1)","v":13},{"$f":"N326+3","v":"2021-03-22"},null,null,{"$f":"B336+1","v":"2021-03-23"},null,null,{"$f":"E336+1","v":"2021-03-24"},null,null,{"$f":"H336+1","v":"2021-03-25"},null,null,{"$f":"K336+1","v":"2021-03-26"}]
[null,{"$f":"B327","v":0},null,null,{"$f":"E327","v":0},null,null,{"$f":"H327","v":0},null,null,{"$f":"K327","v":0},null,null,{"$f":"N327","v":0}]
[34,0,null,null,0,null,null,0,null,null,0,null,null,0]
[null,0,null,null,0,null,null,0,null,null,0,null,null,0]
[null,0,null,null,0,null,null,0,null,null,0,null,null,0]
[null,0,null,null,0,null,null,0,null,null,{"$f":"K331","v":0},null,null,0]
[null,0,null,null,0,null,null,0,null,null,0,null,null,0]
[]
[]
[null,null,{"$f":"'1-2a'!$C$345","v":0},null,null,{"$f":"'1-2a'!$F$345","v":0},null,null,{"$f":"'1-2a'!$I$345","v":0},null,null,{"$f":"'1-2a'!$L$345","v":0},null,null,{"$f":"'1-2a'!$O$345","v":0}]
[{"$f":"IF(A336=52,1,A336+1)","v":14},{"$f":"N336+3","v":"2021-03-29"},null,null,{"$f":"B346+1","v":"2021-03-30"},null,null,{"$f":"E346+1","v":"2021-03-31"},null,null,{"$f":"H346+1","v":"2021-04-01"},null,null,{"$f":"K346+1","v":"2021-04-02"}]
[null,{"$f":"B337","v":0},null,null,{"$f":"E337","v":0},null,null,{"$f":"H337","v":0},null,null,{"$f":"K337","v":0},null,null,{"$f":"N337","v":0}]
[35,0,null,null,0,null,null,0,null,null,0,null,null,0]
[null,0,null,null,0,null,null,0,null,null,0,null,null,0]
[null,0,null,null,0,null,null,0,null,null,0,null,null,0]
[null,0,null,null,0,null,null,0,null,null,{"$f":"K341","v":0},null,null,0]
[null,0,null,null,0,null,null,0,null,null,0,null,null,0]
[]
[]
[null,null,{"$f":"'1-2a'!$C$355","v":0},null,null,{"$f":"'1-2a'!$F$355","v":0},null,null,{"$f":"'1-2a'!$I$355","v":0},null,null,{"$f":"'1-2a'!$L$355","v":0},null,null,{"$f":"'1-2a'!$O$355","v":0}]
[{"$f":"IF(A346=52,1,A346+1)","v":15},{"$f":"N346+3","v":"2021-04-05"},null,null,{"$f":"B356+1","v":"2021-04-06"},null,null,{"$f":"E356+1","v":"2021-04-07"},null,null,{"$f":"H356+1","v":"2021-04-08"},null,null,{"$f":"K356+1","v":"2021-04-09"}]
[null,{"$f":"B347","v":0},null,null,{"$f":"E347","v":0},null,null,{"$f":"H347","v":0},null,null,{"$f":"K347","v":0},null,null,{"$f":"N347","v":0}]
[36,0,null,null,0,null,null,0,null,null,0,null,null,0]
[null,0,null,null,0,null,null,0,null,null,0,null,null,0]
[null,0,null,null,0,null,null,0,null,null,0,null,null,0]
[null,0,null,null,0,null,null,0,null,null,{"$f":"K351","v":0},null,null,0]
[null,0,null,null,0,null,null,0,null,null,0,null,null,0]
[]
[]
[null,null,{"$f":"'1-2a'!$C$365","v":0},null,null,{"$f":"'1-2a'!$F$365","v":0},null,null,{"$f":"'1-2a'!$I$365","v":0},null,null,{"$f":"'1-2a'!$L$365","v":0},null,null,{"$f":"'1-2a'!$O$365","v":0}]
[{"$f":"IF(A356=52,1,A356+1)","v":16},{"$f":"N356+3","v":"2021-04-12"},null,null,{"$f":"B366+1","v":"2021-04-13"},null,null,{"$f":"E366+1","v":"2021-04-14"},null,null,{"$f":"H366+1","v":"2021-04-15"},null,null,{"$f":"K366+1","v":"2021-04-16"}]
[null,{"$f":"B357","v":0},null,null,{"$f":"E357","v":0},null,null,{"$f":"H357","v":0},null,null,{"$f":"K357","v":0},null,null,{"$f":"N357","v":0}]
[37,0,null,null,0,null,null,0,null,null,0,null,null,0]
[null,0,null,null,0,null,null,0,null,null,0,null,null,0]
[null,0,null,null,0,null,null,0,null,null,0,null,null,0]
[null,0,null,null,0,null,null,0,null,null,{"$f":"K361","v":0},null,null,0]
[null,0,null,null,0,null,null,0,null,null,0,null,null,0]
[]
[]
[null,null,{"$f":"'1-2a'!$C$375","v":0},null,null,{"$f":"'1-2a'!$F$375","v":0},null,null,{"$f":"'1-2a'!$I$375","v":0},null,null,{"$f":"'1-2a'!$L$375","v":0},null,null,{"$f":"'1-2a'!$O$375","v":0}]
[{"$f":"IF(A366=52,1,A366+1)","v":17},{"$f":"N366+3","v":"2021-04-19"},null,null,{"$f":"B376+1","v":"2021-04-20"},null,null,{"$f":"E376+1","v":"2021-04-21"},null,null,{"$f":"H376+1","v":"2021-04-22"},null,null,{"$f":"K376+1","v":"2021-04-23"}]
[null,{"$f":"B367","v":0},null,null,{"$f":"E367","v":0},null,null,{"$f":"H367","v":0},null,null,{"$f":"K367","v":0},null,null,{"$f":"N367","v":0}]
[38,0,null,null,0,null,null,0,null,null,0,null,null,0]
[null,0,null,null,0,null,null,0,null,null,0,null,null,0]
[null,0,null,null,0,null,null,0,null,null,0,null,null,0]
[null,0,null,null,0,null,null,0,null,null,{"$f":"K371","v":0},null,null,0]
[null,0,null,null,0,null,null,0,null,null,0,null,null,0]
[]
[]
[null,null,{"$f":"'1-2a'!$C$385","v":0},null,null,{"$f":"'1-2a'!$F$385","v":0},null,null,{"$f":"'1-2a'!$I$385","v":0},null,null,{"$f":"'1-2a'!$L$385","v":0},null,null,{"$f":"'1-2a'!$O$385","v":0}]
[{"$f":"IF(A376=52,1,A376+1)","v":18},{"$f":"N376+3","v":"2021-04-26"},null,null,{"$f":"B386+1","v":"2021-04-27"},null,null,{"$f":"E386+1","v":"2021-04-28"},null,null,{"$f":"H386+1","v":"2021-04-29"},null,null,{"$f":"K386+1","v":"2021-04-30"}]
[null,{"$f":"B377","v":0},null,null,{"$f":"E377","v":0},null,null,{"$f":"H377","v":0},null,null,{"$f":"K377","v":0},null,null,{"$f":"N377","v":0}]
[39,0,null,null,0,null,null,0,null,null,0,null,null,0]
[null,0,null,null,0,null,null,0,null,null,0,null,null,0]
[null,0,null,null,0,null,null,0,null,null,0,null,null,0]
[null,0,null,null,0,null,null,0,null,null,{"$f":"K381","v":0},null,null,0]
[null,0,null,null,0,null,null,0,null,null,0,null,null,0]
[]
[]
[null,null,{"$f":"'1-2a'!$C$395","v":0},null,null,{"$f":"'1-2a'!$F$395","v":0},null,null,{"$f":"'1-2a'!$I$395","v":0},null,null,{"$f":"'1-2a'!$L$395","v":0},null,null,{"$f":"'1-2a'!$O$395","v":0}]
[{"$f":"IF(A386=52,1,A386+1)","v":19},{"$f":"N386+3","v":"2021-05-03"},null,null,{"$f":"B396+1","v":"2021-05-04"},null,null,{"$f":"E396+1","v":"2021-05-05"},null,null,{"$f":"H396+1","v":"2021-05-06"},null,null,{"$f":"K396+1","v":"2021-05-07"}]
[null,{"$f":"B387","v":0},null,null,{"$f":"E387","v":0},null,null,{"$f":"H387","v":0},null,null,{"$f":"K387","v":0},null,null,{"$f":"N387","v":0}]
[40,0,null,null,0,null,null,0,null,null,0,null,null,0]
[null,0,null,null,0,null,null,0,null,null,0,null,null,0]
[null,0,null,null,0,null,null,0,null,null,0,null,null,0]
[null,0,null,null,0,null,null,0,null,null,{"$f":"K391","v":0},null,null,0]
[null,0,null,null,0,null,null,0,null,null,0,null,null,0]
[]
[]
[null,null,{"$f":"'1-2a'!$C$405","v":0},null,null,{"$f":"'1-2a'!$F$405","v":0},null,null,{"$f":"'1-2a'!$I$405","v":0},null,null,{"$f":"'1-2a'!$L$405","v":0},null,null,{"$f":"'1-2a'!$O$405","v":0}]
[{"$f":"IF(A396=52,1,A396+1)","v":20},{"$f":"N396+3","v":"2021-05-10"},null,null,{"$f":"B406+1","v":"2021-05-11"},null,null,{"$f":"E406+1","v":"2021-05-12"},null,null,{"$f":"H406+1","v":"2021-05-13"},null,null,{"$f":"K406+1","v":"2021-05-14"}]
[null,{"$f":"B397","v":0},null,null,{"$f":"E397","v":0},null,null,{"$f":"H397","v":0},null,null,{"$f":"K397","v":0},null,null,{"$f":"N397","v":0}]
[41,0,null,null,0,null,null,0,null,null,0,null,null,0]
[null,0,null,null,0,null,null,0,null,null,0,null,null,0]
[null,0,null,null,0,null,null,0,null,null,0,null,null,0]
[null,0,null,null,0,null,null,0,null,null,0,null,null,0]
[null,0,null,null,0,null,null,0,null,null,0,null,null,0]
[]
[]
[null,null,{"$f":"'1-2a'!$C$415","v":0},null,null,{"$f":"'1-2a'!$F$415","v":0},null,null,{"$f":"'1-2a'!$I$415","v":0},null,null,{"$f":"'1-2a'!$L$415","v":0},null,null,{"$f":"'1-2a'!$O$415","v":0}]
[{"$f":"IF(A406=52,1,A406+1)","v":21},{"$f":"N406+3","v":"2021-05-17"},null,null,{"$f":"B416+1","v":"2021-05-18"},null,null,{"$f":"E416+1","v":"2021-05-19"},null,null,{"$f":"H416+1","v":"2021-05-20"},null,null,{"$f":"K416+1","v":"2021-05-21"}]
[null,{"$f":"B407","v":0},null,null,{"$f":"E407","v":0},null,null,{"$f":"H407","v":0},null,null,{"$f":"K407","v":0},null,null,{"$f":"N407","v":0}]
[42,0,null,null,0,null,null,0,null,null,0,null,null,0]
[null,0,null,null,0,null,null,0,null,null,0,null,null,0]
[null,0,null,null,0,null,null,0,null,null,0,null,null,0]
[null,0,null,null,0,null,null,0,null,null,{"$f":"K411","v":0},null,null,0]
[null,0,null,null,0,null,null,0,null,null,0,null,null,0]
[]
[]
[null,null,{"$f":"'1-2a'!$C$425","v":0},null,null,{"$f":"'1-2a'!$F$425","v":0},null,null,{"$f":"'1-2a'!$I$425","v":0},null,null,{"$f":"'1-2a'!$L$425","v":0},null,null,{"$f":"'1-2a'!$O$425","v":0}]
[{"$f":"IF(A416=52,1,A416+1)","v":22},{"$f":"N416+3","v":"2021-05-24"},null,null,{"$f":"B426+1","v":"2021-05-25"},null,null,{"$f":"E426+1","v":"2021-05-26"},null,null,{"$f":"H426+1","v":"2021-05-27"},null,null,{"$f":"K426+1","v":"2021-05-28"}]
[null,{"$f":"B417","v":0},null,null,{"$f":"E417","v":0},null,null,{"$f":"H417","v":0},null,null,{"$f":"K417","v":0},null,null,{"$f":"N417","v":0}]
[43,0,null,null,0,null,null,0,null,null,0,null,null,0]
[null,0,null,null,0,null,null,0,null,null,0,null,null,0]
[null,0,null,null,0,null,null,0,null,null,0,null,null,0]
[null,0,null,null,0,null,null,0,null,null,{"$f":"K421","v":0},null,null,0]
[null,0,null,null,0,null,null,0,null,null,0,null,null,0]
[]
[]
[null,null,{"$f":"'1-2a'!$C$435","v":0},null,null,{"$f":"'1-2a'!$F$435","v":0},null,null,{"$f":"'1-2a'!$I$435","v":0},null,null,{"$f":"'1-2a'!$L$435","v":0},null,null,{"$f":"'1-2a'!$O$435","v":0}]
[{"$f":"IF(A426=52,1,A426+1)","v":23},{"$f":"N426+3","v":"2021-05-31"},null,null,{"$f":"B436+1","v":"2021-06-01"},null,null,{"$f":"E436+1","v":"2021-06-02"},null,null,{"$f":"H436+1","v":"2021-06-03"},null,null,{"$f":"K436+1","v":"2021-06-04"}]
[null,{"$f":"B427","v":0},null,null,{"$f":"E427","v":0},null,null,{"$f":"H427","v":0},null,null,{"$f":"K427","v":0},null,null,{"$f":"N427","v":0}]
[44,0,null,null,0,null,null,0,null,null,0,null,null,0]
[null,0,null,null,0,null,null,0,null,null,0,null,null,0]
[null,0,null,null,0,null,null,0,null,null,0,null,null,0]
[null,0,null,null,0,null,null,0,null,null,{"$f":"K431","v":0},null,null,0]
[null,0,null,null,0,null,null,0,null,null,0,null,null,0]
[]
[]
[null,null,{"$f":"'1-2a'!$C$445","v":0},null,null,{"$f":"'1-2a'!$F$445","v":0},null,null,{"$f":"'1-2a'!$I$445","v":0},null,null,{"$f":"'1-2a'!$L$445","v":0},null,null,{"$f":"'1-2a'!$O$445","v":0}]
[{"$f":"IF(A436=52,1,A436+1)","v":24},{"$f":"N436+3","v":"2021-06-07"},null,null,{"$f":"B446+1","v":"2021-06-08"},null,null,{"$f":"E446+1","v":"2021-06-09"},null,null,{"$f":"H446+1","v":"2021-06-10"},null,null,{"$f":"K446+1","v":"2021-06-11"}]
[null,{"$f":"B437","v":0},null,null,{"$f":"E437","v":0},null,null,{"$f":"H437","v":0},null,null,{"$f":"K437","v":0},null,null,{"$f":"N437","v":0}]
[45,0,null,null,0,null,null,0,null,null,0,null,null,0]
[null,0,null,null,0,null,null,0,null,null,0,null,null,0]
[null,0,null,null,0,null,null,0,null,null,0,null,null,0]
[null,0,null,null,0,null,null,0,null,null,{"$f":"K441","v":0},null,null,0]
[null,0,null,null,0,null,null,0,null,null,0,null,null,0]
[]
[]
[null,null,{"$f":"'1-2a'!$C$455","v":0},null,null,{"$f":"'1-2a'!$F$455","v":0},null,null,{"$f":"'1-2a'!$I$455","v":0},null,null,{"$f":"'1-2a'!$L$455","v":0},null,null,{"$f":"'1-2a'!$O$455","v":0}]
[{"$f":"IF(A446=52,1,A446+1)","v":25},{"$f":"N446+3","v":"2021-06-14"},null,null,{"$f":"B456+1","v":"2021-06-15"},null,null,{"$f":"E456+1","v":"2021-06-16"},null,null,{"$f":"H456+1","v":"2021-06-17"},null,null,{"$f":"K456+1","v":"2021-06-18"}]
[null,{"$f":"B447","v":0},null,null,{"$f":"E447","v":0},null,null,{"$f":"H447","v":0},null,null,{"$f":"K447","v":0},null,null,{"$f":"N447","v":0}]
[46,0,null,null,0,null,null,0,null,null,0,null,null,0]
[null,0,null,null,0,null,null,0,null,null,0,null,null,0]
[null,0,null,null,0,null,null,0,null,null,0,null,null,0]
[null,0,null,null,0,null,null,0,null,null,{"$f":"K451","v":0},null,null,0]
[null,0,null,null,0,null,null,0,null,null,0,null,null,0]
[]
[]
[null,null,{"$f":"'1-2a'!$C$465","v":0},null,null,{"$f":"'1-2a'!$F$465","v":0},null,null,{"$f":"'1-2a'!$I$465","v":0},null,null,{"$f":"'1-2a'!$L$465","v":0},null,null,{"$f":"'1-2a'!$O$465","v":0}]
[{"$f":"IF(A456=52,1,A456+1)","v":26},{"$f":"N456+3","v":"2021-06-21"},null,null,{"$f":"B466+1","v":"2021-06-22"},null,null,{"$f":"E466+1","v":"2021-06-23"},null,null,{"$f":"H466+1","v":"2021-06-24"},null,null,{"$f":"K466+1","v":"2021-06-25"}]
[null,{"$f":"B457","v":0},null,null,{"$f":"E457","v":0},null,null,{"$f":"H457","v":0},null,null,{"$f":"K457","v":0},null,null,{"$f":"N457","v":0}]
[47,0,null,null,0,null,null,0,null,null,0,null,null,0]
[null,0,null,null,0,null,null,0,null,null,0,null,null,0]
[null,0,null,null,0,null,null,0,null,null,0,null,null,0]
[null,0,null,null,0,null,null,0,null,null,{"$f":"K461","v":0},null,null,0]
[null,0,null,null,0,null,null,0,null,null,0,null,null,0]
[]
[]
[null,null,{"$f":"'1-2a'!$C$475","v":0},null,null,{"$f":"'1-2a'!$F$475","v":0},null,null,{"$f":"'1-2a'!$I$475","v":0},null,null,{"$f":"'1-2a'!$L$475","v":0},null,null,{"$f":"'1-2a'!$O$475","v":0}]
[{"$f":"IF(A466=52,1,A466+1)","v":27},{"$f":"N466+3","v":"2021-06-28"},null,null,{"$f":"B476+1","v":"2021-06-29"},null,null,{"$f":"E476+1","v":"2021-06-30"},null,null,{"$f":"H476+1","v":"2021-07-01"},null,null,{"$f":"K476+1","v":"2021-07-02"}]
[null,{"$f":"B467","v":0},null,null,{"$f":"E467","v":0},null,null,{"$f":"H467","v":0},null,null,{"$f":"K467","v":0},null,null,{"$f":"N467","v":0}]
[48,0,null,null,0,null,null,0,null,null,0,null,null,0]
[null,0,null,null,0,null,null,0,null,null,0,null,null,0]
[null,0,null,null,0,null,null,0,null,null,0,null,null,0]
[null,0,null,null,0,null,null,0,null,null,{"$f":"K471","v":0},null,null,0]
[null,0,null,null,0,null,null,0,null,null,0,null,null,0]
[]
[]
[null,null,{"$f":"'1-2a'!$C$485","v":0},null,null,{"$f":"'1-2a'!$F$485","v":0},null,null,{"$f":"'1-2a'!$I$485","v":0},null,null,{"$f":"'1-2a'!$L$485","v":0},null,null,{"$f":"'1-2a'!$O$485","v":0}]
[{"$f":"IF(A476=52,1,A476+1)","v":28},{"$f":"N476+3","v":"2021-07-05"},null,null,{"$f":"B486+1","v":"2021-07-06"},null,null,{"$f":"E486+1","v":"2021-07-07"},null,null,{"$f":"H486+1","v":"2021-07-08"},null,null,{"$f":"K486+1","v":"2021-07-09"}]
[null,{"$f":"B477","v":0},null,null,{"$f":"E477","v":0},null,null,{"$f":"H477","v":0},null,null,{"$f":"K477","v":0},null,null,{"$f":"N477","v":0}]
[49,0,null,null,0,null,null,0,null,null,0,null,null,0]
[null,0,null,null,0,null,null,0,null,null,0,null,null,0]
[null,0,null,null,0,null,null,0,null,null,0,null,null,0]
[null,0,null,null,0,null,null,0,null,null,0,null,null,0]
[null,0,null,null,0,null,null,0,null,null,0,null,null,0]
[]
[]
[null,null,{"$f":"'1-2a'!$C$495","v":0},null,null,{"$f":"'1-2a'!$F$495","v":0},null,null,{"$f":"'1-2a'!$I$495","v":0},null,null,{"$f":"'1-2a'!$L$495","v":0},null,null,{"$f":"'1-2a'!$O$495","v":0}]
[{"$f":"IF(A486=52,1,A486+1)","v":29},{"$f":"N486+3","v":"2021-07-12"},null,null,{"$f":"B496+1","v":"2021-07-13"},null,null,{"$f":"E496+1","v":"2021-07-14"},null,null,{"$f":"H496+1","v":"2021-07-15"},null,null,{"$f":"K496+1","v":"2021-07-16"}]
[null,{"$f":"B487","v":0},null,null,{"$f":"E487","v":0},null,null,{"$f":"H487","v":0},null,null,{"$f":"K487","v":0},null,null,{"$f":"N487","v":0}]
[50,0,null,null,0,null,null,0,null,null,0]
[null,0,null,null,0,null,null,0,null,null,0,null,null,0]
[null,0,null,null,0,null,null,0,null,null,0,null,null,0]
[null,0,null,null,0,null,null,0,null,null,{"$f":"K491","v":0},null,null,0]
[null,0,null,null,0,null,null,0,null,null,0]

{"sheet":"23","index":23,"n_rows":502,"n_cols":15,"rows_kept":502,"cut":false,"hidden":false,"merged":[[5,1,5,3],[5,4,5,6],[5,7,5,9],[5,10,5,12],[5,13,5,15],[7,0,8,0],[1,1,2,7],[1,9,2,12],[1,13,2,15],[3,1,3,3],[3,4,3,6],[3,7,3,9],[3,10,3,12],[3,13,3,15],[12,1,13,3],[12,4,13,6],[12,7,13,9],[12,10,13,12],[12,13,13,15],[15,1,15,3],[15,4,15,6],[15,7,15,9],[15,10,15,12],[15,13,15,15],[25,1,25,3],[25,4,25,6],[25,7,25,9],[25,10,25,12],[25,13,25,15],[27,0,28,0],[17,0,18,0],[22,1,23,3],[22,4,23,6],[22,7,23,9],[22,10,23,12],[22,13,23,15],[32,1,33,3],[32,4,33,6],[32,7,33,9],[32,10,33,12],[32,13,33,15],[35,1,35,3],[35,4,35,6],[35,7,35,9],[35,10,35,12],[35,13,35,15],[45,1,45,3],[45,4,45,6],[45,7,45,9],[45,10,45,12],[45,13,45,15],[47,0,48,0],[37,0,38,0],[42,1,43,3],[42,4,43,6],[42,7,43,9],[42,10,43,12],[42,13,43,15],[52,1,53,3],[52,4,53,6],[52,7,53,9],[52,10,53,12],[52,13,53,15],[55,1,55,3],[55,4,55,6],[55,7,55,9],[55,10,55,12],[55,13,55,15],[65,1,65,3],[65,4,65,6],[65,7,65,9],[65,10,65,12],[65,13,65,15],[67,0,68,0],[57,0,58,0],[62,1,63,3],[62,4,63,6],[62,7,63,9],[62,10,63,12],[62,13,63,15],[72,1,73,3],[72,4,73,6],[72,7,73,9],[72,10,73,12],[72,13,73,15],[75,1,75,3],[75,4,75,6],[75,7,75,9],[75,10,75,12],[75,13,75,15],[85,1,85,3],[85,4,85,6],[85,7,85,9],[85,10,85,12],[85,13,85,15],[87,0,88,0],[77,0,78,0],[82,1,83,3],[82,4,83,6],[82,7,83,9],[82,10,83,12],[82,13,83,15],[92,1,93,3],[92,4,93,6],[92,7,93,9],[92,10,93,12],[92,13,93,15],[95,1,95,3],[95,4,95,6],[95,7,95,9],[95,10,95,12],[95,13,95,15],[105,1,105,3],[105,4,105,6],[105,7,105,9],[105,10,105,12],[105,13,105,15],[107,0,108,0],[97,0,98,0],[99,16,100,19],[102,1,103,3],[102,4,103,6],[102,7,103,9],[102,10,103,12],[102,13,103,15],[112,1,113,3],[112,4,113,6],[112,7,113,9],[112,10,113,12],[112,13,113,15],[115,1,115,3],[115,4,115,6],[115,7,115,9],[115,10,115,12],[115,13,115,15],[125,1,125,3],[125,4,125,6],[125,7,125,9],[125,10,125,12],[125,13,125,15],[127,0,128,0],[117,0,118,0],[122,1,123,3],[122,4,123,6],[122,7,123,9],[122,10,123,12],[122,13,123,15],[132,1,133,3],[132,4,133,6],[132,7,133,9],[132,10,133,12],[132,13,133,15],[135,1,135,3],[135,4,135,6],[135,7,135,9],[135,10,135,12],[135,13,135,15],[145,1,145,3],[145,4,145,6],[145,7,145,9],[145,10,145,12],[145,13,145,15],[147,0,148,0],[137,0,138,0],[142,1,143,3],[142,4,143,6],[142,7,143,9],[142,10,143,12],[142,13,143,15],[152,1,153,3],[152,4,153,6],[152,7,153,9],[152,10,153,12],[152,13,153,15],[155,1,155,3],[155,4,155,6],[155,7,155,9],[155,10,155,12],[155,13,155,15],[165,1,165,3],[165,4,165,6],[165,7,165,9],[165,10,165,12],[165,13,165,15],[167,0,168,0],[157,0,158,0],[162,1,163,3],[162,4,163,6],[162,7,163,9],[162,10,163,12],[162,13,163,15],[172,1,173,3],[172,4,173,6],[172,7,173,9],[172,10,173,12],[172,13,173,15],[175,1,175,3],[175,4,175,6],[175,7,175,9],[175,10,175,12],[175,13,175,15],[185,1,185,3],[185,4,185,6],[185,7,185,9],[185,10,185,12],[185,13,185,15],[187,0,188,0],[177,0,178,0],[179,16,180,19],[182,1,183,3],[182,4,183,6],[182,7,183,9],[182,10,183,12],[182,13,183,15],[192,1,193,3],[192,4,193,6],[192,7,193,9],[192,10,193,12],[192,13,193,15],[195,1,195,3],[195,4,195,6],[195,7,195,9],[195,10,195,12],[195,13,195,15],[205,1,205,3],[205,4,205,6],[205,7,205,9],[205,10,205,12],[205,13,205,15],[207,0,208,0],[197,0,198,0],[202,1,203,3],[202,4,203,6],[202,7,203,9],[202,10,203,12],[202,13,203,15],[212,1,213,3],[212,4,213,6],[212,7,213,9],[212,10,213,12],[212,13,213,15],[215,1,215,3],[215,4,215,6],[215,7,215,9],[215,10,215,12],[215,13,215,15],[225,1,225,3],[225,4,225,6],[225,7,225,9],[225,10,225,12],[225,13,225,15],[227,0,228,0],[217,0,218,0],[222,1,223,3],[222,4,223,6],[222,7,223,9],[222,10,223,12],[222,13,223,15],[232,1,233,3],[232,4,233,6],[232,7,233,9],[232,10,233,12],[232,13,233,15],[235,1,235,3],[235,4,235,6],[235,7,235,9],[235,10,235,12],[235,13,235,15],[245,1,245,3],[245,4,245,6],[245,7,245,9],[245,10,245,12],[245,13,245,15],[247,0,248,0],[237,0,238,0],[242,1,243,3],[242,4,243,6],[242,7,243,9],[242,10,243,12],[242,13,243,15],[252,1,253,3],[252,4,253,6],[252,7,253,9],[252,10,253,12],[252,13,253,15],[255,1,255,3],[255,4,255,6],[255,7,255,9],[255,10,255,12],[255,13,255,15],[265,1,265,3],[265,4,265,6],[265,7,265,9],[265,10,265,12],[265,13,265,15],[267,0,268,0],[257,0,258,0],[259,16,260,19],[262,1,263,3],[262,4,263,6],[262,7,263,9],[262,10,263,12],[262,13,263,15],[272,1,273,3],[272,4,273,6],[272,7,273,9],[272,10,273,12],[272,13,273,15],[275,1,275,3],[275,4,275,6],[275,7,275,9],[275,10,275,12],[275,13,275,15],[285,1,285,3],[285,4,285,6],[285,7,285,9],[285,10,285,12],[285,13,285,15],[287,0,288,0],[277,0,278,0],[282,1,283,3],[282,4,283,6],[282,7,283,9],[282,10,283,12],[282,13,283,15],[292,1,293,3],[292,4,293,6],[292,7,293,9],[292,10,293,12],[292,13,293,15],[295,1,295,3],[295,4,295,6],[295,7,295,9],[295,10,295,12],[295,13,295,15],[305,1,305,3],[305,4,305,6],[305,7,305,9],[305,10,305,12],[305,13,305,15],[307,0,308,0],[297,0,298,0],[302,1,303,3],[302,4,303,6],[302,7,303,9],[302,10,303,12],[302,13,303,15],[312,1,313,3],[312,4,313,6],[312,7,313,9],[312,10,313,12],[312,13,313,15],[315,1,315,3],[315,4,315,6],[315,7,315,9],[315,10,315,12],[315,13,315,15],[325,1,325,3],[325,4,325,6],[325,7,325,9],[325,10,325,12],[325,13,325,15],[327,0,328,0],[317,0,318,0],[322,1,323,3],[322,4,323,6],[322,7,323,9],[322,10,323,12],[322,13,323,15],[332,1,333,3],[332,4,333,6],[332,7,333,9],[332,10,333,12],[332,13,333,15],[335,1,335,3],[335,4,335,6],[335,7,335,9],[335,10,335,12],[335,13,335,15],[345,1,345,3],[345,4,345,6],[345,7,345,9],[345,10,345,12],[345,13,345,15],[347,0,348,0],[337,0,338,0],[339,16,340,19],[342,1,343,3],[342,4,343,6],[342,7,343,9],[342,10,343,12],[342,13,343,15],[352,1,353,3],[352,4,353,6],[352,7,353,9],[352,10,353,12],[352,13,353,15],[355,1,355,3],[355,4,355,6],[355,7,355,9],[355,10,355,12],[355,13,355,15],[365,1,365,3],[365,4,365,6],[365,7,365,9],[365,10,365,12],[365,13,365,15],[367,0,368,0],[357,0,358,0],[362,1,363,3],[362,4,363,6],[362,7,363,9],[362,10,363,12],[362,13,363,15],[372,1,373,3],[372,4,373,6],[372,7,373,9],[372,10,373,12],[372,13,373,15],[375,1,375,3],[375,4,375,6],[375,7,375,9],[375,10,375,12],[375,13,375,15],[385,1,385,3],[385,4,385,6],[385,7,385,9],[385,10,385,12],[385,13,385,15],[387,0,388,0],[377,0,378,0],[382,1,383,3],[382,4,383,6],[382,7,383,9],[382,10,383,12],[382,13,383,15],[392,1,393,3],[392,4,393,6],[392,7,393,9],[392,10,393,12],[392,13,393,15],[395,1,395,3],[395,4,395,6],[395,7,395,9],[395,10,395,12],[395,13,395,15],[405,1,405,3],[405,4,405,6],[405,7,405,9],[405,10,405,12],[405,13,405,15],[407,0,408,0],[397,0,398,0],[402,1,403,3],[402,4,403,6],[402,7,403,9],[402,10,403,12],[402,13,403,15],[412,1,413,3],[412,4,413,6],[412,7,413,9],[412,10,413,12],[412,13,413,15],[415,1,415,3],[415,4,415,6],[415,7,415,9],[415,10,415,12],[415,13,415,15],[425,1,425,3],[425,4,425,6],[425,7,425,9],[425,10,425,12],[425,13,425,15],[427,0,428,0],[417,0,418,0],[419,16,420,19],[422,1,423,3],[422,4,423,6],[422,7,423,9],[422,10,423,12],[422,13,423,15],[432,1,433,3],[432,4,433,6],[432,7,433,9],[432,10,433,12],[432,13,433,15],[435,1,435,3],[435,4,435,6],[435,7,435,9],[435,10,435,12],[435,13,435,15],[445,1,445,3],[445,4,445,6],[445,7,445,9],[445,10,445,12],[445,13,445,15],[447,0,448,0],[437,0,438,0],[442,1,443,3],[442,4,443,6],[442,7,443,9],[442,10,443,12],[442,13,443,15],[452,1,453,3],[452,4,453,6],[452,7,453,9],[452,10,453,12],[452,13,453,15],[455,1,455,3],[455,4,455,6],[455,7,455,9],[455,10,455,12],[455,13,455,15],[465,1,465,3],[465,4,465,6],[465,7,465,9],[465,10,465,12],[465,13,465,15],[467,0,468,0],[457,0,458,0],[462,1,463,3],[462,4,463,6],[462,7,463,9],[462,10,463,12],[462,13,463,15],[472,1,473,3],[472,4,473,6],[472,7,473,9],[472,10,473,12],[472,13,473,15],[475,1,475,3],[475,4,475,6],[475,7,475,9],[475,10,475,12],[475,13,475,15],[485,1,485,3],[485,4,485,6],[485,7,485,9],[485,10,485,12],[485,13,485,15],[487,0,488,0],[477,0,478,0],[482,1,483,3],[482,4,483,6],[482,7,483,9],[482,10,483,12],[482,13,483,15],[497,0,498,0],[499,16,500,19],[502,1,503,3],[502,4,503,6],[502,7,503,9],[502,10,503,12],[502,13,503,15],[492,1,493,3],[492,4,493,6],[492,7,493,9],[492,10,493,12],[492,13,493,15],[495,1,495,3],[495,4,495,6],[495,7,495,9],[495,10,495,12],[495,13,495,15]]}
[]
[null,{"$f":"'1-2a'!B2:H3","v":"Basisschool De Grote Beer        schooljaar 2020/2021"},null,null,null,null,null,null,null,"Groepsplanner van groep:",null,null,null,"23"]
[]
[null,"maandag 1e schoolweek",null,null,"dinsdag",null,null,"woensdag",null,null,"donderdag",null,null,"vrijdag"]
[null,null,{"$f":"'1-2a'!C$5","v":0},null,null,{"$f":"'1-2a'!F5","v":0},null,null,{"$f":"'1-2a'!I$5","v":0},null,null,{"$f":"'1-2a'!L$5","v":"s"},null,null,{"$f":"'1-2a'!O$5","v":0}]
[{"$f":"(B6-WEEKDAY(B6-1)+4-(TRUNC(DATE(YEAR(B6-WEEKDAY(B6-1)+4),1,2)/7)*7-2))/7","v":32},{"$f":"'1-2a'!B6:D6","v":"2020-08-03"},null,null,{"$f":"B6+1","v":"2020-08-04"},null,null,{"$f":"E6+1","v":"2020-08-05"},null,null,{"$f":"H6+1","v":"2020-08-06"},null,null,{"$f":"K6+1","v":"2020-08-07"}]
[]
[1]
[]
[]
[]
[]
[]
[]
[null,null,{"$f":"'1-2a'!C$15","v":0},null,null,{"$f":"'1-2a'!F$15","v":0},null,null,{"$f":"'1-2a'!I$15","v":0},null,null,{"$f":"'1-2a'!L$15","v":0},null,null,{"$f":"'1-2a'!O15","v":0}]
[{"$f":"IF(A6=52,1,A6+1)","v":33},{"$f":"N6+3","v":"2020-08-10"},null,null,{"$f":"B16+1","v":"2020-08-11"},null,null,{"$f":"E16+1","v":"2020-08-12"},null,null,{"$f":"H16+1","v":"2020-08-13"},null,null,{"$f":"K16+1","v":"2020-08-14"}]
[null,{"$f":"B7","v":0},null,null,{"$f":"E7","v":0},null,null,{"$f":"H7","v":0},null,null,{"$f":"K7","v":0},null,null,{"$f":"N7","v":0}]
[2,0,null,null,0,null,null,0,null,null,0,null,null,0]
[null,23,null,null,0,null,null,0,null,null,0,null,null,0]
[null,0,null,null,0,null,null,0,null,null,0,null,null,0]
[null,0,null,null,0,null,null,0,null,null,0,null,null,0]
[null,0,null,null,0,null,null,0,null,null,0,null,null,0]
[]
[]
[null,null,{"$f":"'1-2a'!C$25","v":0},null,null,{"$f":"'1-2a'!F$25","v":0},null,null,{"$f":"'1-2a'!I25","v":0},null,null,{"$f":"'1-2a'!L25","v":0},null,null,{"$f":"'1-2a'!O25","v":0}]
[{"$f":"IF(A16=52,1,A16+1)","v":34},{"$f":"N16+3","v":"2020-08-17"},null,null,{"$f":"B26+1","v":"2020-08-18"},null,null,{"$f":"E26+1","v":"2020-08-19"},null,null,{"$f":"H26+1","v":"2020-08-20"},null,null,{"$f":"K26+1","v":"2020-08-21"}]
[null,{"$f":"B17","v":0},null,null,{"$f":"E17","v":0},null,null,{"$f":"H17","v":0},null,null,{"$f":"K17","v":0},null,null,{"$f":"N17","v":0}]
[3,0,null,null,0,null,null,0,null,null,0,null,null,0]
[null,23,null,null,0,null,null,0,null,null,0,null,null,0]
[null,0,null,null,0,null,null,0,null,null,0,null,null,0]
[null,0,null,null,0,null,null,0,null,null,{"$f":"K21","v":0},null,null,0]
[null,0,null,null,0,null,null,0,null,null,0,null,null,0]
[]
[]
[null,null,{"$f":"'1-2a'!$C$35","v":0},null,null,{"$f":"'1-2a'!$F$35","v":0},null,null,{"$f":"'1-2a'!$I$35","v":0},null,null,{"$f":"'1-2a'!$L$35","v":0},null,null,{"$f":"'1-2a'!$O$35","v":0}]
[{"$f":"IF(A26=52,1,A26+1)","v":35},{"$f":"N26+3","v":"2020-08-24"},null,null,{"$f":"B36+1","v":"2020-08-25"},null,null,{"$f":"E36+1","v":"2020-08-26"},null,null,{"$f":"H36+1","v":"2020-08-27"},null,null,{"$f":"K36+1","v":"2020-08-28"}]
[null,{"$f":"B27","v":0},null,null,{"$f":"E27","v":0},null,null,{"$f":"H27","v":0},null,null,{"$f":"K27","v":0},null,null,{"$f":"N27","v":0}]
[4,0,null,null,0,null,null,0,null,null,0,null,null,0]
[null,23,null,null,0,null,null,0,null,null,0,null,null,0]
[null,0,null,null,0,null,null,0,null,null,0,null,null,0]
[null,0,null,null,0,null,null,0,null,null,{"$f":"K31","v":0},null,null,0]
[null,0,null,null,0,null,null,0,null,null,0,null,null,0]
[]
[]
[null,null,{"$f":"'1-2a'!$C$45","v":0},null,null,{"$f":"'1-2a'!$F$45","v":0},null,null,{"$f":"'1-2a'!$I$45","v":0},null,null,{"$f":"'1-2a'!$L$45","v":0},null,null,{"$f":"'1-2a'!$O$45","v":0}]
[{"$f":"IF(A36=52,1,A36+1)","v":36},{"$f":"N36+3","v":"2020-08-31"},null,null,{"$f":"B46+1","v":"2020-09-01"},null,null,{"$f":"E46+1","v":"2020-09-02"},null,null,{"$f":"H46+1","v":"2020-09-03"},null,null,{"$f":"K46+1","v":"2020-09-04"}]
[null,{"$f":"B37","v":0},null,null,{"$f":"E37","v":0},null,null,{"$f":"H37","v":0},null,null,{"$f":"K37","v":0},null,null,{"$f":"N37","v":0}]
[5,0,null,null,0,null,null,0,null,null,0,null,null,0]
[null,23,null,null,0,null,null,0,null,null,0,null,null,0]
[null,0,null,null,0,null,null,0,null,null,0,null,null,0]
[null,0,null,null,0,null,null,0,null,null,{"$f":"K41","v":0},null,null,0]
[null,0,null,null,0,null,null,0,null,null,0,null,null,0]
[]
[]
[null,null,{"$f":"'1-2a'!$C$55","v":0},null,null,{"$f":"'1-2a'!$F$55","v":0},null,null,{"$f":"'1-2a'!$I$55","v":0},null,null,{"$f":"'1-2a'!$L$55","v":0},null,null,{"$f":"'1-2a'!O55","v":0}]
[{"$f":"IF(A46=52,1,A46+1)","v":37},{"$f":"N46+3","v":"2020-09-07"},null,null,{"$f":"B56+1","v":"2020-09-08"},null,null,{"$f":"E56+1","v":"2020-09-09"},null,null,{"$f":"H56+1","v":"2020-09-10"},null,null,{"$f":"K56+1","v":"2020-09-11"}]
[null,{"$f":"B47","v":0},null,null,{"$f":"E47","v":0},null,null,{"$f":"H47","v":0},null,null,{"$f":"K47","v":0},null,null,{"$f":"N47","v":0}]
[6,0,null,null,0,null,null,0,null,null,0,null,null,0]
[null,23,null,null,0,null,null,0,null,null,0,null,null,0]
[null,0,null,null,0,null,null,0,null,null,0,null,null,0]
[null,0,null,null,0,null,null,0,null,null,{"$f":"K51","v":0},null,null,0]
[null,0,null,null,0,null,null,0,null,null,0,null,null,0]
[]
[]
[null,null,{"$f":"'1-2a'!$C$65","v":0},null,null,{"$f":"'1-2a'!$F$65","v":0},null,null,{"$f":"'1-2a'!$I$65","v":0},null,null,{"$f":"'1-2a'!$L$65","v":0},null,null,{"$f":"'1-2a'!$O$65","v":0}]
[{"$f":"IF(A56=52,1,A56+1)","v":38},{"$f":"N56+3","v":"2020-09-14"},null,null,{"$f":"B66+1","v":"2020-09-15"},null,null,{"$f":"E66+1","v":"2020-09-16"},null,null,{"$f":"H66+1","v":"2020-09-17"},null,null,{"$f":"K66+1","v":"2020-09-18"}]
[null,{"$f":"B57","v":0},null,null,{"$f":"E57","v":0},null,null,{"$f":"H57","v":0},null,null,{"$f":"K57","v":0},null,null,{"$f":"N57","v":0}]
[7,0,null,null,0,null,null,0,null,null,0,null,null,0]
[null,23,null,null,0,null,null,0,null,null,0,null,null,0]
[null,0,null,null,0,null,null,0,null,null,0,null,null,0]
[null,0,null,null,0,null,null,0,null,null,{"$f":"K61","v":0},null,null,0]
[null,0,null,null,0,null,null,0,null,null,0,null,null,0]
[]
[]
[null,null,{"$f":"'1-2a'!$C$75","v":0},null,null,{"$f":"'1-2a'!$F$75","v":0},null,null,{"$f":"'1-2a'!$I$75","v":0},null,null,{"$f":"'1-2a'!$L$75","v":0},null,null,{"$f":"'1-2a'!$O$75","v":0}]
[{"$f":"IF(A66=52,1,A66+1)","v":39},{"$f":"N66+3","v":"2020-09-21"},null,null,{"$f":"B76+1","v":"2020-09-22"},null,null,{"$f":"E76+1","v":"2020-09-23"},null,null,{"$f":"H76+1","v":"2020-09-24"},null,null,{"$f":"K76+1","v":"2020-09-25"}]
[null,{"$f":"B67","v":0},null,null,{"$f":"E67","v":0},null,null,{"$f":"H67","v":0},null,null,{"$f":"K67","v":0},null,null,{"$f":"N67","v":0}]
[8,0,null,null,0,null,null,0,null,null,0,null,null,0]
[null,23,null,null,0,null,null,0,null,null,0,null,null,0]
[null,0,null,null,0,null,null,0,null,null,0,null,null,0]
[null,0,null,null,0,null,null,0,null,null,{"$f":"K71","v":0},null,null,0]
[null,0,null,null,0,null,null,0,null,null,0,null,null,0]
[]
[]
[null,null,{"$f":"'1-2a'!$C$85","v":0},null,null,{"$f":"'1-2a'!$F$85","v":0},null,null,{"$f":"'1-2a'!$I$85","v":0},null,null,{"$f":"'1-2a'!$L$85","v":0},null,null,{"$f":"'1-2a'!$O$85","v":0}]
[{"$f":"IF(A76=52,1,A76+1)","v":40},{"$f":"N76+3","v":"2020-09-28"},null,null,{"$f":"B86+1","v":"2020-09-29"},null,null,{"$f":"E86+1","v":"2020-09-30"},null,null,{"$f":"H86+1","v":"2020-10-01"},null,null,{"$f":"K86+1","v":"2020-10-02"}]
[null,{"$f":"B77","v":0},null,null,{"$f":"E77","v":0},null,null,{"$f":"H77","v":0},null,null,{"$f":"K77","v":0},null,null,{"$f":"N77","v":0}]
[9,0,null,null,0,null,null,0,null,null,0,null,null,0]
[null,23,null,null,0,null,null,0,null,null,0,null,null,0]
[null,0,null,null,0,null,null,0,null,null,0,null,null,0]
[null,0,null,null,0,null,null,0,null,null,0,null,null,0]
[null,0,null,null,0,null,null,0,null,null,0,null,null,0]
[]
[]
[null,null,{"$f":"'1-2a'!$C$95","v":0},null,null,{"$f":"'1-2a'!$F$95","v":0},null,null,{"$f":"'1-2a'!$I$95","v":0},null,null,{"$f":"'1-2a'!$L$95","v":0},null,null,{"$f":"'1-2a'!$O$95","v":0}]
[{"$f":"IF(A86=52,1,A86+1)","v":41},{"$f":"N86+3","v":"2020-10-05"},null,null,{"$f":"B96+1","v":"2020-10-06"},null,null,{"$f":"E96+1","v":"2020-10-07"},null,null,{"$f":"H96+1","v":"2020-10-08"},null,null,{"$f":"K96+1","v":"2020-10-09"}]
[null,{"$f":"B87","v":0},null,null,{"$f":"E87","v":0},null,null,{"$f":"H87","v":0},null,null,{"$f":"K87","v":0},null,null,{"$f":"N87","v":0}]
[10,0,null,null,0,null,null,0,null,null,0,null,null,0]
[null,23,null,null,0,null,null,0,null,null,0,null,null,0]
[null,0,null,null,0,null,null,0,null,null,0,null,null,0]
[null,0,null,null,0,null,null,0,null,null,{"$f":"K91","v":0},null,null,0]
[null,0,null,null,0,null,null,0,null,null,0,null,null,0]
[]
[]
[null,null,{"$f":"'1-2a'!$C$105","v":0},null,null,{"$f":"'1-2a'!$F$105","v":0},null,null,{"$f":"'1-2a'!$I$105","v":0},null,null,{"$f":"'1-2a'!$L$105","v":0},null,null,{"$f":"'1-2a'!$O$105","v":0}]
[{"$f":"IF(A96=52,1,A96+1)","v":42},{"$f":"N96+3","v":"2020-10-12"},null,null,{"$f":"B106+1","v":"2020-10-13"},null,null,{"$f":"E106+1","v":"2020-10-14"},null,null,{"$f":"H106+1","v":"2020-10-15"},null,null,{"$f":"K106+1","v":"2020-10-16"}]
[null,{"$f":"B97","v":0},null,null,{"$f":"E97","v":0},null,null,{"$f":"H97","v":0},null,null,{"$f":"K97","v":0},null,null,{"$f":"N97","v":0}]
[11,0,null,null,0,null,null,0,null,null,0,null,null,0]
[null,23,null,null,0,null,null,0,null,null,0,null,null,0]
[null,0,null,null,0,null,null,0,null,null,0,null,null,0]
[null,0,null,null,0,null,null,0,null,null,{"$f":"K101","v":0},null,null,0]
[null,0,null,null,0,null,null,0,null,null,0,null,null,0]
[]
[]
[null,null,{"$f":"'1-2a'!$C$115","v":0},null,null,{"$f":"'1-2a'!$F$115","v":0},null,null,{"$f":"'1-2a'!$I$115","v":0},null,null,{"$f":"'1-2a'!$L$115","v":0},null,null,{"$f":"'1-2a'!$O$115","v":0}]
[{"$f":"IF(A106=52,1,A106+1)","v":43},{"$f":"N106+3","v":"2020-10-19"},null,null,{"$f":"B116+1","v":"2020-10-20"},null,null,{"$f":"E116+1","v":"2020-10-21"},null,null,{"$f":"H116+1","v":"2020-10-22"},null,null,{"$f":"K116+1","v":"2020-10-23"}]
[null,{"$f":"B107","v":0},null,null,{"$f":"E107","v":0},null,null,{"$f":"H107","v":0},null,null,{"$f":"K107","v":0},null,null,{"$f":"N107","v":0}]
[12,0,null,null,0,null,null,0,null,null,0,null,null,0]
[null,23,null,null,0,null,null,0,null,null,0,null,null,0]
[null,0,null,null,0,null,null,0,null,null,0,null,null,0]
[null,0,null,null,0,null,null,0,null,null,{"$f":"K111","v":0},null,null,0]
[null,0,null,null,0,null,null,0,null,null,0,null,null,0]
[]
[]
[null,null,{"$f":"'1-2a'!$C$125","v":0},null,null,{"$f":"'1-2a'!$F$125","v":0},null,null,{"$f":"'1-2a'!$I$125","v":0},null,null,{"$f":"'1-2a'!$L$125","v":0},null,null,{"$f":"'1-2a'!$O$125","v":0}]
[{"$f":"IF(A116=52,1,A116+1)","v":44},{"$f":"N116+3","v":"2020-10-26"},null,null,{"$f":"B126+1","v":"2020-10-27"},null,null,{"$f":"E126+1","v":"2020-10-28"},null,null,{"$f":"H126+1","v":"2020-10-29"},null,null,{"$f":"K126+1","v":"2020-10-30"}]
[null,{"$f":"B117","v":0},null,null,{"$f":"E117","v":0},null,null,{"$f":"H117","v":0},null,null,{"$f":"K117","v":0},null,null,{"$f":"N117","v":0}]
[13,0,null,null,0,null,null,0,null,null,0,null,null,0]
[null,23,null,null,0,null,null,0,null,null,0,null,null,0]
[null,0,null,null,0,null,null,0,null,null,0,null,null,0]
[null,0,null,null,0,null,null,0,null,null,{"$f":"K121","v":0},null,null,0]
[null,0,null,null,0,null,null,0,null,null,0,null,null,0]
[]
[]
[null,null,{"$f":"'1-2a'!$C$135","v":0},null,null,{"$f":"'1-2a'!$F$135","v":0},null,null,{"$f":"'1-2a'!$I$135","v":0},null,null,{"$f":"'1-2a'!$L$135","v":0},null,null,{"$f":"'1-2a'!$O$135","v":0}]
[{"$f":"IF(A126=52,1,A126+1)","v":45},{"$f":"N126+3","v":"2020-11-02"},null,null,{"$f":"B136+1","v":"2020-11-03"},null,null,{"$f":"E136+1","v":"2020-11-04"},null,null,{"$f":"H136+1","v":"2020-11-05"},null,null,{"$f":"K136+1","v":"2020-11-06"}]
[null,{"$f":"B127","v":0},null,null,{"$f":"E127","v":0},null,null,{"$f":"H127","v":0},null,null,{"$f":"K127","v":0},null,null,{"$f":"N127","v":0}]
[14,0,null,null,0,null,null,0,null,null,0,null,null,0]
[null,23,null,null,0,null,null,0,null,null,0,null,null,0]
[null,0,null,null,0,null,null,0,null,null,0,null,null,0]
[null,0,null,null,0,null,null,0,null,null,{"$f":"K131","v":0},null,null,0]
[null,0,null,null,0,null,null,0,null,null,0,null,null,0]
[]
[]
[null,null,{"$f":"'1-2a'!$C$145","v":0},null,null,{"$f":"'1-2a'!$F$145","v":0},null,null,{"$f":"'1-2a'!$I$145","v":0},null,null,{"$f":"'1-2a'!$L$145","v":0},null,null,{"$f":"'1-2a'!$O$145","v":0}]
[{"$f":"IF(A136=52,1,A136+1)","v":46},{"$f":"N136+3","v":"2020-11-09"},null,null,{"$f":"B146+1","v":"2020-11-10"},null,null,{"$f":"E146+1","v":"2020-11-11"},null,null,{"$f":"H146+1","v":"2020-11-12"},null,null,{"$f":"K146+1","v":"2020-11-13"}]
[null,{"$f":"B137","v":0},null,null,{"$f":"E137","v":0},null,null,{"$f":"H137","v":0},null,null,{"$f":"K137","v":0},null,null,{"$f":"N137","v":0}]
[15,0,null,null,0,null,null,0,null,null,0,null,null,0]
[null,23,null,null,0,null,null,0,null,null,0,null,null,0]
[null,0,null,null,0,null,null,0,null,null,0,null,null,0]
[null,0,null,null,0,null,null,0,null,null,{"$f":"K141","v":0},null,null,0]
[null,0,null,null,0,null,null,0,null,null,0,null,null,0]
[]
[]
[null,null,{"$f":"'1-2a'!$C$155","v":0},null,null,{"$f":"'1-2a'!$F$155","v":0},null,null,{"$f":"'1-2a'!$I$155","v":0},null,null,{"$f":"'1-2a'!$L$155","v":0},null,null,{"$f":"'1-2a'!$O$155","v":0}]
[{"$f":"IF(A146=52,1,A146+1)","v":47},{"$f":"N146+3","v":"2020-11-16"},null,null,{"$f":"B156+1","v":"2020-11-17"},null,null,{"$f":"E156+1","v":"2020-11-18"},null,null,{"$f":"H156+1","v":"2020-11-19"},null,null,{"$f":"K156+1","v":"2020-11-20"}]
[null,{"$f":"B147","v":0},null,null,{"$f":"E147","v":0},null,null,{"$f":"H147","v":0},null,null,{"$f":"K147","v":0},null,null,{"$f":"N147","v":0}]
[16,0,null,null,0,null,null,0,null,null,0,null,null,0]
[null,23,null,null,0,null,null,0,null,null,0,null,null,0]
[null,0,null,null,0,null,null,0,null,null,0,null,null,0]
[null,0,null,null,0,null,null,0,null,null,{"$f":"K151","v":0},null,null,0]
[null,0,null,null,0,null,null,0,null,null,0,null,null,0]
[]
[]
[null,null,{"$f":"'1-2a'!$C$165","v":0},null,null,{"$f":"'1-2a'!$F$165","v":0},null,null,{"$f":"'1-2a'!$I$165","v":0},null,null,{"$f":"'1-2a'!$L$165","v":0},null,null,{"$f":"'1-2a'!$O$165","v":0}]
[{"$f":"IF(A156=52,1,A156+1)","v":48},{"$f":"N156+3","v":"2020-11-23"},null,null,{"$f":"B166+1","v":"2020-11-24"},null,null,{"$f":"E166+1","v":"2020-11-25"},null,null,{"$f":"H166+1","v":"2020-11-26"},null,null,{"$f":"K166+1","v":"2020-11-27"}]
[null,{"$f":"B157","v":0},null,null,{"$f":"E157","v":0},null,null,{"$f":"H157","v":0},null,null,{"$f":"K157","v":0},null,null,{"$f":"N157","v":0}]
[17,0,null,null,0,null,null,0,null,null,0,null,null,0]
[null,23,null,null,0,null,null,0,null,null,0,null,null,0]
[null,0,null,null,0,null,null,0,null,null,0,null,null,0]
[null,0,null,null,0,null,null,0,null,null,0,null,null,0]
[null,0,null,null,0,null,null,0,null,null,0,null,null,0]
[]
[]
[null,null,{"$f":"'1-2a'!$C$175","v":0},null,null,{"$f":"'1-2a'!$F$175","v":0},null,null,{"$f":"'1-2a'!$I$175","v":0},null,null,{"$f":"'1-2a'!$L$175","v":0},null,null,{"$f":"'1-2a'!$O$175","v":0}]
[{"$f":"IF(A166=52,1,A166+1)","v":49},{"$f":"N166+3","v":"2020-11-30"},null,null,{"$f":"B176+1","v":"2020-12-01"},null,null,{"$f":"E176+1","v":"2020-12-02"},null,null,{"$f":"H176+1","v":"2020-12-03"},null,null,{"$f":"K176+1","v":"2020-12-04"}]
[null,{"$f":"B167","v":0},null,null,{"$f":"E167","v":0},null,null,{"$f":"H167","v":0},null,null,{"$f":"K167","v":0},null,null,{"$f":"N167","v":0}]
[18,0,null,null,0,null,null,0,null,null,0,null,null,0]
[null,23,null,null,0,null,null,0,null,null,0,null,null,0]
[null,0,null,null,0,null,null,0,null,null,0,null,null,0]
[null,0,null,null,0,null,null,0,null,null,{"$f":"K171","v":0},null,null,0]
[null,0,null,null,0,null,null,0,null,null,0,null,null,0]
[]
[]
[null,null,{"$f":"'1-2a'!$C$185","v":0},null,null,{"$f":"'1-2a'!$F$185","v":0},null,null,{"$f":"'1-2a'!$I$185","v":0},null,null,{"$f":"'1-2a'!$L$185","v":0},null,null,{"$f":"'1-2a'!$O$185","v":0}]
[{"$f":"IF(A176=52,1,A176+1)","v":50},{"$f":"N176+3","v":"2020-12-07"},null,null,{"$f":"B186+1","v":"2020-12-08"},null,null,{"$f":"E186+1","v":"2020-12-09"},null,null,{"$f":"H186+1","v":"2020-12-10"},null,null,{"$f":"K186+1","v":"2020-12-11"}]
[null,{"$f":"B177","v":0},null,null,{"$f":"E177","v":0},null,null,{"$f":"H177","v":0},null,null,{"$f":"K177","v":0},null,null,{"$f":"N177","v":0}]
[19,0,null,null,0,null,null,0,null,null,0,null,null,0]
[null,23,null,null,0,null,null,0,null,null,0,null,null,0]
[null,0,null,null,0,null,null,0,null,null,0,null,null,0]
[null,0,null,null,0,null,null,0,null,null,{"$f":"K181","v":0},null,null,0]
[null,0,null,null,0,null,null,0,null,null,0,null,null,0]
[]
[]
[null,null,{"$f":"'1-2a'!$C$195","v":0},null,null,{"$f":"'1-2a'!$F$195","v":0},null,null,{"$f":"'1-2a'!$I$195","v":0},null,null,{"$f":"'1-2a'!$L$195","v":0},null,null,{"$f":"'1-2a'!$O$195","v":0}]
[{"$f":"IF(A186=52,1,A186+1)","v":51},{"$f":"N186+3","v":"2020-12-14"},null,null,{"$f":"B196+1","v":"2020-12-15"},null,null,{"$f":"E196+1","v":"2020-12-16"},null,null,{"$f":"H196+1","v":"2020-12-17"},null,null,{"$f":"K196+1","v":"2020-12-18"}]
[null,{"$f":"B187","v":0},null,null,{"$f":"E187","v":0},null,null,{"$f":"H187","v":0},null,null,{"$f":"K187","v":0},null,null,{"$f":"N187","v":0}]
[20,0,null,null,0,null,null,0,null,null,0,null,null,0]
[null,23,null,null,0,null,null,0,null,null,0,null,null,0]
[null,0,null,null,0,null,null,0,null,null,0,null,null,0]
[null,0,null,null,0,null,null,0,null,null,{"$f":"K191","v":0},null,null,0]
[null,0,null,null,0,null,null,0,null,null,0,null,null,0]
[]
[]
[null,null,{"$f":"'1-2a'!$C$205","v":0},null,null,{"$f":"'1-2a'!$F$205","v":0},null,null,{"$f":"'1-2a'!$I$205","v":0},null,null,{"$f":"'1-2a'!$L$205","v":0},null,null,{"$f":"'1-2a'!$O$205","v":0}]
[{"$f":"IF(A196=52,1,A196+1)","v":52},{"$f":"N196+3","v":"2020-12-21"},null,null,{"$f":"B206+1","v":"2020-12-22"},null,null,{"$f":"E206+1","v":"2020-12-23"},null,null,{"$f":"H206+1","v":"2020-12-24"},null,null,{"$f":"K206+1","v":"2020-12-25"}]
[null,{"$f":"B197","v":0},null,null,{"$f":"E197","v":0},null,null,{"$f":"H197","v":0},null,null,{"$f":"K197","v":0},null,null,{"$f":"N197","v":0}]
[21,0,null,null,0,null,null,0,null,null,0,null,null,0]
[null,23,null,null,0,null,null,0,null,null,0,null,null,0]
[null,0,null,null,0,null,null,0,null,null,0,null,null,0]
[null,0,null,null,0,null,null,0,null,null,{"$f":"K201","v":0},null,null,0]
[null,0,null,null,0,null,null,0,null,null,0,null,null,0]
[]
[]
[null,null,{"$f":"'1-2a'!$C$215","v":0},null,null,{"$f":"'1-2a'!$F$215","v":0},null,null,{"$f":"'1-2a'!$I$215","v":0},null,null,{"$f":"'1-2a'!$L$215","v":0},null,null,{"$f":"'1-2a'!$O$215","v":0}]
[{"$f":"IF(A206=52,1,A206+1)","v":1},{"$f":"N206+3","v":"2020-12-28"},null,null,{"$f":"B216+1","v":"2020-12-29"},null,null,{"$f":"E216+1","v":"2020-12-30"},null,null,{"$f":"H216+1","v":"2020-12-31"},null,null,{"$f":"K216+1","v":"2021-01-01"}]
[null,{"$f":"B207","v":0},null,null,{"$f":"E207","v":0},null,null,{"$f":"H207","v":0},null,null,{"$f":"K207","v":0},null,null,{"$f":"N207","v":0}]
[22,0,null,null,0,null,null,0,null,null,0,null,null,0]
[null,23,null,null,0,null,null,0,null,null,0,null,null,0]
[null,0,null,null,0,null,null,0,null,null,0,null,null,0]
[null,0,null,null,0,null,null,0,null,null,{"$f":"K211","v":0},null,null,0]
[null,0,null,null,0,null,null,0,null,null,0,null,null,0]
[]
[]
[null,null,{"$f":"'1-2a'!$C$225","v":0},null,null,{"$f":"'1-2a'!$F$225","v":0},null,null,{"$f":"'1-2a'!$I$225","v":0},null,null,{"$f":"'1-2a'!$L$225","v":0},null,null,{"$f":"'1-2a'!$O$225","v":0}]
[{"$f":"IF(A216=52,1,A216+1)","v":2},{"$f":"N216+3","v":"2021-01-04"},null,null,{"$f":"B226+1","v":"2021-01-05"},null,null,{"$f":"E226+1","v":"2021-01-06"},null,null,{"$f":"H226+1","v":"2021-01-07"},null,null,{"$f":"K226+1","v":"2021-01-08"}]
[null,{"$f":"B217","v":0},null,null,{"$f":"E217","v":0},null,null,{"$f":"H217","v":0},null,null,{"$f":"K217","v":0},null,null,{"$f":"N217","v":0}]
[23,0,null,null,0,null,null,0,null,null,0,null,null,0]
[null,23,null,null,0,null,null,0,null,null,0,null,null,0]
[null,0,null,null,0,null,null,0,null,null,0,null,null,0]
[null,0,null,null,0,null,null,0,null,null,{"$f":"K221","v":0},null,null,0]
[null,0,null,null,0,null,null,0,null,null,0,null,null,0]
[]
[]
[null,null,{"$f":"'1-2a'!$C$235","v":0},null,null,{"$f":"'1-2a'!$F$235","v":0},null,null,{"$f":"'1-2a'!$I$235","v":0},null,null,{"$f":"'1-2a'!$L$235","v":0},null,null,{"$f":"'1-2a'!$O$235","v":0}]
[{"$f":"IF(A226=52,1,A226+1)","v":3},{"$f":"N226+3","v":"2021-01-11"},null,null,{"$f":"B236+1","v":"2021-01-12"},null,null,{"$f":"E236+1","v":"2021-01-13"},null,null,{"$f":"H236+1","v":"2021-01-14"},null,null,{"$f":"K236+1","v":"2021-01-15"}]
[null,{"$f":"B227","v":0},null,null,{"$f":"E227","v":0},null,null,{"$f":"H227","v":0},null,null,{"$f":"K227","v":0},null,null,{"$f":"N227","v":0}]
[24,0,null,null,0,null,null,0,null,null,0,null,null,0]
[null,23,null,null,0,null,null,0,null,null,0,null,null,0]
[null,0,null,null,0,null,null,0,null,null,0,null,null,0]
[null,0,null,null,0,null,null,0,null,null,{"$f":"K231","v":0},null,null,0]
[null,0,null,null,0,null,null,0,null,null,0,null,null,0]
[]
[]
[null,null,{"$f":"'1-2a'!$C$245","v":0},null,null,{"$f":"'1-2a'!$F$245","v":0},null,null,{"$f":"'1-2a'!$I$245","v":0},null,null,{"$f":"'1-2a'!$L$245","v":0},null,null,{"$f":"'1-2a'!$O$245","v":0}]
[{"$f":"IF(A236=52,1,A236+1)","v":4},{"$f":"N236+3","v":"2021-01-18"},null,null,{"$f":"B246+1","v":"2021-01-19"},null,null,{"$f":"E246+1","v":"2021-01-20"},null,null,{"$f":"H246+1","v":"2021-01-21"},null,null,{"$f":"K246+1","v":"2021-01-22"}]
[null,{"$f":"B237","v":0},null,null,{"$f":"E237","v":0},null,null,{"$f":"H237","v":0},null,null,{"$f":"K237","v":0},null,null,{"$f":"N237","v":0}]
[25,0,null,null,0,null,null,0,null,null,0,null,null,0]
[null,23,null,null,0,null,null,0,null,null,0,null,null,0]
[null,0,null,null,0,null,null,0,null,null,0,null,null,0]
[null,0,null,null,0,null,null,0,null,null,0,null,null,0]
[null,0,null,null,0,null,null,0,null,null,0,null,null,0]
[]
[]
[null,null,{"$f":"'1-2a'!$C$255","v":0},null,null,{"$f":"'1-2a'!$F$255","v":0},null,null,{"$f":"'1-2a'!$I$255","v":0},null,null,{"$f":"'1-2a'!$L$255","v":0},null,null,{"$f":"'1-2a'!$O$255","v":0}]
[{"$f":"IF(A246=52,1,A246+1)","v":5},{"$f":"N246+3","v":"2021-01-25"},null,null,{"$f":"B256+1","v":"2021-01-26"},null,null,{"$f":"E256+1","v":"2021-01-27"},null,null,{"$f":"H256+1","v":"2021-01-28"},null,null,{"$f":"K256+1","v":"2021-01-29"}]
[null,{"$f":"B247","v":0},null,null,{"$f":"E247","v":0},null,null,{"$f":"H247","v":0},null,null,{"$f":"K247","v":0},null,null,{"$f":"N247","v":0}]
[26,0,null,null,0,null,null,0,null,null,0,null,null,0]
[null,23,null,null,0,null,null,0,null,null,0,null,null,0]
[null,0,null,null,0,null,null,0,null,null,0,null,null,0]
[null,0,null,null,0,null,null,0,null,null,{"$f":"K251","v":0},null,null,0]
[null,0,null,null,0,null,null,0,null,null,0,null,null,0]
[]
[]
[null,null,{"$f":"'1-2a'!$C$265","v":0},null,null,{"$f":"'1-2a'!$F$265","v":0},null,null,{"$f":"'1-2a'!$I$265","v":0},null,null,{"$f":"'1-2a'!$L$265","v":0},null,null,{"$f":"'1-2a'!$O$265","v":0}]
[{"$f":"IF(A256=52,1,A256+1)","v":6},{"$f":"N256+3","v":"2021-02-01"},null,null,{"$f":"B266+1","v":"2021-02-02"},null,null,{"$f":"E266+1","v":"2021-02-03"},null,null,{"$f":"H266+1","v":"2021-02-04"},null,null,{"$f":"K266+1","v":"2021-02-05"}]
[null,{"$f":"B257","v":0},null,null,{"$f":"E257","v":0},null,null,{"$f":"H257","v":0},null,null,{"$f":"K257","v":0},null,null,{"$f":"N257","v":0}]
[27,0,null,null,0,null,null,0,null,null,0,null,null,0]
[null,23,null,null,0,null,null,0,null,null,0,null,null,0]
[null,0,null,null,0,null,null,0,null,null,0,null,null,0]
[null,0,null,null,0,null,null,0,null,null,{"$f":"K261","v":0},null,null,0]
[null,0,null,null,0,null,null,0,null,null,0,null,null,0]
[]
[]
[null,null,{"$f":"'1-2a'!$C$275","v":0},null,null,{"$f":"'1-2a'!$F$275","v":0},null,null,{"$f":"'1-2a'!$I$275","v":0},null,null,{"$f":"'1-2a'!$L$275","v":0},null,null,{"$f":"'1-2a'!$O$275","v":0}]
[{"$f":"IF(A266=52,1,A266+1)","v":7},{"$f":"N266+3","v":"2021-02-08"},null,null,{"$f":"B276+1","v":"2021-02-09"},null,null,{"$f":"E276+1","v":"2021-02-10"},null,null,{"$f":"H276+1","v":"2021-02-11"},null,null,{"$f":"K276+1","v":"2021-02-12"}]
[null,{"$f":"B267","v":0},null,null,{"$f":"E267","v":0},null,null,{"$f":"H267","v":0},null,null,{"$f":"K267","v":0},null,null,{"$f":"N267","v":0}]
[28,0,null,null,0,null,null,0,null,null,0,null,null,0]
[null,23,null,null,0,null,null,0,null,null,0,null,null,0]
[null,0,null,null,0,null,null,0,null,null,0,null,null,0]
[null,0,null,null,0,null,null,0,null,null,{"$f":"K271","v":0},null,null,0]
[null,0,null,null,0,null,null,0,null,null,0,null,null,0]
[]
[]
[null,null,{"$f":"'1-2a'!$C$285","v":0},null,null,{"$f":"'1-2a'!$F$285","v":0},null,null,{"$f":"'1-2a'!$I$285","v":0},null,null,{"$f":"'1-2a'!$L$285","v":0},null,null,{"$f":"'1-2a'!$O$285","v":0}]
[{"$f":"IF(A276=52,1,A276+1)","v":8},{"$f":"N276+3","v":"2021-02-15"},null,null,{"$f":"B286+1","v":"2021-02-16"},null,null,{"$f":"E286+1","v":"2021-02-17"},null,null,{"$f":"H286+1","v":"2021-02-18"},null,null,{"$f":"K286+1","v":"2021-02-19"}]
[null,{"$f":"B277","v":0},null,null,{"$f":"E277","v":0},null,null,{"$f":"H277","v":0},null,null,{"$f":"K277","v":0},null,null,{"$f":"N277","v":0}]
[29,0,null,null,0,null,null,0,null,null,0,null,null,0]
[null,23,null,null,0,null,null,0,null,null,0,null,null,0]
[null,0,null,null,0,null,null,0,null,null,0,null,null,0]
[null,0,null,null,0,null,null,0,null,null,{"$f":"K281","v":0},null,null,0]
[null,0,null,null,0,null,null,0,null,null,0,null,null,0]
[]
[]
[null,null,{"$f":"'1-2a'!$C$295","v":0},null,null,{"$f":"'1-2a'!$F$295","v":0},null,null,{"$f":"'1-2a'!$I$295","v":0},null,null,{"$f":"'1-2a'!$L$295","v":0},null,null,{"$f":"'1-2a'!$O$295","v":0}]
[{"$f":"IF(A286=52,1,A286+1)","v":9},{"$f":"N286+3","v":"2021-02-22"},null,null,{"$f":"B296+1","v":"2021-02-23"},null,null,{"$f":"E296+1","v":"2021-02-24"},null,null,{"$f":"H296+1","v":"2021-02-25"},null,null,{"$f":"K296+1","v":"2021-02-26"}]
[null,{"$f":"B287","v":0},null,null,{"$f":"E287","v":0},null,null,{"$f":"H287","v":0},null,null,{"$f":"K287","v":0},null,null,{"$f":"N287","v":0}]
[30,0,null,null,0,null,null,0,null,null,0,null,null,0]
[null,23,null,null,0,null,null,0,null,null,0,null,null,0]
[null,0,null,null,0,null,null,0,null,null,0,null,null,0]
[null,0,null,null,0,null,null,0,null,null,{"$f":"K291","v":0},null,null,0]
[null,0,null,null,0,null,null,0,null,null,0,null,null,0]
[]
[]
[null,null,{"$f":"'1-2a'!$C$305","v":0},null,null,{"$f":"'1-2a'!$F$305","v":0},null,null,{"$f":"'1-2a'!$I$305","v":0},null,null,{"$f":"'1-2a'!$L$305","v":0},null,null,{"$f":"'1-2a'!$O$305","v":0}]
[{"$f":"IF(A296=52,1,A296+1)","v":10},{"$f":"N296+3","v":"2021-03-01"},null,null,{"$f":"B306+1","v":"2021-03-02"},null,null,{"$f":"E306+1","v":"2021-03-03"},null,null,{"$f":"H306+1","v":"2021-03-04"},null,null,{"$f":"K306+1","v":"2021-03-05"}]
[null,{"$f":"B297","v":0},null,null,{"$f":"E297","v":0},null,null,{"$f":"H297","v":0},null,null,{"$f":"K297","v":0},null,null,{"$f":"N297","v":0}]
[31,0,null,null,0,null,null,0,null,null,0,null,null,0]
[null,23,null,null,0,null,null,0,null,null,0,null,null,0]
[null,0,null,null,0,null,null,0,null,null,0,null,null,0]
[null,0,null,null,0,null,null,0,null,null,{"$f":"K301","v":0},null,null,0]
[null,0,null,null,0,null,null,0,null,null,0,null,null,0]
[]
[]
[null,null,{"$f":"'1-2a'!$C$315","v":0},null,null,{"$f":"'1-2a'!$F$315","v":0},null,null,{"$f":"'1-2a'!$I$315","v":0},null,null,{"$f":"'1-2a'!$L$315","v":0},null,null,{"$f":"'1-2a'!$O$315","v":0}]
[{"$f":"IF(A306=52,1,A306+1)","v":11},{"$f":"N306+3","v":"2021-03-08"},null,null,{"$f":"B316+1","v":"2021-03-09"},null,null,{"$f":"E316+1","v":"2021-03-10"},null,null,{"$f":"H316+1","v":"2021-03-11"},null,null,{"$f":"K316+1","v":"2021-03-12"}]
[null,{"$f":"B307","v":0},null,null,{"$f":"E307","v":0},null,null,{"$f":"H307","v":0},null,null,{"$f":"K307","v":0},null,null,{"$f":"N307","v":0}]
[32,0,null,null,0,null,null,0,null,null,0,null,null,0]
[null,23,null,null,0,null,null,0,null,null,0,null,null,0]
[null,0,null,null,0,null,null,0,null,null,0,null,null,0]
[null,0,null,null,0,null,null,0,null,null,{"$f":"K311","v":0},null,null,0]
[null,0,null,null,0,null,null,0,null,null,0,null,null,0]
[]
[]
[null,null,{"$f":"'1-2a'!$C$325","v":0},null,null,{"$f":"'1-2a'!$F$325","v":0},null,null,{"$f":"'1-2a'!$I$325","v":0},null,null,{"$f":"'1-2a'!$L$325","v":0},null,null,{"$f":"'1-2a'!$O$325","v":0}]
[{"$f":"IF(A316=52,1,A316+1)","v":12},{"$f":"N316+3","v":"2021-03-15"},null,null,{"$f":"B326+1","v":"2021-03-16"},null,null,{"$f":"E326+1","v":"2021-03-17"},null,null,{"$f":"H326+1","v":"2021-03-18"},null,null,{"$f":"K326+1","v":"2021-03-19"}]
[null,{"$f":"B317","v":0},null,null,{"$f":"E317","v":0},null,null,{"$f":"H317","v":0},null,null,{"$f":"K317","v":0},null,null,{"$f":"N317","v":0}]
[33,0,null,null,0,null,null,0,null,null,0,null,null,0]
[null,23,null,null,0,null,null,0,null,null,0,null,null,0]
[null,0,null,null,0,null,null,0,null,null,0,null,null,0]
[null,0,null,null,0,null,null,0,null,null,0,null,null,0]
[null,0,null,null,0,null,null,0,null,null,0,null,null,0]
[]
[]
[null,null,{"$f":"'1-2a'!$C$335","v":0},null,null,{"$f":"'1-2a'!$F$335","v":0},null,null,{"$f":"'1-2a'!$I$335","v":0},null,null,{"$f":"'1-2a'!$L$335","v":0},null,null,{"$f":"'1-2a'!$O$335","v":0}]
[{"$f":"IF(A326=52,1,A326+1)","v":13},{"$f":"N326+3","v":"2021-03-22"},null,null,{"$f":"B336+1","v":"2021-03-23"},null,null,{"$f":"E336+1","v":"2021-03-24"},null,null,{"$f":"H336+1","v":"2021-03-25"},null,null,{"$f":"K336+1","v":"2021-03-26"}]
[null,{"$f":"B327","v":0},null,null,{"$f":"E327","v":0},null,null,{"$f":"H327","v":0},null,null,{"$f":"K327","v":0},null,null,{"$f":"N327","v":0}]
[34,0,null,null,0,null,null,0,null,null,0,null,null,0]
[null,23,null,null,0,null,null,0,null,null,0,null,null,0]
[null,0,null,null,0,null,null,0,null,null,0,null,null,0]
[null,0,null,null,0,null,null,0,null,null,{"$f":"K331","v":0},null,null,0]
[null,0,null,null,0,null,null,0,null,null,0,null,null,0]
[]
[]
[null,null,{"$f":"'1-2a'!$C$345","v":0},null,null,{"$f":"'1-2a'!$F$345","v":0},null,null,{"$f":"'1-2a'!$I$345","v":0},null,null,{"$f":"'1-2a'!$L$345","v":0},null,null,{"$f":"'1-2a'!$O$345","v":0}]
[{"$f":"IF(A336=52,1,A336+1)","v":14},{"$f":"N336+3","v":"2021-03-29"},null,null,{"$f":"B346+1","v":"2021-03-30"},null,null,{"$f":"E346+1","v":"2021-03-31"},null,null,{"$f":"H346+1","v":"2021-04-01"},null,null,{"$f":"K346+1","v":"2021-04-02"}]
[null,{"$f":"B337","v":0},null,null,{"$f":"E337","v":0},null,null,{"$f":"H337","v":0},null,null,{"$f":"K337","v":0},null,null,{"$f":"N337","v":0}]
[35,0,null,null,0,null,null,0,null,null,0,null,null,0]
[null,23,null,null,0,null,null,0,null,null,0,null,null,0]
[null,0,null,null,0,null,null,0,null,null,0,null,null,0]
[null,0,null,null,0,null,null,0,null,null,{"$f":"K341","v":0},null,null,0]
[null,0,null,null,0,null,null,0,null,null,0,null,null,0]
[]
[]
[null,null,{"$f":"'1-2a'!$C$355","v":0},null,null,{"$f":"'1-2a'!$F$355","v":0},null,null,{"$f":"'1-2a'!$I$355","v":0},null,null,{"$f":"'1-2a'!$L$355","v":0},null,null,{"$f":"'1-2a'!$O$355","v":0}]
[{"$f":"IF(A346=52,1,A346+1)","v":15},{"$f":"N346+3","v":"2021-04-05"},null,null,{"$f":"B356+1","v":"2021-04-06"},null,null,{"$f":"E356+1","v":"2021-04-07"},null,null,{"$f":"H356+1","v":"2021-04-08"},null,null,{"$f":"K356+1","v":"2021-04-09"}]
[null,{"$f":"B347","v":0},null,null,{"$f":"E347","v":0},null,null,{"$f":"H347","v":0},null,null,{"$f":"K347","v":0},null,null,{"$f":"N347","v":0}]
[36,0,null,null,0,null,null,0,null,null,0,null,null,0]
[null,23,null,null,0,null,null,0,null,null,0,null,null,0]
[null,0,null,null,0,null,null,0,null,null,0,null,null,0]
[null,0,null,null,0,null,null,0,null,null,{"$f":"K351","v":0},null,null,0]
[null,0,null,null,0,null,null,0,null,null,0,null,null,0]
[]
[]
[null,null,{"$f":"'1-2a'!$C$365","v":0},null,null,{"$f":"'1-2a'!$F$365","v":0},null,null,{"$f":"'1-2a'!$I$365","v":0},null,null,{"$f":"'1-2a'!$L$365","v":0},null,null,{"$f":"'1-2a'!$O$365","v":0}]
[{"$f":"IF(A356=52,1,A356+1)","v":16},{"$f":"N356+3","v":"2021-04-12"},null,null,{"$f":"B366+1","v":"2021-04-13"},null,null,{"$f":"E366+1","v":"2021-04-14"},null,null,{"$f":"H366+1","v":"2021-04-15"},null,null,{"$f":"K366+1","v":"2021-04-16"}]
[null,{"$f":"B357","v":0},null,null,{"$f":"E357","v":0},null,null,{"$f":"H357","v":0},null,null,{"$f":"K357","v":0},null,null,{"$f":"N357","v":0}]
[37,0,null,null,0,null,null,0,null,null,0,null,null,0]
[null,23,null,null,0,null,null,0,null,null,0,null,null,0]
[null,0,null,null,0,null,null,0,null,null,0,null,null,0]
[null,0,null,null,0,null,null,0,null,null,{"$f":"K361","v":0},null,null,0]
[null,0,null,null,0,null,null,0,null,null,0,null,null,0]
[]
[]
[null,null,{"$f":"'1-2a'!$C$375","v":0},null,null,{"$f":"'1-2a'!$F$375","v":0},null,null,{"$f":"'1-2a'!$I$375","v":0},null,null,{"$f":"'1-2a'!$L$375","v":0},null,null,{"$f":"'1-2a'!$O$375","v":0}]
[{"$f":"IF(A366=52,1,A366+1)","v":17},{"$f":"N366+3","v":"2021-04-19"},null,null,{"$f":"B376+1","v":"2021-04-20"},null,null,{"$f":"E376+1","v":"2021-04-21"},null,null,{"$f":"H376+1","v":"2021-04-22"},null,null,{"$f":"K376+1","v":"2021-04-23"}]
[null,{"$f":"B367","v":0},null,null,{"$f":"E367","v":0},null,null,{"$f":"H367","v":0},null,null,{"$f":"K367","v":0},null,null,{"$f":"N367","v":0}]
[38,0,null,null,0,null,null,0,null,null,0,null,null,0]
[null,23,null,null,0,null,null,0,null,null,0,null,null,0]
[null,0,null,null,0,null,null,0,null,null,0,null,null,0]
[null,0,null,null,0,null,null,0,null,null,{"$f":"K371","v":0},null,null,0]
[null,0,null,null,0,null,null,0,null,null,0,null,null,0]
[]
[]
[null,null,{"$f":"'1-2a'!$C$385","v":0},null,null,{"$f":"'1-2a'!$F$385","v":0},null,null,{"$f":"'1-2a'!$I$385","v":0},null,null,{"$f":"'1-2a'!$L$385","v":0},null,null,{"$f":"'1-2a'!$O$385","v":0}]
[{"$f":"IF(A376=52,1,A376+1)","v":18},{"$f":"N376+3","v":"2021-04-26"},null,null,{"$f":"B386+1","v":"2021-04-27"},null,null,{"$f":"E386+1","v":"2021-04-28"},null,null,{"$f":"H386+1","v":"2021-04-29"},null,null,{"$f":"K386+1","v":"2021-04-30"}]
[null,{"$f":"B377","v":0},null,null,{"$f":"E377","v":0},null,null,{"$f":"H377","v":0},null,null,{"$f":"K377","v":0},null,null,{"$f":"N377","v":0}]
[39,0,null,null,0,null,null,0,null,null,0,null,null,0]
[null,23,null,null,0,null,null,0,null,null,0,null,null,0]
[null,0,null,null,0,null,null,0,null,null,0,null,null,0]
[null,0,null,null,0,null,null,0,null,null,{"$f":"K381","v":0},null,null,0]
[null,0,null,null,0,null,null,0,null,null,0,null,null,0]
[]
[]
[null,null,{"$f":"'1-2a'!$C$395","v":0},null,null,{"$f":"'1-2a'!$F$395","v":0},null,null,{"$f":"'1-2a'!$I$395","v":0},null,null,{"$f":"'1-2a'!$L$395","v":0},null,null,{"$f":"'1-2a'!$O$395","v":0}]
[{"$f":"IF(A386=52,1,A386+1)","v":19},{"$f":"N386+3","v":"2021-05-03"},null,null,{"$f":"B396+1","v":"2021-05-04"},null,null,{"$f":"E396+1","v":"2021-05-05"},null,null,{"$f":"H396+1","v":"2021-05-06"},null,null,{"$f":"K396+1","v":"2021-05-07"}]
[null,{"$f":"B387","v":0},null,null,{"$f":"E387","v":0},null,null,{"$f":"H387","v":0},null,null,{"$f":"K387","v":0},null,null,{"$f":"N387","v":0}]
[40,0,null,null,0,null,null,0,null,null,0,null,null,0]
[null,23,null,null,0,null,null,0,null,null,0,null,null,0]
[null,0,null,null,0,null,null,0,null,null,0,null,null,0]
[null,0,null,null,0,null,null,0,null,null,{"$f":"K391","v":0},null,null,0]
[null,0,null,null,0,null,null,0,null,null,0,null,null,0]
[]
[]
[null,null,{"$f":"'1-2a'!$C$405","v":0},null,null,{"$f":"'1-2a'!$F$405","v":0},null,null,{"$f":"'1-2a'!$I$405","v":0},null,null,{"$f":"'1-2a'!$L$405","v":0},null,null,{"$f":"'1-2a'!$O$405","v":0}]
[{"$f":"IF(A396=52,1,A396+1)","v":20},{"$f":"N396+3","v":"2021-05-10"},null,null,{"$f":"B406+1","v":"2021-05-11"},null,null,{"$f":"E406+1","v":"2021-05-12"},null,null,{"$f":"H406+1","v":"2021-05-13"},null,null,{"$f":"K406+1","v":"2021-05-14"}]
[null,{"$f":"B397","v":0},null,null,{"$f":"E397","v":0},null,null,{"$f":"H397","v":0},null,null,{"$f":"K397","v":0},null,null,{"$f":"N397","v":0}]
[41,0,null,null,0,null,null,0,null,null,0,null,null,0]
[null,23,null,null,0,null,null,0,null,null,0,null,null,0]
[null,0,null,null,0,null,null,0,null,null,0,null,null,0]
[null,0,null,null,0,null,null,0,null,null,0,null,null,0]
[null,0,null,null,0,null,null,0,null,null,0,null,null,0]
[]
[]
[null,null,{"$f":"'1-2a'!$C$415","v":0},null,null,{"$f":"'1-2a'!$F$415","v":0},null,null,{"$f":"'1-2a'!$I$415","v":0},null,null,{"$f":"'1-2a'!$L$415","v":0},null,null,{"$f":"'1-2a'!$O$415","v":0}]
[{"$f":"IF(A406=52,1,A406+1)","v":21},{"$f":"N406+3","v":"2021-05-17"},null,null,{"$f":"B416+1","v":"2021-05-18"},null,null,{"$f":"E416+1","v":"2021-05-19"},null,null,{"$f":"H416+1","v":"2021-05-20"},null,null,{"$f":"K416+1","v":"2021-05-21"}]
[null,{"$f":"B407","v":0},null,null,{"$f":"E407","v":0},null,null,{"$f":"H407","v":0},null,null,{"$f":"K407","v":0},null,null,{"$f":"N407","v":0}]
[42,0,null,null,0,null,null,0,null,null,0,null,null,0]
[null,23,null,null,0,null,null,0,null,null,0,null,null,0]
[null,0,null,null,0,null,null,0,null,null,0,null,null,0]
[null,0,null,null,0,null,null,0,null,null,{"$f":"K411","v":0},null,null,0]
[null,0,null,null,0,null,null,0,null,null,0,null,null,0]
[]
[]
[null,null,{"$f":"'1-2a'!$C$425","v":0},null,null,{"$f":"'1-2a'!$F$425","v":0},null,null,{"$f":"'1-2a'!$I$425","v":0},null,null,{"$f":"'1-2a'!$L$425","v":0},null,null,{"$f":"'1-2a'!$O$425","v":0}]
[{"$f":"IF(A416=52,1,A416+1)","v":22},{"$f":"N416+3","v":"2021-05-24"},null,null,{"$f":"B426+1","v":"2021-05-25"},null,null,{"$f":"E426+1","v":"2021-05-26"},null,null,{"$f":"H426+1","v":"2021-05-27"},null,null,{"$f":"K426+1","v":"2021-05-28"}]
[null,{"$f":"B417","v":0},null,null,{"$f":"E417","v":0},null,null,{"$f":"H417","v":0},null,null,{"$f":"K417","v":0},null,null,{"$f":"N417","v":0}]
[43,0,null,null,0,null,null,0,null,null,0,null,null,0]
[null,23,null,null,0,null,null,0,null,null,0,null,null,0]
[null,0,null,null,0,null,null,0,null,null,0,null,null,0]
[null,0,null,null,0,null,null,0,null,null,{"$f":"K421","v":0},null,null,0]
[null,0,null,null,0,null,null,0,null,null,0,null,null,0]
[]
[]
[null,null,{"$f":"'1-2a'!$C$435","v":0},null,null,{"$f":"'1-2a'!$F$435","v":0},null,null,{"$f":"'1-2a'!$I$435","v":0},null,null,{"$f":"'1-2a'!$L$435","v":0},null,null,{"$f":"'1-2a'!$O$435","v":0}]
[{"$f":"IF(A426=52,1,A426+1)","v":23},{"$f":"N426+3","v":"2021-05-31"},null,null,{"$f":"B436+1","v":"2021-06-01"},null,null,{"$f":"E436+1","v":"2021-06-02"},null,null,{"$f":"H436+1","v":"2021-06-03"},null,null,{"$f":"K436+1","v":"2021-06-04"}]
[null,{"$f":"B427","v":0},null,null,{"$f":"E427","v":0},null,null,{"$f":"H427","v":0},null,null,{"$f":"K427","v":0},null,null,{"$f":"N427","v":0}]
[44,0,null,null,0,null,null,0,null,null,0,null,null,0]
[null,23,null,null,0,null,null,0,null,null,0,null,null,0]
[null,0,null,null,0,null,null,0,null,null,0,null,null,0]
[null,0,null,null,0,null,null,0,null,null,{"$f":"K431","v":0},null,null,0]
[null,0,null,null,0,null,null,0,null,null,0,null,null,0]
[]
[]
[null,null,{"$f":"'1-2a'!$C$445","v":0},null,null,{"$f":"'1-2a'!$F$445","v":0},null,null,{"$f":"'1-2a'!$I$445","v":0},null,null,{"$f":"'1-2a'!$L$445","v":0},null,null,{"$f":"'1-2a'!$O$445","v":0}]
[{"$f":"IF(A436=52,1,A436+1)","v":24},{"$f":"N436+3","v":"2021-06-07"},null,null,{"$f":"B446+1","v":"2021-06-08"},null,null,{"$f":"E446+1","v":"2021-06-09"},null,null,{"$f":"H446+1","v":"2021-06-10"},null,null,{"$f":"K446+1","v":"2021-06-11"}]
[null,{"$f":"B437","v":0},null,null,{"$f":"E437","v":0},null,null,{"$f":"H437","v":0},null,null,{"$f":"K437","v":0},null,null,{"$f":"N437","v":0}]
[45,0,null,null,0,null,null,0,null,null,0,null,null,0]
[null,23,null,null,0,null,null,0,null,null,0,null,null,0]
[null,0,null,null,0,null,null,0,null,null,0,null,null,0]
[null,0,null,null,0,null,null,0,null,null,{"$f":"K441","v":0},null,null,0]
[null,0,null,null,0,null,null,0,null,null,0,null,null,0]
[]
[]
[null,null,{"$f":"'1-2a'!$C$455","v":0},null,null,{"$f":"'1-2a'!$F$455","v":0},null,null,{"$f":"'1-2a'!$I$455","v":0},null,null,{"$f":"'1-2a'!$L$455","v":0},null,null,{"$f":"'1-2a'!$O$455","v":0}]
[{"$f":"IF(A446=52,1,A446+1)","v":25},{"$f":"N446+3","v":"2021-06-14"},null,null,{"$f":"B456+1","v":"2021-06-15"},null,null,{"$f":"E456+1","v":"2021-06-16"},null,null,{"$f":"H456+1","v":"2021-06-17"},null,null,{"$f":"K456+1","v":"2021-06-18"}]
[null,{"$f":"B447","v":0},null,null,{"$f":"E447","v":0},null,null,{"$f":"H447","v":0},null,null,{"$f":"K447","v":0},null,null,{"$f":"N447","v":0}]
[46,0,null,null,0,null,null,0,null,null,0,null,null,0]
[null,23,null,null,0,null,null,0,null,null,0,null,null,0]
[null,0,null,null,0,null,null,0,null,null,0,null,null,0]
[null,0,null,null,0,null,null,0,null,null,{"$f":"K451","v":0},null,null,0]
[null,0,null,null,0,null,null,0,null,null,0,null,null,0]
[]
[]
[null,null,{"$f":"'1-2a'!$C$465","v":0},null,null,{"$f":"'1-2a'!$F$465","v":0},null,null,{"$f":"'1-2a'!$I$465","v":0},null,null,{"$f":"'1-2a'!$L$465","v":0},null,null,{"$f":"'1-2a'!$O$465","v":0}]
[{"$f":"IF(A456=52,1,A456+1)","v":26},{"$f":"N456+3","v":"2021-06-21"},null,null,{"$f":"B466+1","v":"2021-06-22"},null,null,{"$f":"E466+1","v":"2021-06-23"},null,null,{"$f":"H466+1","v":"2021-06-24"},null,null,{"$f":"K466+1","v":"2021-06-25"}]
[null,{"$f":"B457","v":0},null,null,{"$f":"E457","v":0},null,null,{"$f":"H457","v":0},null,null,{"$f":"K457","v":0},null,null,{"$f":"N457","v":0}]
[47,0,null,null,0,null,null,0,null,null,0,null,null,0]
[null,23,null,null,0,null,null,0,null,null,0,null,null,0]
[null,0,null,null,0,null,null,0,null,null,0,null,null,0]
[null,0,null,null,0,null,null,0,null,null,{"$f":"K461","v":0},null,null,0]
[null,0,null,null,0,null,null,0,null,null,0,null,null,0]
[]
[]
[null,null,{"$f":"'1-2a'!$C$475","v":0},null,null,{"$f":"'1-2a'!$F$475","v":0},null,null,{"$f":"'1-2a'!$I$475","v":0},null,null,{"$f":"'1-2a'!$L$475","v":0},null,null,{"$f":"'1-2a'!$O$475","v":0}]
[{"$f":"IF(A466=52,1,A466+1)","v":27},{"$f":"N466+3","v":"2021-06-28"},null,null,{"$f":"B476+1","v":"2021-06-29"},null,null,{"$f":"E476+1","v":"2021-06-30"},null,null,{"$f":"H476+1","v":"2021-07-01"},null,null,{"$f":"K476+1","v":"2021-07-02"}]
[null,{"$f":"B467","v":0},null,null,{"$f":"E467","v":0},null,null,{"$f":"H467","v":0},null,null,{"$f":"K467","v":0},null,null,{"$f":"N467","v":0}]
[48,0,null,null,0,null,null,0,null,null,0,null,null,0]
[null,23,null,null,0,null,null,0,null,null,0,null,null,0]
[null,0,null,null,0,null,null,0,null,null,0,null,null,0]
[null,0,null,null,0,null,null,0,null,null,{"$f":"K471","v":0},null,null,0]
[null,0,null,null,0,null,null,0,null,null,0,null,null,0]
[]
[]
[null,null,{"$f":"'1-2a'!$C$485","v":0},null,null,{"$f":"'1-2a'!$F$485","v":0},null,null,{"$f":"'1-2a'!$I$485","v":0},null,null,{"$f":"'1-2a'!$L$485","v":0},null,null,{"$f":"'1-2a'!$O$485","v":0}]
[{"$f":"IF(A476=52,1,A476+1)","v":28},{"$f":"N476+3","v":"2021-07-05"},null,null,{"$f":"B486+1","v":"2021-07-06"},null,null,{"$f":"E486+1","v":"2021-07-07"},null,null,{"$f":"H486+1","v":"2021-07-08"},null,null,{"$f":"K486+1","v":"2021-07-09"}]
[null,{"$f":"B477","v":0},null,null,{"$f":"E477","v":0},null,null,{"$f":"H477","v":0},null,null,{"$f":"K477","v":0},null,null,{"$f":"N477","v":0}]
[49,0,null,null,0,null,null,0,null,null,0,null,null,0]
[null,23,null,null,0,null,null,0,null,null,0,null,null,0]
[null,0,null,null,0,null,null,0,null,null,0,null,null,0]
[null,0,null,null,0,null,null,0,null,null,0,null,null,0]
[null,0,null,null,0,null,null,0,null,null,0,null,null,0]
[]
[]
[null,null,{"$f":"'1-2a'!$C$495","v":0},null,null,{"$f":"'1-2a'!$F$495","v":0},null,null,{"$f":"'1-2a'!$I$495","v":0},null,null,{"$f":"'1-2a'!$L$495","v":0},null,null,{"$f":"'1-2a'!$O$495","v":0}]
[{"$f":"IF(A486=52,1,A486+1)","v":29},{"$f":"N486+3","v":"2021-07-12"},null,null,{"$f":"B496+1","v":"2021-07-13"},null,null,{"$f":"E496+1","v":"2021-07-14"},null,null,{"$f":"H496+1","v":"2021-07-15"},null,null,{"$f":"K496+1","v":"2021-07-16"}]
[null,{"$f":"B487","v":0},null,null,{"$f":"E487","v":0},null,null,{"$f":"H487","v":0},null,null,{"$f":"K487","v":0},null,null,{"$f":"N487","v":0}]
[50,0,null,null,0,null,null,0,null,null,0]
[null,23,null,null,0,null,null,0,null,null,0,null,null,0]
[null,0,null,null,0,null,null,0,null,null,0,null,null,0]
[null,0,null,null,0,null,null,0,null,null,{"$f":"K491","v":0},null,null,0]
[null,0,null,null,0,null,null,0,null,null,0]

{"sheet":"24","index":24,"n_rows":502,"n_cols":15,"rows_kept":502,"cut":false,"hidden":false,"merged":[[5,1,5,3],[5,4,5,6],[5,7,5,9],[5,10,5,12],[5,13,5,15],[7,0,8,0],[1,1,2,7],[1,9,2,12],[1,13,2,15],[3,1,3,3],[3,4,3,6],[3,7,3,9],[3,10,3,12],[3,13,3,15],[12,1,13,3],[12,4,13,6],[12,7,13,9],[12,10,13,12],[12,13,13,15],[15,1,15,3],[15,4,15,6],[15,7,15,9],[15,10,15,12],[15,13,15,15],[25,1,25,3],[25,4,25,6],[25,7,25,9],[25,10,25,12],[25,13,25,15],[27,0,28,0],[17,0,18,0],[22,1,23,3],[22,4,23,6],[22,7,23,9],[22,10,23,12],[22,13,23,15],[32,1,33,3],[32,4,33,6],[32,7,33,9],[32,10,33,12],[32,13,33,15],[35,1,35,3],[35,4,35,6],[35,7,35,9],[35,10,35,12],[35,13,35,15],[45,1,45,3],[45,4,45,6],[45,7,45,9],[45,10,45,12],[45,13,45,15],[47,0,48,0],[37,0,38,0],[42,1,43,3],[42,4,43,6],[42,7,43,9],[42,10,43,12],[42,13,43,15],[52,1,53,3],[52,4,53,6],[52,7,53,9],[52,10,53,12],[52,13,53,15],[55,1,55,3],[55,4,55,6],[55,7,55,9],[55,10,55,12],[55,13,55,15],[65,1,65,3],[65,4,65,6],[65,7,65,9],[65,10,65,12],[65,13,65,15],[67,0,68,0],[57,0,58,0],[62,1,63,3],[62,4,63,6],[62,7,63,9],[62,10,63,12],[62,13,63,15],[72,1,73,3],[72,4,73,6],[72,7,73,9],[72,10,73,12],[72,13,73,15],[75,1,75,3],[75,4,75,6],[75,7,75,9],[75,10,75,12],[75,13,75,15],[85,1,85,3],[85,4,85,6],[85,7,85,9],[85,10,85,12],[85,13,85,15],[87,0,88,0],[77,0,78,0],[82,1,83,3],[82,4,83,6],[82,7,83,9],[82,10,83,12],[82,13,83,15],[92,1,93,3],[92,4,93,6],[92,7,93,9],[92,10,93,12],[92,13,93,15],[95,1,95,3],[95,4,95,6],[95,7,95,9],[95,10,95,12],[95,13,95,15],[105,1,105,3],[105,4,105,6],[105,7,105,9],[105,10,105,12],[105,13,105,15],[107,0,108,0],[97,0,98,0],[99,16,100,19],[102,1,103,3],[102,4,103,6],[102,7,103,9],[102,10,103,12],[102,13,103,15],[112,1,113,3],[112,4,113,6],[112,7,113,9],[112,10,113,12],[112,13,113,15],[115,1,115,3],[115,4,115,6],[115,7,115,9],[115,10,115,12],[115,13,115,15],[125,1,125,3],[125,4,125,6],[125,7,125,9],[125,10,125,12],[125,13,125,15],[127,0,128,0],[117,0,118,0],[122,1,123,3],[122,4,123,6],[122,7,123,9],[122,10,123,12],[122,13,123,15],[132,1,133,3],[132,4,133,6],[132,7,133,9],[132,10,133,12],[132,13,133,15],[135,1,135,3],[135,4,135,6],[135,7,135,9],[135,10,135,12],[135,13,135,15],[145,1,145,3],[145,4,145,6],[145,7,145,9],[145,10,145,12],[145,13,145,15],[147,0,148,0],[137,0,138,0],[142,1,143,3],[142,4,143,6],[142,7,143,9],[142,10,143,12],[142,13,143,15],[152,1,153,3],[152,4,153,6],[152,7,153,9],[152,10,153,12],[152,13,153,15],[155,1,155,3],[155,4,155,6],[155,7,155,9],[155,10,155,12],[155,13,155,15],[165,1,165,3],[165,4,165,6],[165,7,165,9],[165,10,165,12],[165,13,165,15],[167,0,168,0],[157,0,158,0],[162,1,163,3],[162,4,163,6],[162,7,163,9],[162,10,163,12],[162,13,163,15],[172,1,173,3],[172,4,173,6],[172,7,173,9],[172,10,173,12],[172,13,173,15],[175,1,175,3],[175,4,175,6],[175,7,175,9],[175,10,175,12],[175,13,175,15],[185,1,185,3],[185,4,185,6],[185,7,185,9],[185,10,185,12],[185,13,185,15],[187,0,188,0],[177,0,178,0],[179,16,180,19],[182,1,183,3],[182,4,183,6],[182,7,183,9],[182,10,183,12],[182,13,183,15],[192,1,193,3],[192,4,193,6],[192,7,193,9],[192,10,193,12],[192,13,193,15],[195,1,195,3],[195,4,195,6],[195,7,195,9],[195,10,195,12],[195,13,195,15],[205,1,205,3],[205,4,205,6],[205,7,205,9],[205,10,205,12],[205,13,205,15],[207,0,208,0],[197,0,198,0],[202,1,203,3],[202,4,203,6],[202,7,203,9],[202,10,203,12],[202,13,203,15],[212,1,213,3],[212,4,213,6],[212,7,213,9],[212,10,213,12],[212,13,213,15],[215,1,215,3],[215,4,215,6],[215,7,215,9],[215,10,215,12],[215,13,215,15],[225,1,225,3],[225,4,225,6],[225,7,225,9],[225,10,225,12],[225,13,225,15],[227,0,228,0],[217,0,218,0],[222,1,223,3],[222,4,223,6],[222,7,223,9],[222,10,223,12],[222,13,223,15],[232,1,233,3],[232,4,233,6],[232,7,233,9],[232,10,233,12],[232,13,233,15],[235,1,235,3],[235,4,235,6],[235,7,235,9],[235,10,235,12],[235,13,235,15],[245,1,245,3],[245,4,245,6],[245,7,245,9],[245,10,245,12],[245,13,245,15],[247,0,248,0],[237,0,238,0],[242,1,243,3],[242,4,243,6],[242,7,243,9],[242,10,243,12],[242,13,243,15],[252,1,253,3],[252,4,253,6],[252,7,253,9],[252,10,253,12],[252,13,253,15],[255,1,255,3],[255,4,255,6],[255,7,255,9],[255,10,255,12],[255,13,255,15],[265,1,265,3],[265,4,265,6],[265,7,265,9],[265,10,265,12],[265,13,265,15],[267,0,268,0],[257,0,258,0],[259,16,260,19],[262,1,263,3],[262,4,263,6],[262,7,263,9],[262,10,263,12],[262,13,263,15],[272,1,273,3],[272,4,273,6],[272,7,273,9],[272,10,273,12],[272,13,273,15],[275,1,275,3],[275,4,275,6],[275,7,275,9],[275,10,275,12],[275,13,275,15],[285,1,285,3],[285,4,285,6],[285,7,285,9],[285,10,285,12],[285,13,285,15],[287,0,288,0],[277,0,278,0],[282,1,283,3],[282,4,283,6],[282,7,283,9],[282,10,283,12],[282,13,283,15],[292,1,293,3],[292,4,293,6],[292,7,293,9],[292,10,293,12],[292,13,293,15],[295,1,295,3],[295,4,295,6],[295,7,295,9],[295,10,295,12],[295,13,295,15],[305,1,305,3],[305,4,305,6],[305,7,305,9],[305,10,305,12],[305,13,305,15],[307,0,308,0],[297,0,298,0],[302,1,303,3],[302,4,303,6],[302,7,303,9],[302,10,303,12],[302,13,303,15],[312,1,313,3],[312,4,313,6],[312,7,313,9],[312,10,313,12],[312,13,313,15],[315,1,315,3],[315,4,315,6],[315,7,315,9],[315,10,315,12],[315,13,315,15],[325,1,325,3],[325,4,325,6],[325,7,325,9],[325,10,325,12],[325,13,325,15],[327,0,328,0],[317,0,318,0],[322,1,323,3],[322,4,323,6],[322,7,323,9],[322,10,323,12],[322,13,323,15],[332,1,333,3],[332,4,333,6],[332,7,333,9],[332,10,333,12],[332,13,333,15],[335,1,335,3],[335,4,335,6],[335,7,335,9],[335,10,335,12],[335,13,335,15],[345,1,345,3],[345,4,345,6],[345,7,345,9],[345,10,345,12],[345,13,345,15],[347,0,348,0],[337,0,338,0],[339,16,340,19],[342,1,343,3],[342,4,343,6],[342,7,343,9],[342,10,343,12],[342,13,343,15],[352,1,353,3],[352,4,353,6],[352,7,353,9],[352,10,353,12],[352,13,353,15],[355,1,355,3],[355,4,355,6],[355,7,355,9],[355,10,355,12],[355,13,355,15],[365,1,365,3],[365,4,365,6],[365,7,365,9],[365,10,365,12],[365,13,365,15],[367,0,368,0],[357,0,358,0],[362,1,363,3],[362,4,363,6],[362,7,363,9],[362,10,363,12],[362,13,363,15],[372,1,373,3],[372,4,373,6],[372,7,373,9],[372,10,373,12],[372,13,373,15],[375,1,375,3],[375,4,375,6],[375,7,375,9],[375,10,375,12],[375,13,375,15],[385,1,385,3],[385,4,385,6],[385,7,385,9],[385,10,385,12],[385,13,385,15],[387,0,388,0],[377,0,378,0],[382,1,383,3],[382,4,383,6],[382,7,383,9],[382,10,383,12],[382,13,383,15],[392,1,393,3],[392,4,393,6],[392,7,393,9],[392,10,393,12],[392,13,393,15],[395,1,395,3],[395,4,395,6],[395,7,395,9],[395,10,395,12],[395,13,395,15],[405,1,405,3],[405,4,405,6],[405,7,405,9],[405,10,405,12],[405,13,405,15],[407,0,408,0],[397,0,398,0],[402,1,403,3],[402,4,403,6],[402,7,403,9],[402,10,403,12],[402,13,403,15],[412,1,413,3],[412,4,413,6],[412,7,413,9],[412,10,413,12],[412,13,413,15],[415,1,415,3],[415,4,415,6],[415,7,415,9],[415,10,415,12],[415,13,415,15],[425,1,425,3],[425,4,425,6],[425,7,425,9],[425,10,425,12],[425,13,425,15],[427,0,428,0],[417,0,418,0],[419,16,420,19],[422,1,423,3],[422,4,423,6],[422,7,423,9],[422,10,423,12],[422,13,423,15],[432,1,433,3],[432,4,433,6],[432,7,433,9],[432,10,433,12],[432,13,433,15],[435,1,435,3],[435,4,435,6],[435,7,435,9],[435,10,435,12],[435,13,435,15],[445,1,445,3],[445,4,445,6],[445,7,445,9],[445,10,445,12],[445,13,445,15],[447,0,448,0],[437,0,438,0],[442,1,443,3],[442,4,443,6],[442,7,443,9],[442,10,443,12],[442,13,443,15],[452,1,453,3],[452,4,453,6],[452,7,453,9],[452,10,453,12],[452,13,453,15],[455,1,455,3],[455,4,455,6],[455,7,455,9],[455,10,455,12],[455,13,455,15],[465,1,465,3],[465,4,465,6],[465,7,465,9],[465,10,465,12],[465,13,465,15],[467,0,468,0],[457,0,458,0],[462,1,463,3],[462,4,463,6],[462,7,463,9],[462,10,463,12],[462,13,463,15],[472,1,473,3],[472,4,473,6],[472,7,473,9],[472,10,473,12],[472,13,473,15],[475,1,475,3],[475,4,475,6],[475,7,475,9],[475,10,475,12],[475,13,475,15],[485,1,485,3],[485,4,485,6],[485,7,485,9],[485,10,485,12],[485,13,485,15],[487,0,488,0],[477,0,478,0],[482,1,483,3],[482,4,483,6],[482,7,483,9],[482,10,483,12],[482,13,483,15],[497,0,498,0],[499,16,500,19],[502,1,503,3],[502,4,503,6],[502,7,503,9],[502,10,503,12],[502,13,503,15],[492,1,493,3],[492,4,493,6],[492,7,493,9],[492,10,493,12],[492,13,493,15],[495,1,495,3],[495,4,495,6],[495,7,495,9],[495,10,495,12],[495,13,495,15]]}
[]
[null,{"$f":"'1-2a'!B2:H3","v":"Basisschool De Grote Beer        schooljaar 2020/2021"},null,null,null,null,null,null,null,"Groepsplanner van groep:",null,null,null,"24"]
[]
[null,"maandag 1e schoolweek",null,null,"dinsdag",null,null,"woensdag",null,null,"donderdag",null,null,"vrijdag"]
[null,null,{"$f":"'1-2a'!C$5","v":0},null,null,{"$f":"'1-2a'!F5","v":0},null,null,{"$f":"'1-2a'!I$5","v":0},null,null,{"$f":"'1-2a'!L$5","v":"s"},null,null,{"$f":"'1-2a'!O$5","v":0}]
[{"$f":"(B6-WEEKDAY(B6-1)+4-(TRUNC(DATE(YEAR(B6-WEEKDAY(B6-1)+4),1,2)/7)*7-2))/7","v":32},{"$f":"'1-2a'!B6:D6","v":"2020-08-03"},null,null,{"$f":"B6+1","v":"2020-08-04"},null,null,{"$f":"E6+1","v":"2020-08-05"},null,null,{"$f":"H6+1","v":"2020-08-06"},null,null,{"$f":"K6+1","v":"2020-08-07"}]
[null,null,null,null,null,null,null,null,null,null,null,null,null,"Jan"]
[1]
[]
[]
[]
[]
[]
[]
[null,null,{"$f":"'1-2a'!C$15","v":0},null,null,{"$f":"'1-2a'!F$15","v":0},null,null,{"$f":"'1-2a'!I$15","v":0},null,null,{"$f":"'1-2a'!L$15","v":0},null,null,{"$f":"'1-2a'!O15","v":0}]
[{"$f":"IF(A6=52,1,A6+1)","v":33},{"$f":"N6+3","v":"2020-08-10"},null,null,{"$f":"B16+1","v":"2020-08-11"},null,null,{"$f":"E16+1","v":"2020-08-12"},null,null,{"$f":"H16+1","v":"2020-08-13"},null,null,{"$f":"K16+1","v":"2020-08-14"}]
[null,{"$f":"B7","v":0},null,null,{"$f":"E7","v":0},null,null,{"$f":"H7","v":0},null,null,{"$f":"K7","v":0}]
[2,0,null,null,0,null,null,0,null,null,0]
[null,0,null,null,0,null,null,0,null,null,0]
[null,0,null,null,0,null,null,0,null,null,0]
[null,0,null,null,0,null,null,0,null,null,0]
[null,0,null,null,0,null,null,0,null,null,0]
[]
[]
[null,null,{"$f":"'1-2a'!C$25","v":0},null,null,{"$f":"'1-2a'!F$25","v":0},null,null,{"$f":"'1-2a'!I25","v":0},null,null,{"$f":"'1-2a'!L25","v":0},null,null,{"$f":"'1-2a'!O25","v":0}]
[{"$f":"IF(A16=52,1,A16+1)","v":34},{"$f":"N16+3","v":"2020-08-17"},null,null,{"$f":"B26+1","v":"2020-08-18"},null,null,{"$f":"E26+1","v":"2020-08-19"},null,null,{"$f":"H26+1","v":"2020-08-20"},null,null,{"$f":"K26+1","v":"2020-08-21"}]
[null,{"$f":"B17","v":0},null,null,{"$f":"E17","v":0},null,null,{"$f":"H17","v":0},null,null,{"$f":"K17","v":0},null,null,{"$f":"N17","v":0}]
[3,0,null,null,0,null,null,0,null,null,0,null,null,0]
[null,0,null,null,0,null,null,0,null,null,0,null,null,0]
[null,0,null,null,0,null,null,0,null,null,0,null,null,0]
[null,0,null,null,0,null,null,0,null,null,{"$f":"K21","v":0},null,null,0]
[null,0,null,null,0,null,null,0,null,null,0,null,null,0]
[]
[]
[null,null,{"$f":"'1-2a'!$C$35","v":0},null,null,{"$f":"'1-2a'!$F$35","v":0},null,null,{"$f":"'1-2a'!$I$35","v":0},null,null,{"$f":"'1-2a'!$L$35","v":0},null,null,{"$f":"'1-2a'!$O$35","v":0}]
[{"$f":"IF(A26=52,1,A26+1)","v":35},{"$f":"N26+3","v":"2020-08-24"},null,null,{"$f":"B36+1","v":"2020-08-25"},null,null,{"$f":"E36+1","v":"2020-08-26"},null,null,{"$f":"H36+1","v":"2020-08-27"},null,null,{"$f":"K36+1","v":"2020-08-28"}]
[null,{"$f":"B27","v":0},null,null,{"$f":"E27","v":0},null,null,{"$f":"H27","v":0},null,null,{"$f":"K27","v":0},null,null,{"$f":"N27","v":0}]
[4,0,null,null,0,null,null,0,null,null,0,null,null,0]
[null,0,null,null,0,null,null,0,null,null,0,null,null,0]
[null,0,null,null,0,null,null,0,null,null,0,null,null,0]
[null,0,null,null,0,null,null,0,null,null,{"$f":"K31","v":0},null,null,0]
[null,0,null,null,0,null,null,0,null,null,0,null,null,0]
[]
[]
[null,null,{"$f":"'1-2a'!$C$45","v":0},null,null,{"$f":"'1-2a'!$F$45","v":0},null,null,{"$f":"'1-2a'!$I$45","v":0},null,null,{"$f":"'1-2a'!$L$45","v":0},null,null,{"$f":"'1-2a'!$O$45","v":0}]
[{"$f":"IF(A36=52,1,A36+1)","v":36},{"$f":"N36+3","v":"2020-08-31"},null,null,{"$f":"B46+1","v":"2020-09-01"},null,null,{"$f":"E46+1","v":"2020-09-02"},null,null,{"$f":"H46+1","v":"2020-09-03"},null,null,{"$f":"K46+1","v":"2020-09-04"}]
[null,{"$f":"B37","v":0},null,null,{"$f":"E37","v":0},null,null,{"$f":"H37","v":0},null,null,{"$f":"K37","v":0},null,null,{"$f":"N37","v":0}]
[5,0,null,null,0,null,null,0,null,null,0,null,null,0]
[null,0,null,null,0,null,null,0,null,null,0,null,null,0]
[null,0,null,null,0,null,null,0,null,null,0,null,null,0]
[null,0,null,null,0,null,null,0,null,null,{"$f":"K41","v":0},null,null,0]
[null,0,null,null,0,null,null,0,null,null,0,null,null,0]
[]
[]
[null,null,{"$f":"'1-2a'!$C$55","v":0},null,null,{"$f":"'1-2a'!$F$55","v":0},null,null,{"$f":"'1-2a'!$I$55","v":0},null,null,{"$f":"'1-2a'!$L$55","v":0},null,null,{"$f":"'1-2a'!O55","v":0}]
[{"$f":"IF(A46=52,1,A46+1)","v":37},{"$f":"N46+3","v":"2020-09-07"},null,null,{"$f":"B56+1","v":"2020-09-08"},null,null,{"$f":"E56+1","v":"2020-09-09"},null,null,{"$f":"H56+1","v":"2020-09-10"},null,null,{"$f":"K56+1","v":"2020-09-11"}]
[null,{"$f":"B47","v":0},null,null,{"$f":"E47","v":0},null,null,{"$f":"H47","v":0},null,null,{"$f":"K47","v":0},null,null,{"$f":"N47","v":0}]
[6,0,null,null,0,null,null,0,null,null,0,null,null,0]
[null,0,null,null,0,null,null,0,null,null,0,null,null,0]
[null,0,null,null,0,null,null,0,null,null,0,null,null,0]
[null,0,null,null,0,null,null,0,null,null,{"$f":"K51","v":0},null,null,0]
[null,0,null,null,0,null,null,0,null,null,0,null,null,0]
[]
[]
[null,null,{"$f":"'1-2a'!$C$65","v":0},null,null,{"$f":"'1-2a'!$F$65","v":0},null,null,{"$f":"'1-2a'!$I$65","v":0},null,null,{"$f":"'1-2a'!$L$65","v":0},null,null,{"$f":"'1-2a'!$O$65","v":0}]
[{"$f":"IF(A56=52,1,A56+1)","v":38},{"$f":"N56+3","v":"2020-09-14"},null,null,{"$f":"B66+1","v":"2020-09-15"},null,null,{"$f":"E66+1","v":"2020-09-16"},null,null,{"$f":"H66+1","v":"2020-09-17"},null,null,{"$f":"K66+1","v":"2020-09-18"}]
[null,{"$f":"B57","v":0},null,null,{"$f":"E57","v":0},null,null,{"$f":"H57","v":0},null,null,{"$f":"K57","v":0},null,null,{"$f":"N57","v":0}]
[7,0,null,null,0,null,null,0,null,null,0,null,null,0]
[null,0,null,null,0,null,null,0,null,null,0,null,null,0]
[null,0,null,null,0,null,null,0,null,null,0,null,null,0]
[null,0,null,null,0,null,null,0,null,null,{"$f":"K61","v":0},null,null,0]
[null,0,null,null,0,null,null,0,null,null,0,null,null,0]
[]
[]
[null,null,{"$f":"'1-2a'!$C$75","v":0},null,null,{"$f":"'1-2a'!$F$75","v":0},null,null,{"$f":"'1-2a'!$I$75","v":0},null,null,{"$f":"'1-2a'!$L$75","v":0},null,null,{"$f":"'1-2a'!$O$75","v":0}]
[{"$f":"IF(A66=52,1,A66+1)","v":39},{"$f":"N66+3","v":"2020-09-21"},null,null,{"$f":"B76+1","v":"2020-09-22"},null,null,{"$f":"E76+1","v":"2020-09-23"},null,null,{"$f":"H76+1","v":"2020-09-24"},null,null,{"$f":"K76+1","v":"2020-09-25"}]
[null,{"$f":"B67","v":0},null,null,{"$f":"E67","v":0},null,null,{"$f":"H67","v":0},null,null,{"$f":"K67","v":0},null,null,{"$f":"N67","v":0}]
[8,0,null,null,0,null,null,0,null,null,0,null,null,0]
[null,0,null,null,0,null,null,0,null,null,0,null,null,0]
[null,0,null,null,0,null,null,0,null,null,0,null,null,0]
[null,0,null,null,0,null,null,0,null,null,{"$f":"K71","v":0},null,null,0]
[null,0,null,null,0,null,null,0,null,null,0,null,null,0]
[]
[]
[null,null,{"$f":"'1-2a'!$C$85","v":0},null,null,{"$f":"'1-2a'!$F$85","v":0},null,null,{"$f":"'1-2a'!$I$85","v":0},null,null,{"$f":"'1-2a'!$L$85","v":0},null,null,{"$f":"'1-2a'!$O$85","v":0}]
[{"$f":"IF(A76=52,1,A76+1)","v":40},{"$f":"N76+3","v":"2020-09-28"},null,null,{"$f":"B86+1","v":"2020-09-29"},null,null,{"$f":"E86+1","v":"2020-09-30"},null,null,{"$f":"H86+1","v":"2020-10-01"},null,null,{"$f":"K86+1","v":"2020-10-02"}]
[null,{"$f":"B77","v":0},null,null,{"$f":"E77","v":0},null,null,{"$f":"H77","v":0},null,null,{"$f":"K77","v":0},null,null,{"$f":"N77","v":0}]
[9,0,null,null,0,null,null,0,null,null,0,null,null,0]
[null,0,null,null,0,null,null,0,null,null,0,null,null,0]
[null,0,null,null,0,null,null,0,null,null,0,null,null,0]
[null,0,null,null,0,null,null,0,null,null,0,null,null,0]
[null,0,null,null,0,null,null,0,null,null,0,null,null,0]
[]
[]
[null,null,{"$f":"'1-2a'!$C$95","v":0},null,null,{"$f":"'1-2a'!$F$95","v":0},null,null,{"$f":"'1-2a'!$I$95","v":0},null,null,{"$f":"'1-2a'!$L$95","v":0},null,null,{"$f":"'1-2a'!$O$95","v":0}]
[{"$f":"IF(A86=52,1,A86+1)","v":41},{"$f":"N86+3","v":"2020-10-05"},null,null,{"$f":"B96+1","v":"2020-10-06"},null,null,{"$f":"E96+1","v":"2020-10-07"},null,null,{"$f":"H96+1","v":"2020-10-08"},null,null,{"$f":"K96+1","v":"2020-10-09"}]
[null,{"$f":"B87","v":0},null,null,{"$f":"E87","v":0},null,null,{"$f":"H87","v":0},null,null,{"$f":"K87","v":0},null,null,{"$f":"N87","v":0}]
[10,0,null,null,0,null,null,0,null,null,0,null,null,0]
[null,0,null,null,0,null,null,0,null,null,0,null,null,0]
[null,0,null,null,0,null,null,0,null,null,0,null,null,0]
[null,0,null,null,0,null,null,0,null,null,{"$f":"K91","v":0},null,null,0]
[null,0,null,null,0,null,null,0,null,null,0,null,null,0]
[]
[]
[null,null,{"$f":"'1-2a'!$C$105","v":0},null,null,{"$f":"'1-2a'!$F$105","v":0},null,null,{"$f":"'1-2a'!$I$105","v":0},null,null,{"$f":"'1-2a'!$L$105","v":0},null,null,{"$f":"'1-2a'!$O$105","v":0}]
[{"$f":"IF(A96=52,1,A96+1)","v":42},{"$f":"N96+3","v":"2020-10-12"},null,null,{"$f":"B106+1","v":"2020-10-13"},null,null,{"$f":"E106+1","v":"2020-10-14"},null,null,{"$f":"H106+1","v":"2020-10-15"},null,null,{"$f":"K106+1","v":"2020-10-16"}]
[null,{"$f":"B97","v":0},null,null,{"$f":"E97","v":0},null,null,{"$f":"H97","v":0},null,null,{"$f":"K97","v":0},null,null,{"$f":"N97","v":0}]
[11,0,null,null,0,null,null,0,null,null,0,null,null,0]
[null,0,null,null,0,null,null,0,null,null,0,null,null,0]
[null,0,null,null,0,null,null,0,null,null,0,null,null,0]
[null,0,null,null,0,null,null,0,null,null,{"$f":"K101","v":0},null,null,0]
[null,0,null,null,0,null,null,0,null,null,0,null,null,0]
[]
[]
[null,null,{"$f":"'1-2a'!$C$115","v":0},null,null,{"$f":"'1-2a'!$F$115","v":0},null,null,{"$f":"'1-2a'!$I$115","v":0},null,null,{"$f":"'1-2a'!$L$115","v":0},null,null,{"$f":"'1-2a'!$O$115","v":0}]
[{"$f":"IF(A106=52,1,A106+1)","v":43},{"$f":"N106+3","v":"2020-10-19"},null,null,{"$f":"B116+1","v":"2020-10-20"},null,null,{"$f":"E116+1","v":"2020-10-21"},null,null,{"$f":"H116+1","v":"2020-10-22"},null,null,{"$f":"K116+1","v":"2020-10-23"}]
[null,{"$f":"B107","v":0},null,null,{"$f":"E107","v":0},null,null,{"$f":"H107","v":0},null,null,{"$f":"K107","v":0},null,null,{"$f":"N107","v":0}]
[12,0,null,null,0,null,null,0,null,null,0,null,null,0]
[null,0,null,null,0,null,null,0,null,null,0,null,null,0]
[null,0,null,null,0,null,null,0,null,null,0,null,null,0]
[null,0,null,null,0,null,null,0,null,null,{"$f":"K111","v":0},null,null,0]
[null,0,null,null,0,null,null,0,null,null,0,null,null,0]
[]
[]
[null,null,{"$f":"'1-2a'!$C$125","v":0},null,null,{"$f":"'1-2a'!$F$125","v":0},null,null,{"$f":"'1-2a'!$I$125","v":0},null,null,{"$f":"'1-2a'!$L$125","v":0},null,null,{"$f":"'1-2a'!$O$125","v":0}]
[{"$f":"IF(A116=52,1,A116+1)","v":44},{"$f":"N116+3","v":"2020-10-26"},null,null,{"$f":"B126+1","v":"2020-10-27"},null,null,{"$f":"E126+1","v":"2020-10-28"},null,null,{"$f":"H126+1","v":"2020-10-29"},null,null,{"$f":"K126+1","v":"2020-10-30"}]
[null,{"$f":"B117","v":0},null,null,{"$f":"E117","v":0},null,null,{"$f":"H117","v":0},null,null,{"$f":"K117","v":0},null,null,{"$f":"N117","v":0}]
[13,0,null,null,0,null,null,0,null,null,0,null,null,0]
[null,0,null,null,0,null,null,0,null,null,0,null,null,0]
[null,0,null,null,0,null,null,0,null,null,0,null,null,0]
[null,0,null,null,0,null,null,0,null,null,{"$f":"K121","v":0},null,null,0]
[null,0,null,null,0,null,null,0,null,null,0,null,null,0]
[]
[]
[null,null,{"$f":"'1-2a'!$C$135","v":0},null,null,{"$f":"'1-2a'!$F$135","v":0},null,null,{"$f":"'1-2a'!$I$135","v":0},null,null,{"$f":"'1-2a'!$L$135","v":0},null,null,{"$f":"'1-2a'!$O$135","v":0}]
[{"$f":"IF(A126=52,1,A126+1)","v":45},{"$f":"N126+3","v":"2020-11-02"},null,null,{"$f":"B136+1","v":"2020-11-03"},null,null,{"$f":"E136+1","v":"2020-11-04"},null,null,{"$f":"H136+1","v":"2020-11-05"},null,null,{"$f":"K136+1","v":"2020-11-06"}]
[null,{"$f":"B127","v":0},null,null,{"$f":"E127","v":0},null,null,{"$f":"H127","v":0},null,null,{"$f":"K127","v":0},null,null,{"$f":"N127","v":0}]
[14,0,null,null,0,null,null,0,null,null,0,null,null,0]
[null,0,null,null,0,null,null,0,null,null,0,null,null,0]
[null,0,null,null,0,null,null,0,null,null,0,null,null,0]
[null,0,null,null,0,null,null,0,null,null,{"$f":"K131","v":0},null,null,0]
[null,0,null,null,0,null,null,0,null,null,0,null,null,0]
[]
[]
[null,null,{"$f":"'1-2a'!$C$145","v":0},null,null,{"$f":"'1-2a'!$F$145","v":0},null,null,{"$f":"'1-2a'!$I$145","v":0},null,null,{"$f":"'1-2a'!$L$145","v":0},null,null,{"$f":"'1-2a'!$O$145","v":0}]
[{"$f":"IF(A136=52,1,A136+1)","v":46},{"$f":"N136+3","v":"2020-11-09"},null,null,{"$f":"B146+1","v":"2020-11-10"},null,null,{"$f":"E146+1","v":"2020-11-11"},null,null,{"$f":"H146+1","v":"2020-11-12"},null,null,{"$f":"K146+1","v":"2020-11-13"}]
[null,{"$f":"B137","v":0},null,null,{"$f":"E137","v":0},null,null,{"$f":"H137","v":0},null,null,{"$f":"K137","v":0},null,null,{"$f":"N137","v":0}]
[15,0,null,null,0,null,null,0,null,null,0,null,null,0]
[null,0,null,null,0,null,null,0,null,null,0,null,null,0]
[null,0,null,null,0,null,null,0,null,null,0,null,null,0]
[null,0,null,null,0,null,null,0,null,null,{"$f":"K141","v":0},null,null,0]
[null,0,null,null,0,null,null,0,null,null,0,null,null,0]
[]
[]
[null,null,{"$f":"'1-2a'!$C$155","v":0},null,null,{"$f":"'1-2a'!$F$155","v":0},null,null,{"$f":"'1-2a'!$I$155","v":0},null,null,{"$f":"'1-2a'!$L$155","v":0},null,null,{"$f":"'1-2a'!$O$155","v":0}]
[{"$f":"IF(A146=52,1,A146+1)","v":47},{"$f":"N146+3","v":"2020-11-16"},null,null,{"$f":"B156+1","v":"2020-11-17"},null,null,{"$f":"E156+1","v":"2020-11-18"},null,null,{"$f":"H156+1","v":"2020-11-19"},null,null,{"$f":"K156+1","v":"2020-11-20"}]
[null,{"$f":"B147","v":0},null,null,{"$f":"E147","v":0},null,null,{"$f":"H147","v":0},null,null,{"$f":"K147","v":0},null,null,{"$f":"N147","v":0}]
[16,0,null,null,0,null,null,0,null,null,0,null,null,0]
[null,0,null,null,0,null,null,0,null,null,0,null,null,0]
[null,0,null,null,0,null,null,0,null,null,0,null,null,0]
[null,0,null,null,0,null,null,0,null,null,{"$f":"K151","v":0},null,null,0]
[null,0,null,null,0,null,null,0,null,null,0,null,null,0]
[]
[]
[null,null,{"$f":"'1-2a'!$C$165","v":0},null,null,{"$f":"'1-2a'!$F$165","v":0},null,null,{"$f":"'1-2a'!$I$165","v":0},null,null,{"$f":"'1-2a'!$L$165","v":0},null,null,{"$f":"'1-2a'!$O$165","v":0}]
[{"$f":"IF(A156=52,1,A156+1)","v":48},{"$f":"N156+3","v":"2020-11-23"},null,null,{"$f":"B166+1","v":"2020-11-24"},null,null,{"$f":"E166+1","v":"2020-11-25"},null,null,{"$f":"H166+1","v":"2020-11-26"},null,null,{"$f":"K166+1","v":"2020-11-27"}]
[null,{"$f":"B157","v":0},null,null,{"$f":"E157","v":0},null,null,{"$f":"H157","v":0},null,null,{"$f":"K157","v":0},null,null,{"$f":"N157","v":0}]
[17,0,null,null,0,null,null,0,null,null,0,null,null,0]
[null,0,null,null,0,null,null,0,null,null,0,null,null,0]
[null,0,null,null,0,null,null,0,null,null,0,null,null,0]
[null,0,null,null,0,null,null,0,null,null,0,null,null,0]
[null,0,null,null,0,null,null,0,null,null,0,null,null,0]
[]
[]
[null,null,{"$f":"'1-2a'!$C$175","v":0},null,null,{"$f":"'1-2a'!$F$175","v":0},null,null,{"$f":"'1-2a'!$I$175","v":0},null,null,{"$f":"'1-2a'!$L$175","v":0},null,null,{"$f":"'1-2a'!$O$175","v":0}]
[{"$f":"IF(A166=52,1,A166+1)","v":49},{"$f":"N166+3","v":"2020-11-30"},null,null,{"$f":"B176+1","v":"2020-12-01"},null,null,{"$f":"E176+1","v":"2020-12-02"},null,null,{"$f":"H176+1","v":"2020-12-03"},null,null,{"$f":"K176+1","v":"2020-12-04"}]
[null,{"$f":"B167","v":0},null,null,{"$f":"E167","v":0},null,null,{"$f":"H167","v":0},null,null,{"$f":"K167","v":0},null,null,{"$f":"N167","v":0}]
[18,0,null,null,0,null,null,0,null,null,0,null,null,0]
[null,0,null,null,0,null,null,0,null,null,0,null,null,0]
[null,0,null,null,0,null,null,0,null,null,0,null,null,0]
[null,0,null,null,0,null,null,0,null,null,{"$f":"K171","v":0},null,null,0]
[null,0,null,null,0,null,null,0,null,null,0,null,null,0]
[]
[]
[null,null,{"$f":"'1-2a'!$C$185","v":0},null,null,{"$f":"'1-2a'!$F$185","v":0},null,null,{"$f":"'1-2a'!$I$185","v":0},null,null,{"$f":"'1-2a'!$L$185","v":0},null,null,{"$f":"'1-2a'!$O$185","v":0}]
[{"$f":"IF(A176=52,1,A176+1)","v":50},{"$f":"N176+3","v":"2020-12-07"},null,null,{"$f":"B186+1","v":"2020-12-08"},null,null,{"$f":"E186+1","v":"2020-12-09"},null,null,{"$f":"H186+1","v":"2020-12-10"},null,null,{"$f":"K186+1","v":"2020-12-11"}]
[null,{"$f":"B177","v":0},null,null,{"$f":"E177","v":0},null,null,{"$f":"H177","v":0},null,null,{"$f":"K177","v":0},null,null,{"$f":"N177","v":0}]
[19,0,null,null,0,null,null,0,null,null,0,null,null,0]
[null,0,null,null,0,null,null,0,null,null,0,null,null,0]
[null,0,null,null,0,null,null,0,null,null,0,null,null,0]
[null,0,null,null,0,null,null,0,null,null,{"$f":"K181","v":0},null,null,0]
[null,0,null,null,0,null,null,0,null,null,0,null,null,0]
[]
[]
[null,null,{"$f":"'1-2a'!$C$195","v":0},null,null,{"$f":"'1-2a'!$F$195","v":0},null,null,{"$f":"'1-2a'!$I$195","v":0},null,null,{"$f":"'1-2a'!$L$195","v":0},null,null,{"$f":"'1-2a'!$O$195","v":0}]
[{"$f":"IF(A186=52,1,A186+1)","v":51},{"$f":"N186+3","v":"2020-12-14"},null,null,{"$f":"B196+1","v":"2020-12-15"},null,null,{"$f":"E196+1","v":"2020-12-16"},null,null,{"$f":"H196+1","v":"2020-12-17"},null,null,{"$f":"K196+1","v":"2020-12-18"}]
[null,{"$f":"B187","v":0},null,null,{"$f":"E187","v":0},null,null,{"$f":"H187","v":0},null,null,{"$f":"K187","v":0},null,null,{"$f":"N187","v":0}]
[20,0,null,null,0,null,null,0,null,null,0,null,null,0]
[null,0,null,null,0,null,null,0,null,null,0,null,null,0]
[null,0,null,null,0,null,null,0,null,null,0,null,null,0]
[null,0,null,null,0,null,null,0,null,null,{"$f":"K191","v":0},null,null,0]
[null,0,null,null,0,null,null,0,null,null,0,null,null,0]
[]
[]
[null,null,{"$f":"'1-2a'!$C$205","v":0},null,null,{"$f":"'1-2a'!$F$205","v":0},null,null,{"$f":"'1-2a'!$I$205","v":0},null,null,{"$f":"'1-2a'!$L$205","v":0},null,null,{"$f":"'1-2a'!$O$205","v":0}]
[{"$f":"IF(A196=52,1,A196+1)","v":52},{"$f":"N196+3","v":"2020-12-21"},null,null,{"$f":"B206+1","v":"2020-12-22"},null,null,{"$f":"E206+1","v":"2020-12-23"},null,null,{"$f":"H206+1","v":"2020-12-24"},null,null,{"$f":"K206+1","v":"2020-12-25"}]
[null,{"$f":"B197","v":0},null,null,{"$f":"E197","v":0},null,null,{"$f":"H197","v":0},null,null,{"$f":"K197","v":0},null,null,{"$f":"N197","v":0}]
[21,0,null,null,0,null,null,0,null,null,0,null,null,0]
[null,0,null,null,0,null,null,0,null,null,0,null,null,0]
[null,0,null,null,0,null,null,0,null,null,0,null,null,0]
[null,0,null,null,0,null,null,0,null,null,{"$f":"K201","v":0},null,null,0]
[null,0,null,null,0,null,null,0,null,null,0,null,null,0]
[]
[]
[null,null,{"$f":"'1-2a'!$C$215","v":0},null,null,{"$f":"'1-2a'!$F$215","v":0},null,null,{"$f":"'1-2a'!$I$215","v":0},null,null,{"$f":"'1-2a'!$L$215","v":0},null,null,{"$f":"'1-2a'!$O$215","v":0}]
[{"$f":"IF(A206=52,1,A206+1)","v":1},{"$f":"N206+3","v":"2020-12-28"},null,null,{"$f":"B216+1","v":"2020-12-29"},null,null,{"$f":"E216+1","v":"2020-12-30"},null,null,{"$f":"H216+1","v":"2020-12-31"},null,null,{"$f":"K216+1","v":"2021-01-01"}]
[null,{"$f":"B207","v":0},null,null,{"$f":"E207","v":0},null,null,{"$f":"H207","v":0},null,null,{"$f":"K207","v":0},null,null,{"$f":"N207","v":0}]
[22,0,null,null,0,null,null,0,null,null,0,null,null,0]
[null,0,null,null,0,null,null,0,null,null,0,null,null,0]
[null,0,null,null,0,null,null,0,null,null,0,null,null,0]
[null,0,null,null,0,null,null,0,null,null,{"$f":"K211","v":0},null,null,0]
[null,0,null,null,0,null,null,0,null,null,0,null,null,0]
[]
[]
[null,null,{"$f":"'1-2a'!$C$225","v":0},null,null,{"$f":"'1-2a'!$F$225","v":0},null,null,{"$f":"'1-2a'!$I$225","v":0},null,null,{"$f":"'1-2a'!$L$225","v":0},null,null,{"$f":"'1-2a'!$O$225","v":0}]
[{"$f":"IF(A216=52,1,A216+1)","v":2},{"$f":"N216+3","v":"2021-01-04"},null,null,{"$f":"B226+1","v":"2021-01-05"},null,null,{"$f":"E226+1","v":"2021-01-06"},null,null,{"$f":"H226+1","v":"2021-01-07"},null,null,{"$f":"K226+1","v":"2021-01-08"}]
[null,{"$f":"B217","v":0},null,null,{"$f":"E217","v":0},null,null,{"$f":"H217","v":0},null,null,{"$f":"K217","v":0},null,null,{"$f":"N217","v":0}]
[23,0,null,null,0,null,null,0,null,null,0,null,null,0]
[null,0,null,null,0,null,null,0,null,null,0,null,null,0]
[null,0,null,null,0,null,null,0,null,null,0,null,null,0]
[null,0,null,null,0,null,null,0,null,null,{"$f":"K221","v":0},null,null,0]
[null,0,null,null,0,null,null,0,null,null,0,null,null,0]
[]
[]
[null,null,{"$f":"'1-2a'!$C$235","v":0},null,null,{"$f":"'1-2a'!$F$235","v":0},null,null,{"$f":"'1-2a'!$I$235","v":0},null,null,{"$f":"'1-2a'!$L$235","v":0},null,null,{"$f":"'1-2a'!$O$235","v":0}]
[{"$f":"IF(A226=52,1,A226+1)","v":3},{"$f":"N226+3","v":"2021-01-11"},null,null,{"$f":"B236+1","v":"2021-01-12"},null,null,{"$f":"E236+1","v":"2021-01-13"},null,null,{"$f":"H236+1","v":"2021-01-14"},null,null,{"$f":"K236+1","v":"2021-01-15"}]
[null,{"$f":"B227","v":0},null,null,{"$f":"E227","v":0},null,null,{"$f":"H227","v":0},null,null,{"$f":"K227","v":0},null,null,{"$f":"N227","v":0}]
[24,0,null,null,0,null,null,0,null,null,0,null,null,0]
[null,0,null,null,0,null,null,0,null,null,0,null,null,0]
[null,0,null,null,0,null,null,0,null,null,0,null,null,0]
[null,0,null,null,0,null,null,0,null,null,{"$f":"K231","v":0},null,null,0]
[null,0,null,null,0,null,null,0,null,null,0,null,null,0]
[]
[]
[null,null,{"$f":"'1-2a'!$C$245","v":0},null,null,{"$f":"'1-2a'!$F$245","v":0},null,null,{"$f":"'1-2a'!$I$245","v":0},null,null,{"$f":"'1-2a'!$L$245","v":0},null,null,{"$f":"'1-2a'!$O$245","v":0}]
[{"$f":"IF(A236=52,1,A236+1)","v":4},{"$f":"N236+3","v":"2021-01-18"},null,null,{"$f":"B246+1","v":"2021-01-19"},null,null,{"$f":"E246+1","v":"2021-01-20"},null,null,{"$f":"H246+1","v":"2021-01-21"},null,null,{"$f":"K246+1","v":"2021-01-22"}]
[null,{"$f":"B237","v":0},null,null,{"$f":"E237","v":0},null,null,{"$f":"H237","v":0},null,null,{"$f":"K237","v":0},null,null,{"$f":"N237","v":0}]
[25,0,null,null,0,null,null,0,null,null,0,null,null,0]
[null,0,null,null,0,null,null,0,null,null,0,null,null,0]
[null,0,null,null,0,null,null,0,null,null,0,null,null,0]
[null,0,null,null,0,null,null,0,null,null,0,null,null,0]
[null,0,null,null,0,null,null,0,null,null,0,null,null,0]
[]
[]
[null,null,{"$f":"'1-2a'!$C$255","v":0},null,null,{"$f":"'1-2a'!$F$255","v":0},null,null,{"$f":"'1-2a'!$I$255","v":0},null,null,{"$f":"'1-2a'!$L$255","v":0},null,null,{"$f":"'1-2a'!$O$255","v":0}]
[{"$f":"IF(A246=52,1,A246+1)","v":5},{"$f":"N246+3","v":"2021-01-25"},null,null,{"$f":"B256+1","v":"2021-01-26"},null,null,{"$f":"E256+1","v":"2021-01-27"},null,null,{"$f":"H256+1","v":"2021-01-28"},null,null,{"$f":"K256+1","v":"2021-01-29"}]
[null,{"$f":"B247","v":0},null,null,{"$f":"E247","v":0},null,null,{"$f":"H247","v":0},null,null,{"$f":"K247","v":0},null,null,{"$f":"N247","v":0}]
[26,0,null,null,0,null,null,0,null,null,0,null,null,0]
[null,0,null,null,0,null,null,0,null,null,0,null,null,0]
[null,0,null,null,0,null,null,0,null,null,0,null,null,0]
[null,0,null,null,0,null,null,0,null,null,{"$f":"K251","v":0},null,null,0]
[null,0,null,null,0,null,null,0,null,null,0,null,null,0]
[]
[]
[null,null,{"$f":"'1-2a'!$C$265","v":0},null,null,{"$f":"'1-2a'!$F$265","v":0},null,null,{"$f":"'1-2a'!$I$265","v":0},null,null,{"$f":"'1-2a'!$L$265","v":0},null,null,{"$f":"'1-2a'!$O$265","v":0}]
[{"$f":"IF(A256=52,1,A256+1)","v":6},{"$f":"N256+3","v":"2021-02-01"},null,null,{"$f":"B266+1","v":"2021-02-02"},null,null,{"$f":"E266+1","v":"2021-02-03"},null,null,{"$f":"H266+1","v":"2021-02-04"},null,null,{"$f":"K266+1","v":"2021-02-05"}]
[null,{"$f":"B257","v":0},null,null,{"$f":"E257","v":0},null,null,{"$f":"H257","v":0},null,null,{"$f":"K257","v":0},null,null,{"$f":"N257","v":0}]
[27,0,null,null,0,null,null,0,null,null,0,null,null,0]
[null,0,null,null,0,null,null,0,null,null,0,null,null,0]
[null,0,null,null,0,null,null,0,null,null,0,null,null,0]
[null,0,null,null,0,null,null,0,null,null,{"$f":"K261","v":0},null,null,0]
[null,0,null,null,0,null,null,0,null,null,0,null,null,0]
[]
[]
[null,null,{"$f":"'1-2a'!$C$275","v":0},null,null,{"$f":"'1-2a'!$F$275","v":0},null,null,{"$f":"'1-2a'!$I$275","v":0},null,null,{"$f":"'1-2a'!$L$275","v":0},null,null,{"$f":"'1-2a'!$O$275","v":0}]
[{"$f":"IF(A266=52,1,A266+1)","v":7},{"$f":"N266+3","v":"2021-02-08"},null,null,{"$f":"B276+1","v":"2021-02-09"},null,null,{"$f":"E276+1","v":"2021-02-10"},null,null,{"$f":"H276+1","v":"2021-02-11"},null,null,{"$f":"K276+1","v":"2021-02-12"}]
[null,{"$f":"B267","v":0},null,null,{"$f":"E267","v":0},null,null,{"$f":"H267","v":0},null,null,{"$f":"K267","v":0},null,null,{"$f":"N267","v":0}]
[28,0,null,null,0,null,null,0,null,null,0,null,null,0]
[null,0,null,null,0,null,null,0,null,null,0,null,null,0]
[null,0,null,null,0,null,null,0,null,null,0,null,null,0]
[null,0,null,null,0,null,null,0,null,null,{"$f":"K271","v":0},null,null,0]
[null,0,null,null,0,null,null,0,null,null,0,null,null,0]
[]
[]
[null,null,{"$f":"'1-2a'!$C$285","v":0},null,null,{"$f":"'1-2a'!$F$285","v":0},null,null,{"$f":"'1-2a'!$I$285","v":0},null,null,{"$f":"'1-2a'!$L$285","v":0},null,null,{"$f":"'1-2a'!$O$285","v":0}]
[{"$f":"IF(A276=52,1,A276+1)","v":8},{"$f":"N276+3","v":"2021-02-15"},null,null,{"$f":"B286+1","v":"2021-02-16"},null,null,{"$f":"E286+1","v":"2021-02-17"},null,null,{"$f":"H286+1","v":"2021-02-18"},null,null,{"$f":"K286+1","v":"2021-02-19"}]
[null,{"$f":"B277","v":0},null,null,{"$f":"E277","v":0},null,null,{"$f":"H277","v":0},null,null,{"$f":"K277","v":0},null,null,{"$f":"N277","v":0}]
[29,0,null,null,0,null,null,0,null,null,0,null,null,0]
[null,0,null,null,0,null,null,0,null,null,0,null,null,0]
[null,0,null,null,0,null,null,0,null,null,0,null,null,0]
[null,0,null,null,0,null,null,0,null,null,{"$f":"K281","v":0},null,null,0]
[null,0,null,null,0,null,null,0,null,null,0,null,null,0]
[]
[]
[null,null,{"$f":"'1-2a'!$C$295","v":0},null,null,{"$f":"'1-2a'!$F$295","v":0},null,null,{"$f":"'1-2a'!$I$295","v":0},null,null,{"$f":"'1-2a'!$L$295","v":0},null,null,{"$f":"'1-2a'!$O$295","v":0}]
[{"$f":"IF(A286=52,1,A286+1)","v":9},{"$f":"N286+3","v":"2021-02-22"},null,null,{"$f":"B296+1","v":"2021-02-23"},null,null,{"$f":"E296+1","v":"2021-02-24"},null,null,{"$f":"H296+1","v":"2021-02-25"},null,null,{"$f":"K296+1","v":"2021-02-26"}]
[null,{"$f":"B287","v":0},null,null,{"$f":"E287","v":0},null,null,{"$f":"H287","v":0},null,null,{"$f":"K287","v":0},null,null,{"$f":"N287","v":0}]
[30,0,null,null,0,null,null,0,null,null,0,null,null,0]
[null,0,null,null,0,null,null,0,null,null,0,null,null,0]
[null,0,null,null,0,null,null,0,null,null,0,null,null,0]
[null,0,null,null,0,null,null,0,null,null,{"$f":"K291","v":0},null,null,0]
[null,0,null,null,0,null,null,0,null,null,0,null,null,0]
[]
[]
[null,null,{"$f":"'1-2a'!$C$305","v":0},null,null,{"$f":"'1-2a'!$F$305","v":0},null,null,{"$f":"'1-2a'!$I$305","v":0},null,null,{"$f":"'1-2a'!$L$305","v":0},null,null,{"$f":"'1-2a'!$O$305","v":0}]
[{"$f":"IF(A296=52,1,A296+1)","v":10},{"$f":"N296+3","v":"2021-03-01"},null,null,{"$f":"B306+1","v":"2021-03-02"},null,null,{"$f":"E306+1","v":"2021-03-03"},null,null,{"$f":"H306+1","v":"2021-03-04"},null,null,{"$f":"K306+1","v":"2021-03-05"}]
[null,{"$f":"B297","v":0},null,null,{"$f":"E297","v":0},null,null,{"$f":"H297","v":0},null,null,{"$f":"K297","v":0},null,null,{"$f":"N297","v":0}]
[31,0,null,null,0,null,null,0,null,null,0,null,null,0]
[null,0,null,null,0,null,null,0,null,null,0,null,null,0]
[null,0,null,null,0,null,null,0,null,null,0,null,null,0]
[null,0,null,null,0,null,null,0,null,null,{"$f":"K301","v":0},null,null,0]
[null,0,null,null,0,null,null,0,null,null,0,null,null,0]
[]
[]
[null,null,{"$f":"'1-2a'!$C$315","v":0},null,null,{"$f":"'1-2a'!$F$315","v":0},null,null,{"$f":"'1-2a'!$I$315","v":0},null,null,{"$f":"'1-2a'!$L$315","v":0},null,null,{"$f":"'1-2a'!$O$315","v":0}]
[{"$f":"IF(A306=52,1,A306+1)","v":11},{"$f":"N306+3","v":"2021-03-08"},null,null,{"$f":"B316+1","v":"2021-03-09"},null,null,{"$f":"E316+1","v":"2021-03-10"},null,null,{"$f":"H316+1","v":"2021-03-11"},null,null,{"$f":"K316+1","v":"2021-03-12"}]
[null,{"$f":"B307","v":0},null,null,{"$f":"E307","v":0},null,null,{"$f":"H307","v":0},null,null,{"$f":"K307","v":0},null,null,{"$f":"N307","v":0}]
[32,0,null,null,0,null,null,0,null,null,0,null,null,0]
[null,0,null,null,0,null,null,0,null,null,0,null,null,0]
[null,0,null,null,0,null,null,0,null,null,0,null,null,0]
[null,0,null,null,0,null,null,0,null,null,{"$f":"K311","v":0},null,null,0]
[null,0,null,null,0,null,null,0,null,null,0,null,null,0]
[]
[]
[null,null,{"$f":"'1-2a'!$C$325","v":0},null,null,{"$f":"'1-2a'!$F$325","v":0},null,null,{"$f":"'1-2a'!$I$325","v":0},null,null,{"$f":"'1-2a'!$L$325","v":0},null,null,{"$f":"'1-2a'!$O$325","v":0}]
[{"$f":"IF(A316=52,1,A316+1)","v":12},{"$f":"N316+3","v":"2021-03-15"},null,null,{"$f":"B326+1","v":"2021-03-16"},null,null,{"$f":"E326+1","v":"2021-03-17"},null,null,{"$f":"H326+1","v":"2021-03-18"},null,null,{"$f":"K326+1","v":"2021-03-19"}]
[null,{"$f":"B317","v":0},null,null,{"$f":"E317","v":0},null,null,{"$f":"H317","v":0},null,null,{"$f":"K317","v":0},null,null,{"$f":"N317","v":0}]
[33,0,null,null,0,null,null,0,null,null,0,null,null,0]
[null,0,null,null,0,null,null,0,null,null,0,null,null,0]
[null,0,null,null,0,null,null,0,null,null,0,null,null,0]
[null,0,null,null,0,null,null,0,null,null,0,null,null,0]
[null,0,null,null,0,null,null,0,null,null,0,null,null,0]
[]
[]
[null,null,{"$f":"'1-2a'!$C$335","v":0},null,null,{"$f":"'1-2a'!$F$335","v":0},null,null,{"$f":"'1-2a'!$I$335","v":0},null,null,{"$f":"'1-2a'!$L$335","v":0},null,null,{"$f":"'1-2a'!$O$335","v":0}]
[{"$f":"IF(A326=52,1,A326+1)","v":13},{"$f":"N326+3","v":"2021-03-22"},null,null,{"$f":"B336+1","v":"2021-03-23"},null,null,{"$f":"E336+1","v":"2021-03-24"},null,null,{"$f":"H336+1","v":"2021-03-25"},null,null,{"$f":"K336+1","v":"2021-03-26"}]
[null,{"$f":"B327","v":0},null,null,{"$f":"E327","v":0},null,null,{"$f":"H327","v":0},null,null,{"$f":"K327","v":0},null,null,{"$f":"N327","v":0}]
[34,0,null,null,0,null,null,0,null,null,0,null,null,0]
[null,0,null,null,0,null,null,0,null,null,0,null,null,0]
[null,0,null,null,0,null,null,0,null,null,0,null,null,0]
[null,0,null,null,0,null,null,0,null,null,{"$f":"K331","v":0},null,null,0]
[null,0,null,null,0,null,null,0,null,null,0,null,null,0]
[]
[]
[null,null,{"$f":"'1-2a'!$C$345","v":0},null,null,{"$f":"'1-2a'!$F$345","v":0},null,null,{"$f":"'1-2a'!$I$345","v":0},null,null,{"$f":"'1-2a'!$L$345","v":0},null,null,{"$f":"'1-2a'!$O$345","v":0}]
[{"$f":"IF(A336=52,1,A336+1)","v":14},{"$f":"N336+3","v":"2021-03-29"},null,null,{"$f":"B346+1","v":"2021-03-30"},null,null,{"$f":"E346+1","v":"2021-03-31"},null,null,{"$f":"H346+1","v":"2021-04-01"},null,null,{"$f":"K346+1","v":"2021-04-02"}]
[null,{"$f":"B337","v":0},null,null,{"$f":"E337","v":0},null,null,{"$f":"H337","v":0},null,null,{"$f":"K337","v":0},null,null,{"$f":"N337","v":0}]
[35,0,null,null,0,null,null,0,null,null,0,null,null,0]
[null,0,null,null,0,null,null,0,null,null,0,null,null,0]
[null,0,null,null,0,null,null,0,null,null,0,null,null,0]
[null,0,null,null,0,null,null,0,null,null,{"$f":"K341","v":0},null,null,0]
[null,0,null,null,0,null,null,0,null,null,0,null,null,0]
[]
[]
[null,null,{"$f":"'1-2a'!$C$355","v":0},null,null,{"$f":"'1-2a'!$F$355","v":0},null,null,{"$f":"'1-2a'!$I$355","v":0},null,null,{"$f":"'1-2a'!$L$355","v":0},null,null,{"$f":"'1-2a'!$O$355","v":0}]
[{"$f":"IF(A346=52,1,A346+1)","v":15},{"$f":"N346+3","v":"2021-04-05"},null,null,{"$f":"B356+1","v":"2021-04-06"},null,null,{"$f":"E356+1","v":"2021-04-07"},null,null,{"$f":"H356+1","v":"2021-04-08"},null,null,{"$f":"K356+1","v":"2021-04-09"}]
[null,{"$f":"B347","v":0},null,null,{"$f":"E347","v":0},null,null,{"$f":"H347","v":0},null,null,{"$f":"K347","v":0},null,null,{"$f":"N347","v":0}]
[36,0,null,null,0,null,null,0,null,null,0,null,null,0]
[null,0,null,null,0,null,null,0,null,null,0,null,null,0]
[null,0,null,null,0,null,null,0,null,null,0,null,null,0]
[null,0,null,null,0,null,null,0,null,null,{"$f":"K351","v":0},null,null,0]
[null,0,null,null,0,null,null,0,null,null,0,null,null,0]
[]
[]
[null,null,{"$f":"'1-2a'!$C$365","v":0},null,null,{"$f":"'1-2a'!$F$365","v":0},null,null,{"$f":"'1-2a'!$I$365","v":0},null,null,{"$f":"'1-2a'!$L$365","v":0},null,null,{"$f":"'1-2a'!$O$365","v":0}]
[{"$f":"IF(A356=52,1,A356+1)","v":16},{"$f":"N356+3","v":"2021-04-12"},null,null,{"$f":"B366+1","v":"2021-04-13"},null,null,{"$f":"E366+1","v":"2021-04-14"},null,null,{"$f":"H366+1","v":"2021-04-15"},null,null,{"$f":"K366+1","v":"2021-04-16"}]
[null,{"$f":"B357","v":0},null,null,{"$f":"E357","v":0},null,null,{"$f":"H357","v":0},null,null,{"$f":"K357","v":0},null,null,{"$f":"N357","v":0}]
[37,0,null,null,0,null,null,0,null,null,0,null,null,0]
[null,0,null,null,0,null,null,0,null,null,0,null,null,0]
[null,0,null,null,0,null,null,0,null,null,0,null,null,0]
[null,0,null,null,0,null,null,0,null,null,{"$f":"K361","v":0},null,null,0]
[null,0,null,null,0,null,null,0,null,null,0,null,null,0]
[]
[]
[null,null,{"$f":"'1-2a'!$C$375","v":0},null,null,{"$f":"'1-2a'!$F$375","v":0},null,null,{"$f":"'1-2a'!$I$375","v":0},null,null,{"$f":"'1-2a'!$L$375","v":0},null,null,{"$f":"'1-2a'!$O$375","v":0}]
[{"$f":"IF(A366=52,1,A366+1)","v":17},{"$f":"N366+3","v":"2021-04-19"},null,null,{"$f":"B376+1","v":"2021-04-20"},null,null,{"$f":"E376+1","v":"2021-04-21"},null,null,{"$f":"H376+1","v":"2021-04-22"},null,null,{"$f":"K376+1","v":"2021-04-23"}]
[null,{"$f":"B367","v":0},null,null,{"$f":"E367","v":0},null,null,{"$f":"H367","v":0},null,null,{"$f":"K367","v":0},null,null,{"$f":"N367","v":0}]
[38,0,null,null,0,null,null,0,null,null,0,null,null,0]
[null,0,null,null,0,null,null,0,null,null,0,null,null,0]
[null,0,null,null,0,null,null,0,null,null,0,null,null,0]
[null,0,null,null,0,null,null,0,null,null,{"$f":"K371","v":0},null,null,0]
[null,0,null,null,0,null,null,0,null,null,0,null,null,0]
[]
[]
[null,null,{"$f":"'1-2a'!$C$385","v":0},null,null,{"$f":"'1-2a'!$F$385","v":0},null,null,{"$f":"'1-2a'!$I$385","v":0},null,null,{"$f":"'1-2a'!$L$385","v":0},null,null,{"$f":"'1-2a'!$O$385","v":0}]
[{"$f":"IF(A376=52,1,A376+1)","v":18},{"$f":"N376+3","v":"2021-04-26"},null,null,{"$f":"B386+1","v":"2021-04-27"},null,null,{"$f":"E386+1","v":"2021-04-28"},null,null,{"$f":"H386+1","v":"2021-04-29"},null,null,{"$f":"K386+1","v":"2021-04-30"}]
[null,{"$f":"B377","v":0},null,null,{"$f":"E377","v":0},null,null,{"$f":"H377","v":0},null,null,{"$f":"K377","v":0},null,null,{"$f":"N377","v":0}]
[39,0,null,null,0,null,null,0,null,null,0,null,null,0]
[null,0,null,null,0,null,null,0,null,null,0,null,null,0]
[null,0,null,null,0,null,null,0,null,null,0,null,null,0]
[null,0,null,null,0,null,null,0,null,null,{"$f":"K381","v":0},null,null,0]
[null,0,null,null,0,null,null,0,null,null,0,null,null,0]
[]
[]
[null,null,{"$f":"'1-2a'!$C$395","v":0},null,null,{"$f":"'1-2a'!$F$395","v":0},null,null,{"$f":"'1-2a'!$I$395","v":0},null,null,{"$f":"'1-2a'!$L$395","v":0},null,null,{"$f":"'1-2a'!$O$395","v":0}]
[{"$f":"IF(A386=52,1,A386+1)","v":19},{"$f":"N386+3","v":"2021-05-03"},null,null,{"$f":"B396+1","v":"2021-05-04"},null,null,{"$f":"E396+1","v":"2021-05-05"},null,null,{"$f":"H396+1","v":"2021-05-06"},null,null,{"$f":"K396+1","v":"2021-05-07"}]
[null,{"$f":"B387","v":0},null,null,{"$f":"E387","v":0},null,null,{"$f":"H387","v":0},null,null,{"$f":"K387","v":0},null,null,{"$f":"N387","v":0}]
[40,0,null,null,0,null,null,0,null,null,0,null,null,0]
[null,0,null,null,0,null,null,0,null,null,0,null,null,0]
[null,0,null,null,0,null,null,0,null,null,0,null,null,0]
[null,0,null,null,0,null,null,0,null,null,{"$f":"K391","v":0},null,null,0]
[null,0,null,null,0,null,null,0,null,null,0,null,null,0]
[]
[]
[null,null,{"$f":"'1-2a'!$C$405","v":0},null,null,{"$f":"'1-2a'!$F$405","v":0},null,null,{"$f":"'1-2a'!$I$405","v":0},null,null,{"$f":"'1-2a'!$L$405","v":0},null,null,{"$f":"'1-2a'!$O$405","v":0}]
[{"$f":"IF(A396=52,1,A396+1)","v":20},{"$f":"N396+3","v":"2021-05-10"},null,null,{"$f":"B406+1","v":"2021-05-11"},null,null,{"$f":"E406+1","v":"2021-05-12"},null,null,{"$f":"H406+1","v":"2021-05-13"},null,null,{"$f":"K406+1","v":"2021-05-14"}]
[null,{"$f":"B397","v":0},null,null,{"$f":"E397","v":0},null,null,{"$f":"H397","v":0},null,null,{"$f":"K397","v":0},null,null,{"$f":"N397","v":0}]
[41,0,null,null,0,null,null,0,null,null,0,null,null,0]
[null,0,null,null,0,null,null,0,null,null,0,null,null,0]
[null,0,null,null,0,null,null,0,null,null,0,null,null,0]
[null,0,null,null,0,null,null,0,null,null,0,null,null,0]
[null,0,null,null,0,null,null,0,null,null,0,null,null,0]
[]
[]
[null,null,{"$f":"'1-2a'!$C$415","v":0},null,null,{"$f":"'1-2a'!$F$415","v":0},null,null,{"$f":"'1-2a'!$I$415","v":0},null,null,{"$f":"'1-2a'!$L$415","v":0},null,null,{"$f":"'1-2a'!$O$415","v":0}]
[{"$f":"IF(A406=52,1,A406+1)","v":21},{"$f":"N406+3","v":"2021-05-17"},null,null,{"$f":"B416+1","v":"2021-05-18"},null,null,{"$f":"E416+1","v":"2021-05-19"},null,null,{"$f":"H416+1","v":"2021-05-20"},null,null,{"$f":"K416+1","v":"2021-05-21"}]
[null,{"$f":"B407","v":0},null,null,{"$f":"E407","v":0},null,null,{"$f":"H407","v":0},null,null,{"$f":"K407","v":0},null,null,{"$f":"N407","v":0}]
[42,0,null,null,0,null,null,0,null,null,0,null,null,0]
[null,0,null,null,0,null,null,0,null,null,0,null,null,0]
[null,0,null,null,0,null,null,0,null,null,0,null,null,0]
[null,0,null,null,0,null,null,0,null,null,{"$f":"K411","v":0},null,null,0]
[null,0,null,null,0,null,null,0,null,null,0,null,null,0]
[]
[]
[null,null,{"$f":"'1-2a'!$C$425","v":0},null,null,{"$f":"'1-2a'!$F$425","v":0},null,null,{"$f":"'1-2a'!$I$425","v":0},null,null,{"$f":"'1-2a'!$L$425","v":0},null,null,{"$f":"'1-2a'!$O$425","v":0}]
[{"$f":"IF(A416=52,1,A416+1)","v":22},{"$f":"N416+3","v":"2021-05-24"},null,null,{"$f":"B426+1","v":"2021-05-25"},null,null,{"$f":"E426+1","v":"2021-05-26"},null,null,{"$f":"H426+1","v":"2021-05-27"},null,null,{"$f":"K426+1","v":"2021-05-28"}]
[null,{"$f":"B417","v":0},null,null,{"$f":"E417","v":0},null,null,{"$f":"H417","v":0},null,null,{"$f":"K417","v":0},null,null,{"$f":"N417","v":0}]
[43,0,null,null,0,null,null,0,null,null,0,null,null,0]
[null,0,null,null,0,null,null,0,null,null,0,null,null,0]
[null,0,null,null,0,null,null,0,null,null,0,null,null,0]
[null,0,null,null,0,null,null,0,null,null,{"$f":"K421","v":0},null,null,0]
[null,0,null,null,0,null,null,0,null,null,0,null,null,0]
[]
[]
[null,null,{"$f":"'1-2a'!$C$435","v":0},null,null,{"$f":"'1-2a'!$F$435","v":0},null,null,{"$f":"'1-2a'!$I$435","v":0},null,null,{"$f":"'1-2a'!$L$435","v":0},null,null,{"$f":"'1-2a'!$O$435","v":0}]
[{"$f":"IF(A426=52,1,A426+1)","v":23},{"$f":"N426+3","v":"2021-05-31"},null,null,{"$f":"B436+1","v":"2021-06-01"},null,null,{"$f":"E436+1","v":"2021-06-02"},null,null,{"$f":"H436+1","v":"2021-06-03"},null,null,{"$f":"K436+1","v":"2021-06-04"}]
[null,{"$f":"B427","v":0},null,null,{"$f":"E427","v":0},null,null,{"$f":"H427","v":0},null,null,{"$f":"K427","v":0},null,null,{"$f":"N427","v":0}]
[44,0,null,null,0,null,null,0,null,null,0,null,null,0]
[null,0,null,null,0,null,null,0,null,null,0,null,null,0]
[null,0,null,null,0,null,null,0,null,null,0,null,null,0]
[null,0,null,null,0,null,null,0,null,null,{"$f":"K431","v":0},null,null,0]
[null,0,null,null,0,null,null,0,null,null,0,null,null,0]
[]
[]
[null,null,{"$f":"'1-2a'!$C$445","v":0},null,null,{"$f":"'1-2a'!$F$445","v":0},null,null,{"$f":"'1-2a'!$I$445","v":0},null,null,{"$f":"'1-2a'!$L$445","v":0},null,null,{"$f":"'1-2a'!$O$445","v":0}]
[{"$f":"IF(A436=52,1,A436+1)","v":24},{"$f":"N436+3","v":"2021-06-07"},null,null,{"$f":"B446+1","v":"2021-06-08"},null,null,{"$f":"E446+1","v":"2021-06-09"},null,null,{"$f":"H446+1","v":"2021-06-10"},null,null,{"$f":"K446+1","v":"2021-06-11"}]
[null,{"$f":"B437","v":0},null,null,{"$f":"E437","v":0},null,null,{"$f":"H437","v":0},null,null,{"$f":"K437","v":0},null,null,{"$f":"N437","v":0}]
[45,0,null,null,0,null,null,0,null,null,0,null,null,0]
[null,0,null,null,0,null,null,0,null,null,0,null,null,0]
[null,0,null,null,0,null,null,0,null,null,0,null,null,0]
[null,0,null,null,0,null,null,0,null,null,{"$f":"K441","v":0},null,null,0]
[null,0,null,null,0,null,null,0,null,null,0,null,null,0]
[]
[]
[null,null,{"$f":"'1-2a'!$C$455","v":0},null,null,{"$f":"'1-2a'!$F$455","v":0},null,null,{"$f":"'1-2a'!$I$455","v":0},null,null,{"$f":"'1-2a'!$L$455","v":0},null,null,{"$f":"'1-2a'!$O$455","v":0}]
[{"$f":"IF(A446=52,1,A446+1)","v":25},{"$f":"N446+3","v":"2021-06-14"},null,null,{"$f":"B456+1","v":"2021-06-15"},null,null,{"$f":"E456+1","v":"2021-06-16"},null,null,{"$f":"H456+1","v":"2021-06-17"},null,null,{"$f":"K456+1","v":"2021-06-18"}]
[null,{"$f":"B447","v":0},null,null,{"$f":"E447","v":0},null,null,{"$f":"H447","v":0},null,null,{"$f":"K447","v":0},null,null,{"$f":"N447","v":0}]
[46,0,null,null,0,null,null,0,null,null,0,null,null,0]
[null,0,null,null,0,null,null,0,null,null,0,null,null,0]
[null,0,null,null,0,null,null,0,null,null,0,null,null,0]
[null,0,null,null,0,null,null,0,null,null,{"$f":"K451","v":0},null,null,0]
[null,0,null,null,0,null,null,0,null,null,0,null,null,0]
[]
[]
[null,null,{"$f":"'1-2a'!$C$465","v":0},null,null,{"$f":"'1-2a'!$F$465","v":0},null,null,{"$f":"'1-2a'!$I$465","v":0},null,null,{"$f":"'1-2a'!$L$465","v":0},null,null,{"$f":"'1-2a'!$O$465","v":0}]
[{"$f":"IF(A456=52,1,A456+1)","v":26},{"$f":"N456+3","v":"2021-06-21"},null,null,{"$f":"B466+1","v":"2021-06-22"},null,null,{"$f":"E466+1","v":"2021-06-23"},null,null,{"$f":"H466+1","v":"2021-06-24"},null,null,{"$f":"K466+1","v":"2021-06-25"}]
[null,{"$f":"B457","v":0},null,null,{"$f":"E457","v":0},null,null,{"$f":"H457","v":0},null,null,{"$f":"K457","v":0},null,null,{"$f":"N457","v":0}]
[47,0,null,null,0,null,null,0,null,null,0,null,null,0]
[null,0,null,null,0,null,null,0,null,null,0,null,null,0]
[null,0,null,null,0,null,null,0,null,null,0,null,null,0]
[null,0,null,null,0,null,null,0,null,null,{"$f":"K461","v":0},null,null,0]
[null,0,null,null,0,null,null,0,null,null,0,null,null,0]
[]
[]
[null,null,{"$f":"'1-2a'!$C$475","v":0},null,null,{"$f":"'1-2a'!$F$475","v":0},null,null,{"$f":"'1-2a'!$I$475","v":0},null,null,{"$f":"'1-2a'!$L$475","v":0},null,null,{"$f":"'1-2a'!$O$475","v":0}]
[{"$f":"IF(A466=52,1,A466+1)","v":27},{"$f":"N466+3","v":"2021-06-28"},null,null,{"$f":"B476+1","v":"2021-06-29"},null,null,{"$f":"E476+1","v":"2021-06-30"},null,null,{"$f":"H476+1","v":"2021-07-01"},null,null,{"$f":"K476+1","v":"2021-07-02"}]
[null,{"$f":"B467","v":0},null,null,{"$f":"E467","v":0},null,null,{"$f":"H467","v":0},null,null,{"$f":"K467","v":0},null,null,{"$f":"N467","v":0}]
[48,0,null,null,0,null,null,0,null,null,0,null,null,0]
[null,0,null,null,0,null,null,0,null,null,0,null,null,0]
[null,0,null,null,0,null,null,0,null,null,0,null,null,0]
[null,0,null,null,0,null,null,0,null,null,{"$f":"K471","v":0},null,null,0]
[null,0,null,null,0,null,null,0,null,null,0,null,null,0]
[]
[]
[null,null,{"$f":"'1-2a'!$C$485","v":0},null,null,{"$f":"'1-2a'!$F$485","v":0},null,null,{"$f":"'1-2a'!$I$485","v":0},null,null,{"$f":"'1-2a'!$L$485","v":0},null,null,{"$f":"'1-2a'!$O$485","v":0}]
[{"$f":"IF(A476=52,1,A476+1)","v":28},{"$f":"N476+3","v":"2021-07-05"},null,null,{"$f":"B486+1","v":"2021-07-06"},null,null,{"$f":"E486+1","v":"2021-07-07"},null,null,{"$f":"H486+1","v":"2021-07-08"},null,null,{"$f":"K486+1","v":"2021-07-09"}]
[null,{"$f":"B477","v":0},null,null,{"$f":"E477","v":0},null,null,{"$f":"H477","v":0},null,null,{"$f":"K477","v":0},null,null,{"$f":"N477","v":0}]
[49,0,null,null,0,null,null,0,null,null,0,null,null,0]
[null,0,null,null,0,null,null,0,null,null,0,null,null,0]
[null,0,null,null,0,null,null,0,null,null,0,null,null,0]
[null,0,null,null,0,null,null,0,null,null,0,null,null,0]
[null,0,null,null,0,null,null,0,null,null,0,null,null,0]
[]
[]
[null,null,{"$f":"'1-2a'!$C$495","v":0},null,null,{"$f":"'1-2a'!$F$495","v":0},null,null,{"$f":"'1-2a'!$I$495","v":0},null,null,{"$f":"'1-2a'!$L$495","v":0},null,null,{"$f":"'1-2a'!$O$495","v":0}]
[{"$f":"IF(A486=52,1,A486+1)","v":29},{"$f":"N486+3","v":"2021-07-12"},null,null,{"$f":"B496+1","v":"2021-07-13"},null,null,{"$f":"E496+1","v":"2021-07-14"},null,null,{"$f":"H496+1","v":"2021-07-15"},null,null,{"$f":"K496+1","v":"2021-07-16"}]
[null,{"$f":"B487","v":0},null,null,{"$f":"E487","v":0},null,null,{"$f":"H487","v":0},null,null,{"$f":"K487","v":0},null,null,{"$f":"N487","v":0}]
[50,0,null,null,0,null,null,0,null,null,0]
[null,0,null,null,0,null,null,0,null,null,0,null,null,0]
[null,0,null,null,0,null,null,0,null,null,0,null,null,0]
[null,0,null,null,0,null,null,0,null,null,{"$f":"K491","v":0},null,null,0]
[null,0,null,null,0,null,null,0,null,null,0]

{"sheet":"25","index":25,"n_rows":502,"n_cols":15,"rows_kept":502,"cut":false,"hidden":false,"merged":[[5,1,5,3],[5,4,5,6],[5,7,5,9],[5,10,5,12],[5,13,5,15],[7,0,8,0],[1,1,2,7],[1,9,2,12],[1,13,2,15],[3,1,3,3],[3,4,3,6],[3,7,3,9],[3,10,3,12],[3,13,3,15],[12,1,13,3],[12,4,13,6],[12,7,13,9],[12,10,13,12],[12,13,13,15],[15,1,15,3],[15,4,15,6],[15,7,15,9],[15,10,15,12],[15,13,15,15],[25,1,25,3],[25,4,25,6],[25,7,25,9],[25,10,25,12],[25,13,25,15],[27,0,28,0],[17,0,18,0],[22,1,23,3],[22,4,23,6],[22,7,23,9],[22,10,23,12],[22,13,23,15],[32,1,33,3],[32,4,33,6],[32,7,33,9],[32,10,33,12],[32,13,33,15],[35,1,35,3],[35,4,35,6],[35,7,35,9],[35,10,35,12],[35,13,35,15],[45,1,45,3],[45,4,45,6],[45,7,45,9],[45,10,45,12],[45,13,45,15],[47,0,48,0],[37,0,38,0],[42,1,43,3],[42,4,43,6],[42,7,43,9],[42,10,43,12],[42,13,43,15],[52,1,53,3],[52,4,53,6],[52,7,53,9],[52,10,53,12],[52,13,53,15],[55,1,55,3],[55,4,55,6],[55,7,55,9],[55,10,55,12],[55,13,55,15],[65,1,65,3],[65,4,65,6],[65,7,65,9],[65,10,65,12],[65,13,65,15],[67,0,68,0],[57,0,58,0],[62,1,63,3],[62,4,63,6],[62,7,63,9],[62,10,63,12],[62,13,63,15],[72,1,73,3],[72,4,73,6],[72,7,73,9],[72,10,73,12],[72,13,73,15],[75,1,75,3],[75,4,75,6],[75,7,75,9],[75,10,75,12],[75,13,75,15],[85,1,85,3],[85,4,85,6],[85,7,85,9],[85,10,85,12],[85,13,85,15],[87,0,88,0],[77,0,78,0],[82,1,83,3],[82,4,83,6],[82,7,83,9],[82,10,83,12],[82,13,83,15],[92,1,93,3],[92,4,93,6],[92,7,93,9],[92,10,93,12],[92,13,93,15],[95,1,95,3],[95,4,95,6],[95,7,95,9],[95,10,95,12],[95,13,95,15],[105,1,105,3],[105,4,105,6],[105,7,105,9],[105,10,105,12],[105,13,105,15],[107,0,108,0],[97,0,98,0],[99,16,100,19],[102,1,103,3],[102,4,103,6],[102,7,103,9],[102,10,103,12],[102,13,103,15],[112,1,113,3],[112,4,113,6],[112,7,113,9],[112,10,113,12],[112,13,113,15],[115,1,115,3],[115,4,115,6],[115,7,115,9],[115,10,115,12],[115,13,115,15],[125,1,125,3],[125,4,125,6],[125,7,125,9],[125,10,125,12],[125,13,125,15],[127,0,128,0],[117,0,118,0],[122,1,123,3],[122,4,123,6],[122,7,123,9],[122,10,123,12],[122,13,123,15],[132,1,133,3],[132,4,133,6],[132,7,133,9],[132,10,133,12],[132,13,133,15],[135,1,135,3],[135,4,135,6],[135,7,135,9],[135,10,135,12],[135,13,135,15],[145,1,145,3],[145,4,145,6],[145,7,145,9],[145,10,145,12],[145,13,145,15],[147,0,148,0],[137,0,138,0],[142,1,143,3],[142,4,143,6],[142,7,143,9],[142,10,143,12],[142,13,143,15],[152,1,153,3],[152,4,153,6],[152,7,153,9],[152,10,153,12],[152,13,153,15],[155,1,155,3],[155,4,155,6],[155,7,155,9],[155,10,155,12],[155,13,155,15],[165,1,165,3],[165,4,165,6],[165,7,165,9],[165,10,165,12],[165,13,165,15],[167,0,168,0],[157,0,158,0],[162,1,163,3],[162,4,163,6],[162,7,163,9],[162,10,163,12],[162,13,163,15],[172,1,173,3],[172,4,173,6],[172,7,173,9],[172,10,173,12],[172,13,173,15],[175,1,175,3],[175,4,175,6],[175,7,175,9],[175,10,175,12],[175,13,175,15],[185,1,185,3],[185,4,185,6],[185,7,185,9],[185,10,185,12],[185,13,185,15],[187,0,188,0],[177,0,178,0],[179,16,180,19],[182,1,183,3],[182,4,183,6],[182,7,183,9],[182,10,183,12],[182,13,183,15],[192,1,193,3],[192,4,193,6],[192,7,193,9],[192,10,193,12],[192,13,193,15],[195,1,195,3],[195,4,195,6],[195,7,195,9],[195,10,195,12],[195,13,195,15],[205,1,205,3],[205,4,205,6],[205,7,205,9],[205,10,205,12],[205,13,205,15],[207,0,208,0],[197,0,198,0],[202,1,203,3],[202,4,203,6],[202,7,203,9],[202,10,203,12],[202,13,203,15],[212,1,213,3],[212,4,213,6],[212,7,213,9],[212,10,213,12],[212,13,213,15],[215,1,215,3],[215,4,215,6],[215,7,215,9],[215,10,215,12],[215,13,215,15],[225,1,225,3],[225,4,225,6],[225,7,225,9],[225,10,225,12],[225,13,225,15],[227,0,228,0],[217,0,218,0],[222,1,223,3],[222,4,223,6],[222,7,223,9],[222,10,223,12],[222,13,223,15],[232,1,233,3],[232,4,233,6],[232,7,233,9],[232,10,233,12],[232,13,233,15],[235,1,235,3],[235,4,235,6],[235,7,235,9],[235,10,235,12],[235,13,235,15],[245,1,245,3],[245,4,245,6],[245,7,245,9],[245,10,245,12],[245,13,245,15],[247,0,248,0],[237,0,238,0],[242,1,243,3],[242,4,243,6],[242,7,243,9],[242,10,243,12],[242,13,243,15],[252,1,253,3],[252,4,253,6],[252,7,253,9],[252,10,253,12],[252,13,253,15],[255,1,255,3],[255,4,255,6],[255,7,255,9],[255,10,255,12],[255,13,255,15],[265,1,265,3],[265,4,265,6],[265,7,265,9],[265,10,265,12],[265,13,265,15],[267,0,268,0],[257,0,258,0],[259,16,260,19],[262,1,263,3],[262,4,263,6],[262,7,263,9],[262,10,263,12],[262,13,263,15],[272,1,273,3],[272,4,273,6],[272,7,273,9],[272,10,273,12],[272,13,273,15],[275,1,275,3],[275,4,275,6],[275,7,275,9],[275,10,275,12],[275,13,275,15],[285,1,285,3],[285,4,285,6],[285,7,285,9],[285,10,285,12],[285,13,285,15],[287,0,288,0],[277,0,278,0],[282,1,283,3],[282,4,283,6],[282,7,283,9],[282,10,283,12],[282,13,283,15],[292,1,293,3],[292,4,293,6],[292,7,293,9],[292,10,293,12],[292,13,293,15],[295,1,295,3],[295,4,295,6],[295,7,295,9],[295,10,295,12],[295,13,295,15],[305,1,305,3],[305,4,305,6],[305,7,305,9],[305,10,305,12],[305,13,305,15],[307,0,308,0],[297,0,298,0],[302,1,303,3],[302,4,303,6],[302,7,303,9],[302,10,303,12],[302,13,303,15],[312,1,313,3],[312,4,313,6],[312,7,313,9],[312,10,313,12],[312,13,313,15],[315,1,315,3],[315,4,315,6],[315,7,315,9],[315,10,315,12],[315,13,315,15],[325,1,325,3],[325,4,325,6],[325,7,325,9],[325,10,325,12],[325,13,325,15],[327,0,328,0],[317,0,318,0],[322,1,323,3],[322,4,323,6],[322,7,323,9],[322,10,323,12],[322,13,323,15],[332,1,333,3],[332,4,333,6],[332,7,333,9],[332,10,333,12],[332,13,333,15],[335,1,335,3],[335,4,335,6],[335,7,335,9],[335,10,335,12],[335,13,335,15],[345,1,345,3],[345,4,345,6],[345,7,345,9],[345,10,345,12],[345,13,345,15],[347,0,348,0],[337,0,338,0],[339,16,340,19],[342,1,343,3],[342,4,343,6],[342,7,343,9],[342,10,343,12],[342,13,343,15],[352,1,353,3],[352,4,353,6],[352,7,353,9],[352,10,353,12],[352,13,353,15],[355,1,355,3],[355,4,355,6],[355,7,355,9],[355,10,355,12],[355,13,355,15],[365,1,365,3],[365,4,365,6],[365,7,365,9],[365,10,365,12],[365,13,365,15],[367,0,368,0],[357,0,358,0],[362,1,363,3],[362,4,363,6],[362,7,363,9],[362,10,363,12],[362,13,363,15],[372,1,373,3],[372,4,373,6],[372,7,373,9],[372,10,373,12],[372,13,373,15],[375,1,375,3],[375,4,375,6],[375,7,375,9],[375,10,375,12],[375,13,375,15],[385,1,385,3],[385,4,385,6],[385,7,385,9],[385,10,385,12],[385,13,385,15],[387,0,388,0],[377,0,378,0],[382,1,383,3],[382,4,383,6],[382,7,383,9],[382,10,383,12],[382,13,383,15],[392,1,393,3],[392,4,393,6],[392,7,393,9],[392,10,393,12],[392,13,393,15],[395,1,395,3],[395,4,395,6],[395,7,395,9],[395,10,395,12],[395,13,395,15],[405,1,405,3],[405,4,405,6],[405,7,405,9],[405,10,405,12],[405,13,405,15],[407,0,408,0],[397,0,398,0],[402,1,403,3],[402,4,403,6],[402,7,403,9],[402,10,403,12],[402,13,403,15],[412,1,413,3],[412,4,413,6],[412,7,413,9],[412,10,413,12],[412,13,413,15],[415,1,415,3],[415,4,415,6],[415,7,415,9],[415,10,415,12],[415,13,415,15],[425,1,425,3],[425,4,425,6],[425,7,425,9],[425,10,425,12],[425,13,425,15],[427,0,428,0],[417,0,418,0],[419,16,420,19],[422,1,423,3],[422,4,423,6],[422,7,423,9],[422,10,423,12],[422,13,423,15],[432,1,433,3],[432,4,433,6],[432,7,433,9],[432,10,433,12],[432,13,433,15],[435,1,435,3],[435,4,435,6],[435,7,435,9],[435,10,435,12],[435,13,435,15],[445,1,445,3],[445,4,445,6],[445,7,445,9],[445,10,445,12],[445,13,445,15],[447,0,448,0],[437,0,438,0],[442,1,443,3],[442,4,443,6],[442,7,443,9],[442,10,443,12],[442,13,443,15],[452,1,453,3],[452,4,453,6],[452,7,453,9],[452,10,453,12],[452,13,453,15],[455,1,455,3],[455,4,455,6],[455,7,455,9],[455,10,455,12],[455,13,455,15],[465,1,465,3],[465,4,465,6],[465,7,465,9],[465,10,465,12],[465,13,465,15],[467,0,468,0],[457,0,458,0],[462,1,463,3],[462,4,463,6],[462,7,463,9],[462,10,463,12],[462,13,463,15],[472,1,473,3],[472,4,473,6],[472,7,473,9],[472,10,473,12],[472,13,473,15],[475,1,475,3],[475,4,475,6],[475,7,475,9],[475,10,475,12],[475,13,475,15],[485,1,485,3],[485,4,485,6],[485,7,485,9],[485,10,485,12],[485,13,485,15],[487,0,488,0],[477,0,478,0],[482,1,483,3],[482,4,483,6],[482,7,483,9],[482,10,483,12],[482,13,483,15],[497,0,498,0],[499,16,500,19],[502,1,503,3],[502,4,503,6],[502,7,503,9],[502,10,503,12],[502,13,503,15],[492,1,493,3],[492,4,493,6],[492,7,493,9],[492,10,493,12],[492,13,493,15],[495,1,495,3],[495,4,495,6],[495,7,495,9],[495,10,495,12],[495,13,495,15]]}
[]
[null,{"$f":"'1-2a'!B2:H3","v":"Basisschool De Grote Beer        schooljaar 2020/2021"},null,null,null,null,null,null,null,"Groepsplanner van groep:",null,null,null,"25"]
[]
[null,"maandag 1e schoolweek",null,null,"dinsdag",null,null,"woensdag",null,null,"donderdag",null,null,"vrijdag"]
[null,null,{"$f":"'1-2a'!C$5","v":0},null,null,{"$f":"'1-2a'!F5","v":0},null,null,{"$f":"'1-2a'!I$5","v":0},null,null,{"$f":"'1-2a'!L$5","v":"s"},null,null,{"$f":"'1-2a'!O$5","v":0}]
[{"$f":"(B6-WEEKDAY(B6-1)+4-(TRUNC(DATE(YEAR(B6-WEEKDAY(B6-1)+4),1,2)/7)*7-2))/7","v":32},{"$f":"'1-2a'!B6:D6","v":"2020-08-03"},null,null,{"$f":"B6+1","v":"2020-08-04"},null,null,{"$f":"E6+1","v":"2020-08-05"},null,null,{"$f":"H6+1","v":"2020-08-06"},null,null,{"$f":"K6+1","v":"2020-08-07"}]
[]
[1]
[]
[]
[]
[]
[]
[]
[null,null,{"$f":"'1-2a'!C$15","v":0},null,null,{"$f":"'1-2a'!F$15","v":0},null,null,{"$f":"'1-2a'!I$15","v":0},null,null,{"$f":"'1-2a'!L$15","v":0},null,null,{"$f":"'1-2a'!O15","v":0}]
[{"$f":"IF(A6=52,1,A6+1)","v":33},{"$f":"N6+3","v":"2020-08-10"},null,null,{"$f":"B16+1","v":"2020-08-11"},null,null,{"$f":"E16+1","v":"2020-08-12"},null,null,{"$f":"H16+1","v":"2020-08-13"},null,null,{"$f":"K16+1","v":"2020-08-14"}]
[null,{"$f":"B7","v":0},null,null,{"$f":"E7","v":0},null,null,{"$f":"H7","v":0},null,null,{"$f":"K7","v":0},null,null,{"$f":"N7","v":0}]
[2,0,null,null,0,null,null,0,null,null,0,null,null,0]
[null,0,null,null,0,null,null,0,null,null,0,null,null,0]
[null,0,null,null,0,null,null,0,null,null,0,null,null,0]
[null,0,null,null,0,null,null,0,null,null,0,null,null,0]
[null,0,null,null,0,null,null,0,null,null,0,null,null,0]
[]
[]
[null,null,{"$f":"'1-2a'!C$25","v":0},null,null,{"$f":"'1-2a'!F$25","v":0},null,null,{"$f":"'1-2a'!I25","v":0},null,null,{"$f":"'1-2a'!L25","v":0},null,null,{"$f":"'1-2a'!O25","v":0}]
[{"$f":"IF(A16=52,1,A16+1)","v":34},{"$f":"N16+3","v":"2020-08-17"},null,null,{"$f":"B26+1","v":"2020-08-18"},null,null,{"$f":"E26+1","v":"2020-08-19"},null,null,{"$f":"H26+1","v":"2020-08-20"},null,null,{"$f":"K26+1","v":"2020-08-21"}]
[null,{"$f":"B17","v":0},null,null,{"$f":"E17","v":0},null,null,{"$f":"H17","v":0},null,null,{"$f":"K17","v":0},null,null,{"$f":"N17","v":0}]
[3,0,null,null,0,null,null,0,null,null,0,null,null,0]
[null,0,null,null,0,null,null,0,null,null,0,null,null,0]
[null,0,null,null,0,null,null,0,null,null,0,null,null,0]
[null,0,null,null,0,null,null,0,null,null,{"$f":"K21","v":0},null,null,0]
[null,0,null,null,0,null,null,0,null,null,0,null,null,0]
[]
[]
[null,null,{"$f":"'1-2a'!$C$35","v":0},null,null,{"$f":"'1-2a'!$F$35","v":0},null,null,{"$f":"'1-2a'!$I$35","v":0},null,null,{"$f":"'1-2a'!$L$35","v":0},null,null,{"$f":"'1-2a'!$O$35","v":0}]
[{"$f":"IF(A26=52,1,A26+1)","v":35},{"$f":"N26+3","v":"2020-08-24"},null,null,{"$f":"B36+1","v":"2020-08-25"},null,null,{"$f":"E36+1","v":"2020-08-26"},null,null,{"$f":"H36+1","v":"2020-08-27"},null,null,{"$f":"K36+1","v":"2020-08-28"}]
[null,{"$f":"B27","v":0},null,null,{"$f":"E27","v":0},null,null,{"$f":"H27","v":0},null,null,{"$f":"K27","v":0},null,null,{"$f":"N27","v":0}]
[4,0,null,null,0,null,null,0,null,null,0,null,null,0]
[null,0,null,null,0,null,null,0,null,null,0,null,null,0]
[null,0,null,null,0,null,null,0,null,null,0,null,null,0]
[null,0,null,null,0,null,null,0,null,null,{"$f":"K31","v":0},null,null,0]
[null,0,null,null,0,null,null,0,null,null,0,null,null,0]
[]
[]
[null,null,{"$f":"'1-2a'!$C$45","v":0},null,null,{"$f":"'1-2a'!$F$45","v":0},null,null,{"$f":"'1-2a'!$I$45","v":0},null,null,{"$f":"'1-2a'!$L$45","v":0},null,null,{"$f":"'1-2a'!$O$45","v":0}]
[{"$f":"IF(A36=52,1,A36+1)","v":36},{"$f":"N36+3","v":"2020-08-31"},null,null,{"$f":"B46+1","v":"2020-09-01"},null,null,{"$f":"E46+1","v":"2020-09-02"},null,null,{"$f":"H46+1","v":"2020-09-03"},null,null,{"$f":"K46+1","v":"2020-09-04"}]
[null,{"$f":"B37","v":0},null,null,{"$f":"E37","v":0},null,null,{"$f":"H37","v":0},null,null,{"$f":"K37","v":0},null,null,{"$f":"N37","v":0}]
[5,0,null,null,0,null,null,0,null,null,0,null,null,0]
[null,0,null,null,0,null,null,0,null,null,0,null,null,0]
[null,0,null,null,0,null,null,0,null,null,0,null,null,0]
[null,0,null,null,0,null,null,0,null,null,{"$f":"K41","v":0},null,null,0]
[null,0,null,null,0,null,null,0,null,null,0,null,null,0]
[]
[]
[null,null,{"$f":"'1-2a'!$C$55","v":0},null,null,{"$f":"'1-2a'!$F$55","v":0},null,null,{"$f":"'1-2a'!$I$55","v":0},null,null,{"$f":"'1-2a'!$L$55","v":0},null,null,{"$f":"'1-2a'!O55","v":0}]
[{"$f":"IF(A46=52,1,A46+1)","v":37},{"$f":"N46+3","v":"2020-09-07"},null,null,{"$f":"B56+1","v":"2020-09-08"},null,null,{"$f":"E56+1","v":"2020-09-09"},null,null,{"$f":"H56+1","v":"2020-09-10"},null,null,{"$f":"K56+1","v":"2020-09-11"}]
[null,{"$f":"B47","v":0},null,null,{"$f":"E47","v":0},null,null,{"$f":"H47","v":0},null,null,{"$f":"K47","v":0},null,null,{"$f":"N47","v":0}]
[6,0,null,null,0,null,null,0,null,null,0,null,null,0]
[null,0,null,null,0,null,null,0,null,null,0,null,null,0]
[null,0,null,null,0,null,null,0,null,null,0,null,null,0]
[null,0,null,null,0,null,null,0,null,null,{"$f":"K51","v":0},null,null,0]
[null,0,null,null,0,null,null,0,null,null,0,null,null,0]
[]
[]
[null,null,{"$f":"'1-2a'!$C$65","v":0},null,null,{"$f":"'1-2a'!$F$65","v":0},null,null,{"$f":"'1-2a'!$I$65","v":0},null,null,{"$f":"'1-2a'!$L$65","v":0},null,null,{"$f":"'1-2a'!$O$65","v":0}]
[{"$f":"IF(A56=52,1,A56+1)","v":38},{"$f":"N56+3","v":"2020-09-14"},null,null,{"$f":"B66+1","v":"2020-09-15"},null,null,{"$f":"E66+1","v":"2020-09-16"},null,null,{"$f":"H66+1","v":"2020-09-17"},null,null,{"$f":"K66+1","v":"2020-09-18"}]
[null,{"$f":"B57","v":0},null,null,{"$f":"E57","v":0},null,null,{"$f":"H57","v":0},null,null,{"$f":"K57","v":0},null,null,{"$f":"N57","v":0}]
[7,0,null,null,0,null,null,0,null,null,0,null,null,0]
[null,0,null,null,0,null,null,0,null,null,0,null,null,0]
[null,0,null,null,0,null,null,0,null,null,0,null,null,0]
[null,0,null,null,0,null,null,0,null,null,{"$f":"K61","v":0},null,null,0]
[null,0,null,null,0,null,null,0,null,null,0,null,null,0]
[]
[]
[null,null,{"$f":"'1-2a'!$C$75","v":0},null,null,{"$f":"'1-2a'!$F$75","v":0},null,null,{"$f":"'1-2a'!$I$75","v":0},null,null,{"$f":"'1-2a'!$L$75","v":0},null,null,{"$f":"'1-2a'!$O$75","v":0}]
[{"$f":"IF(A66=52,1,A66+1)","v":39},{"$f":"N66+3","v":"2020-09-21"},null,null,{"$f":"B76+1","v":"2020-09-22"},null,null,{"$f":"E76+1","v":"2020-09-23"},null,null,{"$f":"H76+1","v":"2020-09-24"},null,null,{"$f":"K76+1","v":"2020-09-25"}]
[null,{"$f":"B67","v":0},null,null,{"$f":"E67","v":0},null,null,{"$f":"H67","v":0},null,null,{"$f":"K67","v":0},null,null,{"$f":"N67","v":0}]
[8,0,null,null,0,null,null,0,null,null,0,null,null,0]
[null,0,null,null,0,null,null,0,null,null,0,null,null,0]
[null,0,null,null,0,null,null,0,null,null,0,null,null,0]
[null,0,null,null,0,null,null,0,null,null,{"$f":"K71","v":0},null,null,0]
[null,0,null,null,0,null,null,0,null,null,0,null,null,0]
[]
[]
[null,null,{"$f":"'1-2a'!$C$85","v":0},null,null,{"$f":"'1-2a'!$F$85","v":0},null,null,{"$f":"'1-2a'!$I$85","v":0},null,null,{"$f":"'1-2a'!$L$85","v":0},null,null,{"$f":"'1-2a'!$O$85","v":0}]
[{"$f":"IF(A76=52,1,A76+1)","v":40},{"$f":"N76+3","v":"2020-09-28"},null,null,{"$f":"B86+1","v":"2020-09-29"},null,null,{"$f":"E86+1","v":"2020-09-30"},null,null,{"$f":"H86+1","v":"2020-10-01"},null,null,{"$f":"K86+1","v":"2020-10-02"}]
[null,{"$f":"B77","v":0},null,null,{"$f":"E77","v":0},null,null,{"$f":"H77","v":0},null,null,{"$f":"K77","v":0},null,null,{"$f":"N77","v":0}]
[9,0,null,null,0,null,null,0,null,null,0,null,null,0]
[null,0,null,null,0,null,null,0,null,null,0,null,null,0]
[null,0,null,null,0,null,null,0,null,null,0,null,null,0]
[null,0,null,null,0,null,null,0,null,null,0,null,null,0]
[null,0,null,null,0,null,null,0,null,null,0,null,null,0]
[]
[]
[null,null,{"$f":"'1-2a'!$C$95","v":0},null,null,{"$f":"'1-2a'!$F$95","v":0},null,null,{"$f":"'1-2a'!$I$95","v":0},null,null,{"$f":"'1-2a'!$L$95","v":0},null,null,{"$f":"'1-2a'!$O$95","v":0}]
[{"$f":"IF(A86=52,1,A86+1)","v":41},{"$f":"N86+3","v":"2020-10-05"},null,null,{"$f":"B96+1","v":"2020-10-06"},null,null,{"$f":"E96+1","v":"2020-10-07"},null,null,{"$f":"H96+1","v":"2020-10-08"},null,null,{"$f":"K96+1","v":"2020-10-09"}]
[null,{"$f":"B87","v":0},null,null,{"$f":"E87","v":0},null,null,{"$f":"H87","v":0},null,null,{"$f":"K87","v":0},null,null,{"$f":"N87","v":0}]
[10,0,null,null,0,null,null,0,null,null,0,null,null,0]
[null,0,null,null,0,null,null,0,null,null,0,null,null,0]
[null,0,null,null,0,null,null,0,null,null,0,null,null,0]
[null,0,null,null,0,null,null,0,null,null,{"$f":"K91","v":0},null,null,0]
[null,0,null,null,0,null,null,0,null,null,0,null,null,0]
[]
[]
[null,null,{"$f":"'1-2a'!$C$105","v":0},null,null,{"$f":"'1-2a'!$F$105","v":0},null,null,{"$f":"'1-2a'!$I$105","v":0},null,null,{"$f":"'1-2a'!$L$105","v":0},null,null,{"$f":"'1-2a'!$O$105","v":0}]
[{"$f":"IF(A96=52,1,A96+1)","v":42},{"$f":"N96+3","v":"2020-10-12"},null,null,{"$f":"B106+1","v":"2020-10-13"},null,null,{"$f":"E106+1","v":"2020-10-14"},null,null,{"$f":"H106+1","v":"2020-10-15"},null,null,{"$f":"K106+1","v":"2020-10-16"}]
[null,{"$f":"B97","v":0},null,null,{"$f":"E97","v":0},null,null,{"$f":"H97","v":0},null,null,{"$f":"K97","v":0},null,null,{"$f":"N97","v":0}]
[11,0,null,null,0,null,null,0,null,null,0,null,null,0]
[null,0,null,null,0,null,null,0,null,null,0,null,null,0]
[null,0,null,null,0,null,null,0,null,null,0,null,null,0]
[null,0,null,null,0,null,null,0,null,null,{"$f":"K101","v":0},null,null,0]
[null,0,null,null,0,null,null,0,null,null,0,null,null,0]
[]
[]
[null,null,{"$f":"'1-2a'!$C$115","v":0},null,null,{"$f":"'1-2a'!$F$115","v":0},null,null,{"$f":"'1-2a'!$I$115","v":0},null,null,{"$f":"'1-2a'!$L$115","v":0},null,null,{"$f":"'1-2a'!$O$115","v":0}]
[{"$f":"IF(A106=52,1,A106+1)","v":43},{"$f":"N106+3","v":"2020-10-19"},null,null,{"$f":"B116+1","v":"2020-10-20"},null,null,{"$f":"E116+1","v":"2020-10-21"},null,null,{"$f":"H116+1","v":"2020-10-22"},null,null,{"$f":"K116+1","v":"2020-10-23"}]
[null,{"$f":"B107","v":0},null,null,{"$f":"E107","v":0},null,null,{"$f":"H107","v":0},null,null,{"$f":"K107","v":0},null,null,{"$f":"N107","v":0}]
[12,0,null,null,0,null,null,0,null,null,0,null,null,0]
[null,0,null,null,0,null,null,0,null,null,0,null,null,0]
[null,0,null,null,0,null,null,0,null,null,0,null,null,0]
[null,0,null,null,0,null,null,0,null,null,{"$f":"K111","v":0},null,null,0]
[null,0,null,null,0,null,null,0,null,null,0,null,null,0]
[]
[]
[null,null,{"$f":"'1-2a'!$C$125","v":0},null,null,{"$f":"'1-2a'!$F$125","v":0},null,null,{"$f":"'1-2a'!$I$125","v":0},null,null,{"$f":"'1-2a'!$L$125","v":0},null,null,{"$f":"'1-2a'!$O$125","v":0}]
[{"$f":"IF(A116=52,1,A116+1)","v":44},{"$f":"N116+3","v":"2020-10-26"},null,null,{"$f":"B126+1","v":"2020-10-27"},null,null,{"$f":"E126+1","v":"2020-10-28"},null,null,{"$f":"H126+1","v":"2020-10-29"},null,null,{"$f":"K126+1","v":"2020-10-30"}]
[null,{"$f":"B117","v":0},null,null,{"$f":"E117","v":0},null,null,{"$f":"H117","v":0},null,null,{"$f":"K117","v":0},null,null,{"$f":"N117","v":0}]
[13,0,null,null,0,null,null,0,null,null,0,null,null,0]
[null,0,null,null,0,null,null,0,null,null,0,null,null,0]
[null,0,null,null,0,null,null,0,null,null,0,null,null,0]
[null,0,null,null,0,null,null,0,null,null,{"$f":"K121","v":0},null,null,0]
[null,0,null,null,0,null,null,0,null,null,0,null,null,0]
[]
[]
[null,null,{"$f":"'1-2a'!$C$135","v":0},null,null,{"$f":"'1-2a'!$F$135","v":0},null,null,{"$f":"'1-2a'!$I$135","v":0},null,null,{"$f":"'1-2a'!$L$135","v":0},null,null,{"$f":"'1-2a'!$O$135","v":0}]
[{"$f":"IF(A126=52,1,A126+1)","v":45},{"$f":"N126+3","v":"2020-11-02"},null,null,{"$f":"B136+1","v":"2020-11-03"},null,null,{"$f":"E136+1","v":"2020-11-04"},null,null,{"$f":"H136+1","v":"2020-11-05"},null,null,{"$f":"K136+1","v":"2020-11-06"}]
[null,{"$f":"B127","v":0},null,null,{"$f":"E127","v":0},null,null,{"$f":"H127","v":0},null,null,{"$f":"K127","v":0},null,null,{"$f":"N127","v":0}]
[14,0,null,null,0,null,null,0,null,null,0,null,null,0]
[null,0,null,null,0,null,null,0,null,null,0,null,null,0]
[null,0,null,null,0,null,null,0,null,null,0,null,null,0]
[null,0,null,null,0,null,null,0,null,null,{"$f":"K131","v":0},null,null,0]
[null,0,null,null,0,null,null,0,null,null,0,null,null,0]
[]
[]
[null,null,{"$f":"'1-2a'!$C$145","v":0},null,null,{"$f":"'1-2a'!$F$145","v":0},null,null,{"$f":"'1-2a'!$I$145","v":0},null,null,{"$f":"'1-2a'!$L$145","v":0},null,null,{"$f":"'1-2a'!$O$145","v":0}]
[{"$f":"IF(A136=52,1,A136+1)","v":46},{"$f":"N136+3","v":"2020-11-09"},null,null,{"$f":"B146+1","v":"2020-11-10"},null,null,{"$f":"E146+1","v":"2020-11-11"},null,null,{"$f":"H146+1","v":"2020-11-12"},null,null,{"$f":"K146+1","v":"2020-11-13"}]
[null,{"$f":"B137","v":0},null,null,{"$f":"E137","v":0},null,null,{"$f":"H137","v":0},null,null,{"$f":"K137","v":0},null,null,{"$f":"N137","v":0}]
[15,0,null,null,0,null,null,0,null,null,0,null,null,0]
[null,0,null,null,0,null,null,0,null,null,0,null,null,0]
[null,0,null,null,0,null,null,0,null,null,0,null,null,0]
[null,0,null,null,0,null,null,0,null,null,{"$f":"K141","v":0},null,null,0]
[null,0,null,null,0,null,null,0,null,null,0,null,null,0]
[]
[]
[null,null,{"$f":"'1-2a'!$C$155","v":0},null,null,{"$f":"'1-2a'!$F$155","v":0},null,null,{"$f":"'1-2a'!$I$155","v":0},null,null,{"$f":"'1-2a'!$L$155","v":0},null,null,{"$f":"'1-2a'!$O$155","v":0}]
[{"$f":"IF(A146=52,1,A146+1)","v":47},{"$f":"N146+3","v":"2020-11-16"},null,null,{"$f":"B156+1","v":"2020-11-17"},null,null,{"$f":"E156+1","v":"2020-11-18"},null,null,{"$f":"H156+1","v":"2020-11-19"},null,null,{"$f":"K156+1","v":"2020-11-20"}]
[null,{"$f":"B147","v":0},null,null,{"$f":"E147","v":0},null,null,{"$f":"H147","v":0},null,null,{"$f":"K147","v":0},null,null,{"$f":"N147","v":0}]
[16,0,null,null,0,null,null,0,null,null,0,null,null,0]
[null,0,null,null,0,null,null,0,null,null,0,null,null,0]
[null,0,null,null,0,null,null,0,null,null,0,null,null,0]
[null,0,null,null,0,null,null,0,null,null,{"$f":"K151","v":0},null,null,0]
[null,0,null,null,0,null,null,0,null,null,0,null,null,0]
[]
[]
[null,null,{"$f":"'1-2a'!$C$165","v":0},null,null,{"$f":"'1-2a'!$F$165","v":0},null,null,{"$f":"'1-2a'!$I$165","v":0},null,null,{"$f":"'1-2a'!$L$165","v":0},null,null,{"$f":"'1-2a'!$O$165","v":0}]
[{"$f":"IF(A156=52,1,A156+1)","v":48},{"$f":"N156+3","v":"2020-11-23"},null,null,{"$f":"B166+1","v":"2020-11-24"},null,null,{"$f":"E166+1","v":"2020-11-25"},null,null,{"$f":"H166+1","v":"2020-11-26"},null,null,{"$f":"K166+1","v":"2020-11-27"}]
[null,{"$f":"B157","v":0},null,null,{"$f":"E157","v":0},null,null,{"$f":"H157","v":0},null,null,{"$f":"K157","v":0},null,null,{"$f":"N157","v":0}]
[17,0,null,null,0,null,null,0,null,null,0,null,null,0]
[null,0,null,null,0,null,null,0,null,null,0,null,null,0]
[null,0,null,null,0,null,null,0,null,null,0,null,null,0]
[null,0,null,null,0,null,null,0,null,null,0,null,null,0]
[null,0,null,null,0,null,null,0,null,null,0,null,null,0]
[]
[]
[null,null,{"$f":"'1-2a'!$C$175","v":0},null,null,{"$f":"'1-2a'!$F$175","v":0},null,null,{"$f":"'1-2a'!$I$175","v":0},null,null,{"$f":"'1-2a'!$L$175","v":0},null,null,{"$f":"'1-2a'!$O$175","v":0}]
[{"$f":"IF(A166=52,1,A166+1)","v":49},{"$f":"N166+3","v":"2020-11-30"},null,null,{"$f":"B176+1","v":"2020-12-01"},null,null,{"$f":"E176+1","v":"2020-12-02"},null,null,{"$f":"H176+1","v":"2020-12-03"},null,null,{"$f":"K176+1","v":"2020-12-04"}]
[null,{"$f":"B167","v":0},null,null,{"$f":"E167","v":0},null,null,{"$f":"H167","v":0},null,null,{"$f":"K167","v":0},null,null,{"$f":"N167","v":0}]
[18,0,null,null,0,null,null,0,null,null,0,null,null,0]
[null,0,null,null,0,null,null,0,null,null,0,null,null,0]
[null,0,null,null,0,null,null,0,null,null,0,null,null,0]
[null,0,null,null,0,null,null,0,null,null,{"$f":"K171","v":0},null,null,0]
[null,0,null,null,0,null,null,0,null,null,0,null,null,0]
[]
[]
[null,null,{"$f":"'1-2a'!$C$185","v":0},null,null,{"$f":"'1-2a'!$F$185","v":0},null,null,{"$f":"'1-2a'!$I$185","v":0},null,null,{"$f":"'1-2a'!$L$185","v":0},null,null,{"$f":"'1-2a'!$O$185","v":0}]
[{"$f":"IF(A176=52,1,A176+1)","v":50},{"$f":"N176+3","v":"2020-12-07"},null,null,{"$f":"B186+1","v":"2020-12-08"},null,null,{"$f":"E186+1","v":"2020-12-09"},null,null,{"$f":"H186+1","v":"2020-12-10"},null,null,{"$f":"K186+1","v":"2020-12-11"}]
[null,{"$f":"B177","v":0},null,null,{"$f":"E177","v":0},null,null,{"$f":"H177","v":0},null,null,{"$f":"K177","v":0},null,null,{"$f":"N177","v":0}]
[19,0,null,null,0,null,null,0,null,null,0,null,null,0]
[null,0,null,null,0,null,null,0,null,null,0,null,null,0]
[null,0,null,null,0,null,null,0,null,null,0,null,null,0]
[null,0,null,null,0,null,null,0,null,null,{"$f":"K181","v":0},null,null,0]
[null,0,null,null,0,null,null,0,null,null,0,null,null,0]
[]
[]
[null,null,{"$f":"'1-2a'!$C$195","v":0},null,null,{"$f":"'1-2a'!$F$195","v":0},null,null,{"$f":"'1-2a'!$I$195","v":0},null,null,{"$f":"'1-2a'!$L$195","v":0},null,null,{"$f":"'1-2a'!$O$195","v":0}]
[{"$f":"IF(A186=52,1,A186+1)","v":51},{"$f":"N186+3","v":"2020-12-14"},null,null,{"$f":"B196+1","v":"2020-12-15"},null,null,{"$f":"E196+1","v":"2020-12-16"},null,null,{"$f":"H196+1","v":"2020-12-17"},null,null,{"$f":"K196+1","v":"2020-12-18"}]
[null,{"$f":"B187","v":0},null,null,{"$f":"E187","v":0},null,null,{"$f":"H187","v":0},null,null,{"$f":"K187","v":0},null,null,{"$f":"N187","v":0}]
[20,0,null,null,0,null,null,0,null,null,0,null,null,0]
[null,0,null,null,0,null,null,0,null,null,0,null,null,0]
[null,0,null,null,0,null,null,0,null,null,0,null,null,0]
[null,0,null,null,0,null,null,0,null,null,{"$f":"K191","v":0},null,null,0]
[null,0,null,null,0,null,null,0,null,null,0,null,null,0]
[]
[]
[null,null,{"$f":"'1-2a'!$C$205","v":0},null,null,{"$f":"'1-2a'!$F$205","v":0},null,null,{"$f":"'1-2a'!$I$205","v":0},null,null,{"$f":"'1-2a'!$L$205","v":0},null,null,{"$f":"'1-2a'!$O$205","v":0}]
[{"$f":"IF(A196=52,1,A196+1)","v":52},{"$f":"N196+3","v":"2020-12-21"},null,null,{"$f":"B206+1","v":"2020-12-22"},null,null,{"$f":"E206+1","v":"2020-12-23"},null,null,{"$f":"H206+1","v":"2020-12-24"},null,null,{"$f":"K206+1","v":"2020-12-25"}]
[null,{"$f":"B197","v":0},null,null,{"$f":"E197","v":0},null,null,{"$f":"H197","v":0},null,null,{"$f":"K197","v":0},null,null,{"$f":"N197","v":0}]
[21,0,null,null,0,null,null,0,null,null,0,null,null,0]
[null,0,null,null,0,null,null,0,null,null,0,null,null,0]
[null,0,null,null,0,null,null,0,null,null,0,null,null,0]
[null,0,null,null,0,null,null,0,null,null,{"$f":"K201","v":0},null,null,0]
[null,0,null,null,0,null,null,0,null,null,0,null,null,0]
[]
[]
[null,null,{"$f":"'1-2a'!$C$215","v":0},null,null,{"$f":"'1-2a'!$F$215","v":0},null,null,{"$f":"'1-2a'!$I$215","v":0},null,null,{"$f":"'1-2a'!$L$215","v":0},null,null,{"$f":"'1-2a'!$O$215","v":0}]
[{"$f":"IF(A206=52,1,A206+1)","v":1},{"$f":"N206+3","v":"2020-12-28"},null,null,{"$f":"B216+1","v":"2020-12-29"},null,null,{"$f":"E216+1","v":"2020-12-30"},null,null,{"$f":"H216+1","v":"2020-12-31"},null,null,{"$f":"K216+1","v":"2021-01-01"}]
[null,{"$f":"B207","v":0},null,null,{"$f":"E207","v":0},null,null,{"$f":"H207","v":0},null,null,{"$f":"K207","v":0},null,null,{"$f":"N207","v":0}]
[22,0,null,null,0,null,null,0,null,null,0,null,null,0]
[null,0,null,null,0,null,null,0,null,null,0,null,null,0]
[null,0,null,null,0,null,null,0,null,null,0,null,null,0]
[null,0,null,null,0,null,null,0,null,null,{"$f":"K211","v":0},null,null,0]
[null,0,null,null,0,null,null,0,null,null,0,null,null,0]
[]
[]
[null,null,{"$f":"'1-2a'!$C$225","v":0},null,null,{"$f":"'1-2a'!$F$225","v":0},null,null,{"$f":"'1-2a'!$I$225","v":0},null,null,{"$f":"'1-2a'!$L$225","v":0},null,null,{"$f":"'1-2a'!$O$225","v":0}]
[{"$f":"IF(A216=52,1,A216+1)","v":2},{"$f":"N216+3","v":"2021-01-04"},null,null,{"$f":"B226+1","v":"2021-01-05"},null,null,{"$f":"E226+1","v":"2021-01-06"},null,null,{"$f":"H226+1","v":"2021-01-07"},null,null,{"$f":"K226+1","v":"2021-01-08"}]
[null,{"$f":"B217","v":0},null,null,{"$f":"E217","v":0},null,null,{"$f":"H217","v":0},null,null,{"$f":"K217","v":0},null,null,{"$f":"N217","v":0}]
[23,0,null,null,0,null,null,0,null,null,0,null,null,0]
[null,0,null,null,0,null,null,0,null,null,0,null,null,0]
[null,0,null,null,0,null,null,0,null,null,0,null,null,0]
[null,0,null,null,0,null,null,0,null,null,{"$f":"K221","v":0},null,null,0]
[null,0,null,null,0,null,null,0,null,null,0,null,null,0]
[]
[]
[null,null,{"$f":"'1-2a'!$C$235","v":0},null,null,{"$f":"'1-2a'!$F$235","v":0},null,null,{"$f":"'1-2a'!$I$235","v":0},null,null,{"$f":"'1-2a'!$L$235","v":0},null,null,{"$f":"'1-2a'!$O$235","v":0}]
[{"$f":"IF(A226=52,1,A226+1)","v":3},{"$f":"N226+3","v":"2021-01-11"},null,null,{"$f":"B236+1","v":"2021-01-12"},null,null,{"$f":"E236+1","v":"2021-01-13"},null,null,{"$f":"H236+1","v":"2021-01-14"},null,null,{"$f":"K236+1","v":"2021-01-15"}]
[null,{"$f":"B227","v":0},null,null,{"$f":"E227","v":0},null,null,{"$f":"H227","v":0},null,null,{"$f":"K227","v":0},null,null,{"$f":"N227","v":0}]
[24,0,null,null,0,null,null,0,null,null,0,null,null,0]
[null,0,null,null,0,null,null,0,null,null,0,null,null,0]
[null,0,null,null,0,null,null,0,null,null,0,null,null,0]
[null,0,null,null,0,null,null,0,null,null,{"$f":"K231","v":0},null,null,0]
[null,0,null,null,0,null,null,0,null,null,0,null,null,0]
[]
[]
[null,null,{"$f":"'1-2a'!$C$245","v":0},null,null,{"$f":"'1-2a'!$F$245","v":0},null,null,{"$f":"'1-2a'!$I$245","v":0},null,null,{"$f":"'1-2a'!$L$245","v":0},null,null,{"$f":"'1-2a'!$O$245","v":0}]
[{"$f":"IF(A236=52,1,A236+1)","v":4},{"$f":"N236+3","v":"2021-01-18"},null,null,{"$f":"B246+1","v":"2021-01-19"},null,null,{"$f":"E246+1","v":"2021-01-20"},null,null,{"$f":"H246+1","v":"2021-01-21"},null,null,{"$f":"K246+1","v":"2021-01-22"}]
[null,{"$f":"B237","v":0},null,null,{"$f":"E237","v":0},null,null,{"$f":"H237","v":0},null,null,{"$f":"K237","v":0},null,null,{"$f":"N237","v":0}]
[25,0,null,null,0,null,null,0,null,null,0,null,null,0]
[null,0,null,null,0,null,null,0,null,null,0,null,null,0]
[null,0,null,null,0,null,null,0,null,null,0,null,null,0]
[null,0,null,null,0,null,null,0,null,null,0,null,null,0]
[null,0,null,null,0,null,null,0,null,null,0,null,null,0]
[]
[]
[null,null,{"$f":"'1-2a'!$C$255","v":0},null,null,{"$f":"'1-2a'!$F$255","v":0},null,null,{"$f":"'1-2a'!$I$255","v":0},null,null,{"$f":"'1-2a'!$L$255","v":0},null,null,{"$f":"'1-2a'!$O$255","v":0}]
[{"$f":"IF(A246=52,1,A246+1)","v":5},{"$f":"N246+3","v":"2021-01-25"},null,null,{"$f":"B256+1","v":"2021-01-26"},null,null,{"$f":"E256+1","v":"2021-01-27"},null,null,{"$f":"H256+1","v":"2021-01-28"},null,null,{"$f":"K256+1","v":"2021-01-29"}]
[null,{"$f":"B247","v":0},null,null,{"$f":"E247","v":0},null,null,{"$f":"H247","v":0},null,null,{"$f":"K247","v":0},null,null,{"$f":"N247","v":0}]
[26,0,null,null,0,null,null,0,null,null,0,null,null,0]
[null,0,null,null,0,null,null,0,null,null,0,null,null,0]
[null,0,null,null,0,null,null,0,null,null,0,null,null,0]
[null,0,null,null,0,null,null,0,null,null,{"$f":"K251","v":0},null,null,0]
[null,0,null,null,0,null,null,0,null,null,0,null,null,0]
[]
[]
[null,null,{"$f":"'1-2a'!$C$265","v":0},null,null,{"$f":"'1-2a'!$F$265","v":0},null,null,{"$f":"'1-2a'!$I$265","v":0},null,null,{"$f":"'1-2a'!$L$265","v":0},null,null,{"$f":"'1-2a'!$O$265","v":0}]
[{"$f":"IF(A256=52,1,A256+1)","v":6},{"$f":"N256+3","v":"2021-02-01"},null,null,{"$f":"B266+1","v":"2021-02-02"},null,null,{"$f":"E266+1","v":"2021-02-03"},null,null,{"$f":"H266+1","v":"2021-02-04"},null,null,{"$f":"K266+1","v":"2021-02-05"}]
[null,{"$f":"B257","v":0},null,null,{"$f":"E257","v":0},null,null,{"$f":"H257","v":0},null,null,{"$f":"K257","v":0},null,null,{"$f":"N257","v":0}]
[27,0,null,null,0,null,null,0,null,null,0,null,null,0]
[null,0,null,null,0,null,null,0,null,null,0,null,null,0]
[null,0,null,null,0,null,null,0,null,null,0,null,null,0]
[null,0,null,null,0,null,null,0,null,null,{"$f":"K261","v":0},null,null,0]
[null,0,null,null,0,null,null,0,null,null,0,null,null,0]
[]
[]
[null,null,{"$f":"'1-2a'!$C$275","v":0},null,null,{"$f":"'1-2a'!$F$275","v":0},null,null,{"$f":"'1-2a'!$I$275","v":0},null,null,{"$f":"'1-2a'!$L$275","v":0},null,null,{"$f":"'1-2a'!$O$275","v":0}]
[{"$f":"IF(A266=52,1,A266+1)","v":7},{"$f":"N266+3","v":"2021-02-08"},null,null,{"$f":"B276+1","v":"2021-02-09"},null,null,{"$f":"E276+1","v":"2021-02-10"},null,null,{"$f":"H276+1","v":"2021-02-11"},null,null,{"$f":"K276+1","v":"2021-02-12"}]
[null,{"$f":"B267","v":0},null,null,{"$f":"E267","v":0},null,null,{"$f":"H267","v":0},null,null,{"$f":"K267","v":0},null,null,{"$f":"N267","v":0}]
[28,0,null,null,0,null,null,0,null,null,0,null,null,0]
[null,0,null,null,0,null,null,0,null,null,0,null,null,0]
[null,0,null,null,0,null,null,0,null,null,0,null,null,0]
[null,0,null,null,0,null,null,0,null,null,{"$f":"K271","v":0},null,null,0]
[null,0,null,null,0,null,null,0,null,null,0,null,null,0]
[]
[]
[null,null,{"$f":"'1-2a'!$C$285","v":0},null,null,{"$f":"'1-2a'!$F$285","v":0},null,null,{"$f":"'1-2a'!$I$285","v":0},null,null,{"$f":"'1-2a'!$L$285","v":0},null,null,{"$f":"'1-2a'!$O$285","v":0}]
[{"$f":"IF(A276=52,1,A276+1)","v":8},{"$f":"N276+3","v":"2021-02-15"},null,null,{"$f":"B286+1","v":"2021-02-16"},null,null,{"$f":"E286+1","v":"2021-02-17"},null,null,{"$f":"H286+1","v":"2021-02-18"},null,null,{"$f":"K286+1","v":"2021-02-19"}]
[null,{"$f":"B277","v":0},null,null,{"$f":"E277","v":0},null,null,{"$f":"H277","v":0},null,null,{"$f":"K277","v":0},null,null,{"$f":"N277","v":0}]
[29,0,null,null,0,null,null,0,null,null,0,null,null,0]
[null,0,null,null,0,null,null,0,null,null,0,null,null,0]
[null,0,null,null,0,null,null,0,null,null,0,null,null,0]
[null,0,null,null,0,null,null,0,null,null,{"$f":"K281","v":0},null,null,0]
[null,0,null,null,0,null,null,0,null,null,0,null,null,0]
[]
[]
[null,null,{"$f":"'1-2a'!$C$295","v":0},null,null,{"$f":"'1-2a'!$F$295","v":0},null,null,{"$f":"'1-2a'!$I$295","v":0},null,null,{"$f":"'1-2a'!$L$295","v":0},null,null,{"$f":"'1-2a'!$O$295","v":0}]
[{"$f":"IF(A286=52,1,A286+1)","v":9},{"$f":"N286+3","v":"2021-02-22"},null,null,{"$f":"B296+1","v":"2021-02-23"},null,null,{"$f":"E296+1","v":"2021-02-24"},null,null,{"$f":"H296+1","v":"2021-02-25"},null,null,{"$f":"K296+1","v":"2021-02-26"}]
[null,{"$f":"B287","v":0},null,null,{"$f":"E287","v":0},null,null,{"$f":"H287","v":0},null,null,{"$f":"K287","v":0},null,null,{"$f":"N287","v":0}]
[30,0,null,null,0,null,null,0,null,null,0,null,null,0]
[null,0,null,null,0,null,null,0,null,null,0,null,null,0]
[null,0,null,null,0,null,null,0,null,null,0,null,null,0]
[null,0,null,null,0,null,null,0,null,null,{"$f":"K291","v":0},null,null,0]
[null,0,null,null,0,null,null,0,null,null,0,null,null,0]
[]
[]
[null,null,{"$f":"'1-2a'!$C$305","v":0},null,null,{"$f":"'1-2a'!$F$305","v":0},null,null,{"$f":"'1-2a'!$I$305","v":0},null,null,{"$f":"'1-2a'!$L$305","v":0},null,null,{"$f":"'1-2a'!$O$305","v":0}]
[{"$f":"IF(A296=52,1,A296+1)","v":10},{"$f":"N296+3","v":"2021-03-01"},null,null,{"$f":"B306+1","v":"2021-03-02"},null,null,{"$f":"E306+1","v":"2021-03-03"},null,null,{"$f":"H306+1","v":"2021-03-04"},null,null,{"$f":"K306+1","v":"2021-03-05"}]
[null,{"$f":"B297","v":0},null,null,{"$f":"E297","v":0},null,null,{"$f":"H297","v":0},null,null,{"$f":"K297","v":0},null,null,{"$f":"N297","v":0}]
[31,0,null,null,0,null,null,0,null,null,0,null,null,0]
[null,0,null,null,0,null,null,0,null,null,0,null,null,0]
[null,0,null,null,0,null,null,0,null,null,0,null,null,0]
[null,0,null,null,0,null,null,0,null,null,{"$f":"K301","v":0},null,null,0]
[null,0,null,null,0,null,null,0,null,null,0,null,null,0]
[]
[]
[null,null,{"$f":"'1-2a'!$C$315","v":0},null,null,{"$f":"'1-2a'!$F$315","v":0},null,null,{"$f":"'1-2a'!$I$315","v":0},null,null,{"$f":"'1-2a'!$L$315","v":0},null,null,{"$f":"'1-2a'!$O$315","v":0}]
[{"$f":"IF(A306=52,1,A306+1)","v":11},{"$f":"N306+3","v":"2021-03-08"},null,null,{"$f":"B316+1","v":"2021-03-09"},null,null,{"$f":"E316+1","v":"2021-03-10"},null,null,{"$f":"H316+1","v":"2021-03-11"},null,null,{"$f":"K316+1","v":"2021-03-12"}]
[null,{"$f":"B307","v":0},null,null,{"$f":"E307","v":0},null,null,{"$f":"H307","v":0},null,null,{"$f":"K307","v":0},null,null,{"$f":"N307","v":0}]
[32,0,null,null,0,null,null,0,null,null,0,null,null,0]
[null,0,null,null,0,null,null,0,null,null,0,null,null,0]
[null,0,null,null,0,null,null,0,null,null,0,null,null,0]
[null,0,null,null,0,null,null,0,null,null,{"$f":"K311","v":0},null,null,0]
[null,0,null,null,0,null,null,0,null,null,0,null,null,0]
[]
[]
[null,null,{"$f":"'1-2a'!$C$325","v":0},null,null,{"$f":"'1-2a'!$F$325","v":0},null,null,{"$f":"'1-2a'!$I$325","v":0},null,null,{"$f":"'1-2a'!$L$325","v":0},null,null,{"$f":"'1-2a'!$O$325","v":0}]
[{"$f":"IF(A316=52,1,A316+1)","v":12},{"$f":"N316+3","v":"2021-03-15"},null,null,{"$f":"B326+1","v":"2021-03-16"},null,null,{"$f":"E326+1","v":"2021-03-17"},null,null,{"$f":"H326+1","v":"2021-03-18"},null,null,{"$f":"K326+1","v":"2021-03-19"}]
[null,{"$f":"B317","v":0},null,null,{"$f":"E317","v":0},null,null,{"$f":"H317","v":0},null,null,{"$f":"K317","v":0},null,null,{"$f":"N317","v":0}]
[33,0,null,null,0,null,null,0,null,null,0,null,null,0]
[null,0,null,null,0,null,null,0,null,null,0,null,null,0]
[null,0,null,null,0,null,null,0,null,null,0,null,null,0]
[null,0,null,null,0,null,null,0,null,null,0,null,null,0]
[null,0,null,null,0,null,null,0,null,null,0,null,null,0]
[]
[]
[null,null,{"$f":"'1-2a'!$C$335","v":0},null,null,{"$f":"'1-2a'!$F$335","v":0},null,null,{"$f":"'1-2a'!$I$335","v":0},null,null,{"$f":"'1-2a'!$L$335","v":0},null,null,{"$f":"'1-2a'!$O$335","v":0}]
[{"$f":"IF(A326=52,1,A326+1)","v":13},{"$f":"N326+3","v":"2021-03-22"},null,null,{"$f":"B336+1","v":"2021-03-23"},null,null,{"$f":"E336+1","v":"2021-03-24"},null,null,{"$f":"H336+1","v":"2021-03-25"},null,null,{"$f":"K336+1","v":"2021-03-26"}]
[null,{"$f":"B327","v":0},null,null,{"$f":"E327","v":0},null,null,{"$f":"H327","v":0},null,null,{"$f":"K327","v":0},null,null,{"$f":"N327","v":0}]
[34,0,null,null,0,null,null,0,null,null,0,null,null,0]
[null,0,null,null,0,null,null,0,null,null,0,null,null,0]
[null,0,null,null,0,null,null,0,null,null,0,null,null,0]
[null,0,null,null,0,null,null,0,null,null,{"$f":"K331","v":0},null,null,0]
[null,0,null,null,0,null,null,0,null,null,0,null,null,0]
[]
[]
[null,null,{"$f":"'1-2a'!$C$345","v":0},null,null,{"$f":"'1-2a'!$F$345","v":0},null,null,{"$f":"'1-2a'!$I$345","v":0},null,null,{"$f":"'1-2a'!$L$345","v":0},null,null,{"$f":"'1-2a'!$O$345","v":0}]
[{"$f":"IF(A336=52,1,A336+1)","v":14},{"$f":"N336+3","v":"2021-03-29"},null,null,{"$f":"B346+1","v":"2021-03-30"},null,null,{"$f":"E346+1","v":"2021-03-31"},null,null,{"$f":"H346+1","v":"2021-04-01"},null,null,{"$f":"K346+1","v":"2021-04-02"}]
[null,{"$f":"B337","v":0},null,null,{"$f":"E337","v":0},null,null,{"$f":"H337","v":0},null,null,{"$f":"K337","v":0},null,null,{"$f":"N337","v":0}]
[35,0,null,null,0,null,null,0,null,null,0,null,null,0]
[null,0,null,null,0,null,null,0,null,null,0,null,null,0]
[null,0,null,null,0,null,null,0,null,null,0,null,null,0]
[null,0,null,null,0,null,null,0,null,null,{"$f":"K341","v":0},null,null,0]
[null,0,null,null,0,null,null,0,null,null,0,null,null,0]
[]
[]
[null,null,{"$f":"'1-2a'!$C$355","v":0},null,null,{"$f":"'1-2a'!$F$355","v":0},null,null,{"$f":"'1-2a'!$I$355","v":0},null,null,{"$f":"'1-2a'!$L$355","v":0},null,null,{"$f":"'1-2a'!$O$355","v":0}]
[{"$f":"IF(A346=52,1,A346+1)","v":15},{"$f":"N346+3","v":"2021-04-05"},null,null,{"$f":"B356+1","v":"2021-04-06"},null,null,{"$f":"E356+1","v":"2021-04-07"},null,null,{"$f":"H356+1","v":"2021-04-08"},null,null,{"$f":"K356+1","v":"2021-04-09"}]
[null,{"$f":"B347","v":0},null,null,{"$f":"E347","v":0},null,null,{"$f":"H347","v":0},null,null,{"$f":"K347","v":0},null,null,{"$f":"N347","v":0}]
[36,0,null,null,0,null,null,0,null,null,0,null,null,0]
[null,0,null,null,0,null,null,0,null,null,0,null,null,0]
[null,0,null,null,0,null,null,0,null,null,0,null,null,0]
[null,0,null,null,0,null,null,0,null,null,{"$f":"K351","v":0},null,null,0]
[null,0,null,null,0,null,null,0,null,null,0,null,null,0]
[]
[]
[null,null,{"$f":"'1-2a'!$C$365","v":0},null,null,{"$f":"'1-2a'!$F$365","v":0},null,null,{"$f":"'1-2a'!$I$365","v":0},null,null,{"$f":"'1-2a'!$L$365","v":0},null,null,{"$f":"'1-2a'!$O$365","v":0}]
[{"$f":"IF(A356=52,1,A356+1)","v":16},{"$f":"N356+3","v":"2021-04-12"},null,null,{"$f":"B366+1","v":"2021-04-13"},null,null,{"$f":"E366+1","v":"2021-04-14"},null,null,{"$f":"H366+1","v":"2021-04-15"},null,null,{"$f":"K366+1","v":"2021-04-16"}]
[null,{"$f":"B357","v":0},null,null,{"$f":"E357","v":0},null,null,{"$f":"H357","v":0},null,null,{"$f":"K357","v":0},null,null,{"$f":"N357","v":0}]
[37,0,null,null,0,null,null,0,null,null,0,null,null,0]
[null,0,null,null,0,null,null,0,null,null,0,null,null,0]
[null,0,null,null,0,null,null,0,null,null,0,null,null,0]
[null,0,null,null,0,null,null,0,null,null,{"$f":"K361","v":0},null,null,0]
[null,0,null,null,0,null,null,0,null,null,0,null,null,0]
[]
[]
[null,null,{"$f":"'1-2a'!$C$375","v":0},null,null,{"$f":"'1-2a'!$F$375","v":0},null,null,{"$f":"'1-2a'!$I$375","v":0},null,null,{"$f":"'1-2a'!$L$375","v":0},null,null,{"$f":"'1-2a'!$O$375","v":0}]
[{"$f":"IF(A366=52,1,A366+1)","v":17},{"$f":"N366+3","v":"2021-04-19"},null,null,{"$f":"B376+1","v":"2021-04-20"},null,null,{"$f":"E376+1","v":"2021-04-21"},null,null,{"$f":"H376+1","v":"2021-04-22"},null,null,{"$f":"K376+1","v":"2021-04-23"}]
[null,{"$f":"B367","v":0},null,null,{"$f":"E367","v":0},null,null,{"$f":"H367","v":0},null,null,{"$f":"K367","v":0},null,null,{"$f":"N367","v":0}]
[38,0,null,null,0,null,null,0,null,null,0,null,null,0]
[null,0,null,null,0,null,null,0,null,null,0,null,null,0]
[null,0,null,null,0,null,null,0,null,null,0,null,null,0]
[null,0,null,null,0,null,null,0,null,null,{"$f":"K371","v":0},null,null,0]
[null,0,null,null,0,null,null,0,null,null,0,null,null,0]
[]
[]
[null,null,{"$f":"'1-2a'!$C$385","v":0},null,null,{"$f":"'1-2a'!$F$385","v":0},null,null,{"$f":"'1-2a'!$I$385","v":0},null,null,{"$f":"'1-2a'!$L$385","v":0},null,null,{"$f":"'1-2a'!$O$385","v":0}]
[{"$f":"IF(A376=52,1,A376+1)","v":18},{"$f":"N376+3","v":"2021-04-26"},null,null,{"$f":"B386+1","v":"2021-04-27"},null,null,{"$f":"E386+1","v":"2021-04-28"},null,null,{"$f":"H386+1","v":"2021-04-29"},null,null,{"$f":"K386+1","v":"2021-04-30"}]
[null,{"$f":"B377","v":0},null,null,{"$f":"E377","v":0},null,null,{"$f":"H377","v":0},null,null,{"$f":"K377","v":0},null,null,{"$f":"N377","v":0}]
[39,0,null,null,0,null,null,0,null,null,0,null,null,0]
[null,0,null,null,0,null,null,0,null,null,0,null,null,0]
[null,0,null,null,0,null,null,0,null,null,0,null,null,0]
[null,0,null,null,0,null,null,0,null,null,{"$f":"K381","v":0},null,null,0]
[null,0,null,null,0,null,null,0,null,null,0,null,null,0]
[]
[]
[null,null,{"$f":"'1-2a'!$C$395","v":0},null,null,{"$f":"'1-2a'!$F$395","v":0},null,null,{"$f":"'1-2a'!$I$395","v":0},null,null,{"$f":"'1-2a'!$L$395","v":0},null,null,{"$f":"'1-2a'!$O$395","v":0}]
[{"$f":"IF(A386=52,1,A386+1)","v":19},{"$f":"N386+3","v":"2021-05-03"},null,null,{"$f":"B396+1","v":"2021-05-04"},null,null,{"$f":"E396+1","v":"2021-05-05"},null,null,{"$f":"H396+1","v":"2021-05-06"},null,null,{"$f":"K396+1","v":"2021-05-07"}]
[null,{"$f":"B387","v":0},null,null,{"$f":"E387","v":0},null,null,{"$f":"H387","v":0},null,null,{"$f":"K387","v":0},null,null,{"$f":"N387","v":0}]
[40,0,null,null,0,null,null,0,null,null,0,null,null,0]
[null,0,null,null,0,null,null,0,null,null,0,null,null,0]
[null,0,null,null,0,null,null,0,null,null,0,null,null,0]
[null,0,null,null,0,null,null,0,null,null,{"$f":"K391","v":0},null,null,0]
[null,0,null,null,0,null,null,0,null,null,0,null,null,0]
[]
[]
[null,null,{"$f":"'1-2a'!$C$405","v":0},null,null,{"$f":"'1-2a'!$F$405","v":0},null,null,{"$f":"'1-2a'!$I$405","v":0},null,null,{"$f":"'1-2a'!$L$405","v":0},null,null,{"$f":"'1-2a'!$O$405","v":0}]
[{"$f":"IF(A396=52,1,A396+1)","v":20},{"$f":"N396+3","v":"2021-05-10"},null,null,{"$f":"B406+1","v":"2021-05-11"},null,null,{"$f":"E406+1","v":"2021-05-12"},null,null,{"$f":"H406+1","v":"2021-05-13"},null,null,{"$f":"K406+1","v":"2021-05-14"}]
[null,{"$f":"B397","v":0},null,null,{"$f":"E397","v":0},null,null,{"$f":"H397","v":0},null,null,{"$f":"K397","v":0},null,null,{"$f":"N397","v":0}]
[41,0,null,null,0,null,null,0,null,null,0,null,null,0]
[null,0,null,null,0,null,null,0,null,null,0,null,null,0]
[null,0,null,null,0,null,null,0,null,null,0,null,null,0]
[null,0,null,null,0,null,null,0,null,null,0,null,null,0]
[null,0,null,null,0,null,null,0,null,null,0,null,null,0]
[]
[]
[null,null,{"$f":"'1-2a'!$C$415","v":0},null,null,{"$f":"'1-2a'!$F$415","v":0},null,null,{"$f":"'1-2a'!$I$415","v":0},null,null,{"$f":"'1-2a'!$L$415","v":0},null,null,{"$f":"'1-2a'!$O$415","v":0}]
[{"$f":"IF(A406=52,1,A406+1)","v":21},{"$f":"N406+3","v":"2021-05-17"},null,null,{"$f":"B416+1","v":"2021-05-18"},null,null,{"$f":"E416+1","v":"2021-05-19"},null,null,{"$f":"H416+1","v":"2021-05-20"},null,null,{"$f":"K416+1","v":"2021-05-21"}]
[null,{"$f":"B407","v":0},null,null,{"$f":"E407","v":0},null,null,{"$f":"H407","v":0},null,null,{"$f":"K407","v":0},null,null,{"$f":"N407","v":0}]
[42,0,null,null,0,null,null,0,null,null,0,null,null,0]
[null,0,null,null,0,null,null,0,null,null,0,null,null,0]
[null,0,null,null,0,null,null,0,null,null,0,null,null,0]
[null,0,null,null,0,null,null,0,null,null,{"$f":"K411","v":0},null,null,0]
[null,0,null,null,0,null,null,0,null,null,0,null,null,0]
[]
[]
[null,null,{"$f":"'1-2a'!$C$425","v":0},null,null,{"$f":"'1-2a'!$F$425","v":0},null,null,{"$f":"'1-2a'!$I$425","v":0},null,null,{"$f":"'1-2a'!$L$425","v":0},null,null,{"$f":"'1-2a'!$O$425","v":0}]
[{"$f":"IF(A416=52,1,A416+1)","v":22},{"$f":"N416+3","v":"2021-05-24"},null,null,{"$f":"B426+1","v":"2021-05-25"},null,null,{"$f":"E426+1","v":"2021-05-26"},null,null,{"$f":"H426+1","v":"2021-05-27"},null,null,{"$f":"K426+1","v":"2021-05-28"}]
[null,{"$f":"B417","v":0},null,null,{"$f":"E417","v":0},null,null,{"$f":"H417","v":0},null,null,{"$f":"K417","v":0},null,null,{"$f":"N417","v":0}]
[43,0,null,null,0,null,null,0,null,null,0,null,null,0]
[null,0,null,null,0,null,null,0,null,null,0,null,null,0]
[null,0,null,null,0,null,null,0,null,null,0,null,null,0]
[null,0,null,null,0,null,null,0,null,null,{"$f":"K421","v":0},null,null,0]
[null,0,null,null,0,null,null,0,null,null,0,null,null,0]
[]
[]
[null,null,{"$f":"'1-2a'!$C$435","v":0},null,null,{"$f":"'1-2a'!$F$435","v":0},null,null,{"$f":"'1-2a'!$I$435","v":0},null,null,{"$f":"'1-2a'!$L$435","v":0},null,null,{"$f":"'1-2a'!$O$435","v":0}]
[{"$f":"IF(A426=52,1,A426+1)","v":23},{"$f":"N426+3","v":"2021-05-31"},null,null,{"$f":"B436+1","v":"2021-06-01"},null,null,{"$f":"E436+1","v":"2021-06-02"},null,null,{"$f":"H436+1","v":"2021-06-03"},null,null,{"$f":"K436+1","v":"2021-06-04"}]
[null,{"$f":"B427","v":0},null,null,{"$f":"E427","v":0},null,null,{"$f":"H427","v":0},null,null,{"$f":"K427","v":0},null,null,{"$f":"N427","v":0}]
[44,0,null,null,0,null,null,0,null,null,0,null,null,0]
[null,0,null,null,0,null,null,0,null,null,0,null,null,0]
[null,0,null,null,0,null,null,0,null,null,0,null,null,0]
[null,0,null,null,0,null,null,0,null,null,{"$f":"K431","v":0},null,null,0]
[null,0,null,null,0,null,null,0,null,null,0,null,null,0]
[]
[]
[null,null,{"$f":"'1-2a'!$C$445","v":0},null,null,{"$f":"'1-2a'!$F$445","v":0},null,null,{"$f":"'1-2a'!$I$445","v":0},null,null,{"$f":"'1-2a'!$L$445","v":0},null,null,{"$f":"'1-2a'!$O$445","v":0}]
[{"$f":"IF(A436=52,1,A436+1)","v":24},{"$f":"N436+3","v":"2021-06-07"},null,null,{"$f":"B446+1","v":"2021-06-08"},null,null,{"$f":"E446+1","v":"2021-06-09"},null,null,{"$f":"H446+1","v":"2021-06-10"},null,null,{"$f":"K446+1","v":"2021-06-11"}]
[null,{"$f":"B437","v":0},null,null,{"$f":"E437","v":0},null,null,{"$f":"H437","v":0},null,null,{"$f":"K437","v":0},null,null,{"$f":"N437","v":0}]
[45,0,null,null,0,null,null,0,null,null,0,null,null,0]
[null,0,null,null,0,null,null,0,null,null,0,null,null,0]
[null,0,null,null,0,null,null,0,null,null,0,null,null,0]
[null,0,null,null,0,null,null,0,null,null,{"$f":"K441","v":0},null,null,0]
[null,0,null,null,0,null,null,0,null,null,0,null,null,0]
[]
[]
[null,null,{"$f":"'1-2a'!$C$455","v":0},null,null,{"$f":"'1-2a'!$F$455","v":0},null,null,{"$f":"'1-2a'!$I$455","v":0},null,null,{"$f":"'1-2a'!$L$455","v":0},null,null,{"$f":"'1-2a'!$O$455","v":0}]
[{"$f":"IF(A446=52,1,A446+1)","v":25},{"$f":"N446+3","v":"2021-06-14"},null,null,{"$f":"B456+1","v":"2021-06-15"},null,null,{"$f":"E456+1","v":"2021-06-16"},null,null,{"$f":"H456+1","v":"2021-06-17"},null,null,{"$f":"K456+1","v":"2021-06-18"}]
[null,{"$f":"B447","v":0},null,null,{"$f":"E447","v":0},null,null,{"$f":"H447","v":0},null,null,{"$f":"K447","v":0},null,null,{"$f":"N447","v":0}]
[46,0,null,null,0,null,null,0,null,null,0,null,null,0]
[null,0,null,null,0,null,null,0,null,null,0,null,null,0]
[null,0,null,null,0,null,null,0,null,null,0,null,null,0]
[null,0,null,null,0,null,null,0,null,null,{"$f":"K451","v":0},null,null,0]
[null,0,null,null,0,null,null,0,null,null,0,null,null,0]
[]
[]
[null,null,{"$f":"'1-2a'!$C$465","v":0},null,null,{"$f":"'1-2a'!$F$465","v":0},null,null,{"$f":"'1-2a'!$I$465","v":0},null,null,{"$f":"'1-2a'!$L$465","v":0},null,null,{"$f":"'1-2a'!$O$465","v":0}]
[{"$f":"IF(A456=52,1,A456+1)","v":26},{"$f":"N456+3","v":"2021-06-21"},null,null,{"$f":"B466+1","v":"2021-06-22"},null,null,{"$f":"E466+1","v":"2021-06-23"},null,null,{"$f":"H466+1","v":"2021-06-24"},null,null,{"$f":"K466+1","v":"2021-06-25"}]
[null,{"$f":"B457","v":0},null,null,{"$f":"E457","v":0},null,null,{"$f":"H457","v":0},null,null,{"$f":"K457","v":0},null,null,{"$f":"N457","v":0}]
[47,0,null,null,0,null,null,0,null,null,0,null,null,0]
[null,0,null,null,0,null,null,0,null,null,0,null,null,0]
[null,0,null,null,0,null,null,0,null,null,0,null,null,0]
[null,0,null,null,0,null,null,0,null,null,{"$f":"K461","v":0},null,null,0]
[null,0,null,null,0,null,null,0,null,null,0,null,null,0]
[]
[]
[null,null,{"$f":"'1-2a'!$C$475","v":0},null,null,{"$f":"'1-2a'!$F$475","v":0},null,null,{"$f":"'1-2a'!$I$475","v":0},null,null,{"$f":"'1-2a'!$L$475","v":0},null,null,{"$f":"'1-2a'!$O$475","v":0}]
[{"$f":"IF(A466=52,1,A466+1)","v":27},{"$f":"N466+3","v":"2021-06-28"},null,null,{"$f":"B476+1","v":"2021-06-29"},null,null,{"$f":"E476+1","v":"2021-06-30"},null,null,{"$f":"H476+1","v":"2021-07-01"},null,null,{"$f":"K476+1","v":"2021-07-02"}]
[null,{"$f":"B467","v":0},null,null,{"$f":"E467","v":0},null,null,{"$f":"H467","v":0},null,null,{"$f":"K467","v":0},null,null,{"$f":"N467","v":0}]
[48,0,null,null,0,null,null,0,null,null,0,null,null,0]
[null,0,null,null,0,null,null,0,null,null,0,null,null,0]
[null,0,null,null,0,null,null,0,null,null,0,null,null,0]
[null,0,null,null,0,null,null,0,null,null,{"$f":"K471","v":0},null,null,0]
[null,0,null,null,0,null,null,0,null,null,0,null,null,0]
[]
[]
[null,null,{"$f":"'1-2a'!$C$485","v":0},null,null,{"$f":"'1-2a'!$F$485","v":0},null,null,{"$f":"'1-2a'!$I$485","v":0},null,null,{"$f":"'1-2a'!$L$485","v":0},null,null,{"$f":"'1-2a'!$O$485","v":0}]
[{"$f":"IF(A476=52,1,A476+1)","v":28},{"$f":"N476+3","v":"2021-07-05"},null,null,{"$f":"B486+1","v":"2021-07-06"},null,null,{"$f":"E486+1","v":"2021-07-07"},null,null,{"$f":"H486+1","v":"2021-07-08"},null,null,{"$f":"K486+1","v":"2021-07-09"}]
[null,{"$f":"B477","v":0},null,null,{"$f":"E477","v":0},null,null,{"$f":"H477","v":0},null,null,{"$f":"K477","v":0},null,null,{"$f":"N477","v":0}]
[49,0,null,null,0,null,null,0,null,null,0,null,null,0]
[null,0,null,null,0,null,null,0,null,null,0,null,null,0]
[null,0,null,null,0,null,null,0,null,null,0,null,null,0]
[null,0,null,null,0,null,null,0,null,null,0,null,null,0]
[null,0,null,null,0,null,null,0,null,null,0,null,null,0]
[]
[]
[null,null,{"$f":"'1-2a'!$C$495","v":0},null,null,{"$f":"'1-2a'!$F$495","v":0},null,null,{"$f":"'1-2a'!$I$495","v":0},null,null,{"$f":"'1-2a'!$L$495","v":0},null,null,{"$f":"'1-2a'!$O$495","v":0}]
[{"$f":"IF(A486=52,1,A486+1)","v":29},{"$f":"N486+3","v":"2021-07-12"},null,null,{"$f":"B496+1","v":"2021-07-13"},null,null,{"$f":"E496+1","v":"2021-07-14"},null,null,{"$f":"H496+1","v":"2021-07-15"},null,null,{"$f":"K496+1","v":"2021-07-16"}]
[null,{"$f":"B487","v":0},null,null,{"$f":"E487","v":0},null,null,{"$f":"H487","v":0},null,null,{"$f":"K487","v":0},null,null,{"$f":"N487","v":0}]
[50,0,null,null,0,null,null,0,null,null,0]
[null,0,null,null,0,null,null,0,null,null,0,null,null,0]
[null,0,null,null,0,null,null,0,null,null,0,null,null,0]
[null,0,null,null,0,null,null,0,null,null,{"$f":"K491","v":0},null,null,0]
[null,0,null,null,0,null,null,0,null,null,0]

{"sheet":"26","index":26,"n_rows":502,"n_cols":15,"rows_kept":502,"cut":false,"hidden":false,"merged":[[5,1,5,3],[5,4,5,6],[5,7,5,9],[5,10,5,12],[5,13,5,15],[7,0,8,0],[1,1,2,7],[1,9,2,12],[1,13,2,15],[3,1,3,3],[3,4,3,6],[3,7,3,9],[3,10,3,12],[3,13,3,15],[12,1,13,3],[12,4,13,6],[12,7,13,9],[12,10,13,12],[12,13,13,15],[15,1,15,3],[15,4,15,6],[15,7,15,9],[15,10,15,12],[15,13,15,15],[25,1,25,3],[25,4,25,6],[25,7,25,9],[25,10,25,12],[25,13,25,15],[27,0,28,0],[17,0,18,0],[22,1,23,3],[22,4,23,6],[22,7,23,9],[22,10,23,12],[22,13,23,15],[32,1,33,3],[32,4,33,6],[32,7,33,9],[32,10,33,12],[32,13,33,15],[35,1,35,3],[35,4,35,6],[35,7,35,9],[35,10,35,12],[35,13,35,15],[45,1,45,3],[45,4,45,6],[45,7,45,9],[45,10,45,12],[45,13,45,15],[47,0,48,0],[37,0,38,0],[42,1,43,3],[42,4,43,6],[42,7,43,9],[42,10,43,12],[42,13,43,15],[52,1,53,3],[52,4,53,6],[52,7,53,9],[52,10,53,12],[52,13,53,15],[55,1,55,3],[55,4,55,6],[55,7,55,9],[55,10,55,12],[55,13,55,15],[65,1,65,3],[65,4,65,6],[65,7,65,9],[65,10,65,12],[65,13,65,15],[67,0,68,0],[57,0,58,0],[62,1,63,3],[62,4,63,6],[62,7,63,9],[62,10,63,12],[62,13,63,15],[72,1,73,3],[72,4,73,6],[72,7,73,9],[72,10,73,12],[72,13,73,15],[75,1,75,3],[75,4,75,6],[75,7,75,9],[75,10,75,12],[75,13,75,15],[85,1,85,3],[85,4,85,6],[85,7,85,9],[85,10,85,12],[85,13,85,15],[87,0,88,0],[77,0,78,0],[82,1,83,3],[82,4,83,6],[82,7,83,9],[82,10,83,12],[82,13,83,15],[92,1,93,3],[92,4,93,6],[92,7,93,9],[92,10,93,12],[92,13,93,15],[95,1,95,3],[95,4,95,6],[95,7,95,9],[95,10,95,12],[95,13,95,15],[105,1,105,3],[105,4,105,6],[105,7,105,9],[105,10,105,12],[105,13,105,15],[107,0,108,0],[97,0,98,0],[99,16,100,19],[102,1,103,3],[102,4,103,6],[102,7,103,9],[102,10,103,12],[102,13,103,15],[112,1,113,3],[112,4,113,6],[112,7,113,9],[112,10,113,12],[112,13,113,15],[115,1,115,3],[115,4,115,6],[115,7,115,9],[115,10,115,12],[115,13,115,15],[125,1,125,3],[125,4,125,6],[125,7,125,9],[125,10,125,12],[125,13,125,15],[127,0,128,0],[117,0,118,0],[122,1,123,3],[122,4,123,6],[122,7,123,9],[122,10,123,12],[122,13,123,15],[132,1,133,3],[132,4,133,6],[132,7,133,9],[132,10,133,12],[132,13,133,15],[135,1,135,3],[135,4,135,6],[135,7,135,9],[135,10,135,12],[135,13,135,15],[145,1,145,3],[145,4,145,6],[145,7,145,9],[145,10,145,12],[145,13,145,15],[147,0,148,0],[137,0,138,0],[142,1,143,3],[142,4,143,6],[142,7,143,9],[142,10,143,12],[142,13,143,15],[152,1,153,3],[152,4,153,6],[152,7,153,9],[152,10,153,12],[152,13,153,15],[155,1,155,3],[155,4,155,6],[155,7,155,9],[155,10,155,12],[155,13,155,15],[165,1,165,3],[165,4,165,6],[165,7,165,9],[165,10,165,12],[165,13,165,15],[167,0,168,0],[157,0,158,0],[162,1,163,3],[162,4,163,6],[162,7,163,9],[162,10,163,12],[162,13,163,15],[172,1,173,3],[172,4,173,6],[172,7,173,9],[172,10,173,12],[172,13,173,15],[175,1,175,3],[175,4,175,6],[175,7,175,9],[175,10,175,12],[175,13,175,15],[185,1,185,3],[185,4,185,6],[185,7,185,9],[185,10,185,12],[185,13,185,15],[187,0,188,0],[177,0,178,0],[179,16,180,19],[182,1,183,3],[182,4,183,6],[182,7,183,9],[182,10,183,12],[182,13,183,15],[192,1,193,3],[192,4,193,6],[192,7,193,9],[192,10,193,12],[192,13,193,15],[195,1,195,3],[195,4,195,6],[195,7,195,9],[195,10,195,12],[195,13,195,15],[205,1,205,3],[205,4,205,6],[205,7,205,9],[205,10,205,12],[205,13,205,15],[207,0,208,0],[197,0,198,0],[202,1,203,3],[202,4,203,6],[202,7,203,9],[202,10,203,12],[202,13,203,15],[212,1,213,3],[212,4,213,6],[212,7,213,9],[212,10,213,12],[212,13,213,15],[215,1,215,3],[215,4,215,6],[215,7,215,9],[215,10,215,12],[215,13,215,15],[225,1,225,3],[225,4,225,6],[225,7,225,9],[225,10,225,12],[225,13,225,15],[227,0,228,0],[217,0,218,0],[222,1,223,3],[222,4,223,6],[222,7,223,9],[222,10,223,12],[222,13,223,15],[232,1,233,3],[232,4,233,6],[232,7,233,9],[232,10,233,12],[232,13,233,15],[235,1,235,3],[235,4,235,6],[235,7,235,9],[235,10,235,12],[235,13,235,15],[245,1,245,3],[245,4,245,6],[245,7,245,9],[245,10,245,12],[245,13,245,15],[247,0,248,0],[237,0,238,0],[242,1,243,3],[242,4,243,6],[242,7,243,9],[242,10,243,12],[242,13,243,15],[252,1,253,3],[252,4,253,6],[252,7,253,9],[252,10,253,12],[252,13,253,15],[255,1,255,3],[255,4,255,6],[255,7,255,9],[255,10,255,12],[255,13,255,15],[265,1,265,3],[265,4,265,6],[265,7,265,9],[265,10,265,12],[265,13,265,15],[267,0,268,0],[257,0,258,0],[259,16,260,19],[262,1,263,3],[262,4,263,6],[262,7,263,9],[262,10,263,12],[262,13,263,15],[272,1,273,3],[272,4,273,6],[272,7,273,9],[272,10,273,12],[272,13,273,15],[275,1,275,3],[275,4,275,6],[275,7,275,9],[275,10,275,12],[275,13,275,15],[285,1,285,3],[285,4,285,6],[285,7,285,9],[285,10,285,12],[285,13,285,15],[287,0,288,0],[277,0,278,0],[282,1,283,3],[282,4,283,6],[282,7,283,9],[282,10,283,12],[282,13,283,15],[292,1,293,3],[292,4,293,6],[292,7,293,9],[292,10,293,12],[292,13,293,15],[295,1,295,3],[295,4,295,6],[295,7,295,9],[295,10,295,12],[295,13,295,15],[305,1,305,3],[305,4,305,6],[305,7,305,9],[305,10,305,12],[305,13,305,15],[307,0,308,0],[297,0,298,0],[302,1,303,3],[302,4,303,6],[302,7,303,9],[302,10,303,12],[302,13,303,15],[312,1,313,3],[312,4,313,6],[312,7,313,9],[312,10,313,12],[312,13,313,15],[315,1,315,3],[315,4,315,6],[315,7,315,9],[315,10,315,12],[315,13,315,15],[325,1,325,3],[325,4,325,6],[325,7,325,9],[325,10,325,12],[325,13,325,15],[327,0,328,0],[317,0,318,0],[322,1,323,3],[322,4,323,6],[322,7,323,9],[322,10,323,12],[322,13,323,15],[332,1,333,3],[332,4,333,6],[332,7,333,9],[332,10,333,12],[332,13,333,15],[335,1,335,3],[335,4,335,6],[335,7,335,9],[335,10,335,12],[335,13,335,15],[345,1,345,3],[345,4,345,6],[345,7,345,9],[345,10,345,12],[345,13,345,15],[347,0,348,0],[337,0,338,0],[339,16,340,19],[342,1,343,3],[342,4,343,6],[342,7,343,9],[342,10,343,12],[342,13,343,15],[352,1,353,3],[352,4,353,6],[352,7,353,9],[352,10,353,12],[352,13,353,15],[355,1,355,3],[355,4,355,6],[355,7,355,9],[355,10,355,12],[355,13,355,15],[365,1,365,3],[365,4,365,6],[365,7,365,9],[365,10,365,12],[365,13,365,15],[367,0,368,0],[357,0,358,0],[362,1,363,3],[362,4,363,6],[362,7,363,9],[362,10,363,12],[362,13,363,15],[372,1,373,3],[372,4,373,6],[372,7,373,9],[372,10,373,12],[372,13,373,15],[375,1,375,3],[375,4,375,6],[375,7,375,9],[375,10,375,12],[375,13,375,15],[385,1,385,3],[385,4,385,6],[385,7,385,9],[385,10,385,12],[385,13,385,15],[387,0,388,0],[377,0,378,0],[382,1,383,3],[382,4,383,6],[382,7,383,9],[382,10,383,12],[382,13,383,15],[392,1,393,3],[392,4,393,6],[392,7,393,9],[392,10,393,12],[392,13,393,15],[395,1,395,3],[395,4,395,6],[395,7,395,9],[395,10,395,12],[395,13,395,15],[405,1,405,3],[405,4,405,6],[405,7,405,9],[405,10,405,12],[405,13,405,15],[407,0,408,0],[397,0,398,0],[402,1,403,3],[402,4,403,6],[402,7,403,9],[402,10,403,12],[402,13,403,15],[412,1,413,3],[412,4,413,6],[412,7,413,9],[412,10,413,12],[412,13,413,15],[415,1,415,3],[415,4,415,6],[415,7,415,9],[415,10,415,12],[415,13,415,15],[425,1,425,3],[425,4,425,6],[425,7,425,9],[425,10,425,12],[425,13,425,15],[427,0,428,0],[417,0,418,0],[419,16,420,19],[422,1,423,3],[422,4,423,6],[422,7,423,9],[422,10,423,12],[422,13,423,15],[432,1,433,3],[432,4,433,6],[432,7,433,9],[432,10,433,12],[432,13,433,15],[435,1,435,3],[435,4,435,6],[435,7,435,9],[435,10,435,12],[435,13,435,15],[445,1,445,3],[445,4,445,6],[445,7,445,9],[445,10,445,12],[445,13,445,15],[447,0,448,0],[437,0,438,0],[442,1,443,3],[442,4,443,6],[442,7,443,9],[442,10,443,12],[442,13,443,15],[452,1,453,3],[452,4,453,6],[452,7,453,9],[452,10,453,12],[452,13,453,15],[455,1,455,3],[455,4,455,6],[455,7,455,9],[455,10,455,12],[455,13,455,15],[465,1,465,3],[465,4,465,6],[465,7,465,9],[465,10,465,12],[465,13,465,15],[467,0,468,0],[457,0,458,0],[462,1,463,3],[462,4,463,6],[462,7,463,9],[462,10,463,12],[462,13,463,15],[472,1,473,3],[472,4,473,6],[472,7,473,9],[472,10,473,12],[472,13,473,15],[475,1,475,3],[475,4,475,6],[475,7,475,9],[475,10,475,12],[475,13,475,15],[485,1,485,3],[485,4,485,6],[485,7,485,9],[485,10,485,12],[485,13,485,15],[487,0,488,0],[477,0,478,0],[482,1,483,3],[482,4,483,6],[482,7,483,9],[482,10,483,12],[482,13,483,15],[497,0,498,0],[499,16,500,19],[502,1,503,3],[502,4,503,6],[502,7,503,9],[502,10,503,12],[502,13,503,15],[492,1,493,3],[492,4,493,6],[492,7,493,9],[492,10,493,12],[492,13,493,15],[495,1,495,3],[495,4,495,6],[495,7,495,9],[495,10,495,12],[495,13,495,15]]}
[]
[null,{"$f":"'1-2a'!B2:H3","v":"Basisschool De Grote Beer        schooljaar 2020/2021"},null,null,null,null,null,null,null,"Groepsplanner van groep:",null,null,null,"26"]
[]
[null,"maandag 1e schoolweek",null,null,"dinsdag",null,null,"woensdag",null,null,"donderdag",null,null,"vrijdag"]
[null,null,{"$f":"'1-2a'!C$5","v":0},null,null,{"$f":"'1-2a'!F5","v":0},null,null,{"$f":"'1-2a'!I$5","v":0},null,null,{"$f":"'1-2a'!L$5","v":"s"},null,null,{"$f":"'1-2a'!O$5","v":0}]
[{"$f":"(B6-WEEKDAY(B6-1)+4-(TRUNC(DATE(YEAR(B6-WEEKDAY(B6-1)+4),1,2)/7)*7-2))/7","v":32},{"$f":"'1-2a'!B6:D6","v":"2020-08-03"},null,null,{"$f":"B6+1","v":"2020-08-04"},null,null,{"$f":"E6+1","v":"2020-08-05"},null,null,{"$f":"H6+1","v":"2020-08-06"},null,null,{"$f":"K6+1","v":"2020-08-07"}]
[]
[1]
[]
[]
[]
[]
[]
[]
[null,null,{"$f":"'1-2a'!C$15","v":0},null,null,{"$f":"'1-2a'!F$15","v":0},null,null,{"$f":"'1-2a'!I$15","v":0},null,null,{"$f":"'1-2a'!L$15","v":0},null,null,{"$f":"'1-2a'!O15","v":0}]
[{"$f":"IF(A6=52,1,A6+1)","v":33},{"$f":"N6+3","v":"2020-08-10"},null,null,{"$f":"B16+1","v":"2020-08-11"},null,null,{"$f":"E16+1","v":"2020-08-12"},null,null,{"$f":"H16+1","v":"2020-08-13"},null,null,{"$f":"K16+1","v":"2020-08-14"}]
[null,{"$f":"B7","v":0},null,null,{"$f":"E7","v":0},null,null,{"$f":"H7","v":0},null,null,{"$f":"K7","v":0},null,null,{"$f":"N7","v":0}]
[2,0,null,null,0,null,null,0,null,null,0,null,null,0]
[null,0,null,null,0,null,null,0,null,null,0,null,null,0]
[null,0,null,null,0,null,null,0,null,null,0,null,null,0]
[null,0,null,null,0,null,null,0,null,null,0,null,null,0]
[null,0,null,null,0,null,null,0,null,null,0,null,null,0]
[]
[]
[null,null,{"$f":"'1-2a'!C$25","v":0},null,null,{"$f":"'1-2a'!F$25","v":0},null,null,{"$f":"'1-2a'!I25","v":0},null,null,{"$f":"'1-2a'!L25","v":0},null,null,{"$f":"'1-2a'!O25","v":0}]
[{"$f":"IF(A16=52,1,A16+1)","v":34},{"$f":"N16+3","v":"2020-08-17"},null,null,{"$f":"B26+1","v":"2020-08-18"},null,null,{"$f":"E26+1","v":"2020-08-19"},null,null,{"$f":"H26+1","v":"2020-08-20"},null,null,{"$f":"K26+1","v":"2020-08-21"}]
[null,{"$f":"B17","v":0},null,null,{"$f":"E17","v":0},null,null,{"$f":"H17","v":0},null,null,{"$f":"K17","v":0},null,null,{"$f":"N17","v":0}]
[3,0,null,null,0,null,null,0,null,null,0,null,null,0]
[null,0,null,null,0,null,null,0,null,null,0,null,null,0]
[null,0,null,null,0,null,null,0,null,null,0,null,null,0]
[null,0,null,null,0,null,null,0,null,null,{"$f":"K21","v":0},null,null,0]
[null,0,null,null,0,null,null,0,null,null,0,null,null,0]
[]
[]
[null,null,{"$f":"'1-2a'!$C$35","v":0},null,null,{"$f":"'1-2a'!$F$35","v":0},null,null,{"$f":"'1-2a'!$I$35","v":0},null,null,{"$f":"'1-2a'!$L$35","v":0},null,null,{"$f":"'1-2a'!$O$35","v":0}]
[{"$f":"IF(A26=52,1,A26+1)","v":35},{"$f":"N26+3","v":"2020-08-24"},null,null,{"$f":"B36+1","v":"2020-08-25"},null,null,{"$f":"E36+1","v":"2020-08-26"},null,null,{"$f":"H36+1","v":"2020-08-27"},null,null,{"$f":"K36+1","v":"2020-08-28"}]
[null,{"$f":"B27","v":0},null,null,{"$f":"E27","v":0},null,null,{"$f":"H27","v":0},null,null,{"$f":"K27","v":0},null,null,{"$f":"N27","v":0}]
[4,0,null,null,0,null,null,0,null,null,0,null,null,0]
[null,0,null,null,0,null,null,0,null,null,0,null,null,0]
[null,0,null,null,0,null,null,0,null,null,0,null,null,0]
[null,0,null,null,0,null,null,0,null,null,{"$f":"K31","v":0},null,null,0]
[null,0,null,null,0,null,null,0,null,null,0,null,null,0]
[]
[]
[null,null,{"$f":"'1-2a'!$C$45","v":0},null,null,{"$f":"'1-2a'!$F$45","v":0},null,null,{"$f":"'1-2a'!$I$45","v":0},null,null,{"$f":"'1-2a'!$L$45","v":0},null,null,{"$f":"'1-2a'!$O$45","v":0}]
[{"$f":"IF(A36=52,1,A36+1)","v":36},{"$f":"N36+3","v":"2020-08-31"},null,null,{"$f":"B46+1","v":"2020-09-01"},null,null,{"$f":"E46+1","v":"2020-09-02"},null,null,{"$f":"H46+1","v":"2020-09-03"},null,null,{"$f":"K46+1","v":"2020-09-04"}]
[null,{"$f":"B37","v":0},null,null,{"$f":"E37","v":0},null,null,{"$f":"H37","v":0},null,null,{"$f":"K37","v":0},null,null,{"$f":"N37","v":0}]
[5,0,null,null,0,null,null,0,null,null,0,null,null,0]
[null,0,null,null,0,null,null,0,null,null,0,null,null,0]
[null,0,null,null,0,null,null,0,null,null,0,null,null,0]
[null,0,null,null,0,null,null,0,null,null,{"$f":"K41","v":0},null,null,0]
[null,0,null,null,0,null,null,0,null,null,0,null,null,0]
[]
[]
[null,null,{"$f":"'1-2a'!$C$55","v":0},null,null,{"$f":"'1-2a'!$F$55","v":0},null,null,{"$f":"'1-2a'!$I$55","v":0},null,null,{"$f":"'1-2a'!$L$55","v":0},null,null,{"$f":"'1-2a'!O55","v":0}]
[{"$f":"IF(A46=52,1,A46+1)","v":37},{"$f":"N46+3","v":"2020-09-07"},null,null,{"$f":"B56+1","v":"2020-09-08"},null,null,{"$f":"E56+1","v":"2020-09-09"},null,null,{"$f":"H56+1","v":"2020-09-10"},null,null,{"$f":"K56+1","v":"2020-09-11"}]
[null,{"$f":"B47","v":0},null,null,{"$f":"E47","v":0},null,null,{"$f":"H47","v":0},null,null,{"$f":"K47","v":0},null,null,{"$f":"N47","v":0}]
[6,0,null,null,0,null,null,0,null,null,0,null,null,0]
[null,0,null,null,0,null,null,0,null,null,0,null,null,0]
[null,0,null,null,0,null,null,0,null,null,0,null,null,0]
[null,0,null,null,0,null,null,0,null,null,{"$f":"K51","v":0},null,null,0]
[null,0,null,null,0,null,null,0,null,null,0,null,null,0]
[]
[]
[null,null,{"$f":"'1-2a'!$C$65","v":0},null,null,{"$f":"'1-2a'!$F$65","v":0},null,null,{"$f":"'1-2a'!$I$65","v":0},null,null,{"$f":"'1-2a'!$L$65","v":0},null,null,{"$f":"'1-2a'!$O$65","v":0}]
[{"$f":"IF(A56=52,1,A56+1)","v":38},{"$f":"N56+3","v":"2020-09-14"},null,null,{"$f":"B66+1","v":"2020-09-15"},null,null,{"$f":"E66+1","v":"2020-09-16"},null,null,{"$f":"H66+1","v":"2020-09-17"},null,null,{"$f":"K66+1","v":"2020-09-18"}]
[null,{"$f":"B57","v":0},null,null,{"$f":"E57","v":0},null,null,{"$f":"H57","v":0},null,null,{"$f":"K57","v":0},null,null,{"$f":"N57","v":0}]
[7,0,null,null,0,null,null,0,null,null,0,null,null,0]
[null,0,null,null,0,null,null,0,null,null,0,null,null,0]
[null,0,null,null,0,null,null,0,null,null,0,null,null,0]
[null,0,null,null,0,null,null,0,null,null,{"$f":"K61","v":0},null,null,0]
[null,0,null,null,0,null,null,0,null,null,0,null,null,0]
[]
[]
[null,null,{"$f":"'1-2a'!$C$75","v":0},null,null,{"$f":"'1-2a'!$F$75","v":0},null,null,{"$f":"'1-2a'!$I$75","v":0},null,null,{"$f":"'1-2a'!$L$75","v":0},null,null,{"$f":"'1-2a'!$O$75","v":0}]
[{"$f":"IF(A66=52,1,A66+1)","v":39},{"$f":"N66+3","v":"2020-09-21"},null,null,{"$f":"B76+1","v":"2020-09-22"},null,null,{"$f":"E76+1","v":"2020-09-23"},null,null,{"$f":"H76+1","v":"2020-09-24"},null,null,{"$f":"K76+1","v":"2020-09-25"}]
[null,{"$f":"B67","v":0},null,null,{"$f":"E67","v":0},null,null,{"$f":"H67","v":0},null,null,{"$f":"K67","v":0},null,null,{"$f":"N67","v":0}]
[8,0,null,null,0,null,null,0,null,null,0,null,null,0]
[null,0,null,null,0,null,null,0,null,null,0,null,null,0]
[null,0,null,null,0,null,null,0,null,null,0,null,null,0]
[null,0,null,null,0,null,null,0,null,null,{"$f":"K71","v":0},null,null,0]
[null,0,null,null,0,null,null,0,null,null,0,null,null,0]
[]
[]
[null,null,{"$f":"'1-2a'!$C$85","v":0},null,null,{"$f":"'1-2a'!$F$85","v":0},null,null,{"$f":"'1-2a'!$I$85","v":0},null,null,{"$f":"'1-2a'!$L$85","v":0},null,null,{"$f":"'1-2a'!$O$85","v":0}]
[{"$f":"IF(A76=52,1,A76+1)","v":40},{"$f":"N76+3","v":"2020-09-28"},null,null,{"$f":"B86+1","v":"2020-09-29"},null,null,{"$f":"E86+1","v":"2020-09-30"},null,null,{"$f":"H86+1","v":"2020-10-01"},null,null,{"$f":"K86+1","v":"2020-10-02"}]
[null,{"$f":"B77","v":0},null,null,{"$f":"E77","v":0},null,null,{"$f":"H77","v":0},null,null,{"$f":"K77","v":0},null,null,{"$f":"N77","v":0}]
[9,0,null,null,0,null,null,0,null,null,0,null,null,0]
[null,0,null,null,0,null,null,0,null,null,0,null,null,0]
[null,0,null,null,0,null,null,0,null,null,0,null,null,0]
[null,0,null,null,0,null,null,0,null,null,0,null,null,0]
[null,0,null,null,0,null,null,0,null,null,0,null,null,0]
[]
[]
[null,null,{"$f":"'1-2a'!$C$95","v":0},null,null,{"$f":"'1-2a'!$F$95","v":0},null,null,{"$f":"'1-2a'!$I$95","v":0},null,null,{"$f":"'1-2a'!$L$95","v":0},null,null,{"$f":"'1-2a'!$O$95","v":0}]
[{"$f":"IF(A86=52,1,A86+1)","v":41},{"$f":"N86+3","v":"2020-10-05"},null,null,{"$f":"B96+1","v":"2020-10-06"},null,null,{"$f":"E96+1","v":"2020-10-07"},null,null,{"$f":"H96+1","v":"2020-10-08"},null,null,{"$f":"K96+1","v":"2020-10-09"}]
[null,{"$f":"B87","v":0},null,null,{"$f":"E87","v":0},null,null,{"$f":"H87","v":0},null,null,{"$f":"K87","v":0},null,null,{"$f":"N87","v":0}]
[10,0,null,null,0,null,null,0,null,null,0,null,null,0]
[null,0,null,null,0,null,null,0,null,null,0,null,null,0]
[null,0,null,null,0,null,null,0,null,null,0,null,null,0]
[null,0,null,null,0,null,null,0,null,null,{"$f":"K91","v":0},null,null,0]
[null,0,null,null,0,null,null,0,null,null,0,null,null,0]
[]
[]
[null,null,{"$f":"'1-2a'!$C$105","v":0},null,null,{"$f":"'1-2a'!$F$105","v":0},null,null,{"$f":"'1-2a'!$I$105","v":0},null,null,{"$f":"'1-2a'!$L$105","v":0},null,null,{"$f":"'1-2a'!$O$105","v":0}]
[{"$f":"IF(A96=52,1,A96+1)","v":42},{"$f":"N96+3","v":"2020-10-12"},null,null,{"$f":"B106+1","v":"2020-10-13"},null,null,{"$f":"E106+1","v":"2020-10-14"},null,null,{"$f":"H106+1","v":"2020-10-15"},null,null,{"$f":"K106+1","v":"2020-10-16"}]
[null,{"$f":"B97","v":0},null,null,{"$f":"E97","v":0},null,null,{"$f":"H97","v":0},null,null,{"$f":"K97","v":0},null,null,{"$f":"N97","v":0}]
[11,0,null,null,0,null,null,0,null,null,0,null,null,0]
[null,0,null,null,0,null,null,0,null,null,0,null,null,0]
[null,0,null,null,0,null,null,0,null,null,0,null,null,0]
[null,0,null,null,0,null,null,0,null,null,{"$f":"K101","v":0},null,null,0]
[null,0,null,null,0,null,null,0,null,null,0,null,null,0]
[]
[]
[null,null,{"$f":"'1-2a'!$C$115","v":0},null,null,{"$f":"'1-2a'!$F$115","v":0},null,null,{"$f":"'1-2a'!$I$115","v":0},null,null,{"$f":"'1-2a'!$L$115","v":0},null,null,{"$f":"'1-2a'!$O$115","v":0}]
[{"$f":"IF(A106=52,1,A106+1)","v":43},{"$f":"N106+3","v":"2020-10-19"},null,null,{"$f":"B116+1","v":"2020-10-20"},null,null,{"$f":"E116+1","v":"2020-10-21"},null,null,{"$f":"H116+1","v":"2020-10-22"},null,null,{"$f":"K116+1","v":"2020-10-23"}]
[null,{"$f":"B107","v":0},null,null,{"$f":"E107","v":0},null,null,{"$f":"H107","v":0},null,null,{"$f":"K107","v":0},null,null,{"$f":"N107","v":0}]
[12,0,null,null,0,null,null,0,null,null,0,null,null,0]
[null,0,null,null,0,null,null,0,null,null,0,null,null,0]
[null,0,null,null,0,null,null,0,null,null,0,null,null,0]
[null,0,null,null,0,null,null,0,null,null,{"$f":"K111","v":0},null,null,0]
[null,0,null,null,0,null,null,0,null,null,0,null,null,0]
[]
[]
[null,null,{"$f":"'1-2a'!$C$125","v":0},null,null,{"$f":"'1-2a'!$F$125","v":0},null,null,{"$f":"'1-2a'!$I$125","v":0},null,null,{"$f":"'1-2a'!$L$125","v":0},null,null,{"$f":"'1-2a'!$O$125","v":0}]
[{"$f":"IF(A116=52,1,A116+1)","v":44},{"$f":"N116+3","v":"2020-10-26"},null,null,{"$f":"B126+1","v":"2020-10-27"},null,null,{"$f":"E126+1","v":"2020-10-28"},null,null,{"$f":"H126+1","v":"2020-10-29"},null,null,{"$f":"K126+1","v":"2020-10-30"}]
[null,{"$f":"B117","v":0},null,null,{"$f":"E117","v":0},null,null,{"$f":"H117","v":0},null,null,{"$f":"K117","v":0},null,null,{"$f":"N117","v":0}]
[13,0,null,null,0,null,null,0,null,null,0,null,null,0]
[null,0,null,null,0,null,null,0,null,null,0,null,null,0]
[null,0,null,null,0,null,null,0,null,null,0,null,null,0]
[null,0,null,null,0,null,null,0,null,null,{"$f":"K121","v":0},null,null,0]
[null,0,null,null,0,null,null,0,null,null,0,null,null,0]
[]
[]
[null,null,{"$f":"'1-2a'!$C$135","v":0},null,null,{"$f":"'1-2a'!$F$135","v":0},null,null,{"$f":"'1-2a'!$I$135","v":0},null,null,{"$f":"'1-2a'!$L$135","v":0},null,null,{"$f":"'1-2a'!$O$135","v":0}]
[{"$f":"IF(A126=52,1,A126+1)","v":45},{"$f":"N126+3","v":"2020-11-02"},null,null,{"$f":"B136+1","v":"2020-11-03"},null,null,{"$f":"E136+1","v":"2020-11-04"},null,null,{"$f":"H136+1","v":"2020-11-05"},null,null,{"$f":"K136+1","v":"2020-11-06"}]
[null,{"$f":"B127","v":0},null,null,{"$f":"E127","v":0},null,null,{"$f":"H127","v":0},null,null,{"$f":"K127","v":0},null,null,{"$f":"N127","v":0}]
[14,0,null,null,0,null,null,0,null,null,0,null,null,0]
[null,0,null,null,0,null,null,0,null,null,0,null,null,0]
[null,0,null,null,0,null,null,0,null,null,0,null,null,0]
[null,0,null,null,0,null,null,0,null,null,{"$f":"K131","v":0},null,null,0]
[null,0,null,null,0,null,null,0,null,null,0,null,null,0]
[]
[]
[null,null,{"$f":"'1-2a'!$C$145","v":0},null,null,{"$f":"'1-2a'!$F$145","v":0},null,null,{"$f":"'1-2a'!$I$145","v":0},null,null,{"$f":"'1-2a'!$L$145","v":0},null,null,{"$f":"'1-2a'!$O$145","v":0}]
[{"$f":"IF(A136=52,1,A136+1)","v":46},{"$f":"N136+3","v":"2020-11-09"},null,null,{"$f":"B146+1","v":"2020-11-10"},null,null,{"$f":"E146+1","v":"2020-11-11"},null,null,{"$f":"H146+1","v":"2020-11-12"},null,null,{"$f":"K146+1","v":"2020-11-13"}]
[null,{"$f":"B137","v":0},null,null,{"$f":"E137","v":0},null,null,{"$f":"H137","v":0},null,null,{"$f":"K137","v":0},null,null,{"$f":"N137","v":0}]
[15,0,null,null,0,null,null,0,null,null,0,null,null,0]
[null,0,null,null,0,null,null,0,null,null,0,null,null,0]
[null,0,null,null,0,null,null,0,null,null,0,null,null,0]
[null,0,null,null,0,null,null,0,null,null,{"$f":"K141","v":0},null,null,0]
[null,0,null,null,0,null,null,0,null,null,0,null,null,0]
[]
[]
[null,null,{"$f":"'1-2a'!$C$155","v":0},null,null,{"$f":"'1-2a'!$F$155","v":0},null,null,{"$f":"'1-2a'!$I$155","v":0},null,null,{"$f":"'1-2a'!$L$155","v":0},null,null,{"$f":"'1-2a'!$O$155","v":0}]
[{"$f":"IF(A146=52,1,A146+1)","v":47},{"$f":"N146+3","v":"2020-11-16"},null,null,{"$f":"B156+1","v":"2020-11-17"},null,null,{"$f":"E156+1","v":"2020-11-18"},null,null,{"$f":"H156+1","v":"2020-11-19"},null,null,{"$f":"K156+1","v":"2020-11-20"}]
[null,{"$f":"B147","v":0},null,null,{"$f":"E147","v":0},null,null,{"$f":"H147","v":0},null,null,{"$f":"K147","v":0},null,null,{"$f":"N147","v":0}]
[16,0,null,null,0,null,null,0,null,null,0,null,null,0]
[null,0,null,null,0,null,null,0,null,null,0,null,null,0]
[null,0,null,null,0,null,null,0,null,null,0,null,null,0]
[null,0,null,null,0,null,null,0,null,null,{"$f":"K151","v":0},null,null,0]
[null,0,null,null,0,null,null,0,null,null,0,null,null,0]
[]
[]
[null,null,{"$f":"'1-2a'!$C$165","v":0},null,null,{"$f":"'1-2a'!$F$165","v":0},null,null,{"$f":"'1-2a'!$I$165","v":0},null,null,{"$f":"'1-2a'!$L$165","v":0},null,null,{"$f":"'1-2a'!$O$165","v":0}]
[{"$f":"IF(A156=52,1,A156+1)","v":48},{"$f":"N156+3","v":"2020-11-23"},null,null,{"$f":"B166+1","v":"2020-11-24"},null,null,{"$f":"E166+1","v":"2020-11-25"},null,null,{"$f":"H166+1","v":"2020-11-26"},null,null,{"$f":"K166+1","v":"2020-11-27"}]
[null,{"$f":"B157","v":0},null,null,{"$f":"E157","v":0},null,null,{"$f":"H157","v":0},null,null,{"$f":"K157","v":0},null,null,{"$f":"N157","v":0}]
[17,0,null,null,0,null,null,0,null,null,0,null,null,0]
[null,0,null,null,0,null,null,0,null,null,0,null,null,0]
[null,0,null,null,0,null,null,0,null,null,0,null,null,0]
[null,0,null,null,0,null,null,0,null,null,0,null,null,0]
[null,0,null,null,0,null,null,0,null,null,0,null,null,0]
[]
[]
[null,null,{"$f":"'1-2a'!$C$175","v":0},null,null,{"$f":"'1-2a'!$F$175","v":0},null,null,{"$f":"'1-2a'!$I$175","v":0},null,null,{"$f":"'1-2a'!$L$175","v":0},null,null,{"$f":"'1-2a'!$O$175","v":0}]
[{"$f":"IF(A166=52,1,A166+1)","v":49},{"$f":"N166+3","v":"2020-11-30"},null,null,{"$f":"B176+1","v":"2020-12-01"},null,null,{"$f":"E176+1","v":"2020-12-02"},null,null,{"$f":"H176+1","v":"2020-12-03"},null,null,{"$f":"K176+1","v":"2020-12-04"}]
[null,{"$f":"B167","v":0},null,null,{"$f":"E167","v":0},null,null,{"$f":"H167","v":0},null,null,{"$f":"K167","v":0},null,null,{"$f":"N167","v":0}]
[18,0,null,null,0,null,null,0,null,null,0,null,null,0]
[null,0,null,null,0,null,null,0,null,null,0,null,null,0]
[null,0,null,null,0,null,null,0,null,null,0,null,null,0]
[null,0,null,null,0,null,null,0,null,null,{"$f":"K171","v":0},null,null,0]
[null,0,null,null,0,null,null,0,null,null,0,null,null,0]
[]
[]
[null,null,{"$f":"'1-2a'!$C$185","v":0},null,null,{"$f":"'1-2a'!$F$185","v":0},null,null,{"$f":"'1-2a'!$I$185","v":0},null,null,{"$f":"'1-2a'!$L$185","v":0},null,null,{"$f":"'1-2a'!$O$185","v":0}]
[{"$f":"IF(A176=52,1,A176+1)","v":50},{"$f":"N176+3","v":"2020-12-07"},null,null,{"$f":"B186+1","v":"2020-12-08"},null,null,{"$f":"E186+1","v":"2020-12-09"},null,null,{"$f":"H186+1","v":"2020-12-10"},null,null,{"$f":"K186+1","v":"2020-12-11"}]
[null,{"$f":"B177","v":0},null,null,{"$f":"E177","v":0},null,null,{"$f":"H177","v":0},null,null,{"$f":"K177","v":0},null,null,{"$f":"N177","v":0}]
[19,0,null,null,0,null,null,0,null,null,0,null,null,0]
[null,0,null,null,0,null,null,0,null,null,0,null,null,0]
[null,0,null,null,0,null,null,0,null,null,0,null,null,0]
[null,0,null,null,0,null,null,0,null,null,{"$f":"K181","v":0},null,null,0]
[null,0,null,null,0,null,null,0,null,null,0,null,null,0]
[]
[]
[null,null,{"$f":"'1-2a'!$C$195","v":0},null,null,{"$f":"'1-2a'!$F$195","v":0},null,null,{"$f":"'1-2a'!$I$195","v":0},null,null,{"$f":"'1-2a'!$L$195","v":0},null,null,{"$f":"'1-2a'!$O$195","v":0}]
[{"$f":"IF(A186=52,1,A186+1)","v":51},{"$f":"N186+3","v":"2020-12-14"},null,null,{"$f":"B196+1","v":"2020-12-15"},null,null,{"$f":"E196+1","v":"2020-12-16"},null,null,{"$f":"H196+1","v":"2020-12-17"},null,null,{"$f":"K196+1","v":"2020-12-18"}]
[null,{"$f":"B187","v":0},null,null,{"$f":"E187","v":0},null,null,{"$f":"H187","v":0},null,null,{"$f":"K187","v":0},null,null,{"$f":"N187","v":0}]
[20,0,null,null,0,null,null,0,null,null,0,null,null,0]
[null,0,null,null,0,null,null,0,null,null,0,null,null,0]
[null,0,null,null,0,null,null,0,null,null,0,null,null,0]
[null,0,null,null,0,null,null,0,null,null,{"$f":"K191","v":0},null,null,0]
[null,0,null,null,0,null,null,0,null,null,0,null,null,0]
[]
[]
[null,null,{"$f":"'1-2a'!$C$205","v":0},null,null,{"$f":"'1-2a'!$F$205","v":0},null,null,{"$f":"'1-2a'!$I$205","v":0},null,null,{"$f":"'1-2a'!$L$205","v":0},null,null,{"$f":"'1-2a'!$O$205","v":0}]
[{"$f":"IF(A196=52,1,A196+1)","v":52},{"$f":"N196+3","v":"2020-12-21"},null,null,{"$f":"B206+1","v":"2020-12-22"},null,null,{"$f":"E206+1","v":"2020-12-23"},null,null,{"$f":"H206+1","v":"2020-12-24"},null,null,{"$f":"K206+1","v":"2020-12-25"}]
[null,{"$f":"B197","v":0},null,null,{"$f":"E197","v":0},null,null,{"$f":"H197","v":0},null,null,{"$f":"K197","v":0},null,null,{"$f":"N197","v":0}]
[21,0,null,null,0,null,null,0,null,null,0,null,null,0]
[null,0,null,null,0,null,null,0,null,null,0,null,null,0]
[null,0,null,null,0,null,null,0,null,null,0,null,null,0]
[null,0,null,null,0,null,null,0,null,null,{"$f":"K201","v":0},null,null,0]
[null,0,null,null,0,null,null,0,null,null,0,null,null,0]
[]
[]
[null,null,{"$f":"'1-2a'!$C$215","v":0},null,null,{"$f":"'1-2a'!$F$215","v":0},null,null,{"$f":"'1-2a'!$I$215","v":0},null,null,{"$f":"'1-2a'!$L$215","v":0},null,null,{"$f":"'1-2a'!$O$215","v":0}]
[{"$f":"IF(A206=52,1,A206+1)","v":1},{"$f":"N206+3","v":"2020-12-28"},null,null,{"$f":"B216+1","v":"2020-12-29"},null,null,{"$f":"E216+1","v":"2020-12-30"},null,null,{"$f":"H216+1","v":"2020-12-31"},null,null,{"$f":"K216+1","v":"2021-01-01"}]
[null,{"$f":"B207","v":0},null,null,{"$f":"E207","v":0},null,null,{"$f":"H207","v":0},null,null,{"$f":"K207","v":0},null,null,{"$f":"N207","v":0}]
[22,0,null,null,0,null,null,0,null,null,0,null,null,0]
[null,0,null,null,0,null,null,0,null,null,0,null,null,0]
[null,0,null,null,0,null,null,0,null,null,0,null,null,0]
[null,0,null,null,0,null,null,0,null,null,{"$f":"K211","v":0},null,null,0]
[null,0,null,null,0,null,null,0,null,null,0,null,null,0]
[]
[]
[null,null,{"$f":"'1-2a'!$C$225","v":0},null,null,{"$f":"'1-2a'!$F$225","v":0},null,null,{"$f":"'1-2a'!$I$225","v":0},null,null,{"$f":"'1-2a'!$L$225","v":0},null,null,{"$f":"'1-2a'!$O$225","v":0}]
[{"$f":"IF(A216=52,1,A216+1)","v":2},{"$f":"N216+3","v":"2021-01-04"},null,null,{"$f":"B226+1","v":"2021-01-05"},null,null,{"$f":"E226+1","v":"2021-01-06"},null,null,{"$f":"H226+1","v":"2021-01-07"},null,null,{"$f":"K226+1","v":"2021-01-08"}]
[null,{"$f":"B217","v":0},null,null,{"$f":"E217","v":0},null,null,{"$f":"H217","v":0},null,null,{"$f":"K217","v":0},null,null,{"$f":"N217","v":0}]
[23,0,null,null,0,null,null,0,null,null,0,null,null,0]
[null,0,null,null,0,null,null,0,null,null,0,null,null,0]
[null,0,null,null,0,null,null,0,null,null,0,null,null,0]
[null,0,null,null,0,null,null,0,null,null,{"$f":"K221","v":0},null,null,0]
[null,0,null,null,0,null,null,0,null,null,0,null,null,0]
[]
[]
[null,null,{"$f":"'1-2a'!$C$235","v":0},null,null,{"$f":"'1-2a'!$F$235","v":0},null,null,{"$f":"'1-2a'!$I$235","v":0},null,null,{"$f":"'1-2a'!$L$235","v":0},null,null,{"$f":"'1-2a'!$O$235","v":0}]
[{"$f":"IF(A226=52,1,A226+1)","v":3},{"$f":"N226+3","v":"2021-01-11"},null,null,{"$f":"B236+1","v":"2021-01-12"},null,null,{"$f":"E236+1","v":"2021-01-13"},null,null,{"$f":"H236+1","v":"2021-01-14"},null,null,{"$f":"K236+1","v":"2021-01-15"}]
[null,{"$f":"B227","v":0},null,null,{"$f":"E227","v":0},null,null,{"$f":"H227","v":0},null,null,{"$f":"K227","v":0},null,null,{"$f":"N227","v":0}]
[24,0,null,null,0,null,null,0,null,null,0,null,null,0]
[null,0,null,null,0,null,null,0,null,null,0,null,null,0]
[null,0,null,null,0,null,null,0,null,null,0,null,null,0]
[null,0,null,null,0,null,null,0,null,null,{"$f":"K231","v":0},null,null,0]
[null,0,null,null,0,null,null,0,null,null,0,null,null,0]
[]
[]
[null,null,{"$f":"'1-2a'!$C$245","v":0},null,null,{"$f":"'1-2a'!$F$245","v":0},null,null,{"$f":"'1-2a'!$I$245","v":0},null,null,{"$f":"'1-2a'!$L$245","v":0},null,null,{"$f":"'1-2a'!$O$245","v":0}]
[{"$f":"IF(A236=52,1,A236+1)","v":4},{"$f":"N236+3","v":"2021-01-18"},null,null,{"$f":"B246+1","v":"2021-01-19"},null,null,{"$f":"E246+1","v":"2021-01-20"},null,null,{"$f":"H246+1","v":"2021-01-21"},null,null,{"$f":"K246+1","v":"2021-01-22"}]
[null,{"$f":"B237","v":0},null,null,{"$f":"E237","v":0},null,null,{"$f":"H237","v":0},null,null,{"$f":"K237","v":0},null,null,{"$f":"N237","v":0}]
[25,0,null,null,0,null,null,0,null,null,0,null,null,0]
[null,0,null,null,0,null,null,0,null,null,0,null,null,0]
[null,0,null,null,0,null,null,0,null,null,0,null,null,0]
[null,0,null,null,0,null,null,0,null,null,0,null,null,0]
[null,0,null,null,0,null,null,0,null,null,0,null,null,0]
[]
[]
[null,null,{"$f":"'1-2a'!$C$255","v":0},null,null,{"$f":"'1-2a'!$F$255","v":0},null,null,{"$f":"'1-2a'!$I$255","v":0},null,null,{"$f":"'1-2a'!$L$255","v":0},null,null,{"$f":"'1-2a'!$O$255","v":0}]
[{"$f":"IF(A246=52,1,A246+1)","v":5},{"$f":"N246+3","v":"2021-01-25"},null,null,{"$f":"B256+1","v":"2021-01-26"},null,null,{"$f":"E256+1","v":"2021-01-27"},null,null,{"$f":"H256+1","v":"2021-01-28"},null,null,{"$f":"K256+1","v":"2021-01-29"}]
[null,{"$f":"B247","v":0},null,null,{"$f":"E247","v":0},null,null,{"$f":"H247","v":0},null,null,{"$f":"K247","v":0},null,null,{"$f":"N247","v":0}]
[26,0,null,null,0,null,null,0,null,null,0,null,null,0]
[null,0,null,null,0,null,null,0,null,null,0,null,null,0]
[null,0,null,null,0,null,null,0,null,null,0,null,null,0]
[null,0,null,null,0,null,null,0,null,null,{"$f":"K251","v":0},null,null,0]
[null,0,null,null,0,null,null,0,null,null,0,null,null,0]
[]
[]
[null,null,{"$f":"'1-2a'!$C$265","v":0},null,null,{"$f":"'1-2a'!$F$265","v":0},null,null,{"$f":"'1-2a'!$I$265","v":0},null,null,{"$f":"'1-2a'!$L$265","v":0},null,null,{"$f":"'1-2a'!$O$265","v":0}]
[{"$f":"IF(A256=52,1,A256+1)","v":6},{"$f":"N256+3","v":"2021-02-01"},null,null,{"$f":"B266+1","v":"2021-02-02"},null,null,{"$f":"E266+1","v":"2021-02-03"},null,null,{"$f":"H266+1","v":"2021-02-04"},null,null,{"$f":"K266+1","v":"2021-02-05"}]
[null,{"$f":"B257","v":0},null,null,{"$f":"E257","v":0},null,null,{"$f":"H257","v":0},null,null,{"$f":"K257","v":0},null,null,{"$f":"N257","v":0}]
[27,0,null,null,0,null,null,0,null,null,0,null,null,0]
[null,0,null,null,0,null,null,0,null,null,0,null,null,0]
[null,0,null,null,0,null,null,0,null,null,0,null,null,0]
[null,0,null,null,0,null,null,0,null,null,{"$f":"K261","v":0},null,null,0]
[null,0,null,null,0,null,null,0,null,null,0,null,null,0]
[]
[]
[null,null,{"$f":"'1-2a'!$C$275","v":0},null,null,{"$f":"'1-2a'!$F$275","v":0},null,null,{"$f":"'1-2a'!$I$275","v":0},null,null,{"$f":"'1-2a'!$L$275","v":0},null,null,{"$f":"'1-2a'!$O$275","v":0}]
[{"$f":"IF(A266=52,1,A266+1)","v":7},{"$f":"N266+3","v":"2021-02-08"},null,null,{"$f":"B276+1","v":"2021-02-09"},null,null,{"$f":"E276+1","v":"2021-02-10"},null,null,{"$f":"H276+1","v":"2021-02-11"},null,null,{"$f":"K276+1","v":"2021-02-12"}]
[null,{"$f":"B267","v":0},null,null,{"$f":"E267","v":0},null,null,{"$f":"H267","v":0},null,null,{"$f":"K267","v":0},null,null,{"$f":"N267","v":0}]
[28,0,null,null,0,null,null,0,null,null,0,null,null,0]
[null,0,null,null,0,null,null,0,null,null,0,null,null,0]
[null,0,null,null,0,null,null,0,null,null,0,null,null,0]
[null,0,null,null,0,null,null,0,null,null,{"$f":"K271","v":0},null,null,0]
[null,0,null,null,0,null,null,0,null,null,0,null,null,0]
[]
[]
[null,null,{"$f":"'1-2a'!$C$285","v":0},null,null,{"$f":"'1-2a'!$F$285","v":0},null,null,{"$f":"'1-2a'!$I$285","v":0},null,null,{"$f":"'1-2a'!$L$285","v":0},null,null,{"$f":"'1-2a'!$O$285","v":0}]
[{"$f":"IF(A276=52,1,A276+1)","v":8},{"$f":"N276+3","v":"2021-02-15"},null,null,{"$f":"B286+1","v":"2021-02-16"},null,null,{"$f":"E286+1","v":"2021-02-17"},null,null,{"$f":"H286+1","v":"2021-02-18"},null,null,{"$f":"K286+1","v":"2021-02-19"}]
[null,{"$f":"B277","v":0},null,null,{"$f":"E277","v":0},null,null,{"$f":"H277","v":0},null,null,{"$f":"K277","v":0},null,null,{"$f":"N277","v":0}]
[29,0,null,null,0,null,null,0,null,null,0,null,null,0]
[null,0,null,null,0,null,null,0,null,null,0,null,null,0]
[null,0,null,null,0,null,null,0,null,null,0,null,null,0]
[null,0,null,null,0,null,null,0,null,null,{"$f":"K281","v":0},null,null,0]
[null,0,null,null,0,null,null,0,null,null,0,null,null,0]
[]
[]
[null,null,{"$f":"'1-2a'!$C$295","v":0},null,null,{"$f":"'1-2a'!$F$295","v":0},null,null,{"$f":"'1-2a'!$I$295","v":0},null,null,{"$f":"'1-2a'!$L$295","v":0},null,null,{"$f":"'1-2a'!$O$295","v":0}]
[{"$f":"IF(A286=52,1,A286+1)","v":9},{"$f":"N286+3","v":"2021-02-22"},null,null,{"$f":"B296+1","v":"2021-02-23"},null,null,{"$f":"E296+1","v":"2021-02-24"},null,null,{"$f":"H296+1","v":"2021-02-25"},null,null,{"$f":"K296+1","v":"2021-02-26"}]
[null,{"$f":"B287","v":0},null,null,{"$f":"E287","v":0},null,null,{"$f":"H287","v":0},null,null,{"$f":"K287","v":0},null,null,{"$f":"N287","v":0}]
[30,0,null,null,0,null,null,0,null,null,0,null,null,0]
[null,0,null,null,0,null,null,0,null,null,0,null,null,0]
[null,0,null,null,0,null,null,0,null,null,0,null,null,0]
[null,0,null,null,0,null,null,0,null,null,{"$f":"K291","v":0},null,null,0]
[null,0,null,null,0,null,null,0,null,null,0,null,null,0]
[]
[]
[null,null,{"$f":"'1-2a'!$C$305","v":0},null,null,{"$f":"'1-2a'!$F$305","v":0},null,null,{"$f":"'1-2a'!$I$305","v":0},null,null,{"$f":"'1-2a'!$L$305","v":0},null,null,{"$f":"'1-2a'!$O$305","v":0}]
[{"$f":"IF(A296=52,1,A296+1)","v":10},{"$f":"N296+3","v":"2021-03-01"},null,null,{"$f":"B306+1","v":"2021-03-02"},null,null,{"$f":"E306+1","v":"2021-03-03"},null,null,{"$f":"H306+1","v":"2021-03-04"},null,null,{"$f":"K306+1","v":"2021-03-05"}]
[null,{"$f":"B297","v":0},null,null,{"$f":"E297","v":0},null,null,{"$f":"H297","v":0},null,null,{"$f":"K297","v":0},null,null,{"$f":"N297","v":0}]
[31,0,null,null,0,null,null,0,null,null,0,null,null,0]
[null,0,null,null,0,null,null,0,null,null,0,null,null,0]
[null,0,null,null,0,null,null,0,null,null,0,null,null,0]
[null,0,null,null,0,null,null,0,null,null,{"$f":"K301","v":0},null,null,0]
[null,0,null,null,0,null,null,0,null,null,0,null,null,0]
[]
[]
[null,null,{"$f":"'1-2a'!$C$315","v":0},null,null,{"$f":"'1-2a'!$F$315","v":0},null,null,{"$f":"'1-2a'!$I$315","v":0},null,null,{"$f":"'1-2a'!$L$315","v":0},null,null,{"$f":"'1-2a'!$O$315","v":0}]
[{"$f":"IF(A306=52,1,A306+1)","v":11},{"$f":"N306+3","v":"2021-03-08"},null,null,{"$f":"B316+1","v":"2021-03-09"},null,null,{"$f":"E316+1","v":"2021-03-10"},null,null,{"$f":"H316+1","v":"2021-03-11"},null,null,{"$f":"K316+1","v":"2021-03-12"}]
[null,{"$f":"B307","v":0},null,null,{"$f":"E307","v":0},null,null,{"$f":"H307","v":0},null,null,{"$f":"K307","v":0},null,null,{"$f":"N307","v":0}]
[32,0,null,null,0,null,null,0,null,null,0,null,null,0]
[null,0,null,null,0,null,null,0,null,null,0,null,null,0]
[null,0,null,null,0,null,null,0,null,null,0,null,null,0]
[null,0,null,null,0,null,null,0,null,null,{"$f":"K311","v":0},null,null,0]
[null,0,null,null,0,null,null,0,null,null,0,null,null,0]
[]
[]
[null,null,{"$f":"'1-2a'!$C$325","v":0},null,null,{"$f":"'1-2a'!$F$325","v":0},null,null,{"$f":"'1-2a'!$I$325","v":0},null,null,{"$f":"'1-2a'!$L$325","v":0},null,null,{"$f":"'1-2a'!$O$325","v":0}]
[{"$f":"IF(A316=52,1,A316+1)","v":12},{"$f":"N316+3","v":"2021-03-15"},null,null,{"$f":"B326+1","v":"2021-03-16"},null,null,{"$f":"E326+1","v":"2021-03-17"},null,null,{"$f":"H326+1","v":"2021-03-18"},null,null,{"$f":"K326+1","v":"2021-03-19"}]
[null,{"$f":"B317","v":0},null,null,{"$f":"E317","v":0},null,null,{"$f":"H317","v":0},null,null,{"$f":"K317","v":0},null,null,{"$f":"N317","v":0}]
[33,0,null,null,0,null,null,0,null,null,0,null,null,0]
[null,0,null,null,0,null,null,0,null,null,0,null,null,0]
[null,0,null,null,0,null,null,0,null,null,0,null,null,0]
[null,0,null,null,0,null,null,0,null,null,0,null,null,0]
[null,0,null,null,0,null,null,0,null,null,0,null,null,0]
[]
[]
[null,null,{"$f":"'1-2a'!$C$335","v":0},null,null,{"$f":"'1-2a'!$F$335","v":0},null,null,{"$f":"'1-2a'!$I$335","v":0},null,null,{"$f":"'1-2a'!$L$335","v":0},null,null,{"$f":"'1-2a'!$O$335","v":0}]
[{"$f":"IF(A326=52,1,A326+1)","v":13},{"$f":"N326+3","v":"2021-03-22"},null,null,{"$f":"B336+1","v":"2021-03-23"},null,null,{"$f":"E336+1","v":"2021-03-24"},null,null,{"$f":"H336+1","v":"2021-03-25"},null,null,{"$f":"K336+1","v":"2021-03-26"}]
[null,{"$f":"B327","v":0},null,null,{"$f":"E327","v":0},null,null,{"$f":"H327","v":0},null,null,{"$f":"K327","v":0},null,null,{"$f":"N327","v":0}]
[34,0,null,null,0,null,null,0,null,null,0,null,null,0]
[null,0,null,null,0,null,null,0,null,null,0,null,null,0]
[null,0,null,null,0,null,null,0,null,null,0,null,null,0]
[null,0,null,null,0,null,null,0,null,null,{"$f":"K331","v":0},null,null,0]
[null,0,null,null,0,null,null,0,null,null,0,null,null,0]
[]
[]
[null,null,{"$f":"'1-2a'!$C$345","v":0},null,null,{"$f":"'1-2a'!$F$345","v":0},null,null,{"$f":"'1-2a'!$I$345","v":0},null,null,{"$f":"'1-2a'!$L$345","v":0},null,null,{"$f":"'1-2a'!$O$345","v":0}]
[{"$f":"IF(A336=52,1,A336+1)","v":14},{"$f":"N336+3","v":"2021-03-29"},null,null,{"$f":"B346+1","v":"2021-03-30"},null,null,{"$f":"E346+1","v":"2021-03-31"},null,null,{"$f":"H346+1","v":"2021-04-01"},null,null,{"$f":"K346+1","v":"2021-04-02"}]
[null,{"$f":"B337","v":0},null,null,{"$f":"E337","v":0},null,null,{"$f":"H337","v":0},null,null,{"$f":"K337","v":0},null,null,{"$f":"N337","v":0}]
[35,0,null,null,0,null,null,0,null,null,0,null,null,0]
[null,0,null,null,0,null,null,0,null,null,0,null,null,0]
[null,0,null,null,0,null,null,0,null,null,0,null,null,0]
[null,0,null,null,0,null,null,0,null,null,{"$f":"K341","v":0},null,null,0]
[null,0,null,null,0,null,null,0,null,null,0,null,null,0]
[]
[]
[null,null,{"$f":"'1-2a'!$C$355","v":0},null,null,{"$f":"'1-2a'!$F$355","v":0},null,null,{"$f":"'1-2a'!$I$355","v":0},null,null,{"$f":"'1-2a'!$L$355","v":0},null,null,{"$f":"'1-2a'!$O$355","v":0}]
[{"$f":"IF(A346=52,1,A346+1)","v":15},{"$f":"N346+3","v":"2021-04-05"},null,null,{"$f":"B356+1","v":"2021-04-06"},null,null,{"$f":"E356+1","v":"2021-04-07"},null,null,{"$f":"H356+1","v":"2021-04-08"},null,null,{"$f":"K356+1","v":"2021-04-09"}]
[null,{"$f":"B347","v":0},null,null,{"$f":"E347","v":0},null,null,{"$f":"H347","v":0},null,null,{"$f":"K347","v":0},null,null,{"$f":"N347","v":0}]
[36,0,null,null,0,null,null,0,null,null,0,null,null,0]
[null,0,null,null,0,null,null,0,null,null,0,null,null,0]
[null,0,null,null,0,null,null,0,null,null,0,null,null,0]
[null,0,null,null,0,null,null,0,null,null,{"$f":"K351","v":0},null,null,0]
[null,0,null,null,0,null,null,0,null,null,0,null,null,0]
[]
[]
[null,null,{"$f":"'1-2a'!$C$365","v":0},null,null,{"$f":"'1-2a'!$F$365","v":0},null,null,{"$f":"'1-2a'!$I$365","v":0},null,null,{"$f":"'1-2a'!$L$365","v":0},null,null,{"$f":"'1-2a'!$O$365","v":0}]
[{"$f":"IF(A356=52,1,A356+1)","v":16},{"$f":"N356+3","v":"2021-04-12"},null,null,{"$f":"B366+1","v":"2021-04-13"},null,null,{"$f":"E366+1","v":"2021-04-14"},null,null,{"$f":"H366+1","v":"2021-04-15"},null,null,{"$f":"K366+1","v":"2021-04-16"}]
[null,{"$f":"B357","v":0},null,null,{"$f":"E357","v":0},null,null,{"$f":"H357","v":0},null,null,{"$f":"K357","v":0},null,null,{"$f":"N357","v":0}]
[37,0,null,null,0,null,null,0,null,null,0,null,null,0]
[null,0,null,null,0,null,null,0,null,null,0,null,null,0]
[null,0,null,null,0,null,null,0,null,null,0,null,null,0]
[null,0,null,null,0,null,null,0,null,null,{"$f":"K361","v":0},null,null,0]
[null,0,null,null,0,null,null,0,null,null,0,null,null,0]
[]
[]
[null,null,{"$f":"'1-2a'!$C$375","v":0},null,null,{"$f":"'1-2a'!$F$375","v":0},null,null,{"$f":"'1-2a'!$I$375","v":0},null,null,{"$f":"'1-2a'!$L$375","v":0},null,null,{"$f":"'1-2a'!$O$375","v":0}]
[{"$f":"IF(A366=52,1,A366+1)","v":17},{"$f":"N366+3","v":"2021-04-19"},null,null,{"$f":"B376+1","v":"2021-04-20"},null,null,{"$f":"E376+1","v":"2021-04-21"},null,null,{"$f":"H376+1","v":"2021-04-22"},null,null,{"$f":"K376+1","v":"2021-04-23"}]
[null,{"$f":"B367","v":0},null,null,{"$f":"E367","v":0},null,null,{"$f":"H367","v":0},null,null,{"$f":"K367","v":0},null,null,{"$f":"N367","v":0}]
[38,0,null,null,0,null,null,0,null,null,0,null,null,0]
[null,0,null,null,0,null,null,0,null,null,0,null,null,0]
[null,0,null,null,0,null,null,0,null,null,0,null,null,0]
[null,0,null,null,0,null,null,0,null,null,{"$f":"K371","v":0},null,null,0]
[null,0,null,null,0,null,null,0,null,null,0,null,null,0]
[]
[]
[null,null,{"$f":"'1-2a'!$C$385","v":0},null,null,{"$f":"'1-2a'!$F$385","v":0},null,null,{"$f":"'1-2a'!$I$385","v":0},null,null,{"$f":"'1-2a'!$L$385","v":0},null,null,{"$f":"'1-2a'!$O$385","v":0}]
[{"$f":"IF(A376=52,1,A376+1)","v":18},{"$f":"N376+3","v":"2021-04-26"},null,null,{"$f":"B386+1","v":"2021-04-27"},null,null,{"$f":"E386+1","v":"2021-04-28"},null,null,{"$f":"H386+1","v":"2021-04-29"},null,null,{"$f":"K386+1","v":"2021-04-30"}]
[null,{"$f":"B377","v":0},null,null,{"$f":"E377","v":0},null,null,{"$f":"H377","v":0},null,null,{"$f":"K377","v":0},null,null,{"$f":"N377","v":0}]
[39,0,null,null,0,null,null,0,null,null,0,null,null,0]
[null,0,null,null,0,null,null,0,null,null,0,null,null,0]
[null,0,null,null,0,null,null,0,null,null,0,null,null,0]
[null,0,null,null,0,null,null,0,null,null,{"$f":"K381","v":0},null,null,0]
[null,0,null,null,0,null,null,0,null,null,0,null,null,0]
[]
[]
[null,null,{"$f":"'1-2a'!$C$395","v":0},null,null,{"$f":"'1-2a'!$F$395","v":0},null,null,{"$f":"'1-2a'!$I$395","v":0},null,null,{"$f":"'1-2a'!$L$395","v":0},null,null,{"$f":"'1-2a'!$O$395","v":0}]
[{"$f":"IF(A386=52,1,A386+1)","v":19},{"$f":"N386+3","v":"2021-05-03"},null,null,{"$f":"B396+1","v":"2021-05-04"},null,null,{"$f":"E396+1","v":"2021-05-05"},null,null,{"$f":"H396+1","v":"2021-05-06"},null,null,{"$f":"K396+1","v":"2021-05-07"}]
[null,{"$f":"B387","v":0},null,null,{"$f":"E387","v":0},null,null,{"$f":"H387","v":0},null,null,{"$f":"K387","v":0},null,null,{"$f":"N387","v":0}]
[40,0,null,null,0,null,null,0,null,null,0,null,null,0]
[null,0,null,null,0,null,null,0,null,null,0,null,null,0]
[null,0,null,null,0,null,null,0,null,null,0,null,null,0]
[null,0,null,null,0,null,null,0,null,null,{"$f":"K391","v":0},null,null,0]
[null,0,null,null,0,null,null,0,null,null,0,null,null,0]
[]
[]
[null,null,{"$f":"'1-2a'!$C$405","v":0},null,null,{"$f":"'1-2a'!$F$405","v":0},null,null,{"$f":"'1-2a'!$I$405","v":0},null,null,{"$f":"'1-2a'!$L$405","v":0},null,null,{"$f":"'1-2a'!$O$405","v":0}]
[{"$f":"IF(A396=52,1,A396+1)","v":20},{"$f":"N396+3","v":"2021-05-10"},null,null,{"$f":"B406+1","v":"2021-05-11"},null,null,{"$f":"E406+1","v":"2021-05-12"},null,null,{"$f":"H406+1","v":"2021-05-13"},null,null,{"$f":"K406+1","v":"2021-05-14"}]
[null,{"$f":"B397","v":0},null,null,{"$f":"E397","v":0},null,null,{"$f":"H397","v":0},null,null,{"$f":"K397","v":0},null,null,{"$f":"N397","v":0}]
[41,0,null,null,0,null,null,0,null,null,0,null,null,0]
[null,0,null,null,0,null,null,0,null,null,0,null,null,0]
[null,0,null,null,0,null,null,0,null,null,0,null,null,0]
[null,0,null,null,0,null,null,0,null,null,0,null,null,0]
[null,0,null,null,0,null,null,0,null,null,0,null,null,0]
[]
[]
[null,null,{"$f":"'1-2a'!$C$415","v":0},null,null,{"$f":"'1-2a'!$F$415","v":0},null,null,{"$f":"'1-2a'!$I$415","v":0},null,null,{"$f":"'1-2a'!$L$415","v":0},null,null,{"$f":"'1-2a'!$O$415","v":0}]
[{"$f":"IF(A406=52,1,A406+1)","v":21},{"$f":"N406+3","v":"2021-05-17"},null,null,{"$f":"B416+1","v":"2021-05-18"},null,null,{"$f":"E416+1","v":"2021-05-19"},null,null,{"$f":"H416+1","v":"2021-05-20"},null,null,{"$f":"K416+1","v":"2021-05-21"}]
[null,{"$f":"B407","v":0},null,null,{"$f":"E407","v":0},null,null,{"$f":"H407","v":0},null,null,{"$f":"K407","v":0},null,null,{"$f":"N407","v":0}]
[42,0,null,null,0,null,null,0,null,null,0,null,null,0]
[null,0,null,null,0,null,null,0,null,null,0,null,null,0]
[null,0,null,null,0,null,null,0,null,null,0,null,null,0]
[null,0,null,null,0,null,null,0,null,null,{"$f":"K411","v":0},null,null,0]
[null,0,null,null,0,null,null,0,null,null,0,null,null,0]
[]
[]
[null,null,{"$f":"'1-2a'!$C$425","v":0},null,null,{"$f":"'1-2a'!$F$425","v":0},null,null,{"$f":"'1-2a'!$I$425","v":0},null,null,{"$f":"'1-2a'!$L$425","v":0},null,null,{"$f":"'1-2a'!$O$425","v":0}]
[{"$f":"IF(A416=52,1,A416+1)","v":22},{"$f":"N416+3","v":"2021-05-24"},null,null,{"$f":"B426+1","v":"2021-05-25"},null,null,{"$f":"E426+1","v":"2021-05-26"},null,null,{"$f":"H426+1","v":"2021-05-27"},null,null,{"$f":"K426+1","v":"2021-05-28"}]
[null,{"$f":"B417","v":0},null,null,{"$f":"E417","v":0},null,null,{"$f":"H417","v":0},null,null,{"$f":"K417","v":0},null,null,{"$f":"N417","v":0}]
[43,0,null,null,0,null,null,0,null,null,0,null,null,0]
[null,0,null,null,0,null,null,0,null,null,0,null,null,0]
[null,0,null,null,0,null,null,0,null,null,0,null,null,0]
[null,0,null,null,0,null,null,0,null,null,{"$f":"K421","v":0},null,null,0]
[null,0,null,null,0,null,null,0,null,null,0,null,null,0]
[]
[]
[null,null,{"$f":"'1-2a'!$C$435","v":0},null,null,{"$f":"'1-2a'!$F$435","v":0},null,null,{"$f":"'1-2a'!$I$435","v":0},null,null,{"$f":"'1-2a'!$L$435","v":0},null,null,{"$f":"'1-2a'!$O$435","v":0}]
[{"$f":"IF(A426=52,1,A426+1)","v":23},{"$f":"N426+3","v":"2021-05-31"},null,null,{"$f":"B436+1","v":"2021-06-01"},null,null,{"$f":"E436+1","v":"2021-06-02"},null,null,{"$f":"H436+1","v":"2021-06-03"},null,null,{"$f":"K436+1","v":"2021-06-04"}]
[null,{"$f":"B427","v":0},null,null,{"$f":"E427","v":0},null,null,{"$f":"H427","v":0},null,null,{"$f":"K427","v":0},null,null,{"$f":"N427","v":0}]
[44,0,null,null,0,null,null,0,null,null,0,null,null,0]
[null,0,null,null,0,null,null,0,null,null,0,null,null,0]
[null,0,null,null,0,null,null,0,null,null,0,null,null,0]
[null,0,null,null,0,null,null,0,null,null,{"$f":"K431","v":0},null,null,0]
[null,0,null,null,0,null,null,0,null,null,0,null,null,0]
[]
[]
[null,null,{"$f":"'1-2a'!$C$445","v":0},null,null,{"$f":"'1-2a'!$F$445","v":0},null,null,{"$f":"'1-2a'!$I$445","v":0},null,null,{"$f":"'1-2a'!$L$445","v":0},null,null,{"$f":"'1-2a'!$O$445","v":0}]
[{"$f":"IF(A436=52,1,A436+1)","v":24},{"$f":"N436+3","v":"2021-06-07"},null,null,{"$f":"B446+1","v":"2021-06-08"},null,null,{"$f":"E446+1","v":"2021-06-09"},null,null,{"$f":"H446+1","v":"2021-06-10"},null,null,{"$f":"K446+1","v":"2021-06-11"}]
[null,{"$f":"B437","v":0},null,null,{"$f":"E437","v":0},null,null,{"$f":"H437","v":0},null,null,{"$f":"K437","v":0},null,null,{"$f":"N437","v":0}]
[45,0,null,null,0,null,null,0,null,null,0,null,null,0]
[null,0,null,null,0,null,null,0,null,null,0,null,null,0]
[null,0,null,null,0,null,null,0,null,null,0,null,null,0]
[null,0,null,null,0,null,null,0,null,null,{"$f":"K441","v":0},null,null,0]
[null,0,null,null,0,null,null,0,null,null,0,null,null,0]
[]
[]
[null,null,{"$f":"'1-2a'!$C$455","v":0},null,null,{"$f":"'1-2a'!$F$455","v":0},null,null,{"$f":"'1-2a'!$I$455","v":0},null,null,{"$f":"'1-2a'!$L$455","v":0},null,null,{"$f":"'1-2a'!$O$455","v":0}]
[{"$f":"IF(A446=52,1,A446+1)","v":25},{"$f":"N446+3","v":"2021-06-14"},null,null,{"$f":"B456+1","v":"2021-06-15"},null,null,{"$f":"E456+1","v":"2021-06-16"},null,null,{"$f":"H456+1","v":"2021-06-17"},null,null,{"$f":"K456+1","v":"2021-06-18"}]
[null,{"$f":"B447","v":0},null,null,{"$f":"E447","v":0},null,null,{"$f":"H447","v":0},null,null,{"$f":"K447","v":0},null,null,{"$f":"N447","v":0}]
[46,0,null,null,0,null,null,0,null,null,0,null,null,0]
[null,0,null,null,0,null,null,0,null,null,0,null,null,0]
[null,0,null,null,0,null,null,0,null,null,0,null,null,0]
[null,0,null,null,0,null,null,0,null,null,{"$f":"K451","v":0},null,null,0]
[null,0,null,null,0,null,null,0,null,null,0,null,null,0]
[]
[]
[null,null,{"$f":"'1-2a'!$C$465","v":0},null,null,{"$f":"'1-2a'!$F$465","v":0},null,null,{"$f":"'1-2a'!$I$465","v":0},null,null,{"$f":"'1-2a'!$L$465","v":0},null,null,{"$f":"'1-2a'!$O$465","v":0}]
[{"$f":"IF(A456=52,1,A456+1)","v":26},{"$f":"N456+3","v":"2021-06-21"},null,null,{"$f":"B466+1","v":"2021-06-22"},null,null,{"$f":"E466+1","v":"2021-06-23"},null,null,{"$f":"H466+1","v":"2021-06-24"},null,null,{"$f":"K466+1","v":"2021-06-25"}]
[null,{"$f":"B457","v":0},null,null,{"$f":"E457","v":0},null,null,{"$f":"H457","v":0},null,null,{"$f":"K457","v":0},null,null,{"$f":"N457","v":0}]
[47,0,null,null,0,null,null,0,null,null,0,null,null,0]
[null,0,null,null,0,null,null,0,null,null,0,null,null,0]
[null,0,null,null,0,null,null,0,null,null,0,null,null,0]
[null,0,null,null,0,null,null,0,null,null,{"$f":"K461","v":0},null,null,0]
[null,0,null,null,0,null,null,0,null,null,0,null,null,0]
[]
[]
[null,null,{"$f":"'1-2a'!$C$475","v":0},null,null,{"$f":"'1-2a'!$F$475","v":0},null,null,{"$f":"'1-2a'!$I$475","v":0},null,null,{"$f":"'1-2a'!$L$475","v":0},null,null,{"$f":"'1-2a'!$O$475","v":0}]
[{"$f":"IF(A466=52,1,A466+1)","v":27},{"$f":"N466+3","v":"2021-06-28"},null,null,{"$f":"B476+1","v":"2021-06-29"},null,null,{"$f":"E476+1","v":"2021-06-30"},null,null,{"$f":"H476+1","v":"2021-07-01"},null,null,{"$f":"K476+1","v":"2021-07-02"}]
[null,{"$f":"B467","v":0},null,null,{"$f":"E467","v":0},null,null,{"$f":"H467","v":0},null,null,{"$f":"K467","v":0},null,null,{"$f":"N467","v":0}]
[48,0,null,null,0,null,null,0,null,null,0,null,null,0]
[null,0,null,null,0,null,null,0,null,null,0,null,null,0]
[null,0,null,null,0,null,null,0,null,null,0,null,null,0]
[null,0,null,null,0,null,null,0,null,null,{"$f":"K471","v":0},null,null,0]
[null,0,null,null,0,null,null,0,null,null,0,null,null,0]
[]
[]
[null,null,{"$f":"'1-2a'!$C$485","v":0},null,null,{"$f":"'1-2a'!$F$485","v":0},null,null,{"$f":"'1-2a'!$I$485","v":0},null,null,{"$f":"'1-2a'!$L$485","v":0},null,null,{"$f":"'1-2a'!$O$485","v":0}]
[{"$f":"IF(A476=52,1,A476+1)","v":28},{"$f":"N476+3","v":"2021-07-05"},null,null,{"$f":"B486+1","v":"2021-07-06"},null,null,{"$f":"E486+1","v":"2021-07-07"},null,null,{"$f":"H486+1","v":"2021-07-08"},null,null,{"$f":"K486+1","v":"2021-07-09"}]
[null,{"$f":"B477","v":0},null,null,{"$f":"E477","v":0},null,null,{"$f":"H477","v":0},null,null,{"$f":"K477","v":0},null,null,{"$f":"N477","v":0}]
[49,0,null,null,0,null,null,0,null,null,0,null,null,0]
[null,0,null,null,0,null,null,0,null,null,0,null,null,0]
[null,0,null,null,0,null,null,0,null,null,0,null,null,0]
[null,0,null,null,0,null,null,0,null,null,0,null,null,0]
[null,0,null,null,0,null,null,0,null,null,0,null,null,0]
[]
[]
[null,null,{"$f":"'1-2a'!$C$495","v":0},null,null,{"$f":"'1-2a'!$F$495","v":0},null,null,{"$f":"'1-2a'!$I$495","v":0},null,null,{"$f":"'1-2a'!$L$495","v":0},null,null,{"$f":"'1-2a'!$O$495","v":0}]
[{"$f":"IF(A486=52,1,A486+1)","v":29},{"$f":"N486+3","v":"2021-07-12"},null,null,{"$f":"B496+1","v":"2021-07-13"},null,null,{"$f":"E496+1","v":"2021-07-14"},null,null,{"$f":"H496+1","v":"2021-07-15"},null,null,{"$f":"K496+1","v":"2021-07-16"}]
[null,{"$f":"B487","v":0},null,null,{"$f":"E487","v":0},null,null,{"$f":"H487","v":0},null,null,{"$f":"K487","v":0},null,null,{"$f":"N487","v":0}]
[50,0,null,null,0,null,null,0,null,null,0]
[null,0,null,null,0,null,null,0,null,null,0,null,null,0]
[null,0,null,null,0,null,null,0,null,null,0,null,null,0]
[null,0,null,null,0,null,null,0,null,null,{"$f":"K491","v":0},null,null,0]
[null,0,null,null,0,null,null,0,null,null,0]

{"sheet":"27","index":27,"n_rows":502,"n_cols":15,"rows_kept":502,"cut":false,"hidden":false,"merged":[[5,1,5,3],[5,4,5,6],[5,7,5,9],[5,10,5,12],[5,13,5,15],[7,0,8,0],[1,1,2,7],[1,9,2,12],[1,13,2,15],[3,1,3,3],[3,4,3,6],[3,7,3,9],[3,10,3,12],[3,13,3,15],[12,1,13,3],[12,4,13,6],[12,7,13,9],[12,10,13,12],[12,13,13,15],[15,1,15,3],[15,4,15,6],[15,7,15,9],[15,10,15,12],[15,13,15,15],[25,1,25,3],[25,4,25,6],[25,7,25,9],[25,10,25,12],[25,13,25,15],[27,0,28,0],[17,0,18,0],[22,1,23,3],[22,4,23,6],[22,7,23,9],[22,10,23,12],[22,13,23,15],[32,1,33,3],[32,4,33,6],[32,7,33,9],[32,10,33,12],[32,13,33,15],[35,1,35,3],[35,4,35,6],[35,7,35,9],[35,10,35,12],[35,13,35,15],[45,1,45,3],[45,4,45,6],[45,7,45,9],[45,10,45,12],[45,13,45,15],[47,0,48,0],[37,0,38,0],[42,1,43,3],[42,4,43,6],[42,7,43,9],[42,10,43,12],[42,13,43,15],[52,1,53,3],[52,4,53,6],[52,7,53,9],[52,10,53,12],[52,13,53,15],[55,1,55,3],[55,4,55,6],[55,7,55,9],[55,10,55,12],[55,13,55,15],[65,1,65,3],[65,4,65,6],[65,7,65,9],[65,10,65,12],[65,13,65,15],[67,0,68,0],[57,0,58,0],[62,1,63,3],[62,4,63,6],[62,7,63,9],[62,10,63,12],[62,13,63,15],[72,1,73,3],[72,4,73,6],[72,7,73,9],[72,10,73,12],[72,13,73,15],[75,1,75,3],[75,4,75,6],[75,7,75,9],[75,10,75,12],[75,13,75,15],[85,1,85,3],[85,4,85,6],[85,7,85,9],[85,10,85,12],[85,13,85,15],[87,0,88,0],[77,0,78,0],[82,1,83,3],[82,4,83,6],[82,7,83,9],[82,10,83,12],[82,13,83,15],[92,1,93,3],[92,4,93,6],[92,7,93,9],[92,10,93,12],[92,13,93,15],[95,1,95,3],[95,4,95,6],[95,7,95,9],[95,10,95,12],[95,13,95,15],[105,1,105,3],[105,4,105,6],[105,7,105,9],[105,10,105,12],[105,13,105,15],[107,0,108,0],[97,0,98,0],[99,16,100,19],[102,1,103,3],[102,4,103,6],[102,7,103,9],[102,10,103,12],[102,13,103,15],[112,1,113,3],[112,4,113,6],[112,7,113,9],[112,10,113,12],[112,13,113,15],[115,1,115,3],[115,4,115,6],[115,7,115,9],[115,10,115,12],[115,13,115,15],[125,1,125,3],[125,4,125,6],[125,7,125,9],[125,10,125,12],[125,13,125,15],[127,0,128,0],[117,0,118,0],[122,1,123,3],[122,4,123,6],[122,7,123,9],[122,10,123,12],[122,13,123,15],[132,1,133,3],[132,4,133,6],[132,7,133,9],[132,10,133,12],[132,13,133,15],[135,1,135,3],[135,4,135,6],[135,7,135,9],[135,10,135,12],[135,13,135,15],[145,1,145,3],[145,4,145,6],[145,7,145,9],[145,10,145,12],[145,13,145,15],[147,0,148,0],[137,0,138,0],[142,1,143,3],[142,4,143,6],[142,7,143,9],[142,10,143,12],[142,13,143,15],[152,1,153,3],[152,4,153,6],[152,7,153,9],[152,10,153,12],[152,13,153,15],[155,1,155,3],[155,4,155,6],[155,7,155,9],[155,10,155,12],[155,13,155,15],[165,1,165,3],[165,4,165,6],[165,7,165,9],[165,10,165,12],[165,13,165,15],[167,0,168,0],[157,0,158,0],[162,1,163,3],[162,4,163,6],[162,7,163,9],[162,10,163,12],[162,13,163,15],[172,1,173,3],[172,4,173,6],[172,7,173,9],[172,10,173,12],[172,13,173,15],[175,1,175,3],[175,4,175,6],[175,7,175,9],[175,10,175,12],[175,13,175,15],[185,1,185,3],[185,4,185,6],[185,7,185,9],[185,10,185,12],[185,13,185,15],[187,0,188,0],[177,0,178,0],[179,16,180,19],[182,1,183,3],[182,4,183,6],[182,7,183,9],[182,10,183,12],[182,13,183,15],[192,1,193,3],[192,4,193,6],[192,7,193,9],[192,10,193,12],[192,13,193,15],[195,1,195,3],[195,4,195,6],[195,7,195,9],[195,10,195,12],[195,13,195,15],[205,1,205,3],[205,4,205,6],[205,7,205,9],[205,10,205,12],[205,13,205,15],[207,0,208,0],[197,0,198,0],[202,1,203,3],[202,4,203,6],[202,7,203,9],[202,10,203,12],[202,13,203,15],[212,1,213,3],[212,4,213,6],[212,7,213,9],[212,10,213,12],[212,13,213,15],[215,1,215,3],[215,4,215,6],[215,7,215,9],[215,10,215,12],[215,13,215,15],[225,1,225,3],[225,4,225,6],[225,7,225,9],[225,10,225,12],[225,13,225,15],[227,0,228,0],[217,0,218,0],[222,1,223,3],[222,4,223,6],[222,7,223,9],[222,10,223,12],[222,13,223,15],[232,1,233,3],[232,4,233,6],[232,7,233,9],[232,10,233,12],[232,13,233,15],[235,1,235,3],[235,4,235,6],[235,7,235,9],[235,10,235,12],[235,13,235,15],[245,1,245,3],[245,4,245,6],[245,7,245,9],[245,10,245,12],[245,13,245,15],[247,0,248,0],[237,0,238,0],[242,1,243,3],[242,4,243,6],[242,7,243,9],[242,10,243,12],[242,13,243,15],[252,1,253,3],[252,4,253,6],[252,7,253,9],[252,10,253,12],[252,13,253,15],[255,1,255,3],[255,4,255,6],[255,7,255,9],[255,10,255,12],[255,13,255,15],[265,1,265,3],[265,4,265,6],[265,7,265,9],[265,10,265,12],[265,13,265,15],[267,0,268,0],[257,0,258,0],[259,16,260,19],[262,1,263,3],[262,4,263,6],[262,7,263,9],[262,10,263,12],[262,13,263,15],[272,1,273,3],[272,4,273,6],[272,7,273,9],[272,10,273,12],[272,13,273,15],[275,1,275,3],[275,4,275,6],[275,7,275,9],[275,10,275,12],[275,13,275,15],[285,1,285,3],[285,4,285,6],[285,7,285,9],[285,10,285,12],[285,13,285,15],[287,0,288,0],[277,0,278,0],[282,1,283,3],[282,4,283,6],[282,7,283,9],[282,10,283,12],[282,13,283,15],[292,1,293,3],[292,4,293,6],[292,7,293,9],[292,10,293,12],[292,13,293,15],[295,1,295,3],[295,4,295,6],[295,7,295,9],[295,10,295,12],[295,13,295,15],[305,1,305,3],[305,4,305,6],[305,7,305,9],[305,10,305,12],[305,13,305,15],[307,0,308,0],[297,0,298,0],[302,1,303,3],[302,4,303,6],[302,7,303,9],[302,10,303,12],[302,13,303,15],[312,1,313,3],[312,4,313,6],[312,7,313,9],[312,10,313,12],[312,13,313,15],[315,1,315,3],[315,4,315,6],[315,7,315,9],[315,10,315,12],[315,13,315,15],[325,1,325,3],[325,4,325,6],[325,7,325,9],[325,10,325,12],[325,13,325,15],[327,0,328,0],[317,0,318,0],[322,1,323,3],[322,4,323,6],[322,7,323,9],[322,10,323,12],[322,13,323,15],[332,1,333,3],[332,4,333,6],[332,7,333,9],[332,10,333,12],[332,13,333,15],[335,1,335,3],[335,4,335,6],[335,7,335,9],[335,10,335,12],[335,13,335,15],[345,1,345,3],[345,4,345,6],[345,7,345,9],[345,10,345,12],[345,13,345,15],[347,0,348,0],[337,0,338,0],[339,16,340,19],[342,1,343,3],[342,4,343,6],[342,7,343,9],[342,10,343,12],[342,13,343,15],[352,1,353,3],[352,4,353,6],[352,7,353,9],[352,10,353,12],[352,13,353,15],[355,1,355,3],[355,4,355,6],[355,7,355,9],[355,10,355,12],[355,13,355,15],[365,1,365,3],[365,4,365,6],[365,7,365,9],[365,10,365,12],[365,13,365,15],[367,0,368,0],[357,0,358,0],[362,1,363,3],[362,4,363,6],[362,7,363,9],[362,10,363,12],[362,13,363,15],[372,1,373,3],[372,4,373,6],[372,7,373,9],[372,10,373,12],[372,13,373,15],[375,1,375,3],[375,4,375,6],[375,7,375,9],[375,10,375,12],[375,13,375,15],[385,1,385,3],[385,4,385,6],[385,7,385,9],[385,10,385,12],[385,13,385,15],[387,0,388,0],[377,0,378,0],[382,1,383,3],[382,4,383,6],[382,7,383,9],[382,10,383,12],[382,13,383,15],[392,1,393,3],[392,4,393,6],[392,7,393,9],[392,10,393,12],[392,13,393,15],[395,1,395,3],[395,4,395,6],[395,7,395,9],[395,10,395,12],[395,13,395,15],[405,1,405,3],[405,4,405,6],[405,7,405,9],[405,10,405,12],[405,13,405,15],[407,0,408,0],[397,0,398,0],[402,1,403,3],[402,4,403,6],[402,7,403,9],[402,10,403,12],[402,13,403,15],[412,1,413,3],[412,4,413,6],[412,7,413,9],[412,10,413,12],[412,13,413,15],[415,1,415,3],[415,4,415,6],[415,7,415,9],[415,10,415,12],[415,13,415,15],[425,1,425,3],[425,4,425,6],[425,7,425,9],[425,10,425,12],[425,13,425,15],[427,0,428,0],[417,0,418,0],[419,16,420,19],[422,1,423,3],[422,4,423,6],[422,7,423,9],[422,10,423,12],[422,13,423,15],[432,1,433,3],[432,4,433,6],[432,7,433,9],[432,10,433,12],[432,13,433,15],[435,1,435,3],[435,4,435,6],[435,7,435,9],[435,10,435,12],[435,13,435,15],[445,1,445,3],[445,4,445,6],[445,7,445,9],[445,10,445,12],[445,13,445,15],[447,0,448,0],[437,0,438,0],[442,1,443,3],[442,4,443,6],[442,7,443,9],[442,10,443,12],[442,13,443,15],[452,1,453,3],[452,4,453,6],[452,7,453,9],[452,10,453,12],[452,13,453,15],[455,1,455,3],[455,4,455,6],[455,7,455,9],[455,10,455,12],[455,13,455,15],[465,1,465,3],[465,4,465,6],[465,7,465,9],[465,10,465,12],[465,13,465,15],[467,0,468,0],[457,0,458,0],[462,1,463,3],[462,4,463,6],[462,7,463,9],[462,10,463,12],[462,13,463,15],[472,1,473,3],[472,4,473,6],[472,7,473,9],[472,10,473,12],[472,13,473,15],[475,1,475,3],[475,4,475,6],[475,7,475,9],[475,10,475,12],[475,13,475,15],[485,1,485,3],[485,4,485,6],[485,7,485,9],[485,10,485,12],[485,13,485,15],[487,0,488,0],[477,0,478,0],[482,1,483,3],[482,4,483,6],[482,7,483,9],[482,10,483,12],[482,13,483,15],[497,0,498,0],[499,16,500,19],[502,1,503,3],[502,4,503,6],[502,7,503,9],[502,10,503,12],[502,13,503,15],[492,1,493,3],[492,4,493,6],[492,7,493,9],[492,10,493,12],[492,13,493,15],[495,1,495,3],[495,4,495,6],[495,7,495,9],[495,10,495,12],[495,13,495,15]]}
[]
[null,{"$f":"'1-2a'!B2:H3","v":"Basisschool De Grote Beer        schooljaar 2020/2021"},null,null,null,null,null,null,null,"Groepsplanner van groep:",null,null,null,"27"]
[]
[null,"maandag 1e schoolweek",null,null,"dinsdag",null,null,"woensdag",null,null,"donderdag",null,null,"vrijdag"]
[null,null,{"$f":"'1-2a'!C$5","v":0},null,null,{"$f":"'1-2a'!F5","v":0},null,null,{"$f":"'1-2a'!I$5","v":0},null,null,{"$f":"'1-2a'!L$5","v":"s"},null,null,{"$f":"'1-2a'!O$5","v":0}]
[{"$f":"(B6-WEEKDAY(B6-1)+4-(TRUNC(DATE(YEAR(B6-WEEKDAY(B6-1)+4),1,2)/7)*7-2))/7","v":32},{"$f":"'1-2a'!B6:D6","v":"2020-08-03"},null,null,{"$f":"B6+1","v":"2020-08-04"},null,null,{"$f":"E6+1","v":"2020-08-05"},null,null,{"$f":"H6+1","v":"2020-08-06"},null,null,{"$f":"K6+1","v":"2020-08-07"}]
[]
[1]
[]
[]
[]
[]
[]
[]
[null,null,{"$f":"'1-2a'!C$15","v":0},null,null,{"$f":"'1-2a'!F$15","v":0},null,null,{"$f":"'1-2a'!I$15","v":0},null,null,{"$f":"'1-2a'!L$15","v":0},null,null,{"$f":"'1-2a'!O15","v":0}]
[{"$f":"IF(A6=52,1,A6+1)","v":33},{"$f":"N6+3","v":"2020-08-10"},null,null,{"$f":"B16+1","v":"2020-08-11"},null,null,{"$f":"E16+1","v":"2020-08-12"},null,null,{"$f":"H16+1","v":"2020-08-13"},null,null,{"$f":"K16+1","v":"2020-08-14"}]
[null,{"$f":"B7","v":0},null,null,{"$f":"E7","v":0},null,null,{"$f":"H7","v":0},null,null,{"$f":"K7","v":0},null,null,{"$f":"N7","v":0}]
[2,0,null,null,0,null,null,0,null,null,0,null,null,0]
[null,0,null,null,0,null,null,0,null,null,0,null,null,0]
[null,0,null,null,0,null,null,0,null,null,0,null,null,0]
[null,0,null,null,0,null,null,0,null,null,0,null,null,0]
[null,0,null,null,0,null,null,0,null,null,0,null,null,0]
[]
[]
[null,null,{"$f":"'1-2a'!C$25","v":0},null,null,{"$f":"'1-2a'!F$25","v":0},null,null,{"$f":"'1-2a'!I25","v":0},null,null,{"$f":"'1-2a'!L25","v":0},null,null,{"$f":"'1-2a'!O25","v":0}]
[{"$f":"IF(A16=52,1,A16+1)","v":34},{"$f":"N16+3","v":"2020-08-17"},null,null,{"$f":"B26+1","v":"2020-08-18"},null,null,{"$f":"E26+1","v":"2020-08-19"},null,null,{"$f":"H26+1","v":"2020-08-20"},null,null,{"$f":"K26+1","v":"2020-08-21"}]
[null,{"$f":"B17","v":0},null,null,{"$f":"E17","v":0},null,null,{"$f":"H17","v":0},null,null,{"$f":"K17","v":0},null,null,{"$f":"N17","v":0}]
[3,0,null,null,0,null,null,0,null,null,0,null,null,0]
[null,0,null,null,0,null,null,0,null,null,0,null,null,0]
[null,0,null,null,0,null,null,0,null,null,0,null,null,0]
[null,0,null,null,0,null,null,0,null,null,{"$f":"K21","v":0},null,null,0]
[null,0,null,null,0,null,null,0,null,null,0,null,null,0]
[]
[]
[null,null,{"$f":"'1-2a'!$C$35","v":0},null,null,{"$f":"'1-2a'!$F$35","v":0},null,null,{"$f":"'1-2a'!$I$35","v":0},null,null,{"$f":"'1-2a'!$L$35","v":0},null,null,{"$f":"'1-2a'!$O$35","v":0}]
[{"$f":"IF(A26=52,1,A26+1)","v":35},{"$f":"N26+3","v":"2020-08-24"},null,null,{"$f":"B36+1","v":"2020-08-25"},null,null,{"$f":"E36+1","v":"2020-08-26"},null,null,{"$f":"H36+1","v":"2020-08-27"},null,null,{"$f":"K36+1","v":"2020-08-28"}]
[null,{"$f":"B27","v":0},null,null,{"$f":"E27","v":0},null,null,{"$f":"H27","v":0},null,null,{"$f":"K27","v":0},null,null,{"$f":"N27","v":0}]
[4,0,null,null,0,null,null,0,null,null,0,null,null,0]
[null,0,null,null,0,null,null,0,null,null,0,null,null,0]
[null,0,null,null,0,null,null,0,null,null,0,null,null,0]
[null,0,null,null,0,null,null,0,null,null,{"$f":"K31","v":0},null,null,0]
[null,0,null,null,0,null,null,0,null,null,0,null,null,0]
[]
[]
[null,null,{"$f":"'1-2a'!$C$45","v":0},null,null,{"$f":"'1-2a'!$F$45","v":0},null,null,{"$f":"'1-2a'!$I$45","v":0},null,null,{"$f":"'1-2a'!$L$45","v":0},null,null,{"$f":"'1-2a'!$O$45","v":0}]
[{"$f":"IF(A36=52,1,A36+1)","v":36},{"$f":"N36+3","v":"2020-08-31"},null,null,{"$f":"B46+1","v":"2020-09-01"},null,null,{"$f":"E46+1","v":"2020-09-02"},null,null,{"$f":"H46+1","v":"2020-09-03"},null,null,{"$f":"K46+1","v":"2020-09-04"}]
[null,{"$f":"B37","v":0},null,null,{"$f":"E37","v":0},null,null,{"$f":"H37","v":0},null,null,{"$f":"K37","v":0},null,null,{"$f":"N37","v":0}]
[5,0,null,null,0,null,null,0,null,null,0,null,null,0]
[null,0,null,null,0,null,null,0,null,null,0,null,null,0]
[null,0,null,null,0,null,null,0,null,null,0,null,null,0]
[null,0,null,null,0,null,null,0,null,null,{"$f":"K41","v":0},null,null,0]
[null,0,null,null,0,null,null,0,null,null,0,null,null,0]
[]
[]
[null,null,{"$f":"'1-2a'!$C$55","v":0},null,null,{"$f":"'1-2a'!$F$55","v":0},null,null,{"$f":"'1-2a'!$I$55","v":0},null,null,{"$f":"'1-2a'!$L$55","v":0},null,null,{"$f":"'1-2a'!O55","v":0}]
[{"$f":"IF(A46=52,1,A46+1)","v":37},{"$f":"N46+3","v":"2020-09-07"},null,null,{"$f":"B56+1","v":"2020-09-08"},null,null,{"$f":"E56+1","v":"2020-09-09"},null,null,{"$f":"H56+1","v":"2020-09-10"},null,null,{"$f":"K56+1","v":"2020-09-11"}]
[null,{"$f":"B47","v":0},null,null,{"$f":"E47","v":0},null,null,{"$f":"H47","v":0},null,null,{"$f":"K47","v":0},null,null,{"$f":"N47","v":0}]
[6,0,null,null,0,null,null,0,null,null,0,null,null,0]
[null,0,null,null,0,null,null,0,null,null,0,null,null,0]
[null,0,null,null,0,null,null,0,null,null,0,null,null,0]
[null,0,null,null,0,null,null,0,null,null,{"$f":"K51","v":0},null,null,0]
[null,0,null,null,0,null,null,0,null,null,0,null,null,0]
[]
[]
[null,null,{"$f":"'1-2a'!$C$65","v":0},null,null,{"$f":"'1-2a'!$F$65","v":0},null,null,{"$f":"'1-2a'!$I$65","v":0},null,null,{"$f":"'1-2a'!$L$65","v":0},null,null,{"$f":"'1-2a'!$O$65","v":0}]
[{"$f":"IF(A56=52,1,A56+1)","v":38},{"$f":"N56+3","v":"2020-09-14"},null,null,{"$f":"B66+1","v":"2020-09-15"},null,null,{"$f":"E66+1","v":"2020-09-16"},null,null,{"$f":"H66+1","v":"2020-09-17"},null,null,{"$f":"K66+1","v":"2020-09-18"}]
[null,{"$f":"B57","v":0},null,null,{"$f":"E57","v":0},null,null,{"$f":"H57","v":0},null,null,{"$f":"K57","v":0},null,null,{"$f":"N57","v":0}]
[7,0,null,null,0,null,null,0,null,null,0,null,null,0]
[null,0,null,null,0,null,null,0,null,null,0,null,null,0]
[null,0,null,null,0,null,null,0,null,null,0,null,null,0]
[null,0,null,null,0,null,null,0,null,null,{"$f":"K61","v":0},null,null,0]
[null,0,null,null,0,null,null,0,null,null,0,null,null,0]
[]
[]
[null,null,{"$f":"'1-2a'!$C$75","v":0},null,null,{"$f":"'1-2a'!$F$75","v":0},null,null,{"$f":"'1-2a'!$I$75","v":0},null,null,{"$f":"'1-2a'!$L$75","v":0},null,null,{"$f":"'1-2a'!$O$75","v":0}]
[{"$f":"IF(A66=52,1,A66+1)","v":39},{"$f":"N66+3","v":"2020-09-21"},null,null,{"$f":"B76+1","v":"2020-09-22"},null,null,{"$f":"E76+1","v":"2020-09-23"},null,null,{"$f":"H76+1","v":"2020-09-24"},null,null,{"$f":"K76+1","v":"2020-09-25"}]
[null,{"$f":"B67","v":0},null,null,{"$f":"E67","v":0},null,null,{"$f":"H67","v":0},null,null,{"$f":"K67","v":0},null,null,{"$f":"N67","v":0}]
[8,0,null,null,0,null,null,0,null,null,0,null,null,0]
[null,0,null,null,0,null,null,0,null,null,0,null,null,0]
[null,0,null,null,0,null,null,0,null,null,0,null,null,0]
[null,0,null,null,0,null,null,0,null,null,{"$f":"K71","v":0},null,null,0]
[null,0,null,null,0,null,null,0,null,null,0,null,null,0]
[]
[]
[null,null,{"$f":"'1-2a'!$C$85","v":0},null,null,{"$f":"'1-2a'!$F$85","v":0},null,null,{"$f":"'1-2a'!$I$85","v":0},null,null,{"$f":"'1-2a'!$L$85","v":0},null,null,{"$f":"'1-2a'!$O$85","v":0}]
[{"$f":"IF(A76=52,1,A76+1)","v":40},{"$f":"N76+3","v":"2020-09-28"},null,null,{"$f":"B86+1","v":"2020-09-29"},null,null,{"$f":"E86+1","v":"2020-09-30"},null,null,{"$f":"H86+1","v":"2020-10-01"},null,null,{"$f":"K86+1","v":"2020-10-02"}]
[null,{"$f":"B77","v":0},null,null,{"$f":"E77","v":0},null,null,{"$f":"H77","v":0},null,null,{"$f":"K77","v":0},null,null,{"$f":"N77","v":0}]
[9,0,null,null,0,null,null,0,null,null,0,null,null,0]
[null,0,null,null,0,null,null,0,null,null,0,null,null,0]
[null,0,null,null,0,null,null,0,null,null,0,null,null,0]
[null,0,null,null,0,null,null,0,null,null,0,null,null,0]
[null,0,null,null,0,null,null,0,null,null,0,null,null,0]
[]
[]
[null,null,{"$f":"'1-2a'!$C$95","v":0},null,null,{"$f":"'1-2a'!$F$95","v":0},null,null,{"$f":"'1-2a'!$I$95","v":0},null,null,{"$f":"'1-2a'!$L$95","v":0},null,null,{"$f":"'1-2a'!$O$95","v":0}]
[{"$f":"IF(A86=52,1,A86+1)","v":41},{"$f":"N86+3","v":"2020-10-05"},null,null,{"$f":"B96+1","v":"2020-10-06"},null,null,{"$f":"E96+1","v":"2020-10-07"},null,null,{"$f":"H96+1","v":"2020-10-08"},null,null,{"$f":"K96+1","v":"2020-10-09"}]
[null,{"$f":"B87","v":0},null,null,{"$f":"E87","v":0},null,null,{"$f":"H87","v":0},null,null,{"$f":"K87","v":0},null,null,{"$f":"N87","v":0}]
[10,0,null,null,0,null,null,0,null,null,0,null,null,0]
[null,0,null,null,0,null,null,0,null,null,0,null,null,0]
[null,0,null,null,0,null,null,0,null,null,0,null,null,0]
[null,0,null,null,0,null,null,0,null,null,{"$f":"K91","v":0},null,null,0]
[null,0,null,null,0,null,null,0,null,null,0,null,null,0]
[]
[]
[null,null,{"$f":"'1-2a'!$C$105","v":0},null,null,{"$f":"'1-2a'!$F$105","v":0},null,null,{"$f":"'1-2a'!$I$105","v":0},null,null,{"$f":"'1-2a'!$L$105","v":0},null,null,{"$f":"'1-2a'!$O$105","v":0}]
[{"$f":"IF(A96=52,1,A96+1)","v":42},{"$f":"N96+3","v":"2020-10-12"},null,null,{"$f":"B106+1","v":"2020-10-13"},null,null,{"$f":"E106+1","v":"2020-10-14"},null,null,{"$f":"H106+1","v":"2020-10-15"},null,null,{"$f":"K106+1","v":"2020-10-16"}]
[null,{"$f":"B97","v":0},null,null,{"$f":"E97","v":0},null,null,{"$f":"H97","v":0},null,null,{"$f":"K97","v":0},null,null,{"$f":"N97","v":0}]
[11,0,null,null,0,null,null,0,null,null,0,null,null,0]
[null,0,null,null,0,null,null,0,null,null,0,null,null,0]
[null,0,null,null,0,null,null,0,null,null,0,null,null,0]
[null,0,null,null,0,null,null,0,null,null,{"$f":"K101","v":0},null,null,0]
[null,0,null,null,0,null,null,0,null,null,0,null,null,0]
[]
[]
[null,null,{"$f":"'1-2a'!$C$115","v":0},null,null,{"$f":"'1-2a'!$F$115","v":0},null,null,{"$f":"'1-2a'!$I$115","v":0},null,null,{"$f":"'1-2a'!$L$115","v":0},null,null,{"$f":"'1-2a'!$O$115","v":0}]
[{"$f":"IF(A106=52,1,A106+1)","v":43},{"$f":"N106+3","v":"2020-10-19"},null,null,{"$f":"B116+1","v":"2020-10-20"},null,null,{"$f":"E116+1","v":"2020-10-21"},null,null,{"$f":"H116+1","v":"2020-10-22"},null,null,{"$f":"K116+1","v":"2020-10-23"}]
[null,{"$f":"B107","v":0},null,null,{"$f":"E107","v":0},null,null,{"$f":"H107","v":0},null,null,{"$f":"K107","v":0},null,null,{"$f":"N107","v":0}]
[12,0,null,null,0,null,null,0,null,null,0,null,null,0]
[null,0,null,null,0,null,null,0,null,null,0,null,null,0]
[null,0,null,null,0,null,null,0,null,null,0,null,null,0]
[null,0,null,null,0,null,null,0,null,null,{"$f":"K111","v":0},null,null,0]
[null,0,null,null,0,null,null,0,null,null,0,null,null,0]
[]
[]
[null,null,{"$f":"'1-2a'!$C$125","v":0},null,null,{"$f":"'1-2a'!$F$125","v":0},null,null,{"$f":"'1-2a'!$I$125","v":0},null,null,{"$f":"'1-2a'!$L$125","v":0},null,null,{"$f":"'1-2a'!$O$125","v":0}]
[{"$f":"IF(A116=52,1,A116+1)","v":44},{"$f":"N116+3","v":"2020-10-26"},null,null,{"$f":"B126+1","v":"2020-10-27"},null,null,{"$f":"E126+1","v":"2020-10-28"},null,null,{"$f":"H126+1","v":"2020-10-29"},null,null,{"$f":"K126+1","v":"2020-10-30"}]
[null,{"$f":"B117","v":0},null,null,{"$f":"E117","v":0},null,null,{"$f":"H117","v":0},null,null,{"$f":"K117","v":0},null,null,{"$f":"N117","v":0}]
[13,0,null,null,0,null,null,0,null,null,0,null,null,0]
[null,0,null,null,0,null,null,0,null,null,0,null,null,0]
[null,0,null,null,0,null,null,0,null,null,0,null,null,0]
[null,0,null,null,0,null,null,0,null,null,{"$f":"K121","v":0},null,null,0]
[null,0,null,null,0,null,null,0,null,null,0,null,null,0]
[]
[]
[null,null,{"$f":"'1-2a'!$C$135","v":0},null,null,{"$f":"'1-2a'!$F$135","v":0},null,null,{"$f":"'1-2a'!$I$135","v":0},null,null,{"$f":"'1-2a'!$L$135","v":0},null,null,{"$f":"'1-2a'!$O$135","v":0}]
[{"$f":"IF(A126=52,1,A126+1)","v":45},{"$f":"N126+3","v":"2020-11-02"},null,null,{"$f":"B136+1","v":"2020-11-03"},null,null,{"$f":"E136+1","v":"2020-11-04"},null,null,{"$f":"H136+1","v":"2020-11-05"},null,null,{"$f":"K136+1","v":"2020-11-06"}]
[null,{"$f":"B127","v":0},null,null,{"$f":"E127","v":0},null,null,{"$f":"H127","v":0},null,null,{"$f":"K127","v":0},null,null,{"$f":"N127","v":0}]
[14,0,null,null,0,null,null,0,null,null,0,null,null,0]
[null,0,null,null,0,null,null,0,null,null,0,null,null,0]
[null,0,null,null,0,null,null,0,null,null,0,null,null,0]
[null,0,null,null,0,null,null,0,null,null,{"$f":"K131","v":0},null,null,0]
[null,0,null,null,0,null,null,0,null,null,0,null,null,0]
[]
[]
[null,null,{"$f":"'1-2a'!$C$145","v":0},null,null,{"$f":"'1-2a'!$F$145","v":0},null,null,{"$f":"'1-2a'!$I$145","v":0},null,null,{"$f":"'1-2a'!$L$145","v":0},null,null,{"$f":"'1-2a'!$O$145","v":0}]
[{"$f":"IF(A136=52,1,A136+1)","v":46},{"$f":"N136+3","v":"2020-11-09"},null,null,{"$f":"B146+1","v":"2020-11-10"},null,null,{"$f":"E146+1","v":"2020-11-11"},null,null,{"$f":"H146+1","v":"2020-11-12"},null,null,{"$f":"K146+1","v":"2020-11-13"}]
[null,{"$f":"B137","v":0},null,null,{"$f":"E137","v":0},null,null,{"$f":"H137","v":0},null,null,{"$f":"K137","v":0},null,null,{"$f":"N137","v":0}]
[15,0,null,null,0,null,null,0,null,null,0,null,null,0]
[null,0,null,null,0,null,null,0,null,null,0,null,null,0]
[null,0,null,null,0,null,null,0,null,null,0,null,null,0]
[null,0,null,null,0,null,null,0,null,null,{"$f":"K141","v":0},null,null,0]
[null,0,null,null,0,null,null,0,null,null,0,null,null,0]
[]
[]
[null,null,{"$f":"'1-2a'!$C$155","v":0},null,null,{"$f":"'1-2a'!$F$155","v":0},null,null,{"$f":"'1-2a'!$I$155","v":0},null,null,{"$f":"'1-2a'!$L$155","v":0},null,null,{"$f":"'1-2a'!$O$155","v":0}]
[{"$f":"IF(A146=52,1,A146+1)","v":47},{"$f":"N146+3","v":"2020-11-16"},null,null,{"$f":"B156+1","v":"2020-11-17"},null,null,{"$f":"E156+1","v":"2020-11-18"},null,null,{"$f":"H156+1","v":"2020-11-19"},null,null,{"$f":"K156+1","v":"2020-11-20"}]
[null,{"$f":"B147","v":0},null,null,{"$f":"E147","v":0},null,null,{"$f":"H147","v":0},null,null,{"$f":"K147","v":0},null,null,{"$f":"N147","v":0}]
[16,0,null,null,0,null,null,0,null,null,0,null,null,0]
[null,0,null,null,0,null,null,0,null,null,0,null,null,0]
[null,0,null,null,0,null,null,0,null,null,0,null,null,0]
[null,0,null,null,0,null,null,0,null,null,{"$f":"K151","v":0},null,null,0]
[null,0,null,null,0,null,null,0,null,null,0,null,null,0]
[]
[]
[null,null,{"$f":"'1-2a'!$C$165","v":0},null,null,{"$f":"'1-2a'!$F$165","v":0},null,null,{"$f":"'1-2a'!$I$165","v":0},null,null,{"$f":"'1-2a'!$L$165","v":0},null,null,{"$f":"'1-2a'!$O$165","v":0}]
[{"$f":"IF(A156=52,1,A156+1)","v":48},{"$f":"N156+3","v":"2020-11-23"},null,null,{"$f":"B166+1","v":"2020-11-24"},null,null,{"$f":"E166+1","v":"2020-11-25"},null,null,{"$f":"H166+1","v":"2020-11-26"},null,null,{"$f":"K166+1","v":"2020-11-27"}]
[null,{"$f":"B157","v":0},null,null,{"$f":"E157","v":0},null,null,{"$f":"H157","v":0},null,null,{"$f":"K157","v":0},null,null,{"$f":"N157","v":0}]
[17,0,null,null,0,null,null,0,null,null,0,null,null,0]
[null,0,null,null,0,null,null,0,null,null,0,null,null,0]
[null,0,null,null,0,null,null,0,null,null,0,null,null,0]
[null,0,null,null,0,null,null,0,null,null,0,null,null,0]
[null,0,null,null,0,null,null,0,null,null,0,null,null,0]
[]
[]
[null,null,{"$f":"'1-2a'!$C$175","v":0},null,null,{"$f":"'1-2a'!$F$175","v":0},null,null,{"$f":"'1-2a'!$I$175","v":0},null,null,{"$f":"'1-2a'!$L$175","v":0},null,null,{"$f":"'1-2a'!$O$175","v":0}]
[{"$f":"IF(A166=52,1,A166+1)","v":49},{"$f":"N166+3","v":"2020-11-30"},null,null,{"$f":"B176+1","v":"2020-12-01"},null,null,{"$f":"E176+1","v":"2020-12-02"},null,null,{"$f":"H176+1","v":"2020-12-03"},null,null,{"$f":"K176+1","v":"2020-12-04"}]
[null,{"$f":"B167","v":0},null,null,{"$f":"E167","v":0},null,null,{"$f":"H167","v":0},null,null,{"$f":"K167","v":0},null,null,{"$f":"N167","v":0}]
[18,0,null,null,0,null,null,0,null,null,0,null,null,0]
[null,0,null,null,0,null,null,0,null,null,0,null,null,0]
[null,0,null,null,0,null,null,0,null,null,0,null,null,0]
[null,0,null,null,0,null,null,0,null,null,{"$f":"K171","v":0},null,null,0]
[null,0,null,null,0,null,null,0,null,null,0,null,null,0]
[]
[]
[null,null,{"$f":"'1-2a'!$C$185","v":0},null,null,{"$f":"'1-2a'!$F$185","v":0},null,null,{"$f":"'1-2a'!$I$185","v":0},null,null,{"$f":"'1-2a'!$L$185","v":0},null,null,{"$f":"'1-2a'!$O$185","v":0}]
[{"$f":"IF(A176=52,1,A176+1)","v":50},{"$f":"N176+3","v":"2020-12-07"},null,null,{"$f":"B186+1","v":"2020-12-08"},null,null,{"$f":"E186+1","v":"2020-12-09"},null,null,{"$f":"H186+1","v":"2020-12-10"},null,null,{"$f":"K186+1","v":"2020-12-11"}]
[null,{"$f":"B177","v":0},null,null,{"$f":"E177","v":0},null,null,{"$f":"H177","v":0},null,null,{"$f":"K177","v":0},null,null,{"$f":"N177","v":0}]
[19,0,null,null,0,null,null,0,null,null,0,null,null,0]
[null,0,null,null,0,null,null,0,null,null,0,null,null,0]
[null,0,null,null,0,null,null,0,null,null,0,null,null,0]
[null,0,null,null,0,null,null,0,null,null,{"$f":"K181","v":0},null,null,0]
[null,0,null,null,0,null,null,0,null,null,0,null,null,0]
[]
[]
[null,null,{"$f":"'1-2a'!$C$195","v":0},null,null,{"$f":"'1-2a'!$F$195","v":0},null,null,{"$f":"'1-2a'!$I$195","v":0},null,null,{"$f":"'1-2a'!$L$195","v":0},null,null,{"$f":"'1-2a'!$O$195","v":0}]
[{"$f":"IF(A186=52,1,A186+1)","v":51},{"$f":"N186+3","v":"2020-12-14"},null,null,{"$f":"B196+1","v":"2020-12-15"},null,null,{"$f":"E196+1","v":"2020-12-16"},null,null,{"$f":"H196+1","v":"2020-12-17"},null,null,{"$f":"K196+1","v":"2020-12-18"}]
[null,{"$f":"B187","v":0},null,null,{"$f":"E187","v":0},null,null,{"$f":"H187","v":0},null,null,{"$f":"K187","v":0},null,null,{"$f":"N187","v":0}]
[20,0,null,null,0,null,null,0,null,null,0,null,null,0]
[null,0,null,null,0,null,null,0,null,null,0,null,null,0]
[null,0,null,null,0,null,null,0,null,null,0,null,null,0]
[null,0,null,null,0,null,null,0,null,null,{"$f":"K191","v":0},null,null,0]
[null,0,null,null,0,null,null,0,null,null,0,null,null,0]
[]
[]
[null,null,{"$f":"'1-2a'!$C$205","v":0},null,null,{"$f":"'1-2a'!$F$205","v":0},null,null,{"$f":"'1-2a'!$I$205","v":0},null,null,{"$f":"'1-2a'!$L$205","v":0},null,null,{"$f":"'1-2a'!$O$205","v":0}]
[{"$f":"IF(A196=52,1,A196+1)","v":52},{"$f":"N196+3","v":"2020-12-21"},null,null,{"$f":"B206+1","v":"2020-12-22"},null,null,{"$f":"E206+1","v":"2020-12-23"},null,null,{"$f":"H206+1","v":"2020-12-24"},null,null,{"$f":"K206+1","v":"2020-12-25"}]
[null,{"$f":"B197","v":0},null,null,{"$f":"E197","v":0},null,null,{"$f":"H197","v":0},null,null,{"$f":"K197","v":0},null,null,{"$f":"N197","v":0}]
[21,0,null,null,0,null,null,0,null,null,0,null,null,0]
[null,0,null,null,0,null,null,0,null,null,0,null,null,0]
[null,0,null,null,0,null,null,0,null,null,0,null,null,0]
[null,0,null,null,0,null,null,0,null,null,{"$f":"K201","v":0},null,null,0]
[null,0,null,null,0,null,null,0,null,null,0,null,null,0]
[]
[]
[null,null,{"$f":"'1-2a'!$C$215","v":0},null,null,{"$f":"'1-2a'!$F$215","v":0},null,null,{"$f":"'1-2a'!$I$215","v":0},null,null,{"$f":"'1-2a'!$L$215","v":0},null,null,{"$f":"'1-2a'!$O$215","v":0}]
[{"$f":"IF(A206=52,1,A206+1)","v":1},{"$f":"N206+3","v":"2020-12-28"},null,null,{"$f":"B216+1","v":"2020-12-29"},null,null,{"$f":"E216+1","v":"2020-12-30"},null,null,{"$f":"H216+1","v":"2020-12-31"},null,null,{"$f":"K216+1","v":"2021-01-01"}]
[null,{"$f":"B207","v":0},null,null,{"$f":"E207","v":0},null,null,{"$f":"H207","v":0},null,null,{"$f":"K207","v":0},null,null,{"$f":"N207","v":0}]
[22,0,null,null,0,null,null,0,null,null,0,null,null,0]
[null,0,null,null,0,null,null,0,null,null,0,null,null,0]
[null,0,null,null,0,null,null,0,null,null,0,null,null,0]
[null,0,null,null,0,null,null,0,null,null,{"$f":"K211","v":0},null,null,0]
[null,0,null,null,0,null,null,0,null,null,0,null,null,0]
[]
[]
[null,null,{"$f":"'1-2a'!$C$225","v":0},null,null,{"$f":"'1-2a'!$F$225","v":0},null,null,{"$f":"'1-2a'!$I$225","v":0},null,null,{"$f":"'1-2a'!$L$225","v":0},null,null,{"$f":"'1-2a'!$O$225","v":0}]
[{"$f":"IF(A216=52,1,A216+1)","v":2},{"$f":"N216+3","v":"2021-01-04"},null,null,{"$f":"B226+1","v":"2021-01-05"},null,null,{"$f":"E226+1","v":"2021-01-06"},null,null,{"$f":"H226+1","v":"2021-01-07"},null,null,{"$f":"K226+1","v":"2021-01-08"}]
[null,{"$f":"B217","v":0},null,null,{"$f":"E217","v":0},null,null,{"$f":"H217","v":0},null,null,{"$f":"K217","v":0},null,null,{"$f":"N217","v":0}]
[23,0,null,null,0,null,null,0,null,null,0,null,null,0]
[null,0,null,null,0,null,null,0,null,null,0,null,null,0]
[null,0,null,null,0,null,null,0,null,null,0,null,null,0]
[null,0,null,null,0,null,null,0,null,null,{"$f":"K221","v":0},null,null,0]
[null,0,null,null,0,null,null,0,null,null,0,null,null,0]
[]
[]
[null,null,{"$f":"'1-2a'!$C$235","v":0},null,null,{"$f":"'1-2a'!$F$235","v":0},null,null,{"$f":"'1-2a'!$I$235","v":0},null,null,{"$f":"'1-2a'!$L$235","v":0},null,null,{"$f":"'1-2a'!$O$235","v":0}]
[{"$f":"IF(A226=52,1,A226+1)","v":3},{"$f":"N226+3","v":"2021-01-11"},null,null,{"$f":"B236+1","v":"2021-01-12"},null,null,{"$f":"E236+1","v":"2021-01-13"},null,null,{"$f":"H236+1","v":"2021-01-14"},null,null,{"$f":"K236+1","v":"2021-01-15"}]
[null,{"$f":"B227","v":0},null,null,{"$f":"E227","v":0},null,null,{"$f":"H227","v":0},null,null,{"$f":"K227","v":0},null,null,{"$f":"N227","v":0}]
[24,0,null,null,0,null,null,0,null,null,0,null,null,0]
[null,0,null,null,0,null,null,0,null,null,0,null,null,0]
[null,0,null,null,0,null,null,0,null,null,0,null,null,0]
[null,0,null,null,0,null,null,0,null,null,{"$f":"K231","v":0},null,null,0]
[null,0,null,null,0,null,null,0,null,null,0,null,null,0]
[]
[]
[null,null,{"$f":"'1-2a'!$C$245","v":0},null,null,{"$f":"'1-2a'!$F$245","v":0},null,null,{"$f":"'1-2a'!$I$245","v":0},null,null,{"$f":"'1-2a'!$L$245","v":0},null,null,{"$f":"'1-2a'!$O$245","v":0}]
[{"$f":"IF(A236=52,1,A236+1)","v":4},{"$f":"N236+3","v":"2021-01-18"},null,null,{"$f":"B246+1","v":"2021-01-19"},null,null,{"$f":"E246+1","v":"2021-01-20"},null,null,{"$f":"H246+1","v":"2021-01-21"},null,null,{"$f":"K246+1","v":"2021-01-22"}]
[null,{"$f":"B237","v":0},null,null,{"$f":"E237","v":0},null,null,{"$f":"H237","v":0},null,null,{"$f":"K237","v":0},null,null,{"$f":"N237","v":0}]
[25,0,null,null,0,null,null,0,null,null,0,null,null,0]
[null,0,null,null,0,null,null,0,null,null,0,null,null,0]
[null,0,null,null,0,null,null,0,null,null,0,null,null,0]
[null,0,null,null,0,null,null,0,null,null,0,null,null,0]
[null,0,null,null,0,null,null,0,null,null,0,null,null,0]
[]
[]
[null,null,{"$f":"'1-2a'!$C$255","v":0},null,null,{"$f":"'1-2a'!$F$255","v":0},null,null,{"$f":"'1-2a'!$I$255","v":0},null,null,{"$f":"'1-2a'!$L$255","v":0},null,null,{"$f":"'1-2a'!$O$255","v":0}]
[{"$f":"IF(A246=52,1,A246+1)","v":5},{"$f":"N246+3","v":"2021-01-25"},null,null,{"$f":"B256+1","v":"2021-01-26"},null,null,{"$f":"E256+1","v":"2021-01-27"},null,null,{"$f":"H256+1","v":"2021-01-28"},null,null,{"$f":"K256+1","v":"2021-01-29"}]
[null,{"$f":"B247","v":0},null,null,{"$f":"E247","v":0},null,null,{"$f":"H247","v":0},null,null,{"$f":"K247","v":0},null,null,{"$f":"N247","v":0}]
[26,0,null,null,0,null,null,0,null,null,0,null,null,0]
[null,0,null,null,0,null,null,0,null,null,0,null,null,0]
[null,0,null,null,0,null,null,0,null,null,0,null,null,0]
[null,0,null,null,0,null,null,0,null,null,{"$f":"K251","v":0},null,null,0]
[null,0,null,null,0,null,null,0,null,null,0,null,null,0]
[]
[]
[null,null,{"$f":"'1-2a'!$C$265","v":0},null,null,{"$f":"'1-2a'!$F$265","v":0},null,null,{"$f":"'1-2a'!$I$265","v":0},null,null,{"$f":"'1-2a'!$L$265","v":0},null,null,{"$f":"'1-2a'!$O$265","v":0}]
[{"$f":"IF(A256=52,1,A256+1)","v":6},{"$f":"N256+3","v":"2021-02-01"},null,null,{"$f":"B266+1","v":"2021-02-02"},null,null,{"$f":"E266+1","v":"2021-02-03"},null,null,{"$f":"H266+1","v":"2021-02-04"},null,null,{"$f":"K266+1","v":"2021-02-05"}]
[null,{"$f":"B257","v":0},null,null,{"$f":"E257","v":0},null,null,{"$f":"H257","v":0},null,null,{"$f":"K257","v":0},null,null,{"$f":"N257","v":0}]
[27,0,null,null,0,null,null,0,null,null,0,null,null,0]
[null,0,null,null,0,null,null,0,null,null,0,null,null,0]
[null,0,null,null,0,null,null,0,null,null,0,null,null,0]
[null,0,null,null,0,null,null,0,null,null,{"$f":"K261","v":0},null,null,0]
[null,0,null,null,0,null,null,0,null,null,0,null,null,0]
[]
[]
[null,null,{"$f":"'1-2a'!$C$275","v":0},null,null,{"$f":"'1-2a'!$F$275","v":0},null,null,{"$f":"'1-2a'!$I$275","v":0},null,null,{"$f":"'1-2a'!$L$275","v":0},null,null,{"$f":"'1-2a'!$O$275","v":0}]
[{"$f":"IF(A266=52,1,A266+1)","v":7},{"$f":"N266+3","v":"2021-02-08"},null,null,{"$f":"B276+1","v":"2021-02-09"},null,null,{"$f":"E276+1","v":"2021-02-10"},null,null,{"$f":"H276+1","v":"2021-02-11"},null,null,{"$f":"K276+1","v":"2021-02-12"}]
[null,{"$f":"B267","v":0},null,null,{"$f":"E267","v":0},null,null,{"$f":"H267","v":0},null,null,{"$f":"K267","v":0},null,null,{"$f":"N267","v":0}]
[28,0,null,null,0,null,null,0,null,null,0,null,null,0]
[null,0,null,null,0,null,null,0,null,null,0,null,null,0]
[null,0,null,null,0,null,null,0,null,null,0,null,null,0]
[null,0,null,null,0,null,null,0,null,null,{"$f":"K271","v":0},null,null,0]
[null,0,null,null,0,null,null,0,null,null,0,null,null,0]
[]
[]
[null,null,{"$f":"'1-2a'!$C$285","v":0},null,null,{"$f":"'1-2a'!$F$285","v":0},null,null,{"$f":"'1-2a'!$I$285","v":0},null,null,{"$f":"'1-2a'!$L$285","v":0},null,null,{"$f":"'1-2a'!$O$285","v":0}]
[{"$f":"IF(A276=52,1,A276+1)","v":8},{"$f":"N276+3","v":"2021-02-15"},null,null,{"$f":"B286+1","v":"2021-02-16"},null,null,{"$f":"E286+1","v":"2021-02-17"},null,null,{"$f":"H286+1","v":"2021-02-18"},null,null,{"$f":"K286+1","v":"2021-02-19"}]
[null,{"$f":"B277","v":0},null,null,{"$f":"E277","v":0},null,null,{"$f":"H277","v":0},null,null,{"$f":"K277","v":0},null,null,{"$f":"N277","v":0}]
[29,0,null,null,0,null,null,0,null,null,0,null,null,0]
[null,0,null,null,0,null,null,0,null,null,0,null,null,0]
[null,0,null,null,0,null,null,0,null,null,0,null,null,0]
[null,0,null,null,0,null,null,0,null,null,{"$f":"K281","v":0},null,null,0]
[null,0,null,null,0,null,null,0,null,null,0,null,null,0]
[]
[]
[null,null,{"$f":"'1-2a'!$C$295","v":0},null,null,{"$f":"'1-2a'!$F$295","v":0},null,null,{"$f":"'1-2a'!$I$295","v":0},null,null,{"$f":"'1-2a'!$L$295","v":0},null,null,{"$f":"'1-2a'!$O$295","v":0}]
[{"$f":"IF(A286=52,1,A286+1)","v":9},{"$f":"N286+3","v":"2021-02-22"},null,null,{"$f":"B296+1","v":"2021-02-23"},null,null,{"$f":"E296+1","v":"2021-02-24"},null,null,{"$f":"H296+1","v":"2021-02-25"},null,null,{"$f":"K296+1","v":"2021-02-26"}]
[null,{"$f":"B287","v":0},null,null,{"$f":"E287","v":0},null,null,{"$f":"H287","v":0},null,null,{"$f":"K287","v":0},null,null,{"$f":"N287","v":0}]
[30,0,null,null,0,null,null,0,null,null,0,null,null,0]
[null,0,null,null,0,null,null,0,null,null,0,null,null,0]
[null,0,null,null,0,null,null,0,null,null,0,null,null,0]
[null,0,null,null,0,null,null,0,null,null,{"$f":"K291","v":0},null,null,0]
[null,0,null,null,0,null,null,0,null,null,0,null,null,0]
[]
[]
[null,null,{"$f":"'1-2a'!$C$305","v":0},null,null,{"$f":"'1-2a'!$F$305","v":0},null,null,{"$f":"'1-2a'!$I$305","v":0},null,null,{"$f":"'1-2a'!$L$305","v":0},null,null,{"$f":"'1-2a'!$O$305","v":0}]
[{"$f":"IF(A296=52,1,A296+1)","v":10},{"$f":"N296+3","v":"2021-03-01"},null,null,{"$f":"B306+1","v":"2021-03-02"},null,null,{"$f":"E306+1","v":"2021-03-03"},null,null,{"$f":"H306+1","v":"2021-03-04"},null,null,{"$f":"K306+1","v":"2021-03-05"}]
[null,{"$f":"B297","v":0},null,null,{"$f":"E297","v":0},null,null,{"$f":"H297","v":0},null,null,{"$f":"K297","v":0},null,null,{"$f":"N297","v":0}]
[31,0,null,null,0,null,null,0,null,null,0,null,null,0]
[null,0,null,null,0,null,null,0,null,null,0,null,null,0]
[null,0,null,null,0,null,null,0,null,null,0,null,null,0]
[null,0,null,null,0,null,null,0,null,null,{"$f":"K301","v":0},null,null,0]
[null,0,null,null,0,null,null,0,null,null,0,null,null,0]
[]
[]
[null,null,{"$f":"'1-2a'!$C$315","v":0},null,null,{"$f":"'1-2a'!$F$315","v":0},null,null,{"$f":"'1-2a'!$I$315","v":0},null,null,{"$f":"'1-2a'!$L$315","v":0},null,null,{"$f":"'1-2a'!$O$315","v":0}]
[{"$f":"IF(A306=52,1,A306+1)","v":11},{"$f":"N306+3","v":"2021-03-08"},null,null,{"$f":"B316+1","v":"2021-03-09"},null,null,{"$f":"E316+1","v":"2021-03-10"},null,null,{"$f":"H316+1","v":"2021-03-11"},null,null,{"$f":"K316+1","v":"2021-03-12"}]
[null,{"$f":"B307","v":0},null,null,{"$f":"E307","v":0},null,null,{"$f":"H307","v":0},null,null,{"$f":"K307","v":0},null,null,{"$f":"N307","v":0}]
[32,0,null,null,0,null,null,0,null,null,0,null,null,0]
[null,0,null,null,0,null,null,0,null,null,0,null,null,0]
[null,0,null,null,0,null,null,0,null,null,0,null,null,0]
[null,0,null,null,0,null,null,0,null,null,{"$f":"K311","v":0},null,null,0]
[null,0,null,null,0,null,null,0,null,null,0,null,null,0]
[]
[]
[null,null,{"$f":"'1-2a'!$C$325","v":0},null,null,{"$f":"'1-2a'!$F$325","v":0},null,null,{"$f":"'1-2a'!$I$325","v":0},null,null,{"$f":"'1-2a'!$L$325","v":0},null,null,{"$f":"'1-2a'!$O$325","v":0}]
[{"$f":"IF(A316=52,1,A316+1)","v":12},{"$f":"N316+3","v":"2021-03-15"},null,null,{"$f":"B326+1","v":"2021-03-16"},null,null,{"$f":"E326+1","v":"2021-03-17"},null,null,{"$f":"H326+1","v":"2021-03-18"},null,null,{"$f":"K326+1","v":"2021-03-19"}]
[null,{"$f":"B317","v":0},null,null,{"$f":"E317","v":0},null,null,{"$f":"H317","v":0},null,null,{"$f":"K317","v":0},null,null,{"$f":"N317","v":0}]
[33,0,null,null,0,null,null,0,null,null,0,null,null,0]
[null,0,null,null,0,null,null,0,null,null,0,null,null,0]
[null,0,null,null,0,null,null,0,null,null,0,null,null,0]
[null,0,null,null,0,null,null,0,null,null,0,null,null,0]
[null,0,null,null,0,null,null,0,null,null,0,null,null,0]
[]
[]
[null,null,{"$f":"'1-2a'!$C$335","v":0},null,null,{"$f":"'1-2a'!$F$335","v":0},null,null,{"$f":"'1-2a'!$I$335","v":0},null,null,{"$f":"'1-2a'!$L$335","v":0},null,null,{"$f":"'1-2a'!$O$335","v":0}]
[{"$f":"IF(A326=52,1,A326+1)","v":13},{"$f":"N326+3","v":"2021-03-22"},null,null,{"$f":"B336+1","v":"2021-03-23"},null,null,{"$f":"E336+1","v":"2021-03-24"},null,null,{"$f":"H336+1","v":"2021-03-25"},null,null,{"$f":"K336+1","v":"2021-03-26"}]
[null,{"$f":"B327","v":0},null,null,{"$f":"E327","v":0},null,null,{"$f":"H327","v":0},null,null,{"$f":"K327","v":0},null,null,{"$f":"N327","v":0}]
[34,0,null,null,0,null,null,0,null,null,0,null,null,0]
[null,0,null,null,0,null,null,0,null,null,0,null,null,0]
[null,0,null,null,0,null,null,0,null,null,0,null,null,0]
[null,0,null,null,0,null,null,0,null,null,{"$f":"K331","v":0},null,null,0]
[null,0,null,null,0,null,null,0,null,null,0,null,null,0]
[]
[]
[null,null,{"$f":"'1-2a'!$C$345","v":0},null,null,{"$f":"'1-2a'!$F$345","v":0},null,null,{"$f":"'1-2a'!$I$345","v":0},null,null,{"$f":"'1-2a'!$L$345","v":0},null,null,{"$f":"'1-2a'!$O$345","v":0}]
[{"$f":"IF(A336=52,1,A336+1)","v":14},{"$f":"N336+3","v":"2021-03-29"},null,null,{"$f":"B346+1","v":"2021-03-30"},null,null,{"$f":"E346+1","v":"2021-03-31"},null,null,{"$f":"H346+1","v":"2021-04-01"},null,null,{"$f":"K346+1","v":"2021-04-02"}]
[null,{"$f":"B337","v":0},null,null,{"$f":"E337","v":0},null,null,{"$f":"H337","v":0},null,null,{"$f":"K337","v":0},null,null,{"$f":"N337","v":0}]
[35,0,null,null,0,null,null,0,null,null,0,null,null,0]
[null,0,null,null,0,null,null,0,null,null,0,null,null,0]
[null,0,null,null,0,null,null,0,null,null,0,null,null,0]
[null,0,null,null,0,null,null,0,null,null,{"$f":"K341","v":0},null,null,0]
[null,0,null,null,0,null,null,0,null,null,0,null,null,0]
[]
[]
[null,null,{"$f":"'1-2a'!$C$355","v":0},null,null,{"$f":"'1-2a'!$F$355","v":0},null,null,{"$f":"'1-2a'!$I$355","v":0},null,null,{"$f":"'1-2a'!$L$355","v":0},null,null,{"$f":"'1-2a'!$O$355","v":0}]
[{"$f":"IF(A346=52,1,A346+1)","v":15},{"$f":"N346+3","v":"2021-04-05"},null,null,{"$f":"B356+1","v":"2021-04-06"},null,null,{"$f":"E356+1","v":"2021-04-07"},null,null,{"$f":"H356+1","v":"2021-04-08"},null,null,{"$f":"K356+1","v":"2021-04-09"}]
[null,{"$f":"B347","v":0},null,null,{"$f":"E347","v":0},null,null,{"$f":"H347","v":0},null,null,{"$f":"K347","v":0},null,null,{"$f":"N347","v":0}]
[36,0,null,null,0,null,null,0,null,null,0,null,null,0]
[null,0,null,null,0,null,null,0,null,null,0,null,null,0]
[null,0,null,null,0,null,null,0,null,null,0,null,null,0]
[null,0,null,null,0,null,null,0,null,null,{"$f":"K351","v":0},null,null,0]
[null,0,null,null,0,null,null,0,null,null,0,null,null,0]
[]
[]
[null,null,{"$f":"'1-2a'!$C$365","v":0},null,null,{"$f":"'1-2a'!$F$365","v":0},null,null,{"$f":"'1-2a'!$I$365","v":0},null,null,{"$f":"'1-2a'!$L$365","v":0},null,null,{"$f":"'1-2a'!$O$365","v":0}]
[{"$f":"IF(A356=52,1,A356+1)","v":16},{"$f":"N356+3","v":"2021-04-12"},null,null,{"$f":"B366+1","v":"2021-04-13"},null,null,{"$f":"E366+1","v":"2021-04-14"},null,null,{"$f":"H366+1","v":"2021-04-15"},null,null,{"$f":"K366+1","v":"2021-04-16"}]
[null,{"$f":"B357","v":0},null,null,{"$f":"E357","v":0},null,null,{"$f":"H357","v":0},null,null,{"$f":"K357","v":0},null,null,{"$f":"N357","v":0}]
[37,0,null,null,0,null,null,0,null,null,0,null,null,0]
[null,0,null,null,0,null,null,0,null,null,0,null,null,0]
[null,0,null,null,0,null,null,0,null,null,0,null,null,0]
[null,0,null,null,0,null,null,0,null,null,{"$f":"K361","v":0},null,null,0]
[null,0,null,null,0,null,null,0,null,null,0,null,null,0]
[]
[]
[null,null,{"$f":"'1-2a'!$C$375","v":0},null,null,{"$f":"'1-2a'!$F$375","v":0},null,null,{"$f":"'1-2a'!$I$375","v":0},null,null,{"$f":"'1-2a'!$L$375","v":0},null,null,{"$f":"'1-2a'!$O$375","v":0}]
[{"$f":"IF(A366=52,1,A366+1)","v":17},{"$f":"N366+3","v":"2021-04-19"},null,null,{"$f":"B376+1","v":"2021-04-20"},null,null,{"$f":"E376+1","v":"2021-04-21"},null,null,{"$f":"H376+1","v":"2021-04-22"},null,null,{"$f":"K376+1","v":"2021-04-23"}]
[null,{"$f":"B367","v":0},null,null,{"$f":"E367","v":0},null,null,{"$f":"H367","v":0},null,null,{"$f":"K367","v":0},null,null,{"$f":"N367","v":0}]
[38,0,null,null,0,null,null,0,null,null,0,null,null,0]
[null,0,null,null,0,null,null,0,null,null,0,null,null,0]
[null,0,null,null,0,null,null,0,null,null,0,null,null,0]
[null,0,null,null,0,null,null,0,null,null,{"$f":"K371","v":0},null,null,0]
[null,0,null,null,0,null,null,0,null,null,0,null,null,0]
[]
[]
[null,null,{"$f":"'1-2a'!$C$385","v":0},null,null,{"$f":"'1-2a'!$F$385","v":0},null,null,{"$f":"'1-2a'!$I$385","v":0},null,null,{"$f":"'1-2a'!$L$385","v":0},null,null,{"$f":"'1-2a'!$O$385","v":0}]
[{"$f":"IF(A376=52,1,A376+1)","v":18},{"$f":"N376+3","v":"2021-04-26"},null,null,{"$f":"B386+1","v":"2021-04-27"},null,null,{"$f":"E386+1","v":"2021-04-28"},null,null,{"$f":"H386+1","v":"2021-04-29"},null,null,{"$f":"K386+1","v":"2021-04-30"}]
[null,{"$f":"B377","v":0},null,null,{"$f":"E377","v":0},null,null,{"$f":"H377","v":0},null,null,{"$f":"K377","v":0},null,null,{"$f":"N377","v":0}]
[39,0,null,null,0,null,null,0,null,null,0,null,null,0]
[null,0,null,null,0,null,null,0,null,null,0,null,null,0]
[null,0,null,null,0,null,null,0,null,null,0,null,null,0]
[null,0,null,null,0,null,null,0,null,null,{"$f":"K381","v":0},null,null,0]
[null,0,null,null,0,null,null,0,null,null,0,null,null,0]
[]
[]
[null,null,{"$f":"'1-2a'!$C$395","v":0},null,null,{"$f":"'1-2a'!$F$395","v":0},null,null,{"$f":"'1-2a'!$I$395","v":0},null,null,{"$f":"'1-2a'!$L$395","v":0},null,null,{"$f":"'1-2a'!$O$395","v":0}]
[{"$f":"IF(A386=52,1,A386+1)","v":19},{"$f":"N386+3","v":"2021-05-03"},null,null,{"$f":"B396+1","v":"2021-05-04"},null,null,{"$f":"E396+1","v":"2021-05-05"},null,null,{"$f":"H396+1","v":"2021-05-06"},null,null,{"$f":"K396+1","v":"2021-05-07"}]
[null,{"$f":"B387","v":0},null,null,{"$f":"E387","v":0},null,null,{"$f":"H387","v":0},null,null,{"$f":"K387","v":0},null,null,{"$f":"N387","v":0}]
[40,0,null,null,0,null,null,0,null,null,0,null,null,0]
[null,0,null,null,0,null,null,0,null,null,0,null,null,0]
[null,0,null,null,0,null,null,0,null,null,0,null,null,0]
[null,0,null,null,0,null,null,0,null,null,{"$f":"K391","v":0},null,null,0]
[null,0,null,null,0,null,null,0,null,null,0,null,null,0]
[]
[]
[null,null,{"$f":"'1-2a'!$C$405","v":0},null,null,{"$f":"'1-2a'!$F$405","v":0},null,null,{"$f":"'1-2a'!$I$405","v":0},null,null,{"$f":"'1-2a'!$L$405","v":0},null,null,{"$f":"'1-2a'!$O$405","v":0}]
[{"$f":"IF(A396=52,1,A396+1)","v":20},{"$f":"N396+3","v":"2021-05-10"},null,null,{"$f":"B406+1","v":"2021-05-11"},null,null,{"$f":"E406+1","v":"2021-05-12"},null,null,{"$f":"H406+1","v":"2021-05-13"},null,null,{"$f":"K406+1","v":"2021-05-14"}]
[null,{"$f":"B397","v":0},null,null,{"$f":"E397","v":0},null,null,{"$f":"H397","v":0},null,null,{"$f":"K397","v":0},null,null,{"$f":"N397","v":0}]
[41,0,null,null,0,null,null,0,null,null,0,null,null,0]
[null,0,null,null,0,null,null,0,null,null,0,null,null,0]
[null,0,null,null,0,null,null,0,null,null,0,null,null,0]
[null,0,null,null,0,null,null,0,null,null,0,null,null,0]
[null,0,null,null,0,null,null,0,null,null,0,null,null,0]
[]
[]
[null,null,{"$f":"'1-2a'!$C$415","v":0},null,null,{"$f":"'1-2a'!$F$415","v":0},null,null,{"$f":"'1-2a'!$I$415","v":0},null,null,{"$f":"'1-2a'!$L$415","v":0},null,null,{"$f":"'1-2a'!$O$415","v":0}]
[{"$f":"IF(A406=52,1,A406+1)","v":21},{"$f":"N406+3","v":"2021-05-17"},null,null,{"$f":"B416+1","v":"2021-05-18"},null,null,{"$f":"E416+1","v":"2021-05-19"},null,null,{"$f":"H416+1","v":"2021-05-20"},null,null,{"$f":"K416+1","v":"2021-05-21"}]
[null,{"$f":"B407","v":0},null,null,{"$f":"E407","v":0},null,null,{"$f":"H407","v":0},null,null,{"$f":"K407","v":0},null,null,{"$f":"N407","v":0}]
[42,0,null,null,0,null,null,0,null,null,0,null,null,0]
[null,0,null,null,0,null,null,0,null,null,0,null,null,0]
[null,0,null,null,0,null,null,0,null,null,0,null,null,0]
[null,0,null,null,0,null,null,0,null,null,{"$f":"K411","v":0},null,null,0]
[null,0,null,null,0,null,null,0,null,null,0,null,null,0]
[]
[]
[null,null,{"$f":"'1-2a'!$C$425","v":0},null,null,{"$f":"'1-2a'!$F$425","v":0},null,null,{"$f":"'1-2a'!$I$425","v":0},null,null,{"$f":"'1-2a'!$L$425","v":0},null,null,{"$f":"'1-2a'!$O$425","v":0}]
[{"$f":"IF(A416=52,1,A416+1)","v":22},{"$f":"N416+3","v":"2021-05-24"},null,null,{"$f":"B426+1","v":"2021-05-25"},null,null,{"$f":"E426+1","v":"2021-05-26"},null,null,{"$f":"H426+1","v":"2021-05-27"},null,null,{"$f":"K426+1","v":"2021-05-28"}]
[null,{"$f":"B417","v":0},null,null,{"$f":"E417","v":0},null,null,{"$f":"H417","v":0},null,null,{"$f":"K417","v":0},null,null,{"$f":"N417","v":0}]
[43,0,null,null,0,null,null,0,null,null,0,null,null,0]
[null,0,null,null,0,null,null,0,null,null,0,null,null,0]
[null,0,null,null,0,null,null,0,null,null,0,null,null,0]
[null,0,null,null,0,null,null,0,null,null,{"$f":"K421","v":0},null,null,0]
[null,0,null,null,0,null,null,0,null,null,0,null,null,0]
[]
[]
[null,null,{"$f":"'1-2a'!$C$435","v":0},null,null,{"$f":"'1-2a'!$F$435","v":0},null,null,{"$f":"'1-2a'!$I$435","v":0},null,null,{"$f":"'1-2a'!$L$435","v":0},null,null,{"$f":"'1-2a'!$O$435","v":0}]
[{"$f":"IF(A426=52,1,A426+1)","v":23},{"$f":"N426+3","v":"2021-05-31"},null,null,{"$f":"B436+1","v":"2021-06-01"},null,null,{"$f":"E436+1","v":"2021-06-02"},null,null,{"$f":"H436+1","v":"2021-06-03"},null,null,{"$f":"K436+1","v":"2021-06-04"}]
[null,{"$f":"B427","v":0},null,null,{"$f":"E427","v":0},null,null,{"$f":"H427","v":0},null,null,{"$f":"K427","v":0},null,null,{"$f":"N427","v":0}]
[44,0,null,null,0,null,null,0,null,null,0,null,null,0]
[null,0,null,null,0,null,null,0,null,null,0,null,null,0]
[null,0,null,null,0,null,null,0,null,null,0,null,null,0]
[null,0,null,null,0,null,null,0,null,null,{"$f":"K431","v":0},null,null,0]
[null,0,null,null,0,null,null,0,null,null,0,null,null,0]
[]
[]
[null,null,{"$f":"'1-2a'!$C$445","v":0},null,null,{"$f":"'1-2a'!$F$445","v":0},null,null,{"$f":"'1-2a'!$I$445","v":0},null,null,{"$f":"'1-2a'!$L$445","v":0},null,null,{"$f":"'1-2a'!$O$445","v":0}]
[{"$f":"IF(A436=52,1,A436+1)","v":24},{"$f":"N436+3","v":"2021-06-07"},null,null,{"$f":"B446+1","v":"2021-06-08"},null,null,{"$f":"E446+1","v":"2021-06-09"},null,null,{"$f":"H446+1","v":"2021-06-10"},null,null,{"$f":"K446+1","v":"2021-06-11"}]
[null,{"$f":"B437","v":0},null,null,{"$f":"E437","v":0},null,null,{"$f":"H437","v":0},null,null,{"$f":"K437","v":0},null,null,{"$f":"N437","v":0}]
[45,0,null,null,0,null,null,0,null,null,0,null,null,0]
[null,0,null,null,0,null,null,0,null,null,0,null,null,0]
[null,0,null,null,0,null,null,0,null,null,0,null,null,0]
[null,0,null,null,0,null,null,0,null,null,{"$f":"K441","v":0},null,null,0]
[null,0,null,null,0,null,null,0,null,null,0,null,null,0]
[]
[]
[null,null,{"$f":"'1-2a'!$C$455","v":0},null,null,{"$f":"'1-2a'!$F$455","v":0},null,null,{"$f":"'1-2a'!$I$455","v":0},null,null,{"$f":"'1-2a'!$L$455","v":0},null,null,{"$f":"'1-2a'!$O$455","v":0}]
[{"$f":"IF(A446=52,1,A446+1)","v":25},{"$f":"N446+3","v":"2021-06-14"},null,null,{"$f":"B456+1","v":"2021-06-15"},null,null,{"$f":"E456+1","v":"2021-06-16"},null,null,{"$f":"H456+1","v":"2021-06-17"},null,null,{"$f":"K456+1","v":"2021-06-18"}]
[null,{"$f":"B447","v":0},null,null,{"$f":"E447","v":0},null,null,{"$f":"H447","v":0},null,null,{"$f":"K447","v":0},null,null,{"$f":"N447","v":0}]
[46,0,null,null,0,null,null,0,null,null,0,null,null,0]
[null,0,null,null,0,null,null,0,null,null,0,null,null,0]
[null,0,null,null,0,null,null,0,null,null,0,null,null,0]
[null,0,null,null,0,null,null,0,null,null,{"$f":"K451","v":0},null,null,0]
[null,0,null,null,0,null,null,0,null,null,0,null,null,0]
[]
[]
[null,null,{"$f":"'1-2a'!$C$465","v":0},null,null,{"$f":"'1-2a'!$F$465","v":0},null,null,{"$f":"'1-2a'!$I$465","v":0},null,null,{"$f":"'1-2a'!$L$465","v":0},null,null,{"$f":"'1-2a'!$O$465","v":0}]
[{"$f":"IF(A456=52,1,A456+1)","v":26},{"$f":"N456+3","v":"2021-06-21"},null,null,{"$f":"B466+1","v":"2021-06-22"},null,null,{"$f":"E466+1","v":"2021-06-23"},null,null,{"$f":"H466+1","v":"2021-06-24"},null,null,{"$f":"K466+1","v":"2021-06-25"}]
[null,{"$f":"B457","v":0},null,null,{"$f":"E457","v":0},null,null,{"$f":"H457","v":0},null,null,{"$f":"K457","v":0},null,null,{"$f":"N457","v":0}]
[47,0,null,null,0,null,null,0,null,null,0,null,null,0]
[null,0,null,null,0,null,null,0,null,null,0,null,null,0]
[null,0,null,null,0,null,null,0,null,null,0,null,null,0]
[null,0,null,null,0,null,null,0,null,null,{"$f":"K461","v":0},null,null,0]
[null,0,null,null,0,null,null,0,null,null,0,null,null,0]
[]
[]
[null,null,{"$f":"'1-2a'!$C$475","v":0},null,null,{"$f":"'1-2a'!$F$475","v":0},null,null,{"$f":"'1-2a'!$I$475","v":0},null,null,{"$f":"'1-2a'!$L$475","v":0},null,null,{"$f":"'1-2a'!$O$475","v":0}]
[{"$f":"IF(A466=52,1,A466+1)","v":27},{"$f":"N466+3","v":"2021-06-28"},null,null,{"$f":"B476+1","v":"2021-06-29"},null,null,{"$f":"E476+1","v":"2021-06-30"},null,null,{"$f":"H476+1","v":"2021-07-01"},null,null,{"$f":"K476+1","v":"2021-07-02"}]
[null,{"$f":"B467","v":0},null,null,{"$f":"E467","v":0},null,null,{"$f":"H467","v":0},null,null,{"$f":"K467","v":0},null,null,{"$f":"N467","v":0}]
[48,0,null,null,0,null,null,0,null,null,0,null,null,0]
[null,0,null,null,0,null,null,0,null,null,0,null,null,0]
[null,0,null,null,0,null,null,0,null,null,0,null,null,0]
[null,0,null,null,0,null,null,0,null,null,{"$f":"K471","v":0},null,null,0]
[null,0,null,null,0,null,null,0,null,null,0,null,null,0]
[]
[]
[null,null,{"$f":"'1-2a'!$C$485","v":0},null,null,{"$f":"'1-2a'!$F$485","v":0},null,null,{"$f":"'1-2a'!$I$485","v":0},null,null,{"$f":"'1-2a'!$L$485","v":0},null,null,{"$f":"'1-2a'!$O$485","v":0}]
[{"$f":"IF(A476=52,1,A476+1)","v":28},{"$f":"N476+3","v":"2021-07-05"},null,null,{"$f":"B486+1","v":"2021-07-06"},null,null,{"$f":"E486+1","v":"2021-07-07"},null,null,{"$f":"H486+1","v":"2021-07-08"},null,null,{"$f":"K486+1","v":"2021-07-09"}]
[null,{"$f":"B477","v":0},null,null,{"$f":"E477","v":0},null,null,{"$f":"H477","v":0},null,null,{"$f":"K477","v":0},null,null,{"$f":"N477","v":0}]
[49,0,null,null,0,null,null,0,null,null,0,null,null,0]
[null,0,null,null,0,null,null,0,null,null,0,null,null,0]
[null,0,null,null,0,null,null,0,null,null,0,null,null,0]
[null,0,null,null,0,null,null,0,null,null,0,null,null,0]
[null,0,null,null,0,null,null,0,null,null,0,null,null,0]
[]
[]
[null,null,{"$f":"'1-2a'!$C$495","v":0},null,null,{"$f":"'1-2a'!$F$495","v":0},null,null,{"$f":"'1-2a'!$I$495","v":0},null,null,{"$f":"'1-2a'!$L$495","v":0},null,null,{"$f":"'1-2a'!$O$495","v":0}]
[{"$f":"IF(A486=52,1,A486+1)","v":29},{"$f":"N486+3","v":"2021-07-12"},null,null,{"$f":"B496+1","v":"2021-07-13"},null,null,{"$f":"E496+1","v":"2021-07-14"},null,null,{"$f":"H496+1","v":"2021-07-15"},null,null,{"$f":"K496+1","v":"2021-07-16"}]
[null,{"$f":"B487","v":0},null,null,{"$f":"E487","v":0},null,null,{"$f":"H487","v":0},null,null,{"$f":"K487","v":0},null,null,{"$f":"N487","v":0}]
[50,0,null,null,0,null,null,0,null,null,0]
[null,0,null,null,0,null,null,0,null,null,0,null,null,0]
[null,0,null,null,0,null,null,0,null,null,0,null,null,0]
[null,0,null,null,0,null,null,0,null,null,{"$f":"K491","v":0},null,null,0]
[null,0,null,null,0,null,null,0,null,null,0]

{"sheet":"28","index":28,"n_rows":502,"n_cols":15,"rows_kept":502,"cut":false,"hidden":false,"merged":[[5,1,5,3],[5,4,5,6],[5,7,5,9],[5,10,5,12],[5,13,5,15],[7,0,8,0],[1,1,2,7],[1,9,2,12],[1,13,2,15],[3,1,3,3],[3,4,3,6],[3,7,3,9],[3,10,3,12],[3,13,3,15],[12,1,13,3],[12,4,13,6],[12,7,13,9],[12,10,13,12],[12,13,13,15],[15,1,15,3],[15,4,15,6],[15,7,15,9],[15,10,15,12],[15,13,15,15],[25,1,25,3],[25,4,25,6],[25,7,25,9],[25,10,25,12],[25,13,25,15],[27,0,28,0],[17,0,18,0],[22,1,23,3],[22,4,23,6],[22,7,23,9],[22,10,23,12],[22,13,23,15],[32,1,33,3],[32,4,33,6],[32,7,33,9],[32,10,33,12],[32,13,33,15],[35,1,35,3],[35,4,35,6],[35,7,35,9],[35,10,35,12],[35,13,35,15],[45,1,45,3],[45,4,45,6],[45,7,45,9],[45,10,45,12],[45,13,45,15],[47,0,48,0],[37,0,38,0],[42,1,43,3],[42,4,43,6],[42,7,43,9],[42,10,43,12],[42,13,43,15],[52,1,53,3],[52,4,53,6],[52,7,53,9],[52,10,53,12],[52,13,53,15],[55,1,55,3],[55,4,55,6],[55,7,55,9],[55,10,55,12],[55,13,55,15],[65,1,65,3],[65,4,65,6],[65,7,65,9],[65,10,65,12],[65,13,65,15],[67,0,68,0],[57,0,58,0],[62,1,63,3],[62,4,63,6],[62,7,63,9],[62,10,63,12],[62,13,63,15],[72,1,73,3],[72,4,73,6],[72,7,73,9],[72,10,73,12],[72,13,73,15],[75,1,75,3],[75,4,75,6],[75,7,75,9],[75,10,75,12],[75,13,75,15],[85,1,85,3],[85,4,85,6],[85,7,85,9],[85,10,85,12],[85,13,85,15],[87,0,88,0],[77,0,78,0],[82,1,83,3],[82,4,83,6],[82,7,83,9],[82,10,83,12],[82,13,83,15],[92,1,93,3],[92,4,93,6],[92,7,93,9],[92,10,93,12],[92,13,93,15],[95,1,95,3],[95,4,95,6],[95,7,95,9],[95,10,95,12],[95,13,95,15],[105,1,105,3],[105,4,105,6],[105,7,105,9],[105,10,105,12],[105,13,105,15],[107,0,108,0],[97,0,98,0],[99,16,100,19],[102,1,103,3],[102,4,103,6],[102,7,103,9],[102,10,103,12],[102,13,103,15],[112,1,113,3],[112,4,113,6],[112,7,113,9],[112,10,113,12],[112,13,113,15],[115,1,115,3],[115,4,115,6],[115,7,115,9],[115,10,115,12],[115,13,115,15],[125,1,125,3],[125,4,125,6],[125,7,125,9],[125,10,125,12],[125,13,125,15],[127,0,128,0],[117,0,118,0],[122,1,123,3],[122,4,123,6],[122,7,123,9],[122,10,123,12],[122,13,123,15],[132,1,133,3],[132,4,133,6],[132,7,133,9],[132,10,133,12],[132,13,133,15],[135,1,135,3],[135,4,135,6],[135,7,135,9],[135,10,135,12],[135,13,135,15],[145,1,145,3],[145,4,145,6],[145,7,145,9],[145,10,145,12],[145,13,145,15],[147,0,148,0],[137,0,138,0],[142,1,143,3],[142,4,143,6],[142,7,143,9],[142,10,143,12],[142,13,143,15],[152,1,153,3],[152,4,153,6],[152,7,153,9],[152,10,153,12],[152,13,153,15],[155,1,155,3],[155,4,155,6],[155,7,155,9],[155,10,155,12],[155,13,155,15],[165,1,165,3],[165,4,165,6],[165,7,165,9],[165,10,165,12],[165,13,165,15],[167,0,168,0],[157,0,158,0],[162,1,163,3],[162,4,163,6],[162,7,163,9],[162,10,163,12],[162,13,163,15],[172,1,173,3],[172,4,173,6],[172,7,173,9],[172,10,173,12],[172,13,173,15],[175,1,175,3],[175,4,175,6],[175,7,175,9],[175,10,175,12],[175,13,175,15],[185,1,185,3],[185,4,185,6],[185,7,185,9],[185,10,185,12],[185,13,185,15],[187,0,188,0],[177,0,178,0],[179,16,180,19],[182,1,183,3],[182,4,183,6],[182,7,183,9],[182,10,183,12],[182,13,183,15],[192,1,193,3],[192,4,193,6],[192,7,193,9],[192,10,193,12],[192,13,193,15],[195,1,195,3],[195,4,195,6],[195,7,195,9],[195,10,195,12],[195,13,195,15],[205,1,205,3],[205,4,205,6],[205,7,205,9],[205,10,205,12],[205,13,205,15],[207,0,208,0],[197,0,198,0],[202,1,203,3],[202,4,203,6],[202,7,203,9],[202,10,203,12],[202,13,203,15],[212,1,213,3],[212,4,213,6],[212,7,213,9],[212,10,213,12],[212,13,213,15],[215,1,215,3],[215,4,215,6],[215,7,215,9],[215,10,215,12],[215,13,215,15],[225,1,225,3],[225,4,225,6],[225,7,225,9],[225,10,225,12],[225,13,225,15],[227,0,228,0],[217,0,218,0],[222,1,223,3],[222,4,223,6],[222,7,223,9],[222,10,223,12],[222,13,223,15],[232,1,233,3],[232,4,233,6],[232,7,233,9],[232,10,233,12],[232,13,233,15],[235,1,235,3],[235,4,235,6],[235,7,235,9],[235,10,235,12],[235,13,235,15],[245,1,245,3],[245,4,245,6],[245,7,245,9],[245,10,245,12],[245,13,245,15],[247,0,248,0],[237,0,238,0],[242,1,243,3],[242,4,243,6],[242,7,243,9],[242,10,243,12],[242,13,243,15],[252,1,253,3],[252,4,253,6],[252,7,253,9],[252,10,253,12],[252,13,253,15],[255,1,255,3],[255,4,255,6],[255,7,255,9],[255,10,255,12],[255,13,255,15],[265,1,265,3],[265,4,265,6],[265,7,265,9],[265,10,265,12],[265,13,265,15],[267,0,268,0],[257,0,258,0],[259,16,260,19],[262,1,263,3],[262,4,263,6],[262,7,263,9],[262,10,263,12],[262,13,263,15],[272,1,273,3],[272,4,273,6],[272,7,273,9],[272,10,273,12],[272,13,273,15],[275,1,275,3],[275,4,275,6],[275,7,275,9],[275,10,275,12],[275,13,275,15],[285,1,285,3],[285,4,285,6],[285,7,285,9],[285,10,285,12],[285,13,285,15],[287,0,288,0],[277,0,278,0],[282,1,283,3],[282,4,283,6],[282,7,283,9],[282,10,283,12],[282,13,283,15],[292,1,293,3],[292,4,293,6],[292,7,293,9],[292,10,293,12],[292,13,293,15],[295,1,295,3],[295,4,295,6],[295,7,295,9],[295,10,295,12],[295,13,295,15],[305,1,305,3],[305,4,305,6],[305,7,305,9],[305,10,305,12],[305,13,305,15],[307,0,308,0],[297,0,298,0],[302,1,303,3],[302,4,303,6],[302,7,303,9],[302,10,303,12],[302,13,303,15],[312,1,313,3],[312,4,313,6],[312,7,313,9],[312,10,313,12],[312,13,313,15],[315,1,315,3],[315,4,315,6],[315,7,315,9],[315,10,315,12],[315,13,315,15],[325,1,325,3],[325,4,325,6],[325,7,325,9],[325,10,325,12],[325,13,325,15],[327,0,328,0],[317,0,318,0],[322,1,323,3],[322,4,323,6],[322,7,323,9],[322,10,323,12],[322,13,323,15],[332,1,333,3],[332,4,333,6],[332,7,333,9],[332,10,333,12],[332,13,333,15],[335,1,335,3],[335,4,335,6],[335,7,335,9],[335,10,335,12],[335,13,335,15],[345,1,345,3],[345,4,345,6],[345,7,345,9],[345,10,345,12],[345,13,345,15],[347,0,348,0],[337,0,338,0],[339,16,340,19],[342,1,343,3],[342,4,343,6],[342,7,343,9],[342,10,343,12],[342,13,343,15],[352,1,353,3],[352,4,353,6],[352,7,353,9],[352,10,353,12],[352,13,353,15],[355,1,355,3],[355,4,355,6],[355,7,355,9],[355,10,355,12],[355,13,355,15],[365,1,365,3],[365,4,365,6],[365,7,365,9],[365,10,365,12],[365,13,365,15],[367,0,368,0],[357,0,358,0],[362,1,363,3],[362,4,363,6],[362,7,363,9],[362,10,363,12],[362,13,363,15],[372,1,373,3],[372,4,373,6],[372,7,373,9],[372,10,373,12],[372,13,373,15],[375,1,375,3],[375,4,375,6],[375,7,375,9],[375,10,375,12],[375,13,375,15],[385,1,385,3],[385,4,385,6],[385,7,385,9],[385,10,385,12],[385,13,385,15],[387,0,388,0],[377,0,378,0],[382,1,383,3],[382,4,383,6],[382,7,383,9],[382,10,383,12],[382,13,383,15],[392,1,393,3],[392,4,393,6],[392,7,393,9],[392,10,393,12],[392,13,393,15],[395,1,395,3],[395,4,395,6],[395,7,395,9],[395,10,395,12],[395,13,395,15],[405,1,405,3],[405,4,405,6],[405,7,405,9],[405,10,405,12],[405,13,405,15],[407,0,408,0],[397,0,398,0],[402,1,403,3],[402,4,403,6],[402,7,403,9],[402,10,403,12],[402,13,403,15],[412,1,413,3],[412,4,413,6],[412,7,413,9],[412,10,413,12],[412,13,413,15],[415,1,415,3],[415,4,415,6],[415,7,415,9],[415,10,415,12],[415,13,415,15],[425,1,425,3],[425,4,425,6],[425,7,425,9],[425,10,425,12],[425,13,425,15],[427,0,428,0],[417,0,418,0],[419,16,420,19],[422,1,423,3],[422,4,423,6],[422,7,423,9],[422,10,423,12],[422,13,423,15],[432,1,433,3],[432,4,433,6],[432,7,433,9],[432,10,433,12],[432,13,433,15],[435,1,435,3],[435,4,435,6],[435,7,435,9],[435,10,435,12],[435,13,435,15],[445,1,445,3],[445,4,445,6],[445,7,445,9],[445,10,445,12],[445,13,445,15],[447,0,448,0],[437,0,438,0],[442,1,443,3],[442,4,443,6],[442,7,443,9],[442,10,443,12],[442,13,443,15],[452,1,453,3],[452,4,453,6],[452,7,453,9],[452,10,453,12],[452,13,453,15],[455,1,455,3],[455,4,455,6],[455,7,455,9],[455,10,455,12],[455,13,455,15],[465,1,465,3],[465,4,465,6],[465,7,465,9],[465,10,465,12],[465,13,465,15],[467,0,468,0],[457,0,458,0],[462,1,463,3],[462,4,463,6],[462,7,463,9],[462,10,463,12],[462,13,463,15],[472,1,473,3],[472,4,473,6],[472,7,473,9],[472,10,473,12],[472,13,473,15],[475,1,475,3],[475,4,475,6],[475,7,475,9],[475,10,475,12],[475,13,475,15],[485,1,485,3],[485,4,485,6],[485,7,485,9],[485,10,485,12],[485,13,485,15],[487,0,488,0],[477,0,478,0],[482,1,483,3],[482,4,483,6],[482,7,483,9],[482,10,483,12],[482,13,483,15],[497,0,498,0],[499,16,500,19],[502,1,503,3],[502,4,503,6],[502,7,503,9],[502,10,503,12],[502,13,503,15],[492,1,493,3],[492,4,493,6],[492,7,493,9],[492,10,493,12],[492,13,493,15],[495,1,495,3],[495,4,495,6],[495,7,495,9],[495,10,495,12],[495,13,495,15]]}
[]
[null,{"$f":"'1-2a'!B2:H3","v":"Basisschool De Grote Beer        schooljaar 2020/2021"},null,null,null,null,null,null,null,"Groepsplanner van groep:",null,null,null,"28"]
[]
[null,"maandag 1e schoolweek",null,null,"dinsdag",null,null,"woensdag",null,null,"donderdag",null,null,"vrijdag"]
[null,null,{"$f":"'1-2a'!C$5","v":0},null,null,{"$f":"'1-2a'!F5","v":0},null,null,{"$f":"'1-2a'!I$5","v":0},null,null,{"$f":"'1-2a'!L$5","v":"s"},null,null,{"$f":"'1-2a'!O$5","v":0}]
[{"$f":"(B6-WEEKDAY(B6-1)+4-(TRUNC(DATE(YEAR(B6-WEEKDAY(B6-1)+4),1,2)/7)*7-2))/7","v":32},{"$f":"'1-2a'!B6:D6","v":"2020-08-03"},null,null,{"$f":"B6+1","v":"2020-08-04"},null,null,{"$f":"E6+1","v":"2020-08-05"},null,null,{"$f":"H6+1","v":"2020-08-06"},null,null,{"$f":"K6+1","v":"2020-08-07"}]
[]
[1]
[]
[]
[]
[]
[]
[]
[null,null,{"$f":"'1-2a'!C$15","v":0},null,null,{"$f":"'1-2a'!F$15","v":0},null,null,{"$f":"'1-2a'!I$15","v":0},null,null,{"$f":"'1-2a'!L$15","v":0},null,null,{"$f":"'1-2a'!O15","v":0}]
[{"$f":"IF(A6=52,1,A6+1)","v":33},{"$f":"N6+3","v":"2020-08-10"},null,null,{"$f":"B16+1","v":"2020-08-11"},null,null,{"$f":"E16+1","v":"2020-08-12"},null,null,{"$f":"H16+1","v":"2020-08-13"},null,null,{"$f":"K16+1","v":"2020-08-14"}]
[null,{"$f":"B7","v":0},null,null,{"$f":"E7","v":0},null,null,{"$f":"H7","v":0},null,null,{"$f":"K7","v":0},null,null,{"$f":"N7","v":0}]
[2,0,null,null,0,null,null,0,null,null,0,null,null,0]
[null,0,null,null,0,null,null,0,null,null,0,null,null,0]
[null,0,null,null,0,null,null,0,null,null,0,null,null,0]
[null,0,null,null,0,null,null,0,null,null,0,null,null,0]
[null,0,null,null,0,null,null,0,null,null,0,null,null,0]
[]
[]
[null,null,{"$f":"'1-2a'!C$25","v":0},null,null,{"$f":"'1-2a'!F$25","v":0},null,null,{"$f":"'1-2a'!I25","v":0},null,null,{"$f":"'1-2a'!L25","v":0},null,null,{"$f":"'1-2a'!O25","v":0}]
[{"$f":"IF(A16=52,1,A16+1)","v":34},{"$f":"N16+3","v":"2020-08-17"},null,null,{"$f":"B26+1","v":"2020-08-18"},null,null,{"$f":"E26+1","v":"2020-08-19"},null,null,{"$f":"H26+1","v":"2020-08-20"},null,null,{"$f":"K26+1","v":"2020-08-21"}]
[null,{"$f":"B17","v":0},null,null,{"$f":"E17","v":0},null,null,{"$f":"H17","v":0},null,null,{"$f":"K17","v":0},null,null,{"$f":"N17","v":0}]
[3,0,null,null,0,null,null,0,null,null,0,null,null,0]
[null,0,null,null,0,null,null,0,null,null,0,null,null,0]
[null,0,null,null,0,null,null,0,null,null,0,null,null,0]
[null,0,null,null,0,null,null,0,null,null,{"$f":"K21","v":0},null,null,0]
[null,0,null,null,0,null,null,0,null,null,0,null,null,0]
[]
[]
[null,null,{"$f":"'1-2a'!$C$35","v":0},null,null,{"$f":"'1-2a'!$F$35","v":0},null,null,{"$f":"'1-2a'!$I$35","v":0},null,null,{"$f":"'1-2a'!$L$35","v":0},null,null,{"$f":"'1-2a'!$O$35","v":0}]
[{"$f":"IF(A26=52,1,A26+1)","v":35},{"$f":"N26+3","v":"2020-08-24"},null,null,{"$f":"B36+1","v":"2020-08-25"},null,null,{"$f":"E36+1","v":"2020-08-26"},null,null,{"$f":"H36+1","v":"2020-08-27"},null,null,{"$f":"K36+1","v":"2020-08-28"}]
[null,{"$f":"B27","v":0},null,null,{"$f":"E27","v":0},null,null,{"$f":"H27","v":0},null,null,{"$f":"K27","v":0},null,null,{"$f":"N27","v":0}]
[4,0,null,null,0,null,null,0,null,null,0,null,null,0]
[null,0,null,null,0,null,null,0,null,null,0,null,null,0]
[null,0,null,null,0,null,null,0,null,null,0,null,null,0]
[null,0,null,null,0,null,null,0,null,null,{"$f":"K31","v":0},null,null,0]
[null,0,null,null,0,null,null,0,null,null,0,null,null,0]
[]
[]
[null,null,{"$f":"'1-2a'!$C$45","v":0},null,null,{"$f":"'1-2a'!$F$45","v":0},null,null,{"$f":"'1-2a'!$I$45","v":0},null,null,{"$f":"'1-2a'!$L$45","v":0},null,null,{"$f":"'1-2a'!$O$45","v":0}]
[{"$f":"IF(A36=52,1,A36+1)","v":36},{"$f":"N36+3","v":"2020-08-31"},null,null,{"$f":"B46+1","v":"2020-09-01"},null,null,{"$f":"E46+1","v":"2020-09-02"},null,null,{"$f":"H46+1","v":"2020-09-03"},null,null,{"$f":"K46+1","v":"2020-09-04"}]
[null,{"$f":"B37","v":0},null,null,{"$f":"E37","v":0},null,null,{"$f":"H37","v":0},null,null,{"$f":"K37","v":0},null,null,{"$f":"N37","v":0}]
[5,0,null,null,0,null,null,0,null,null,0,null,null,0]
[null,0,null,null,0,null,null,0,null,null,0,null,null,0]
[null,0,null,null,0,null,null,0,null,null,0,null,null,0]
[null,0,null,null,0,null,null,0,null,null,{"$f":"K41","v":0},null,null,0]
[null,0,null,null,0,null,null,0,null,null,0,null,null,0]
[]
[]
[null,null,{"$f":"'1-2a'!$C$55","v":0},null,null,{"$f":"'1-2a'!$F$55","v":0},null,null,{"$f":"'1-2a'!$I$55","v":0},null,null,{"$f":"'1-2a'!$L$55","v":0},null,null,{"$f":"'1-2a'!O55","v":0}]
[{"$f":"IF(A46=52,1,A46+1)","v":37},{"$f":"N46+3","v":"2020-09-07"},null,null,{"$f":"B56+1","v":"2020-09-08"},null,null,{"$f":"E56+1","v":"2020-09-09"},null,null,{"$f":"H56+1","v":"2020-09-10"},null,null,{"$f":"K56+1","v":"2020-09-11"}]
[null,{"$f":"B47","v":0},null,null,{"$f":"E47","v":0},null,null,{"$f":"H47","v":0},null,null,{"$f":"K47","v":0},null,null,{"$f":"N47","v":0}]
[6,0,null,null,0,null,null,0,null,null,0,null,null,0]
[null,0,null,null,0,null,null,0,null,null,0,null,null,0]
[null,0,null,null,0,null,null,0,null,null,0,null,null,0]
[null,0,null,null,0,null,null,0,null,null,{"$f":"K51","v":0},null,null,0]
[null,0,null,null,0,null,null,0,null,null,0,null,null,0]
[]
[]
[null,null,{"$f":"'1-2a'!$C$65","v":0},null,null,{"$f":"'1-2a'!$F$65","v":0},null,null,{"$f":"'1-2a'!$I$65","v":0},null,null,{"$f":"'1-2a'!$L$65","v":0},null,null,{"$f":"'1-2a'!$O$65","v":0}]
[{"$f":"IF(A56=52,1,A56+1)","v":38},{"$f":"N56+3","v":"2020-09-14"},null,null,{"$f":"B66+1","v":"2020-09-15"},null,null,{"$f":"E66+1","v":"2020-09-16"},null,null,{"$f":"H66+1","v":"2020-09-17"},null,null,{"$f":"K66+1","v":"2020-09-18"}]
[null,{"$f":"B57","v":0},null,null,{"$f":"E57","v":0},null,null,{"$f":"H57","v":0},null,null,{"$f":"K57","v":0},null,null,{"$f":"N57","v":0}]
[7,0,null,null,0,null,null,0,null,null,0,null,null,0]
[null,0,null,null,0,null,null,0,null,null,0,null,null,0]
[null,0,null,null,0,null,null,0,null,null,0,null,null,0]
[null,0,null,null,0,null,null,0,null,null,{"$f":"K61","v":0},null,null,0]
[null,0,null,null,0,null,null,0,null,null,0,null,null,0]
[]
[]
[null,null,{"$f":"'1-2a'!$C$75","v":0},null,null,{"$f":"'1-2a'!$F$75","v":0},null,null,{"$f":"'1-2a'!$I$75","v":0},null,null,{"$f":"'1-2a'!$L$75","v":0},null,null,{"$f":"'1-2a'!$O$75","v":0}]
[{"$f":"IF(A66=52,1,A66+1)","v":39},{"$f":"N66+3","v":"2020-09-21"},null,null,{"$f":"B76+1","v":"2020-09-22"},null,null,{"$f":"E76+1","v":"2020-09-23"},null,null,{"$f":"H76+1","v":"2020-09-24"},null,null,{"$f":"K76+1","v":"2020-09-25"}]
[null,{"$f":"B67","v":0},null,null,{"$f":"E67","v":0},null,null,{"$f":"H67","v":0},null,null,{"$f":"K67","v":0},null,null,{"$f":"N67","v":0}]
[8,0,null,null,0,null,null,0,null,null,0,null,null,0]
[null,0,null,null,0,null,null,0,null,null,0,null,null,0]
[null,0,null,null,0,null,null,0,null,null,0,null,null,0]
[null,0,null,null,0,null,null,0,null,null,{"$f":"K71","v":0},null,null,0]
[null,0,null,null,0,null,null,0,null,null,0,null,null,0]
[]
[]
[null,null,{"$f":"'1-2a'!$C$85","v":0},null,null,{"$f":"'1-2a'!$F$85","v":0},null,null,{"$f":"'1-2a'!$I$85","v":0},null,null,{"$f":"'1-2a'!$L$85","v":0},null,null,{"$f":"'1-2a'!$O$85","v":0}]
[{"$f":"IF(A76=52,1,A76+1)","v":40},{"$f":"N76+3","v":"2020-09-28"},null,null,{"$f":"B86+1","v":"2020-09-29"},null,null,{"$f":"E86+1","v":"2020-09-30"},null,null,{"$f":"H86+1","v":"2020-10-01"},null,null,{"$f":"K86+1","v":"2020-10-02"}]
[null,{"$f":"B77","v":0},null,null,{"$f":"E77","v":0},null,null,{"$f":"H77","v":0},null,null,{"$f":"K77","v":0},null,null,{"$f":"N77","v":0}]
[9,0,null,null,0,null,null,0,null,null,0,null,null,0]
[null,0,null,null,0,null,null,0,null,null,0,null,null,0]
[null,0,null,null,0,null,null,0,null,null,0,null,null,0]
[null,0,null,null,0,null,null,0,null,null,0,null,null,0]
[null,0,null,null,0,null,null,0,null,null,0,null,null,0]
[]
[]
[null,null,{"$f":"'1-2a'!$C$95","v":0},null,null,{"$f":"'1-2a'!$F$95","v":0},null,null,{"$f":"'1-2a'!$I$95","v":0},null,null,{"$f":"'1-2a'!$L$95","v":0},null,null,{"$f":"'1-2a'!$O$95","v":0}]
[{"$f":"IF(A86=52,1,A86+1)","v":41},{"$f":"N86+3","v":"2020-10-05"},null,null,{"$f":"B96+1","v":"2020-10-06"},null,null,{"$f":"E96+1","v":"2020-10-07"},null,null,{"$f":"H96+1","v":"2020-10-08"},null,null,{"$f":"K96+1","v":"2020-10-09"}]
[null,{"$f":"B87","v":0},null,null,{"$f":"E87","v":0},null,null,{"$f":"H87","v":0},null,null,{"$f":"K87","v":0},null,null,{"$f":"N87","v":0}]
[10,0,null,null,0,null,null,0,null,null,0,null,null,0]
[null,0,null,null,0,null,null,0,null,null,0,null,null,0]
[null,0,null,null,0,null,null,0,null,null,0,null,null,0]
[null,0,null,null,0,null,null,0,null,null,{"$f":"K91","v":0},null,null,0]
[null,0,null,null,0,null,null,0,null,null,0,null,null,0]
[]
[]
[null,null,{"$f":"'1-2a'!$C$105","v":0},null,null,{"$f":"'1-2a'!$F$105","v":0},null,null,{"$f":"'1-2a'!$I$105","v":0},null,null,{"$f":"'1-2a'!$L$105","v":0},null,null,{"$f":"'1-2a'!$O$105","v":0}]
[{"$f":"IF(A96=52,1,A96+1)","v":42},{"$f":"N96+3","v":"2020-10-12"},null,null,{"$f":"B106+1","v":"2020-10-13"},null,null,{"$f":"E106+1","v":"2020-10-14"},null,null,{"$f":"H106+1","v":"2020-10-15"},null,null,{"$f":"K106+1","v":"2020-10-16"}]
[null,{"$f":"B97","v":0},null,null,{"$f":"E97","v":0},null,null,{"$f":"H97","v":0},null,null,{"$f":"K97","v":0},null,null,{"$f":"N97","v":0}]
[11,0,null,null,0,null,null,0,null,null,0,null,null,0]
[null,0,null,null,0,null,null,0,null,null,0,null,null,0]
[null,0,null,null,0,null,null,0,null,null,0,null,null,0]
[null,0,null,null,0,null,null,0,null,null,{"$f":"K101","v":0},null,null,0]
[null,0,null,null,0,null,null,0,null,null,0,null,null,0]
[]
[]
[null,null,{"$f":"'1-2a'!$C$115","v":0},null,null,{"$f":"'1-2a'!$F$115","v":0},null,null,{"$f":"'1-2a'!$I$115","v":0},null,null,{"$f":"'1-2a'!$L$115","v":0},null,null,{"$f":"'1-2a'!$O$115","v":0}]
[{"$f":"IF(A106=52,1,A106+1)","v":43},{"$f":"N106+3","v":"2020-10-19"},null,null,{"$f":"B116+1","v":"2020-10-20"},null,null,{"$f":"E116+1","v":"2020-10-21"},null,null,{"$f":"H116+1","v":"2020-10-22"},null,null,{"$f":"K116+1","v":"2020-10-23"}]
[null,{"$f":"B107","v":0},null,null,{"$f":"E107","v":0},null,null,{"$f":"H107","v":0},null,null,{"$f":"K107","v":0},null,null,{"$f":"N107","v":0}]
[12,0,null,null,0,null,null,0,null,null,0,null,null,0]
[null,0,null,null,0,null,null,0,null,null,0,null,null,0]
[null,0,null,null,0,null,null,0,null,null,0,null,null,0]
[null,0,null,null,0,null,null,0,null,null,{"$f":"K111","v":0},null,null,0]
[null,0,null,null,0,null,null,0,null,null,0,null,null,0]
[]
[]
[null,null,{"$f":"'1-2a'!$C$125","v":0},null,null,{"$f":"'1-2a'!$F$125","v":0},null,null,{"$f":"'1-2a'!$I$125","v":0},null,null,{"$f":"'1-2a'!$L$125","v":0},null,null,{"$f":"'1-2a'!$O$125","v":0}]
[{"$f":"IF(A116=52,1,A116+1)","v":44},{"$f":"N116+3","v":"2020-10-26"},null,null,{"$f":"B126+1","v":"2020-10-27"},null,null,{"$f":"E126+1","v":"2020-10-28"},null,null,{"$f":"H126+1","v":"2020-10-29"},null,null,{"$f":"K126+1","v":"2020-10-30"}]
[null,{"$f":"B117","v":0},null,null,{"$f":"E117","v":0},null,null,{"$f":"H117","v":0},null,null,{"$f":"K117","v":0},null,null,{"$f":"N117","v":0}]
[13,0,null,null,0,null,null,0,null,null,0,null,null,0]
[null,0,null,null,0,null,null,0,null,null,0,null,null,0]
[null,0,null,null,0,null,null,0,null,null,0,null,null,0]
[null,0,null,null,0,null,null,0,null,null,{"$f":"K121","v":0},null,null,0]
[null,0,null,null,0,null,null,0,null,null,0,null,null,0]
[]
[]
[null,null,{"$f":"'1-2a'!$C$135","v":0},null,null,{"$f":"'1-2a'!$F$135","v":0},null,null,{"$f":"'1-2a'!$I$135","v":0},null,null,{"$f":"'1-2a'!$L$135","v":0},null,null,{"$f":"'1-2a'!$O$135","v":0}]
[{"$f":"IF(A126=52,1,A126+1)","v":45},{"$f":"N126+3","v":"2020-11-02"},null,null,{"$f":"B136+1","v":"2020-11-03"},null,null,{"$f":"E136+1","v":"2020-11-04"},null,null,{"$f":"H136+1","v":"2020-11-05"},null,null,{"$f":"K136+1","v":"2020-11-06"}]
[null,{"$f":"B127","v":0},null,null,{"$f":"E127","v":0},null,null,{"$f":"H127","v":0},null,null,{"$f":"K127","v":0},null,null,{"$f":"N127","v":0}]
[14,0,null,null,0,null,null,0,null,null,0,null,null,0]
[null,0,null,null,0,null,null,0,null,null,0,null,null,0]
[null,0,null,null,0,null,null,0,null,null,0,null,null,0]
[null,0,null,null,0,null,null,0,null,null,{"$f":"K131","v":0},null,null,0]
[null,0,null,null,0,null,null,0,null,null,0,null,null,0]
[]
[]
[null,null,{"$f":"'1-2a'!$C$145","v":0},null,null,{"$f":"'1-2a'!$F$145","v":0},null,null,{"$f":"'1-2a'!$I$145","v":0},null,null,{"$f":"'1-2a'!$L$145","v":0},null,null,{"$f":"'1-2a'!$O$145","v":0}]
[{"$f":"IF(A136=52,1,A136+1)","v":46},{"$f":"N136+3","v":"2020-11-09"},null,null,{"$f":"B146+1","v":"2020-11-10"},null,null,{"$f":"E146+1","v":"2020-11-11"},null,null,{"$f":"H146+1","v":"2020-11-12"},null,null,{"$f":"K146+1","v":"2020-11-13"}]
[null,{"$f":"B137","v":0},null,null,{"$f":"E137","v":0},null,null,{"$f":"H137","v":0},null,null,{"$f":"K137","v":0},null,null,{"$f":"N137","v":0}]
[15,0,null,null,0,null,null,0,null,null,0,null,null,0]
[null,0,null,null,0,null,null,0,null,null,0,null,null,0]
[null,0,null,null,0,null,null,0,null,null,0,null,null,0]
[null,0,null,null,0,null,null,0,null,null,{"$f":"K141","v":0},null,null,0]
[null,0,null,null,0,null,null,0,null,null,0,null,null,0]
[]
[]
[null,null,{"$f":"'1-2a'!$C$155","v":0},null,null,{"$f":"'1-2a'!$F$155","v":0},null,null,{"$f":"'1-2a'!$I$155","v":0},null,null,{"$f":"'1-2a'!$L$155","v":0},null,null,{"$f":"'1-2a'!$O$155","v":0}]
[{"$f":"IF(A146=52,1,A146+1)","v":47},{"$f":"N146+3","v":"2020-11-16"},null,null,{"$f":"B156+1","v":"2020-11-17"},null,null,{"$f":"E156+1","v":"2020-11-18"},null,null,{"$f":"H156+1","v":"2020-11-19"},null,null,{"$f":"K156+1","v":"2020-11-20"}]
[null,{"$f":"B147","v":0},null,null,{"$f":"E147","v":0},null,null,{"$f":"H147","v":0},null,null,{"$f":"K147","v":0},null,null,{"$f":"N147","v":0}]
[16,0,null,null,0,null,null,0,null,null,0,null,null,0]
[null,0,null,null,0,null,null,0,null,null,0,null,null,0]
[null,0,null,null,0,null,null,0,null,null,0,null,null,0]
[null,0,null,null,0,null,null,0,null,null,{"$f":"K151","v":0},null,null,0]
[null,0,null,null,0,null,null,0,null,null,0,null,null,0]
[]
[]
[null,null,{"$f":"'1-2a'!$C$165","v":0},null,null,{"$f":"'1-2a'!$F$165","v":0},null,null,{"$f":"'1-2a'!$I$165","v":0},null,null,{"$f":"'1-2a'!$L$165","v":0},null,null,{"$f":"'1-2a'!$O$165","v":0}]
[{"$f":"IF(A156=52,1,A156+1)","v":48},{"$f":"N156+3","v":"2020-11-23"},null,null,{"$f":"B166+1","v":"2020-11-24"},null,null,{"$f":"E166+1","v":"2020-11-25"},null,null,{"$f":"H166+1","v":"2020-11-26"},null,null,{"$f":"K166+1","v":"2020-11-27"}]
[null,{"$f":"B157","v":0},null,null,{"$f":"E157","v":0},null,null,{"$f":"H157","v":0},null,null,{"$f":"K157","v":0},null,null,{"$f":"N157","v":0}]
[17,0,null,null,0,null,null,0,null,null,0,null,null,0]
[null,0,null,null,0,null,null,0,null,null,0,null,null,0]
[null,0,null,null,0,null,null,0,null,null,0,null,null,0]
[null,0,null,null,0,null,null,0,null,null,0,null,null,0]
[null,0,null,null,0,null,null,0,null,null,0,null,null,0]
[]
[]
[null,null,{"$f":"'1-2a'!$C$175","v":0},null,null,{"$f":"'1-2a'!$F$175","v":0},null,null,{"$f":"'1-2a'!$I$175","v":0},null,null,{"$f":"'1-2a'!$L$175","v":0},null,null,{"$f":"'1-2a'!$O$175","v":0}]
[{"$f":"IF(A166=52,1,A166+1)","v":49},{"$f":"N166+3","v":"2020-11-30"},null,null,{"$f":"B176+1","v":"2020-12-01"},null,null,{"$f":"E176+1","v":"2020-12-02"},null,null,{"$f":"H176+1","v":"2020-12-03"},null,null,{"$f":"K176+1","v":"2020-12-04"}]
[null,{"$f":"B167","v":0},null,null,{"$f":"E167","v":0},null,null,{"$f":"H167","v":0},null,null,{"$f":"K167","v":0},null,null,{"$f":"N167","v":0}]
[18,0,null,null,0,null,null,0,null,null,0,null,null,0]
[null,0,null,null,0,null,null,0,null,null,0,null,null,0]
[null,0,null,null,0,null,null,0,null,null,0,null,null,0]
[null,0,null,null,0,null,null,0,null,null,{"$f":"K171","v":0},null,null,0]
[null,0,null,null,0,null,null,0,null,null,0,null,null,0]
[]
[]
[null,null,{"$f":"'1-2a'!$C$185","v":0},null,null,{"$f":"'1-2a'!$F$185","v":0},null,null,{"$f":"'1-2a'!$I$185","v":0},null,null,{"$f":"'1-2a'!$L$185","v":0},null,null,{"$f":"'1-2a'!$O$185","v":0}]
[{"$f":"IF(A176=52,1,A176+1)","v":50},{"$f":"N176+3","v":"2020-12-07"},null,null,{"$f":"B186+1","v":"2020-12-08"},null,null,{"$f":"E186+1","v":"2020-12-09"},null,null,{"$f":"H186+1","v":"2020-12-10"},null,null,{"$f":"K186+1","v":"2020-12-11"}]
[null,{"$f":"B177","v":0},null,null,{"$f":"E177","v":0},null,null,{"$f":"H177","v":0},null,null,{"$f":"K177","v":0},null,null,{"$f":"N177","v":0}]
[19,0,null,null,0,null,null,0,null,null,0,null,null,0]
[null,0,null,null,0,null,null,0,null,null,0,null,null,0]
[null,0,null,null,0,null,null,0,null,null,0,null,null,0]
[null,0,null,null,0,null,null,0,null,null,{"$f":"K181","v":0},null,null,0]
[null,0,null,null,0,null,null,0,null,null,0,null,null,0]
[]
[]
[null,null,{"$f":"'1-2a'!$C$195","v":0},null,null,{"$f":"'1-2a'!$F$195","v":0},null,null,{"$f":"'1-2a'!$I$195","v":0},null,null,{"$f":"'1-2a'!$L$195","v":0},null,null,{"$f":"'1-2a'!$O$195","v":0}]
[{"$f":"IF(A186=52,1,A186+1)","v":51},{"$f":"N186+3","v":"2020-12-14"},null,null,{"$f":"B196+1","v":"2020-12-15"},null,null,{"$f":"E196+1","v":"2020-12-16"},null,null,{"$f":"H196+1","v":"2020-12-17"},null,null,{"$f":"K196+1","v":"2020-12-18"}]
[null,{"$f":"B187","v":0},null,null,{"$f":"E187","v":0},null,null,{"$f":"H187","v":0},null,null,{"$f":"K187","v":0},null,null,{"$f":"N187","v":0}]
[20,0,null,null,0,null,null,0,null,null,0,null,null,0]
[null,0,null,null,0,null,null,0,null,null,0,null,null,0]
[null,0,null,null,0,null,null,0,null,null,0,null,null,0]
[null,0,null,null,0,null,null,0,null,null,{"$f":"K191","v":0},null,null,0]
[null,0,null,null,0,null,null,0,null,null,0,null,null,0]
[]
[]
[null,null,{"$f":"'1-2a'!$C$205","v":0},null,null,{"$f":"'1-2a'!$F$205","v":0},null,null,{"$f":"'1-2a'!$I$205","v":0},null,null,{"$f":"'1-2a'!$L$205","v":0},null,null,{"$f":"'1-2a'!$O$205","v":0}]
[{"$f":"IF(A196=52,1,A196+1)","v":52},{"$f":"N196+3","v":"2020-12-21"},null,null,{"$f":"B206+1","v":"2020-12-22"},null,null,{"$f":"E206+1","v":"2020-12-23"},null,null,{"$f":"H206+1","v":"2020-12-24"},null,null,{"$f":"K206+1","v":"2020-12-25"}]
[null,{"$f":"B197","v":0},null,null,{"$f":"E197","v":0},null,null,{"$f":"H197","v":0},null,null,{"$f":"K197","v":0},null,null,{"$f":"N197","v":0}]
[21,0,null,null,0,null,null,0,null,null,0,null,null,0]
[null,0,null,null,0,null,null,0,null,null,0,null,null,0]
[null,0,null,null,0,null,null,0,null,null,0,null,null,0]
[null,0,null,null,0,null,null,0,null,null,{"$f":"K201","v":0},null,null,0]
[null,0,null,null,0,null,null,0,null,null,0,null,null,0]
[]
[]
[null,null,{"$f":"'1-2a'!$C$215","v":0},null,null,{"$f":"'1-2a'!$F$215","v":0},null,null,{"$f":"'1-2a'!$I$215","v":0},null,null,{"$f":"'1-2a'!$L$215","v":0},null,null,{"$f":"'1-2a'!$O$215","v":0}]
[{"$f":"IF(A206=52,1,A206+1)","v":1},{"$f":"N206+3","v":"2020-12-28"},null,null,{"$f":"B216+1","v":"2020-12-29"},null,null,{"$f":"E216+1","v":"2020-12-30"},null,null,{"$f":"H216+1","v":"2020-12-31"},null,null,{"$f":"K216+1","v":"2021-01-01"}]
[null,{"$f":"B207","v":0},null,null,{"$f":"E207","v":0},null,null,{"$f":"H207","v":0},null,null,{"$f":"K207","v":0},null,null,{"$f":"N207","v":0}]
[22,0,null,null,0,null,null,0,null,null,0,null,null,0]
[null,0,null,null,0,null,null,0,null,null,0,null,null,0]
[null,0,null,null,0,null,null,0,null,null,0,null,null,0]
[null,0,null,null,0,null,null,0,null,null,{"$f":"K211","v":0},null,null,0]
[null,0,null,null,0,null,null,0,null,null,0,null,null,0]
[]
[]
[null,null,{"$f":"'1-2a'!$C$225","v":0},null,null,{"$f":"'1-2a'!$F$225","v":0},null,null,{"$f":"'1-2a'!$I$225","v":0},null,null,{"$f":"'1-2a'!$L$225","v":0},null,null,{"$f":"'1-2a'!$O$225","v":0}]
[{"$f":"IF(A216=52,1,A216+1)","v":2},{"$f":"N216+3","v":"2021-01-04"},null,null,{"$f":"B226+1","v":"2021-01-05"},null,null,{"$f":"E226+1","v":"2021-01-06"},null,null,{"$f":"H226+1","v":"2021-01-07"},null,null,{"$f":"K226+1","v":"2021-01-08"}]
[null,{"$f":"B217","v":0},null,null,{"$f":"E217","v":0},null,null,{"$f":"H217","v":0},null,null,{"$f":"K217","v":0},null,null,{"$f":"N217","v":0}]
[23,0,null,null,0,null,null,0,null,null,0,null,null,0]
[null,0,null,null,0,null,null,0,null,null,0,null,null,0]
[null,0,null,null,0,null,null,0,null,null,0,null,null,0]
[null,0,null,null,0,null,null,0,null,null,{"$f":"K221","v":0},null,null,0]
[null,0,null,null,0,null,null,0,null,null,0,null,null,0]
[]
[]
[null,null,{"$f":"'1-2a'!$C$235","v":0},null,null,{"$f":"'1-2a'!$F$235","v":0},null,null,{"$f":"'1-2a'!$I$235","v":0},null,null,{"$f":"'1-2a'!$L$235","v":0},null,null,{"$f":"'1-2a'!$O$235","v":0}]
[{"$f":"IF(A226=52,1,A226+1)","v":3},{"$f":"N226+3","v":"2021-01-11"},null,null,{"$f":"B236+1","v":"2021-01-12"},null,null,{"$f":"E236+1","v":"2021-01-13"},null,null,{"$f":"H236+1","v":"2021-01-14"},null,null,{"$f":"K236+1","v":"2021-01-15"}]
[null,{"$f":"B227","v":0},null,null,{"$f":"E227","v":0},null,null,{"$f":"H227","v":0},null,null,{"$f":"K227","v":0},null,null,{"$f":"N227","v":0}]
[24,0,null,null,0,null,null,0,null,null,0,null,null,0]
[null,0,null,null,0,null,null,0,null,null,0,null,null,0]
[null,0,null,null,0,null,null,0,null,null,0,null,null,0]
[null,0,null,null,0,null,null,0,null,null,{"$f":"K231","v":0},null,null,0]
[null,0,null,null,0,null,null,0,null,null,0,null,null,0]
[]
[]
[null,null,{"$f":"'1-2a'!$C$245","v":0},null,null,{"$f":"'1-2a'!$F$245","v":0},null,null,{"$f":"'1-2a'!$I$245","v":0},null,null,{"$f":"'1-2a'!$L$245","v":0},null,null,{"$f":"'1-2a'!$O$245","v":0}]
[{"$f":"IF(A236=52,1,A236+1)","v":4},{"$f":"N236+3","v":"2021-01-18"},null,null,{"$f":"B246+1","v":"2021-01-19"},null,null,{"$f":"E246+1","v":"2021-01-20"},null,null,{"$f":"H246+1","v":"2021-01-21"},null,null,{"$f":"K246+1","v":"2021-01-22"}]
[null,{"$f":"B237","v":0},null,null,{"$f":"E237","v":0},null,null,{"$f":"H237","v":0},null,null,{"$f":"K237","v":0},null,null,{"$f":"N237","v":0}]
[25,0,null,null,0,null,null,0,null,null,0,null,null,0]
[null,0,null,null,0,null,null,0,null,null,0,null,null,0]
[null,0,null,null,0,null,null,0,null,null,0,null,null,0]
[null,0,null,null,0,null,null,0,null,null,0,null,null,0]
[null,0,null,null,0,null,null,0,null,null,0,null,null,0]
[]
[]
[null,null,{"$f":"'1-2a'!$C$255","v":0},null,null,{"$f":"'1-2a'!$F$255","v":0},null,null,{"$f":"'1-2a'!$I$255","v":0},null,null,{"$f":"'1-2a'!$L$255","v":0},null,null,{"$f":"'1-2a'!$O$255","v":0}]
[{"$f":"IF(A246=52,1,A246+1)","v":5},{"$f":"N246+3","v":"2021-01-25"},null,null,{"$f":"B256+1","v":"2021-01-26"},null,null,{"$f":"E256+1","v":"2021-01-27"},null,null,{"$f":"H256+1","v":"2021-01-28"},null,null,{"$f":"K256+1","v":"2021-01-29"}]
[null,{"$f":"B247","v":0},null,null,{"$f":"E247","v":0},null,null,{"$f":"H247","v":0},null,null,{"$f":"K247","v":0},null,null,{"$f":"N247","v":0}]
[26,0,null,null,0,null,null,0,null,null,0,null,null,0]
[null,0,null,null,0,null,null,0,null,null,0,null,null,0]
[null,0,null,null,0,null,null,0,null,null,0,null,null,0]
[null,0,null,null,0,null,null,0,null,null,{"$f":"K251","v":0},null,null,0]
[null,0,null,null,0,null,null,0,null,null,0,null,null,0]
[]
[]
[null,null,{"$f":"'1-2a'!$C$265","v":0},null,null,{"$f":"'1-2a'!$F$265","v":0},null,null,{"$f":"'1-2a'!$I$265","v":0},null,null,{"$f":"'1-2a'!$L$265","v":0},null,null,{"$f":"'1-2a'!$O$265","v":0}]
[{"$f":"IF(A256=52,1,A256+1)","v":6},{"$f":"N256+3","v":"2021-02-01"},null,null,{"$f":"B266+1","v":"2021-02-02"},null,null,{"$f":"E266+1","v":"2021-02-03"},null,null,{"$f":"H266+1","v":"2021-02-04"},null,null,{"$f":"K266+1","v":"2021-02-05"}]
[null,{"$f":"B257","v":0},null,null,{"$f":"E257","v":0},null,null,{"$f":"H257","v":0},null,null,{"$f":"K257","v":0},null,null,{"$f":"N257","v":0}]
[27,0,null,null,0,null,null,0,null,null,0,null,null,0]
[null,0,null,null,0,null,null,0,null,null,0,null,null,0]
[null,0,null,null,0,null,null,0,null,null,0,null,null,0]
[null,0,null,null,0,null,null,0,null,null,{"$f":"K261","v":0},null,null,0]
[null,0,null,null,0,null,null,0,null,null,0,null,null,0]
[]
[]
[null,null,{"$f":"'1-2a'!$C$275","v":0},null,null,{"$f":"'1-2a'!$F$275","v":0},null,null,{"$f":"'1-2a'!$I$275","v":0},null,null,{"$f":"'1-2a'!$L$275","v":0},null,null,{"$f":"'1-2a'!$O$275","v":0}]
[{"$f":"IF(A266=52,1,A266+1)","v":7},{"$f":"N266+3","v":"2021-02-08"},null,null,{"$f":"B276+1","v":"2021-02-09"},null,null,{"$f":"E276+1","v":"2021-02-10"},null,null,{"$f":"H276+1","v":"2021-02-11"},null,null,{"$f":"K276+1","v":"2021-02-12"}]
[null,{"$f":"B267","v":0},null,null,{"$f":"E267","v":0},null,null,{"$f":"H267","v":0},null,null,{"$f":"K267","v":0},null,null,{"$f":"N267","v":0}]
[28,0,null,null,0,null,null,0,null,null,0,null,null,0]
[null,0,null,null,0,null,null,0,null,null,0,null,null,0]
[null,0,null,null,0,null,null,0,null,null,0,null,null,0]
[null,0,null,null,0,null,null,0,null,null,{"$f":"K271","v":0},null,null,0]
[null,0,null,null,0,null,null,0,null,null,0,null,null,0]
[]
[]
[null,null,{"$f":"'1-2a'!$C$285","v":0},null,null,{"$f":"'1-2a'!$F$285","v":0},null,null,{"$f":"'1-2a'!$I$285","v":0},null,null,{"$f":"'1-2a'!$L$285","v":0},null,null,{"$f":"'1-2a'!$O$285","v":0}]
[{"$f":"IF(A276=52,1,A276+1)","v":8},{"$f":"N276+3","v":"2021-02-15"},null,null,{"$f":"B286+1","v":"2021-02-16"},null,null,{"$f":"E286+1","v":"2021-02-17"},null,null,{"$f":"H286+1","v":"2021-02-18"},null,null,{"$f":"K286+1","v":"2021-02-19"}]
[null,{"$f":"B277","v":0},null,null,{"$f":"E277","v":0},null,null,{"$f":"H277","v":0},null,null,{"$f":"K277","v":0},null,null,{"$f":"N277","v":0}]
[29,0,null,null,0,null,null,0,null,null,0,null,null,0]
[null,0,null,null,0,null,null,0,null,null,0,null,null,0]
[null,0,null,null,0,null,null,0,null,null,0,null,null,0]
[null,0,null,null,0,null,null,0,null,null,{"$f":"K281","v":0},null,null,0]
[null,0,null,null,0,null,null,0,null,null,0,null,null,0]
[]
[]
[null,null,{"$f":"'1-2a'!$C$295","v":0},null,null,{"$f":"'1-2a'!$F$295","v":0},null,null,{"$f":"'1-2a'!$I$295","v":0},null,null,{"$f":"'1-2a'!$L$295","v":0},null,null,{"$f":"'1-2a'!$O$295","v":0}]
[{"$f":"IF(A286=52,1,A286+1)","v":9},{"$f":"N286+3","v":"2021-02-22"},null,null,{"$f":"B296+1","v":"2021-02-23"},null,null,{"$f":"E296+1","v":"2021-02-24"},null,null,{"$f":"H296+1","v":"2021-02-25"},null,null,{"$f":"K296+1","v":"2021-02-26"}]
[null,{"$f":"B287","v":0},null,null,{"$f":"E287","v":0},null,null,{"$f":"H287","v":0},null,null,{"$f":"K287","v":0},null,null,{"$f":"N287","v":0}]
[30,0,null,null,0,null,null,0,null,null,0,null,null,0]
[null,0,null,null,0,null,null,0,null,null,0,null,null,0]
[null,0,null,null,0,null,null,0,null,null,0,null,null,0]
[null,0,null,null,0,null,null,0,null,null,{"$f":"K291","v":0},null,null,0]
[null,0,null,null,0,null,null,0,null,null,0,null,null,0]
[]
[]
[null,null,{"$f":"'1-2a'!$C$305","v":0},null,null,{"$f":"'1-2a'!$F$305","v":0},null,null,{"$f":"'1-2a'!$I$305","v":0},null,null,{"$f":"'1-2a'!$L$305","v":0},null,null,{"$f":"'1-2a'!$O$305","v":0}]
[{"$f":"IF(A296=52,1,A296+1)","v":10},{"$f":"N296+3","v":"2021-03-01"},null,null,{"$f":"B306+1","v":"2021-03-02"},null,null,{"$f":"E306+1","v":"2021-03-03"},null,null,{"$f":"H306+1","v":"2021-03-04"},null,null,{"$f":"K306+1","v":"2021-03-05"}]
[null,{"$f":"B297","v":0},null,null,{"$f":"E297","v":0},null,null,{"$f":"H297","v":0},null,null,{"$f":"K297","v":0},null,null,{"$f":"N297","v":0}]
[31,0,null,null,0,null,null,0,null,null,0,null,null,0]
[null,0,null,null,0,null,null,0,null,null,0,null,null,0]
[null,0,null,null,0,null,null,0,null,null,0,null,null,0]
[null,0,null,null,0,null,null,0,null,null,{"$f":"K301","v":0},null,null,0]
[null,0,null,null,0,null,null,0,null,null,0,null,null,0]
[]
[]
[null,null,{"$f":"'1-2a'!$C$315","v":0},null,null,{"$f":"'1-2a'!$F$315","v":0},null,null,{"$f":"'1-2a'!$I$315","v":0},null,null,{"$f":"'1-2a'!$L$315","v":0},null,null,{"$f":"'1-2a'!$O$315","v":0}]
[{"$f":"IF(A306=52,1,A306+1)","v":11},{"$f":"N306+3","v":"2021-03-08"},null,null,{"$f":"B316+1","v":"2021-03-09"},null,null,{"$f":"E316+1","v":"2021-03-10"},null,null,{"$f":"H316+1","v":"2021-03-11"},null,null,{"$f":"K316+1","v":"2021-03-12"}]
[null,{"$f":"B307","v":0},null,null,{"$f":"E307","v":0},null,null,{"$f":"H307","v":0},null,null,{"$f":"K307","v":0},null,null,{"$f":"N307","v":0}]
[32,0,null,null,0,null,null,0,null,null,0,null,null,0]
[null,0,null,null,0,null,null,0,null,null,0,null,null,0]
[null,0,null,null,0,null,null,0,null,null,0,null,null,0]
[null,0,null,null,0,null,null,0,null,null,{"$f":"K311","v":0},null,null,0]
[null,0,null,null,0,null,null,0,null,null,0,null,null,0]
[]
[]
[null,null,{"$f":"'1-2a'!$C$325","v":0},null,null,{"$f":"'1-2a'!$F$325","v":0},null,null,{"$f":"'1-2a'!$I$325","v":0},null,null,{"$f":"'1-2a'!$L$325","v":0},null,null,{"$f":"'1-2a'!$O$325","v":0}]
[{"$f":"IF(A316=52,1,A316+1)","v":12},{"$f":"N316+3","v":"2021-03-15"},null,null,{"$f":"B326+1","v":"2021-03-16"},null,null,{"$f":"E326+1","v":"2021-03-17"},null,null,{"$f":"H326+1","v":"2021-03-18"},null,null,{"$f":"K326+1","v":"2021-03-19"}]
[null,{"$f":"B317","v":0},null,null,{"$f":"E317","v":0},null,null,{"$f":"H317","v":0},null,null,{"$f":"K317","v":0},null,null,{"$f":"N317","v":0}]
[33,0,null,null,0,null,null,0,null,null,0,null,null,0]
[null,0,null,null,0,null,null,0,null,null,0,null,null,0]
[null,0,null,null,0,null,null,0,null,null,0,null,null,0]
[null,0,null,null,0,null,null,0,null,null,0,null,null,0]
[null,0,null,null,0,null,null,0,null,null,0,null,null,0]
[]
[]
[null,null,{"$f":"'1-2a'!$C$335","v":0},null,null,{"$f":"'1-2a'!$F$335","v":0},null,null,{"$f":"'1-2a'!$I$335","v":0},null,null,{"$f":"'1-2a'!$L$335","v":0},null,null,{"$f":"'1-2a'!$O$335","v":0}]
[{"$f":"IF(A326=52,1,A326+1)","v":13},{"$f":"N326+3","v":"2021-03-22"},null,null,{"$f":"B336+1","v":"2021-03-23"},null,null,{"$f":"E336+1","v":"2021-03-24"},null,null,{"$f":"H336+1","v":"2021-03-25"},null,null,{"$f":"K336+1","v":"2021-03-26"}]
[null,{"$f":"B327","v":0},null,null,{"$f":"E327","v":0},null,null,{"$f":"H327","v":0},null,null,{"$f":"K327","v":0},null,null,{"$f":"N327","v":0}]
[34,0,null,null,0,null,null,0,null,null,0,null,null,0]
[null,0,null,null,0,null,null,0,null,null,0,null,null,0]
[null,0,null,null,0,null,null,0,null,null,0,null,null,0]
[null,0,null,null,0,null,null,0,null,null,{"$f":"K331","v":0},null,null,0]
[null,0,null,null,0,null,null,0,null,null,0,null,null,0]
[]
[]
[null,null,{"$f":"'1-2a'!$C$345","v":0},null,null,{"$f":"'1-2a'!$F$345","v":0},null,null,{"$f":"'1-2a'!$I$345","v":0},null,null,{"$f":"'1-2a'!$L$345","v":0},null,null,{"$f":"'1-2a'!$O$345","v":0}]
[{"$f":"IF(A336=52,1,A336+1)","v":14},{"$f":"N336+3","v":"2021-03-29"},null,null,{"$f":"B346+1","v":"2021-03-30"},null,null,{"$f":"E346+1","v":"2021-03-31"},null,null,{"$f":"H346+1","v":"2021-04-01"},null,null,{"$f":"K346+1","v":"2021-04-02"}]
[null,{"$f":"B337","v":0},null,null,{"$f":"E337","v":0},null,null,{"$f":"H337","v":0},null,null,{"$f":"K337","v":0},null,null,{"$f":"N337","v":0}]
[35,0,null,null,0,null,null,0,null,null,0,null,null,0]
[null,0,null,null,0,null,null,0,null,null,0,null,null,0]
[null,0,null,null,0,null,null,0,null,null,0,null,null,0]
[null,0,null,null,0,null,null,0,null,null,{"$f":"K341","v":0},null,null,0]
[null,0,null,null,0,null,null,0,null,null,0,null,null,0]
[]
[]
[null,null,{"$f":"'1-2a'!$C$355","v":0},null,null,{"$f":"'1-2a'!$F$355","v":0},null,null,{"$f":"'1-2a'!$I$355","v":0},null,null,{"$f":"'1-2a'!$L$355","v":0},null,null,{"$f":"'1-2a'!$O$355","v":0}]
[{"$f":"IF(A346=52,1,A346+1)","v":15},{"$f":"N346+3","v":"2021-04-05"},null,null,{"$f":"B356+1","v":"2021-04-06"},null,null,{"$f":"E356+1","v":"2021-04-07"},null,null,{"$f":"H356+1","v":"2021-04-08"},null,null,{"$f":"K356+1","v":"2021-04-09"}]
[null,{"$f":"B347","v":0},null,null,{"$f":"E347","v":0},null,null,{"$f":"H347","v":0},null,null,{"$f":"K347","v":0},null,null,{"$f":"N347","v":0}]
[36,0,null,null,0,null,null,0,null,null,0,null,null,0]
[null,0,null,null,0,null,null,0,null,null,0,null,null,0]
[null,0,null,null,0,null,null,0,null,null,0,null,null,0]
[null,0,null,null,0,null,null,0,null,null,{"$f":"K351","v":0},null,null,0]
[null,0,null,null,0,null,null,0,null,null,0,null,null,0]
[]
[]
[null,null,{"$f":"'1-2a'!$C$365","v":0},null,null,{"$f":"'1-2a'!$F$365","v":0},null,null,{"$f":"'1-2a'!$I$365","v":0},null,null,{"$f":"'1-2a'!$L$365","v":0},null,null,{"$f":"'1-2a'!$O$365","v":0}]
[{"$f":"IF(A356=52,1,A356+1)","v":16},{"$f":"N356+3","v":"2021-04-12"},null,null,{"$f":"B366+1","v":"2021-04-13"},null,null,{"$f":"E366+1","v":"2021-04-14"},null,null,{"$f":"H366+1","v":"2021-04-15"},null,null,{"$f":"K366+1","v":"2021-04-16"}]
[null,{"$f":"B357","v":0},null,null,{"$f":"E357","v":0},null,null,{"$f":"H357","v":0},null,null,{"$f":"K357","v":0},null,null,{"$f":"N357","v":0}]
[37,0,null,null,0,null,null,0,null,null,0,null,null,0]
[null,0,null,null,0,null,null,0,null,null,0,null,null,0]
[null,0,null,null,0,null,null,0,null,null,0,null,null,0]
[null,0,null,null,0,null,null,0,null,null,{"$f":"K361","v":0},null,null,0]
[null,0,null,null,0,null,null,0,null,null,0,null,null,0]
[]
[]
[null,null,{"$f":"'1-2a'!$C$375","v":0},null,null,{"$f":"'1-2a'!$F$375","v":0},null,null,{"$f":"'1-2a'!$I$375","v":0},null,null,{"$f":"'1-2a'!$L$375","v":0},null,null,{"$f":"'1-2a'!$O$375","v":0}]
[{"$f":"IF(A366=52,1,A366+1)","v":17},{"$f":"N366+3","v":"2021-04-19"},null,null,{"$f":"B376+1","v":"2021-04-20"},null,null,{"$f":"E376+1","v":"2021-04-21"},null,null,{"$f":"H376+1","v":"2021-04-22"},null,null,{"$f":"K376+1","v":"2021-04-23"}]
[null,{"$f":"B367","v":0},null,null,{"$f":"E367","v":0},null,null,{"$f":"H367","v":0},null,null,{"$f":"K367","v":0},null,null,{"$f":"N367","v":0}]
[38,0,null,null,0,null,null,0,null,null,0,null,null,0]
[null,0,null,null,0,null,null,0,null,null,0,null,null,0]
[null,0,null,null,0,null,null,0,null,null,0,null,null,0]
[null,0,null,null,0,null,null,0,null,null,{"$f":"K371","v":0},null,null,0]
[null,0,null,null,0,null,null,0,null,null,0,null,null,0]
[]
[]
[null,null,{"$f":"'1-2a'!$C$385","v":0},null,null,{"$f":"'1-2a'!$F$385","v":0},null,null,{"$f":"'1-2a'!$I$385","v":0},null,null,{"$f":"'1-2a'!$L$385","v":0},null,null,{"$f":"'1-2a'!$O$385","v":0}]
[{"$f":"IF(A376=52,1,A376+1)","v":18},{"$f":"N376+3","v":"2021-04-26"},null,null,{"$f":"B386+1","v":"2021-04-27"},null,null,{"$f":"E386+1","v":"2021-04-28"},null,null,{"$f":"H386+1","v":"2021-04-29"},null,null,{"$f":"K386+1","v":"2021-04-30"}]
[null,{"$f":"B377","v":0},null,null,{"$f":"E377","v":0},null,null,{"$f":"H377","v":0},null,null,{"$f":"K377","v":0},null,null,{"$f":"N377","v":0}]
[39,0,null,null,0,null,null,0,null,null,0,null,null,0]
[null,0,null,null,0,null,null,0,null,null,0,null,null,0]
[null,0,null,null,0,null,null,0,null,null,0,null,null,0]
[null,0,null,null,0,null,null,0,null,null,{"$f":"K381","v":0},null,null,0]
[null,0,null,null,0,null,null,0,null,null,0,null,null,0]
[]
[]
[null,null,{"$f":"'1-2a'!$C$395","v":0},null,null,{"$f":"'1-2a'!$F$395","v":0},null,null,{"$f":"'1-2a'!$I$395","v":0},null,null,{"$f":"'1-2a'!$L$395","v":0},null,null,{"$f":"'1-2a'!$O$395","v":0}]
[{"$f":"IF(A386=52,1,A386+1)","v":19},{"$f":"N386+3","v":"2021-05-03"},null,null,{"$f":"B396+1","v":"2021-05-04"},null,null,{"$f":"E396+1","v":"2021-05-05"},null,null,{"$f":"H396+1","v":"2021-05-06"},null,null,{"$f":"K396+1","v":"2021-05-07"}]
[null,{"$f":"B387","v":0},null,null,{"$f":"E387","v":0},null,null,{"$f":"H387","v":0},null,null,{"$f":"K387","v":0},null,null,{"$f":"N387","v":0}]
[40,0,null,null,0,null,null,0,null,null,0,null,null,0]
[null,0,null,null,0,null,null,0,null,null,0,null,null,0]
[null,0,null,null,0,null,null,0,null,null,0,null,null,0]
[null,0,null,null,0,null,null,0,null,null,{"$f":"K391","v":0},null,null,0]
[null,0,null,null,0,null,null,0,null,null,0,null,null,0]
[]
[]
[null,null,{"$f":"'1-2a'!$C$405","v":0},null,null,{"$f":"'1-2a'!$F$405","v":0},null,null,{"$f":"'1-2a'!$I$405","v":0},null,null,{"$f":"'1-2a'!$L$405","v":0},null,null,{"$f":"'1-2a'!$O$405","v":0}]
[{"$f":"IF(A396=52,1,A396+1)","v":20},{"$f":"N396+3","v":"2021-05-10"},null,null,{"$f":"B406+1","v":"2021-05-11"},null,null,{"$f":"E406+1","v":"2021-05-12"},null,null,{"$f":"H406+1","v":"2021-05-13"},null,null,{"$f":"K406+1","v":"2021-05-14"}]
[null,{"$f":"B397","v":0},null,null,{"$f":"E397","v":0},null,null,{"$f":"H397","v":0},null,null,{"$f":"K397","v":0},null,null,{"$f":"N397","v":0}]
[41,0,null,null,0,null,null,0,null,null,0,null,null,0]
[null,0,null,null,0,null,null,0,null,null,0,null,null,0]
[null,0,null,null,0,null,null,0,null,null,0,null,null,0]
[null,0,null,null,0,null,null,0,null,null,0,null,null,0]
[null,0,null,null,0,null,null,0,null,null,0,null,null,0]
[]
[]
[null,null,{"$f":"'1-2a'!$C$415","v":0},null,null,{"$f":"'1-2a'!$F$415","v":0},null,null,{"$f":"'1-2a'!$I$415","v":0},null,null,{"$f":"'1-2a'!$L$415","v":0},null,null,{"$f":"'1-2a'!$O$415","v":0}]
[{"$f":"IF(A406=52,1,A406+1)","v":21},{"$f":"N406+3","v":"2021-05-17"},null,null,{"$f":"B416+1","v":"2021-05-18"},null,null,{"$f":"E416+1","v":"2021-05-19"},null,null,{"$f":"H416+1","v":"2021-05-20"},null,null,{"$f":"K416+1","v":"2021-05-21"}]
[null,{"$f":"B407","v":0},null,null,{"$f":"E407","v":0},null,null,{"$f":"H407","v":0},null,null,{"$f":"K407","v":0},null,null,{"$f":"N407","v":0}]
[42,0,null,null,0,null,null,0,null,null,0,null,null,0]
[null,0,null,null,0,null,null,0,null,null,0,null,null,0]
[null,0,null,null,0,null,null,0,null,null,0,null,null,0]
[null,0,null,null,0,null,null,0,null,null,{"$f":"K411","v":0},null,null,0]
[null,0,null,null,0,null,null,0,null,null,0,null,null,0]
[]
[]
[null,null,{"$f":"'1-2a'!$C$425","v":0},null,null,{"$f":"'1-2a'!$F$425","v":0},null,null,{"$f":"'1-2a'!$I$425","v":0},null,null,{"$f":"'1-2a'!$L$425","v":0},null,null,{"$f":"'1-2a'!$O$425","v":0}]
[{"$f":"IF(A416=52,1,A416+1)","v":22},{"$f":"N416+3","v":"2021-05-24"},null,null,{"$f":"B426+1","v":"2021-05-25"},null,null,{"$f":"E426+1","v":"2021-05-26"},null,null,{"$f":"H426+1","v":"2021-05-27"},null,null,{"$f":"K426+1","v":"2021-05-28"}]
[null,{"$f":"B417","v":0},null,null,{"$f":"E417","v":0},null,null,{"$f":"H417","v":0},null,null,{"$f":"K417","v":0},null,null,{"$f":"N417","v":0}]
[43,0,null,null,0,null,null,0,null,null,0,null,null,0]
[null,0,null,null,0,null,null,0,null,null,0,null,null,0]
[null,0,null,null,0,null,null,0,null,null,0,null,null,0]
[null,0,null,null,0,null,null,0,null,null,{"$f":"K421","v":0},null,null,0]
[null,0,null,null,0,null,null,0,null,null,0,null,null,0]
[]
[]
[null,null,{"$f":"'1-2a'!$C$435","v":0},null,null,{"$f":"'1-2a'!$F$435","v":0},null,null,{"$f":"'1-2a'!$I$435","v":0},null,null,{"$f":"'1-2a'!$L$435","v":0},null,null,{"$f":"'1-2a'!$O$435","v":0}]
[{"$f":"IF(A426=52,1,A426+1)","v":23},{"$f":"N426+3","v":"2021-05-31"},null,null,{"$f":"B436+1","v":"2021-06-01"},null,null,{"$f":"E436+1","v":"2021-06-02"},null,null,{"$f":"H436+1","v":"2021-06-03"},null,null,{"$f":"K436+1","v":"2021-06-04"}]
[null,{"$f":"B427","v":0},null,null,{"$f":"E427","v":0},null,null,{"$f":"H427","v":0},null,null,{"$f":"K427","v":0},null,null,{"$f":"N427","v":0}]
[44,0,null,null,0,null,null,0,null,null,0,null,null,0]
[null,0,null,null,0,null,null,0,null,null,0,null,null,0]
[null,0,null,null,0,null,null,0,null,null,0,null,null,0]
[null,0,null,null,0,null,null,0,null,null,{"$f":"K431","v":0},null,null,0]
[null,0,null,null,0,null,null,0,null,null,0,null,null,0]
[]
[]
[null,null,{"$f":"'1-2a'!$C$445","v":0},null,null,{"$f":"'1-2a'!$F$445","v":0},null,null,{"$f":"'1-2a'!$I$445","v":0},null,null,{"$f":"'1-2a'!$L$445","v":0},null,null,{"$f":"'1-2a'!$O$445","v":0}]
[{"$f":"IF(A436=52,1,A436+1)","v":24},{"$f":"N436+3","v":"2021-06-07"},null,null,{"$f":"B446+1","v":"2021-06-08"},null,null,{"$f":"E446+1","v":"2021-06-09"},null,null,{"$f":"H446+1","v":"2021-06-10"},null,null,{"$f":"K446+1","v":"2021-06-11"}]
[null,{"$f":"B437","v":0},null,null,{"$f":"E437","v":0},null,null,{"$f":"H437","v":0},null,null,{"$f":"K437","v":0},null,null,{"$f":"N437","v":0}]
[45,0,null,null,0,null,null,0,null,null,0,null,null,0]
[null,0,null,null,0,null,null,0,null,null,0,null,null,0]
[null,0,null,null,0,null,null,0,null,null,0,null,null,0]
[null,0,null,null,0,null,null,0,null,null,{"$f":"K441","v":0},null,null,0]
[null,0,null,null,0,null,null,0,null,null,0,null,null,0]
[]
[]
[null,null,{"$f":"'1-2a'!$C$455","v":0},null,null,{"$f":"'1-2a'!$F$455","v":0},null,null,{"$f":"'1-2a'!$I$455","v":0},null,null,{"$f":"'1-2a'!$L$455","v":0},null,null,{"$f":"'1-2a'!$O$455","v":0}]
[{"$f":"IF(A446=52,1,A446+1)","v":25},{"$f":"N446+3","v":"2021-06-14"},null,null,{"$f":"B456+1","v":"2021-06-15"},null,null,{"$f":"E456+1","v":"2021-06-16"},null,null,{"$f":"H456+1","v":"2021-06-17"},null,null,{"$f":"K456+1","v":"2021-06-18"}]
[null,{"$f":"B447","v":0},null,null,{"$f":"E447","v":0},null,null,{"$f":"H447","v":0},null,null,{"$f":"K447","v":0},null,null,{"$f":"N447","v":0}]
[46,0,null,null,0,null,null,0,null,null,0,null,null,0]
[null,0,null,null,0,null,null,0,null,null,0,null,null,0]
[null,0,null,null,0,null,null,0,null,null,0,null,null,0]
[null,0,null,null,0,null,null,0,null,null,{"$f":"K451","v":0},null,null,0]
[null,0,null,null,0,null,null,0,null,null,0,null,null,0]
[]
[]
[null,null,{"$f":"'1-2a'!$C$465","v":0},null,null,{"$f":"'1-2a'!$F$465","v":0},null,null,{"$f":"'1-2a'!$I$465","v":0},null,null,{"$f":"'1-2a'!$L$465","v":0},null,null,{"$f":"'1-2a'!$O$465","v":0}]
[{"$f":"IF(A456=52,1,A456+1)","v":26},{"$f":"N456+3","v":"2021-06-21"},null,null,{"$f":"B466+1","v":"2021-06-22"},null,null,{"$f":"E466+1","v":"2021-06-23"},null,null,{"$f":"H466+1","v":"2021-06-24"},null,null,{"$f":"K466+1","v":"2021-06-25"}]
[null,{"$f":"B457","v":0},null,null,{"$f":"E457","v":0},null,null,{"$f":"H457","v":0},null,null,{"$f":"K457","v":0},null,null,{"$f":"N457","v":0}]
[47,0,null,null,0,null,null,0,null,null,0,null,null,0]
[null,0,null,null,0,null,null,0,null,null,0,null,null,0]
[null,0,null,null,0,null,null,0,null,null,0,null,null,0]
[null,0,null,null,0,null,null,0,null,null,{"$f":"K461","v":0},null,null,0]
[null,0,null,null,0,null,null,0,null,null,0,null,null,0]
[]
[]
[null,null,{"$f":"'1-2a'!$C$475","v":0},null,null,{"$f":"'1-2a'!$F$475","v":0},null,null,{"$f":"'1-2a'!$I$475","v":0},null,null,{"$f":"'1-2a'!$L$475","v":0},null,null,{"$f":"'1-2a'!$O$475","v":0}]
[{"$f":"IF(A466=52,1,A466+1)","v":27},{"$f":"N466+3","v":"2021-06-28"},null,null,{"$f":"B476+1","v":"2021-06-29"},null,null,{"$f":"E476+1","v":"2021-06-30"},null,null,{"$f":"H476+1","v":"2021-07-01"},null,null,{"$f":"K476+1","v":"2021-07-02"}]
[null,{"$f":"B467","v":0},null,null,{"$f":"E467","v":0},null,null,{"$f":"H467","v":0},null,null,{"$f":"K467","v":0},null,null,{"$f":"N467","v":0}]
[48,0,null,null,0,null,null,0,null,null,0,null,null,0]
[null,0,null,null,0,null,null,0,null,null,0,null,null,0]
[null,0,null,null,0,null,null,0,null,null,0,null,null,0]
[null,0,null,null,0,null,null,0,null,null,{"$f":"K471","v":0},null,null,0]
[null,0,null,null,0,null,null,0,null,null,0,null,null,0]
[]
[]
[null,null,{"$f":"'1-2a'!$C$485","v":0},null,null,{"$f":"'1-2a'!$F$485","v":0},null,null,{"$f":"'1-2a'!$I$485","v":0},null,null,{"$f":"'1-2a'!$L$485","v":0},null,null,{"$f":"'1-2a'!$O$485","v":0}]
[{"$f":"IF(A476=52,1,A476+1)","v":28},{"$f":"N476+3","v":"2021-07-05"},null,null,{"$f":"B486+1","v":"2021-07-06"},null,null,{"$f":"E486+1","v":"2021-07-07"},null,null,{"$f":"H486+1","v":"2021-07-08"},null,null,{"$f":"K486+1","v":"2021-07-09"}]
[null,{"$f":"B477","v":0},null,null,{"$f":"E477","v":0},null,null,{"$f":"H477","v":0},null,null,{"$f":"K477","v":0},null,null,{"$f":"N477","v":0}]
[49,0,null,null,0,null,null,0,null,null,0,null,null,0]
[null,0,null,null,0,null,null,0,null,null,0,null,null,0]
[null,0,null,null,0,null,null,0,null,null,0,null,null,0]
[null,0,null,null,0,null,null,0,null,null,0,null,null,0]
[null,0,null,null,0,null,null,0,null,null,0,null,null,0]
[]
[]
[null,null,{"$f":"'1-2a'!$C$495","v":0},null,null,{"$f":"'1-2a'!$F$495","v":0},null,null,{"$f":"'1-2a'!$I$495","v":0},null,null,{"$f":"'1-2a'!$L$495","v":0},null,null,{"$f":"'1-2a'!$O$495","v":0}]
[{"$f":"IF(A486=52,1,A486+1)","v":29},{"$f":"N486+3","v":"2021-07-12"},null,null,{"$f":"B496+1","v":"2021-07-13"},null,null,{"$f":"E496+1","v":"2021-07-14"},null,null,{"$f":"H496+1","v":"2021-07-15"},null,null,{"$f":"K496+1","v":"2021-07-16"}]
[null,{"$f":"B487","v":0},null,null,{"$f":"E487","v":0},null,null,{"$f":"H487","v":0},null,null,{"$f":"K487","v":0},null,null,{"$f":"N487","v":0}]
[50,0,null,null,0,null,null,0,null,null,0]
[null,0,null,null,0,null,null,0,null,null,0,null,null,0]
[null,0,null,null,0,null,null,0,null,null,0,null,null,0]
[null,0,null,null,0,null,null,0,null,null,{"$f":"K491","v":0},null,null,0]
[null,0,null,null,0,null,null,0,null,null,0]

{"sheet":"29","index":29,"n_rows":502,"n_cols":15,"rows_kept":502,"cut":false,"hidden":false,"merged":[[5,1,5,3],[5,4,5,6],[5,7,5,9],[5,10,5,12],[5,13,5,15],[7,0,8,0],[1,1,2,7],[1,9,2,12],[1,13,2,15],[3,1,3,3],[3,4,3,6],[3,7,3,9],[3,10,3,12],[3,13,3,15],[12,1,13,3],[12,4,13,6],[12,7,13,9],[12,10,13,12],[12,13,13,15],[15,1,15,3],[15,4,15,6],[15,7,15,9],[15,10,15,12],[15,13,15,15],[25,1,25,3],[25,4,25,6],[25,7,25,9],[25,10,25,12],[25,13,25,15],[27,0,28,0],[17,0,18,0],[22,1,23,3],[22,4,23,6],[22,7,23,9],[22,10,23,12],[22,13,23,15],[32,1,33,3],[32,4,33,6],[32,7,33,9],[32,10,33,12],[32,13,33,15],[35,1,35,3],[35,4,35,6],[35,7,35,9],[35,10,35,12],[35,13,35,15],[45,1,45,3],[45,4,45,6],[45,7,45,9],[45,10,45,12],[45,13,45,15],[47,0,48,0],[37,0,38,0],[42,1,43,3],[42,4,43,6],[42,7,43,9],[42,10,43,12],[42,13,43,15],[52,1,53,3],[52,4,53,6],[52,7,53,9],[52,10,53,12],[52,13,53,15],[55,1,55,3],[55,4,55,6],[55,7,55,9],[55,10,55,12],[55,13,55,15],[65,1,65,3],[65,4,65,6],[65,7,65,9],[65,10,65,12],[65,13,65,15],[67,0,68,0],[57,0,58,0],[62,1,63,3],[62,4,63,6],[62,7,63,9],[62,10,63,12],[62,13,63,15],[72,1,73,3],[72,4,73,6],[72,7,73,9],[72,10,73,12],[72,13,73,15],[75,1,75,3],[75,4,75,6],[75,7,75,9],[75,10,75,12],[75,13,75,15],[85,1,85,3],[85,4,85,6],[85,7,85,9],[85,10,85,12],[85,13,85,15],[87,0,88,0],[77,0,78,0],[82,1,83,3],[82,4,83,6],[82,7,83,9],[82,10,83,12],[82,13,83,15],[92,1,93,3],[92,4,93,6],[92,7,93,9],[92,10,93,12],[92,13,93,15],[95,1,95,3],[95,4,95,6],[95,7,95,9],[95,10,95,12],[95,13,95,15],[105,1,105,3],[105,4,105,6],[105,7,105,9],[105,10,105,12],[105,13,105,15],[107,0,108,0],[97,0,98,0],[99,16,100,19],[102,1,103,3],[102,4,103,6],[102,7,103,9],[102,10,103,12],[102,13,103,15],[112,1,113,3],[112,4,113,6],[112,7,113,9],[112,10,113,12],[112,13,113,15],[115,1,115,3],[115,4,115,6],[115,7,115,9],[115,10,115,12],[115,13,115,15],[125,1,125,3],[125,4,125,6],[125,7,125,9],[125,10,125,12],[125,13,125,15],[127,0,128,0],[117,0,118,0],[122,1,123,3],[122,4,123,6],[122,7,123,9],[122,10,123,12],[122,13,123,15],[132,1,133,3],[132,4,133,6],[132,7,133,9],[132,10,133,12],[132,13,133,15],[135,1,135,3],[135,4,135,6],[135,7,135,9],[135,10,135,12],[135,13,135,15],[145,1,145,3],[145,4,145,6],[145,7,145,9],[145,10,145,12],[145,13,145,15],[147,0,148,0],[137,0,138,0],[142,1,143,3],[142,4,143,6],[142,7,143,9],[142,10,143,12],[142,13,143,15],[152,1,153,3],[152,4,153,6],[152,7,153,9],[152,10,153,12],[152,13,153,15],[155,1,155,3],[155,4,155,6],[155,7,155,9],[155,10,155,12],[155,13,155,15],[165,1,165,3],[165,4,165,6],[165,7,165,9],[165,10,165,12],[165,13,165,15],[167,0,168,0],[157,0,158,0],[162,1,163,3],[162,4,163,6],[162,7,163,9],[162,10,163,12],[162,13,163,15],[172,1,173,3],[172,4,173,6],[172,7,173,9],[172,10,173,12],[172,13,173,15],[175,1,175,3],[175,4,175,6],[175,7,175,9],[175,10,175,12],[175,13,175,15],[185,1,185,3],[185,4,185,6],[185,7,185,9],[185,10,185,12],[185,13,185,15],[187,0,188,0],[177,0,178,0],[179,16,180,19],[182,1,183,3],[182,4,183,6],[182,7,183,9],[182,10,183,12],[182,13,183,15],[192,1,193,3],[192,4,193,6],[192,7,193,9],[192,10,193,12],[192,13,193,15],[195,1,195,3],[195,4,195,6],[195,7,195,9],[195,10,195,12],[195,13,195,15],[205,1,205,3],[205,4,205,6],[205,7,205,9],[205,10,205,12],[205,13,205,15],[207,0,208,0],[197,0,198,0],[202,1,203,3],[202,4,203,6],[202,7,203,9],[202,10,203,12],[202,13,203,15],[212,1,213,3],[212,4,213,6],[212,7,213,9],[212,10,213,12],[212,13,213,15],[215,1,215,3],[215,4,215,6],[215,7,215,9],[215,10,215,12],[215,13,215,15],[225,1,225,3],[225,4,225,6],[225,7,225,9],[225,10,225,12],[225,13,225,15],[227,0,228,0],[217,0,218,0],[222,1,223,3],[222,4,223,6],[222,7,223,9],[222,10,223,12],[222,13,223,15],[232,1,233,3],[232,4,233,6],[232,7,233,9],[232,10,233,12],[232,13,233,15],[235,1,235,3],[235,4,235,6],[235,7,235,9],[235,10,235,12],[235,13,235,15],[245,1,245,3],[245,4,245,6],[245,7,245,9],[245,10,245,12],[245,13,245,15],[247,0,248,0],[237,0,238,0],[242,1,243,3],[242,4,243,6],[242,7,243,9],[242,10,243,12],[242,13,243,15],[252,1,253,3],[252,4,253,6],[252,7,253,9],[252,10,253,12],[252,13,253,15],[255,1,255,3],[255,4,255,6],[255,7,255,9],[255,10,255,12],[255,13,255,15],[265,1,265,3],[265,4,265,6],[265,7,265,9],[265,10,265,12],[265,13,265,15],[267,0,268,0],[257,0,258,0],[259,16,260,19],[262,1,263,3],[262,4,263,6],[262,7,263,9],[262,10,263,12],[262,13,263,15],[272,1,273,3],[272,4,273,6],[272,7,273,9],[272,10,273,12],[272,13,273,15],[275,1,275,3],[275,4,275,6],[275,7,275,9],[275,10,275,12],[275,13,275,15],[285,1,285,3],[285,4,285,6],[285,7,285,9],[285,10,285,12],[285,13,285,15],[287,0,288,0],[277,0,278,0],[282,1,283,3],[282,4,283,6],[282,7,283,9],[282,10,283,12],[282,13,283,15],[292,1,293,3],[292,4,293,6],[292,7,293,9],[292,10,293,12],[292,13,293,15],[295,1,295,3],[295,4,295,6],[295,7,295,9],[295,10,295,12],[295,13,295,15],[305,1,305,3],[305,4,305,6],[305,7,305,9],[305,10,305,12],[305,13,305,15],[307,0,308,0],[297,0,298,0],[302,1,303,3],[302,4,303,6],[302,7,303,9],[302,10,303,12],[302,13,303,15],[312,1,313,3],[312,4,313,6],[312,7,313,9],[312,10,313,12],[312,13,313,15],[315,1,315,3],[315,4,315,6],[315,7,315,9],[315,10,315,12],[315,13,315,15],[325,1,325,3],[325,4,325,6],[325,7,325,9],[325,10,325,12],[325,13,325,15],[327,0,328,0],[317,0,318,0],[322,1,323,3],[322,4,323,6],[322,7,323,9],[322,10,323,12],[322,13,323,15],[332,1,333,3],[332,4,333,6],[332,7,333,9],[332,10,333,12],[332,13,333,15],[335,1,335,3],[335,4,335,6],[335,7,335,9],[335,10,335,12],[335,13,335,15],[345,1,345,3],[345,4,345,6],[345,7,345,9],[345,10,345,12],[345,13,345,15],[347,0,348,0],[337,0,338,0],[339,16,340,19],[342,1,343,3],[342,4,343,6],[342,7,343,9],[342,10,343,12],[342,13,343,15],[352,1,353,3],[352,4,353,6],[352,7,353,9],[352,10,353,12],[352,13,353,15],[355,1,355,3],[355,4,355,6],[355,7,355,9],[355,10,355,12],[355,13,355,15],[365,1,365,3],[365,4,365,6],[365,7,365,9],[365,10,365,12],[365,13,365,15],[367,0,368,0],[357,0,358,0],[362,1,363,3],[362,4,363,6],[362,7,363,9],[362,10,363,12],[362,13,363,15],[372,1,373,3],[372,4,373,6],[372,7,373,9],[372,10,373,12],[372,13,373,15],[375,1,375,3],[375,4,375,6],[375,7,375,9],[375,10,375,12],[375,13,375,15],[385,1,385,3],[385,4,385,6],[385,7,385,9],[385,10,385,12],[385,13,385,15],[387,0,388,0],[377,0,378,0],[382,1,383,3],[382,4,383,6],[382,7,383,9],[382,10,383,12],[382,13,383,15],[392,1,393,3],[392,4,393,6],[392,7,393,9],[392,10,393,12],[392,13,393,15],[395,1,395,3],[395,4,395,6],[395,7,395,9],[395,10,395,12],[395,13,395,15],[405,1,405,3],[405,4,405,6],[405,7,405,9],[405,10,405,12],[405,13,405,15],[407,0,408,0],[397,0,398,0],[402,1,403,3],[402,4,403,6],[402,7,403,9],[402,10,403,12],[402,13,403,15],[412,1,413,3],[412,4,413,6],[412,7,413,9],[412,10,413,12],[412,13,413,15],[415,1,415,3],[415,4,415,6],[415,7,415,9],[415,10,415,12],[415,13,415,15],[425,1,425,3],[425,4,425,6],[425,7,425,9],[425,10,425,12],[425,13,425,15],[427,0,428,0],[417,0,418,0],[419,16,420,19],[422,1,423,3],[422,4,423,6],[422,7,423,9],[422,10,423,12],[422,13,423,15],[432,1,433,3],[432,4,433,6],[432,7,433,9],[432,10,433,12],[432,13,433,15],[435,1,435,3],[435,4,435,6],[435,7,435,9],[435,10,435,12],[435,13,435,15],[445,1,445,3],[445,4,445,6],[445,7,445,9],[445,10,445,12],[445,13,445,15],[447,0,448,0],[437,0,438,0],[442,1,443,3],[442,4,443,6],[442,7,443,9],[442,10,443,12],[442,13,443,15],[452,1,453,3],[452,4,453,6],[452,7,453,9],[452,10,453,12],[452,13,453,15],[455,1,455,3],[455,4,455,6],[455,7,455,9],[455,10,455,12],[455,13,455,15],[465,1,465,3],[465,4,465,6],[465,7,465,9],[465,10,465,12],[465,13,465,15],[467,0,468,0],[457,0,458,0],[462,1,463,3],[462,4,463,6],[462,7,463,9],[462,10,463,12],[462,13,463,15],[472,1,473,3],[472,4,473,6],[472,7,473,9],[472,10,473,12],[472,13,473,15],[475,1,475,3],[475,4,475,6],[475,7,475,9],[475,10,475,12],[475,13,475,15],[485,1,485,3],[485,4,485,6],[485,7,485,9],[485,10,485,12],[485,13,485,15],[487,0,488,0],[477,0,478,0],[482,1,483,3],[482,4,483,6],[482,7,483,9],[482,10,483,12],[482,13,483,15],[497,0,498,0],[499,16,500,19],[502,1,503,3],[502,4,503,6],[502,7,503,9],[502,10,503,12],[502,13,503,15],[492,1,493,3],[492,4,493,6],[492,7,493,9],[492,10,493,12],[492,13,493,15],[495,1,495,3],[495,4,495,6],[495,7,495,9],[495,10,495,12],[495,13,495,15]]}
[]
[null,{"$f":"'1-2a'!B2:H3","v":"Basisschool De Grote Beer        schooljaar 2020/2021"},null,null,null,null,null,null,null,"Groepsplanner van groep:",null,null,null,"29"]
[]
[null,"maandag 1e schoolweek",null,null,"dinsdag",null,null,"woensdag",null,null,"donderdag",null,null,"vrijdag"]
[null,null,{"$f":"'1-2a'!C$5","v":0},null,null,{"$f":"'1-2a'!F5","v":0},null,null,{"$f":"'1-2a'!I$5","v":0},null,null,{"$f":"'1-2a'!L$5","v":"s"},null,null,{"$f":"'1-2a'!O$5","v":0}]
[{"$f":"(B6-WEEKDAY(B6-1)+4-(TRUNC(DATE(YEAR(B6-WEEKDAY(B6-1)+4),1,2)/7)*7-2))/7","v":32},{"$f":"'1-2a'!B6:D6","v":"2020-08-03"},null,null,{"$f":"B6+1","v":"2020-08-04"},null,null,{"$f":"E6+1","v":"2020-08-05"},null,null,{"$f":"H6+1","v":"2020-08-06"},null,null,{"$f":"K6+1","v":"2020-08-07"}]
[]
[1]
[]
[]
[]
[]
[]
[]
[null,null,{"$f":"'1-2a'!C$15","v":0},null,null,{"$f":"'1-2a'!F$15","v":0},null,null,{"$f":"'1-2a'!I$15","v":0},null,null,{"$f":"'1-2a'!L$15","v":0},null,null,{"$f":"'1-2a'!O15","v":0}]
[{"$f":"IF(A6=52,1,A6+1)","v":33},{"$f":"N6+3","v":"2020-08-10"},null,null,{"$f":"B16+1","v":"2020-08-11"},null,null,{"$f":"E16+1","v":"2020-08-12"},null,null,{"$f":"H16+1","v":"2020-08-13"},null,null,{"$f":"K16+1","v":"2020-08-14"}]
[null,{"$f":"B7","v":0},null,null,{"$f":"E7","v":0},null,null,{"$f":"H7","v":0},null,null,{"$f":"K7","v":0},null,null,{"$f":"N7","v":0}]
[2,0,null,null,0,null,null,0,null,null,0,null,null,0]
[null,0,null,null,0,null,null,0,null,null,0,null,null,0]
[null,0,null,null,0,null,null,0,null,null,0,null,null,0]
[null,0,null,null,0,null,null,0,null,null,0,null,null,0]
[null,0,null,null,0,null,null,0,null,null,0,null,null,0]
[]
[]
[null,null,{"$f":"'1-2a'!C$25","v":0},null,null,{"$f":"'1-2a'!F$25","v":0},null,null,{"$f":"'1-2a'!I25","v":0},null,null,{"$f":"'1-2a'!L25","v":0},null,null,{"$f":"'1-2a'!O25","v":0}]
[{"$f":"IF(A16=52,1,A16+1)","v":34},{"$f":"N16+3","v":"2020-08-17"},null,null,{"$f":"B26+1","v":"2020-08-18"},null,null,{"$f":"E26+1","v":"2020-08-19"},null,null,{"$f":"H26+1","v":"2020-08-20"},null,null,{"$f":"K26+1","v":"2020-08-21"}]
[null,{"$f":"B17","v":0},null,null,{"$f":"E17","v":0},null,null,{"$f":"H17","v":0},null,null,{"$f":"K17","v":0},null,null,{"$f":"N17","v":0}]
[3,0,null,null,0,null,null,0,null,null,0,null,null,0]
[null,0,null,null,0,null,null,0,null,null,0,null,null,0]
[null,0,null,null,0,null,null,0,null,null,0,null,null,0]
[null,0,null,null,0,null,null,0,null,null,{"$f":"K21","v":0},null,null,0]
[null,0,null,null,0,null,null,0,null,null,0,null,null,0]
[]
[]
[null,null,{"$f":"'1-2a'!$C$35","v":0},null,null,{"$f":"'1-2a'!$F$35","v":0},null,null,{"$f":"'1-2a'!$I$35","v":0},null,null,{"$f":"'1-2a'!$L$35","v":0},null,null,{"$f":"'1-2a'!$O$35","v":0}]
[{"$f":"IF(A26=52,1,A26+1)","v":35},{"$f":"N26+3","v":"2020-08-24"},null,null,{"$f":"B36+1","v":"2020-08-25"},null,null,{"$f":"E36+1","v":"2020-08-26"},null,null,{"$f":"H36+1","v":"2020-08-27"},null,null,{"$f":"K36+1","v":"2020-08-28"}]
[null,{"$f":"B27","v":0},null,null,{"$f":"E27","v":0},null,null,{"$f":"H27","v":0},null,null,{"$f":"K27","v":0},null,null,{"$f":"N27","v":0}]
[4,0,null,null,0,null,null,0,null,null,0,null,null,0]
[null,0,null,null,0,null,null,0,null,null,0,null,null,0]
[null,0,null,null,0,null,null,0,null,null,0,null,null,0]
[null,0,null,null,0,null,null,0,null,null,{"$f":"K31","v":0},null,null,0]
[null,0,null,null,0,null,null,0,null,null,0,null,null,0]
[]
[]
[null,null,{"$f":"'1-2a'!$C$45","v":0},null,null,{"$f":"'1-2a'!$F$45","v":0},null,null,{"$f":"'1-2a'!$I$45","v":0},null,null,{"$f":"'1-2a'!$L$45","v":0},null,null,{"$f":"'1-2a'!$O$45","v":0}]
[{"$f":"IF(A36=52,1,A36+1)","v":36},{"$f":"N36+3","v":"2020-08-31"},null,null,{"$f":"B46+1","v":"2020-09-01"},null,null,{"$f":"E46+1","v":"2020-09-02"},null,null,{"$f":"H46+1","v":"2020-09-03"},null,null,{"$f":"K46+1","v":"2020-09-04"}]
[null,{"$f":"B37","v":0},null,null,{"$f":"E37","v":0},null,null,{"$f":"H37","v":0},null,null,{"$f":"K37","v":0},null,null,{"$f":"N37","v":0}]
[5,0,null,null,0,null,null,0,null,null,0,null,null,0]
[null,0,null,null,0,null,null,0,null,null,0,null,null,0]
[null,0,null,null,0,null,null,0,null,null,0,null,null,0]
[null,0,null,null,0,null,null,0,null,null,{"$f":"K41","v":0},null,null,0]
[null,0,null,null,0,null,null,0,null,null,0,null,null,0]
[]
[]
[null,null,{"$f":"'1-2a'!$C$55","v":0},null,null,{"$f":"'1-2a'!$F$55","v":0},null,null,{"$f":"'1-2a'!$I$55","v":0},null,null,{"$f":"'1-2a'!$L$55","v":0},null,null,{"$f":"'1-2a'!O55","v":0}]
[{"$f":"IF(A46=52,1,A46+1)","v":37},{"$f":"N46+3","v":"2020-09-07"},null,null,{"$f":"B56+1","v":"2020-09-08"},null,null,{"$f":"E56+1","v":"2020-09-09"},null,null,{"$f":"H56+1","v":"2020-09-10"},null,null,{"$f":"K56+1","v":"2020-09-11"}]
[null,{"$f":"B47","v":0},null,null,{"$f":"E47","v":0},null,null,{"$f":"H47","v":0},null,null,{"$f":"K47","v":0},null,null,{"$f":"N47","v":0}]
[6,0,null,null,0,null,null,0,null,null,0,null,null,0]
[null,0,null,null,0,null,null,0,null,null,0,null,null,0]
[null,0,null,null,0,null,null,0,null,null,0,null,null,0]
[null,0,null,null,0,null,null,0,null,null,{"$f":"K51","v":0},null,null,0]
[null,0,null,null,0,null,null,0,null,null,0,null,null,0]
[]
[]
[null,null,{"$f":"'1-2a'!$C$65","v":0},null,null,{"$f":"'1-2a'!$F$65","v":0},null,null,{"$f":"'1-2a'!$I$65","v":0},null,null,{"$f":"'1-2a'!$L$65","v":0},null,null,{"$f":"'1-2a'!$O$65","v":0}]
[{"$f":"IF(A56=52,1,A56+1)","v":38},{"$f":"N56+3","v":"2020-09-14"},null,null,{"$f":"B66+1","v":"2020-09-15"},null,null,{"$f":"E66+1","v":"2020-09-16"},null,null,{"$f":"H66+1","v":"2020-09-17"},null,null,{"$f":"K66+1","v":"2020-09-18"}]
[null,{"$f":"B57","v":0},null,null,{"$f":"E57","v":0},null,null,{"$f":"H57","v":0},null,null,{"$f":"K57","v":0},null,null,{"$f":"N57","v":0}]
[7,0,null,null,0,null,null,0,null,null,0,null,null,0]
[null,0,null,null,0,null,null,0,null,null,0,null,null,0]
[null,0,null,null,0,null,null,0,null,null,0,null,null,0]
[null,0,null,null,0,null,null,0,null,null,{"$f":"K61","v":0},null,null,0]
[null,0,null,null,0,null,null,0,null,null,0,null,null,0]
[]
[]
[null,null,{"$f":"'1-2a'!$C$75","v":0},null,null,{"$f":"'1-2a'!$F$75","v":0},null,null,{"$f":"'1-2a'!$I$75","v":0},null,null,{"$f":"'1-2a'!$L$75","v":0},null,null,{"$f":"'1-2a'!$O$75","v":0}]
[{"$f":"IF(A66=52,1,A66+1)","v":39},{"$f":"N66+3","v":"2020-09-21"},null,null,{"$f":"B76+1","v":"2020-09-22"},null,null,{"$f":"E76+1","v":"2020-09-23"},null,null,{"$f":"H76+1","v":"2020-09-24"},null,null,{"$f":"K76+1","v":"2020-09-25"}]
[null,{"$f":"B67","v":0},null,null,{"$f":"E67","v":0},null,null,{"$f":"H67","v":0},null,null,{"$f":"K67","v":0},null,null,{"$f":"N67","v":0}]
[8,0,null,null,0,null,null,0,null,null,0,null,null,0]
[null,0,null,null,0,null,null,0,null,null,0,null,null,0]
[null,0,null,null,0,null,null,0,null,null,0,null,null,0]
[null,0,null,null,0,null,null,0,null,null,{"$f":"K71","v":0},null,null,0]
[null,0,null,null,0,null,null,0,null,null,0,null,null,0]
[]
[]
[null,null,{"$f":"'1-2a'!$C$85","v":0},null,null,{"$f":"'1-2a'!$F$85","v":0},null,null,{"$f":"'1-2a'!$I$85","v":0},null,null,{"$f":"'1-2a'!$L$85","v":0},null,null,{"$f":"'1-2a'!$O$85","v":0}]
[{"$f":"IF(A76=52,1,A76+1)","v":40},{"$f":"N76+3","v":"2020-09-28"},null,null,{"$f":"B86+1","v":"2020-09-29"},null,null,{"$f":"E86+1","v":"2020-09-30"},null,null,{"$f":"H86+1","v":"2020-10-01"},null,null,{"$f":"K86+1","v":"2020-10-02"}]
[null,{"$f":"B77","v":0},null,null,{"$f":"E77","v":0},null,null,{"$f":"H77","v":0},null,null,{"$f":"K77","v":0},null,null,{"$f":"N77","v":0}]
[9,0,null,null,0,null,null,0,null,null,0,null,null,0]
[null,0,null,null,0,null,null,0,null,null,0,null,null,0]
[null,0,null,null,0,null,null,0,null,null,0,null,null,0]
[null,0,null,null,0,null,null,0,null,null,0,null,null,0]
[null,0,null,null,0,null,null,0,null,null,0,null,null,0]
[]
[]
[null,null,{"$f":"'1-2a'!$C$95","v":0},null,null,{"$f":"'1-2a'!$F$95","v":0},null,null,{"$f":"'1-2a'!$I$95","v":0},null,null,{"$f":"'1-2a'!$L$95","v":0},null,null,{"$f":"'1-2a'!$O$95","v":0}]
[{"$f":"IF(A86=52,1,A86+1)","v":41},{"$f":"N86+3","v":"2020-10-05"},null,null,{"$f":"B96+1","v":"2020-10-06"},null,null,{"$f":"E96+1","v":"2020-10-07"},null,null,{"$f":"H96+1","v":"2020-10-08"},null,null,{"$f":"K96+1","v":"2020-10-09"}]
[null,{"$f":"B87","v":0},null,null,{"$f":"E87","v":0},null,null,{"$f":"H87","v":0},null,null,{"$f":"K87","v":0},null,null,{"$f":"N87","v":0}]
[10,0,null,null,0,null,null,0,null,null,0,null,null,0]
[null,0,null,null,0,null,null,0,null,null,0,null,null,0]
[null,0,null,null,0,null,null,0,null,null,0,null,null,0]
[null,0,null,null,0,null,null,0,null,null,{"$f":"K91","v":0},null,null,0]
[null,0,null,null,0,null,null,0,null,null,0,null,null,0]
[]
[]
[null,null,{"$f":"'1-2a'!$C$105","v":0},null,null,{"$f":"'1-2a'!$F$105","v":0},null,null,{"$f":"'1-2a'!$I$105","v":0},null,null,{"$f":"'1-2a'!$L$105","v":0},null,null,{"$f":"'1-2a'!$O$105","v":0}]
[{"$f":"IF(A96=52,1,A96+1)","v":42},{"$f":"N96+3","v":"2020-10-12"},null,null,{"$f":"B106+1","v":"2020-10-13"},null,null,{"$f":"E106+1","v":"2020-10-14"},null,null,{"$f":"H106+1","v":"2020-10-15"},null,null,{"$f":"K106+1","v":"2020-10-16"}]
[null,{"$f":"B97","v":0},null,null,{"$f":"E97","v":0},null,null,{"$f":"H97","v":0},null,null,{"$f":"K97","v":0},null,null,{"$f":"N97","v":0}]
[11,0,null,null,0,null,null,0,null,null,0,null,null,0]
[null,0,null,null,0,null,null,0,null,null,0,null,null,0]
[null,0,null,null,0,null,null,0,null,null,0,null,null,0]
[null,0,null,null,0,null,null,0,null,null,{"$f":"K101","v":0},null,null,0]
[null,0,null,null,0,null,null,0,null,null,0,null,null,0]
[]
[]
[null,null,{"$f":"'1-2a'!$C$115","v":0},null,null,{"$f":"'1-2a'!$F$115","v":0},null,null,{"$f":"'1-2a'!$I$115","v":0},null,null,{"$f":"'1-2a'!$L$115","v":0},null,null,{"$f":"'1-2a'!$O$115","v":0}]
[{"$f":"IF(A106=52,1,A106+1)","v":43},{"$f":"N106+3","v":"2020-10-19"},null,null,{"$f":"B116+1","v":"2020-10-20"},null,null,{"$f":"E116+1","v":"2020-10-21"},null,null,{"$f":"H116+1","v":"2020-10-22"},null,null,{"$f":"K116+1","v":"2020-10-23"}]
[null,{"$f":"B107","v":0},null,null,{"$f":"E107","v":0},null,null,{"$f":"H107","v":0},null,null,{"$f":"K107","v":0},null,null,{"$f":"N107","v":0}]
[12,0,null,null,0,null,null,0,null,null,0,null,null,0]
[null,0,null,null,0,null,null,0,null,null,0,null,null,0]
[null,0,null,null,0,null,null,0,null,null,0,null,null,0]
[null,0,null,null,0,null,null,0,null,null,{"$f":"K111","v":0},null,null,0]
[null,0,null,null,0,null,null,0,null,null,0,null,null,0]
[]
[]
[null,null,{"$f":"'1-2a'!$C$125","v":0},null,null,{"$f":"'1-2a'!$F$125","v":0},null,null,{"$f":"'1-2a'!$I$125","v":0},null,null,{"$f":"'1-2a'!$L$125","v":0},null,null,{"$f":"'1-2a'!$O$125","v":0}]
[{"$f":"IF(A116=52,1,A116+1)","v":44},{"$f":"N116+3","v":"2020-10-26"},null,null,{"$f":"B126+1","v":"2020-10-27"},null,null,{"$f":"E126+1","v":"2020-10-28"},null,null,{"$f":"H126+1","v":"2020-10-29"},null,null,{"$f":"K126+1","v":"2020-10-30"}]
[null,{"$f":"B117","v":0},null,null,{"$f":"E117","v":0},null,null,{"$f":"H117","v":0},null,null,{"$f":"K117","v":0},null,null,{"$f":"N117","v":0}]
[13,0,null,null,0,null,null,0,null,null,0,null,null,0]
[null,0,null,null,0,null,null,0,null,null,0,null,null,0]
[null,0,null,null,0,null,null,0,null,null,0,null,null,0]
[null,0,null,null,0,null,null,0,null,null,{"$f":"K121","v":0},null,null,0]
[null,0,null,null,0,null,null,0,null,null,0,null,null,0]
[]
[]
[null,null,{"$f":"'1-2a'!$C$135","v":0},null,null,{"$f":"'1-2a'!$F$135","v":0},null,null,{"$f":"'1-2a'!$I$135","v":0},null,null,{"$f":"'1-2a'!$L$135","v":0},null,null,{"$f":"'1-2a'!$O$135","v":0}]
[{"$f":"IF(A126=52,1,A126+1)","v":45},{"$f":"N126+3","v":"2020-11-02"},null,null,{"$f":"B136+1","v":"2020-11-03"},null,null,{"$f":"E136+1","v":"2020-11-04"},null,null,{"$f":"H136+1","v":"2020-11-05"},null,null,{"$f":"K136+1","v":"2020-11-06"}]
[null,{"$f":"B127","v":0},null,null,{"$f":"E127","v":0},null,null,{"$f":"H127","v":0},null,null,{"$f":"K127","v":0},null,null,{"$f":"N127","v":0}]
[14,0,null,null,0,null,null,0,null,null,0,null,null,0]
[null,0,null,null,0,null,null,0,null,null,0,null,null,0]
[null,0,null,null,0,null,null,0,null,null,0,null,null,0]
[null,0,null,null,0,null,null,0,null,null,{"$f":"K131","v":0},null,null,0]
[null,0,null,null,0,null,null,0,null,null,0,null,null,0]
[]
[]
[null,null,{"$f":"'1-2a'!$C$145","v":0},null,null,{"$f":"'1-2a'!$F$145","v":0},null,null,{"$f":"'1-2a'!$I$145","v":0},null,null,{"$f":"'1-2a'!$L$145","v":0},null,null,{"$f":"'1-2a'!$O$145","v":0}]
[{"$f":"IF(A136=52,1,A136+1)","v":46},{"$f":"N136+3","v":"2020-11-09"},null,null,{"$f":"B146+1","v":"2020-11-10"},null,null,{"$f":"E146+1","v":"2020-11-11"},null,null,{"$f":"H146+1","v":"2020-11-12"},null,null,{"$f":"K146+1","v":"2020-11-13"}]
[null,{"$f":"B137","v":0},null,null,{"$f":"E137","v":0},null,null,{"$f":"H137","v":0},null,null,{"$f":"K137","v":0},null,null,{"$f":"N137","v":0}]
[15,0,null,null,0,null,null,0,null,null,0,null,null,0]
[null,0,null,null,0,null,null,0,null,null,0,null,null,0]
[null,0,null,null,0,null,null,0,null,null,0,null,null,0]
[null,0,null,null,0,null,null,0,null,null,{"$f":"K141","v":0},null,null,0]
[null,0,null,null,0,null,null,0,null,null,0,null,null,0]
[]
[]
[null,null,{"$f":"'1-2a'!$C$155","v":0},null,null,{"$f":"'1-2a'!$F$155","v":0},null,null,{"$f":"'1-2a'!$I$155","v":0},null,null,{"$f":"'1-2a'!$L$155","v":0},null,null,{"$f":"'1-2a'!$O$155","v":0}]
[{"$f":"IF(A146=52,1,A146+1)","v":47},{"$f":"N146+3","v":"2020-11-16"},null,null,{"$f":"B156+1","v":"2020-11-17"},null,null,{"$f":"E156+1","v":"2020-11-18"},null,null,{"$f":"H156+1","v":"2020-11-19"},null,null,{"$f":"K156+1","v":"2020-11-20"}]
[null,{"$f":"B147","v":0},null,null,{"$f":"E147","v":0},null,null,{"$f":"H147","v":0},null,null,{"$f":"K147","v":0},null,null,{"$f":"N147","v":0}]
[16,0,null,null,0,null,null,0,null,null,0,null,null,0]
[null,0,null,null,0,null,null,0,null,null,0,null,null,0]
[null,0,null,null,0,null,null,0,null,null,0,null,null,0]
[null,0,null,null,0,null,null,0,null,null,{"$f":"K151","v":0},null,null,0]
[null,0,null,null,0,null,null,0,null,null,0,null,null,0]
[]
[]
[null,null,{"$f":"'1-2a'!$C$165","v":0},null,null,{"$f":"'1-2a'!$F$165","v":0},null,null,{"$f":"'1-2a'!$I$165","v":0},null,null,{"$f":"'1-2a'!$L$165","v":0},null,null,{"$f":"'1-2a'!$O$165","v":0}]
[{"$f":"IF(A156=52,1,A156+1)","v":48},{"$f":"N156+3","v":"2020-11-23"},null,null,{"$f":"B166+1","v":"2020-11-24"},null,null,{"$f":"E166+1","v":"2020-11-25"},null,null,{"$f":"H166+1","v":"2020-11-26"},null,null,{"$f":"K166+1","v":"2020-11-27"}]
[null,{"$f":"B157","v":0},null,null,{"$f":"E157","v":0},null,null,{"$f":"H157","v":0},null,null,{"$f":"K157","v":0},null,null,{"$f":"N157","v":0}]
[17,0,null,null,0,null,null,0,null,null,0,null,null,0]
[null,0,null,null,0,null,null,0,null,null,0,null,null,0]
[null,0,null,null,0,null,null,0,null,null,0,null,null,0]
[null,0,null,null,0,null,null,0,null,null,0,null,null,0]
[null,0,null,null,0,null,null,0,null,null,0,null,null,0]
[]
[]
[null,null,{"$f":"'1-2a'!$C$175","v":0},null,null,{"$f":"'1-2a'!$F$175","v":0},null,null,{"$f":"'1-2a'!$I$175","v":0},null,null,{"$f":"'1-2a'!$L$175","v":0},null,null,{"$f":"'1-2a'!$O$175","v":0}]
[{"$f":"IF(A166=52,1,A166+1)","v":49},{"$f":"N166+3","v":"2020-11-30"},null,null,{"$f":"B176+1","v":"2020-12-01"},null,null,{"$f":"E176+1","v":"2020-12-02"},null,null,{"$f":"H176+1","v":"2020-12-03"},null,null,{"$f":"K176+1","v":"2020-12-04"}]
[null,{"$f":"B167","v":0},null,null,{"$f":"E167","v":0},null,null,{"$f":"H167","v":0},null,null,{"$f":"K167","v":0},null,null,{"$f":"N167","v":0}]
[18,0,null,null,0,null,null,0,null,null,0,null,null,0]
[null,0,null,null,0,null,null,0,null,null,0,null,null,0]
[null,0,null,null,0,null,null,0,null,null,0,null,null,0]
[null,0,null,null,0,null,null,0,null,null,{"$f":"K171","v":0},null,null,0]
[null,0,null,null,0,null,null,0,null,null,0,null,null,0]
[]
[]
[null,null,{"$f":"'1-2a'!$C$185","v":0},null,null,{"$f":"'1-2a'!$F$185","v":0},null,null,{"$f":"'1-2a'!$I$185","v":0},null,null,{"$f":"'1-2a'!$L$185","v":0},null,null,{"$f":"'1-2a'!$O$185","v":0}]
[{"$f":"IF(A176=52,1,A176+1)","v":50},{"$f":"N176+3","v":"2020-12-07"},null,null,{"$f":"B186+1","v":"2020-12-08"},null,null,{"$f":"E186+1","v":"2020-12-09"},null,null,{"$f":"H186+1","v":"2020-12-10"},null,null,{"$f":"K186+1","v":"2020-12-11"}]
[null,{"$f":"B177","v":0},null,null,{"$f":"E177","v":0},null,null,{"$f":"H177","v":0},null,null,{"$f":"K177","v":0},null,null,{"$f":"N177","v":0}]
[19,0,null,null,0,null,null,0,null,null,0,null,null,0]
[null,0,null,null,0,null,null,0,null,null,0,null,null,0]
[null,0,null,null,0,null,null,0,null,null,0,null,null,0]
[null,0,null,null,0,null,null,0,null,null,{"$f":"K181","v":0},null,null,0]
[null,0,null,null,0,null,null,0,null,null,0,null,null,0]
[]
[]
[null,null,{"$f":"'1-2a'!$C$195","v":0},null,null,{"$f":"'1-2a'!$F$195","v":0},null,null,{"$f":"'1-2a'!$I$195","v":0},null,null,{"$f":"'1-2a'!$L$195","v":0},null,null,{"$f":"'1-2a'!$O$195","v":0}]
[{"$f":"IF(A186=52,1,A186+1)","v":51},{"$f":"N186+3","v":"2020-12-14"},null,null,{"$f":"B196+1","v":"2020-12-15"},null,null,{"$f":"E196+1","v":"2020-12-16"},null,null,{"$f":"H196+1","v":"2020-12-17"},null,null,{"$f":"K196+1","v":"2020-12-18"}]
[null,{"$f":"B187","v":0},null,null,{"$f":"E187","v":0},null,null,{"$f":"H187","v":0},null,null,{"$f":"K187","v":0},null,null,{"$f":"N187","v":0}]
[20,0,null,null,0,null,null,0,null,null,0,null,null,0]
[null,0,null,null,0,null,null,0,null,null,0,null,null,0]
[null,0,null,null,0,null,null,0,null,null,0,null,null,0]
[null,0,null,null,0,null,null,0,null,null,{"$f":"K191","v":0},null,null,0]
[null,0,null,null,0,null,null,0,null,null,0,null,null,0]
[]
[]
[null,null,{"$f":"'1-2a'!$C$205","v":0},null,null,{"$f":"'1-2a'!$F$205","v":0},null,null,{"$f":"'1-2a'!$I$205","v":0},null,null,{"$f":"'1-2a'!$L$205","v":0},null,null,{"$f":"'1-2a'!$O$205","v":0}]
[{"$f":"IF(A196=52,1,A196+1)","v":52},{"$f":"N196+3","v":"2020-12-21"},null,null,{"$f":"B206+1","v":"2020-12-22"},null,null,{"$f":"E206+1","v":"2020-12-23"},null,null,{"$f":"H206+1","v":"2020-12-24"},null,null,{"$f":"K206+1","v":"2020-12-25"}]
[null,{"$f":"B197","v":0},null,null,{"$f":"E197","v":0},null,null,{"$f":"H197","v":0},null,null,{"$f":"K197","v":0},null,null,{"$f":"N197","v":0}]
[21,0,null,null,0,null,null,0,null,null,0,null,null,0]
[null,0,null,null,0,null,null,0,null,null,0,null,null,0]
[null,0,null,null,0,null,null,0,null,null,0,null,null,0]
[null,0,null,null,0,null,null,0,null,null,{"$f":"K201","v":0},null,null,0]
[null,0,null,null,0,null,null,0,null,null,0,null,null,0]
[]
[]
[null,null,{"$f":"'1-2a'!$C$215","v":0},null,null,{"$f":"'1-2a'!$F$215","v":0},null,null,{"$f":"'1-2a'!$I$215","v":0},null,null,{"$f":"'1-2a'!$L$215","v":0},null,null,{"$f":"'1-2a'!$O$215","v":0}]
[{"$f":"IF(A206=52,1,A206+1)","v":1},{"$f":"N206+3","v":"2020-12-28"},null,null,{"$f":"B216+1","v":"2020-12-29"},null,null,{"$f":"E216+1","v":"2020-12-30"},null,null,{"$f":"H216+1","v":"2020-12-31"},null,null,{"$f":"K216+1","v":"2021-01-01"}]
[null,{"$f":"B207","v":0},null,null,{"$f":"E207","v":0},null,null,{"$f":"H207","v":0},null,null,{"$f":"K207","v":0},null,null,{"$f":"N207","v":0}]
[22,0,null,null,0,null,null,0,null,null,0,null,null,0]
[null,0,null,null,0,null,null,0,null,null,0,null,null,0]
[null,0,null,null,0,null,null,0,null,null,0,null,null,0]
[null,0,null,null,0,null,null,0,null,null,{"$f":"K211","v":0},null,null,0]
[null,0,null,null,0,null,null,0,null,null,0,null,null,0]
[]
[]
[null,null,{"$f":"'1-2a'!$C$225","v":0},null,null,{"$f":"'1-2a'!$F$225","v":0},null,null,{"$f":"'1-2a'!$I$225","v":0},null,null,{"$f":"'1-2a'!$L$225","v":0},null,null,{"$f":"'1-2a'!$O$225","v":0}]
[{"$f":"IF(A216=52,1,A216+1)","v":2},{"$f":"N216+3","v":"2021-01-04"},null,null,{"$f":"B226+1","v":"2021-01-05"},null,null,{"$f":"E226+1","v":"2021-01-06"},null,null,{"$f":"H226+1","v":"2021-01-07"},null,null,{"$f":"K226+1","v":"2021-01-08"}]
[null,{"$f":"B217","v":0},null,null,{"$f":"E217","v":0},null,null,{"$f":"H217","v":0},null,null,{"$f":"K217","v":0},null,null,{"$f":"N217","v":0}]
[23,0,null,null,0,null,null,0,null,null,0,null,null,0]
[null,0,null,null,0,null,null,0,null,null,0,null,null,0]
[null,0,null,null,0,null,null,0,null,null,0,null,null,0]
[null,0,null,null,0,null,null,0,null,null,{"$f":"K221","v":0},null,null,0]
[null,0,null,null,0,null,null,0,null,null,0,null,null,0]
[]
[]
[null,null,{"$f":"'1-2a'!$C$235","v":0},null,null,{"$f":"'1-2a'!$F$235","v":0},null,null,{"$f":"'1-2a'!$I$235","v":0},null,null,{"$f":"'1-2a'!$L$235","v":0},null,null,{"$f":"'1-2a'!$O$235","v":0}]
[{"$f":"IF(A226=52,1,A226+1)","v":3},{"$f":"N226+3","v":"2021-01-11"},null,null,{"$f":"B236+1","v":"2021-01-12"},null,null,{"$f":"E236+1","v":"2021-01-13"},null,null,{"$f":"H236+1","v":"2021-01-14"},null,null,{"$f":"K236+1","v":"2021-01-15"}]
[null,{"$f":"B227","v":0},null,null,{"$f":"E227","v":0},null,null,{"$f":"H227","v":0},null,null,{"$f":"K227","v":0},null,null,{"$f":"N227","v":0}]
[24,0,null,null,0,null,null,0,null,null,0,null,null,0]
[null,0,null,null,0,null,null,0,null,null,0,null,null,0]
[null,0,null,null,0,null,null,0,null,null,0,null,null,0]
[null,0,null,null,0,null,null,0,null,null,{"$f":"K231","v":0},null,null,0]
[null,0,null,null,0,null,null,0,null,null,0,null,null,0]
[]
[]
[null,null,{"$f":"'1-2a'!$C$245","v":0},null,null,{"$f":"'1-2a'!$F$245","v":0},null,null,{"$f":"'1-2a'!$I$245","v":0},null,null,{"$f":"'1-2a'!$L$245","v":0},null,null,{"$f":"'1-2a'!$O$245","v":0}]
[{"$f":"IF(A236=52,1,A236+1)","v":4},{"$f":"N236+3","v":"2021-01-18"},null,null,{"$f":"B246+1","v":"2021-01-19"},null,null,{"$f":"E246+1","v":"2021-01-20"},null,null,{"$f":"H246+1","v":"2021-01-21"},null,null,{"$f":"K246+1","v":"2021-01-22"}]
[null,{"$f":"B237","v":0},null,null,{"$f":"E237","v":0},null,null,{"$f":"H237","v":0},null,null,{"$f":"K237","v":0},null,null,{"$f":"N237","v":0}]
[25,0,null,null,0,null,null,0,null,null,0,null,null,0]
[null,0,null,null,0,null,null,0,null,null,0,null,null,0]
[null,0,null,null,0,null,null,0,null,null,0,null,null,0]
[null,0,null,null,0,null,null,0,null,null,0,null,null,0]
[null,0,null,null,0,null,null,0,null,null,0,null,null,0]
[]
[]
[null,null,{"$f":"'1-2a'!$C$255","v":0},null,null,{"$f":"'1-2a'!$F$255","v":0},null,null,{"$f":"'1-2a'!$I$255","v":0},null,null,{"$f":"'1-2a'!$L$255","v":0},null,null,{"$f":"'1-2a'!$O$255","v":0}]
[{"$f":"IF(A246=52,1,A246+1)","v":5},{"$f":"N246+3","v":"2021-01-25"},null,null,{"$f":"B256+1","v":"2021-01-26"},null,null,{"$f":"E256+1","v":"2021-01-27"},null,null,{"$f":"H256+1","v":"2021-01-28"},null,null,{"$f":"K256+1","v":"2021-01-29"}]
[null,{"$f":"B247","v":0},null,null,{"$f":"E247","v":0},null,null,{"$f":"H247","v":0},null,null,{"$f":"K247","v":0},null,null,{"$f":"N247","v":0}]
[26,0,null,null,0,null,null,0,null,null,0,null,null,0]
[null,0,null,null,0,null,null,0,null,null,0,null,null,0]
[null,0,null,null,0,null,null,0,null,null,0,null,null,0]
[null,0,null,null,0,null,null,0,null,null,{"$f":"K251","v":0},null,null,0]
[null,0,null,null,0,null,null,0,null,null,0,null,null,0]
[]
[]
[null,null,{"$f":"'1-2a'!$C$265","v":0},null,null,{"$f":"'1-2a'!$F$265","v":0},null,null,{"$f":"'1-2a'!$I$265","v":0},null,null,{"$f":"'1-2a'!$L$265","v":0},null,null,{"$f":"'1-2a'!$O$265","v":0}]
[{"$f":"IF(A256=52,1,A256+1)","v":6},{"$f":"N256+3","v":"2021-02-01"},null,null,{"$f":"B266+1","v":"2021-02-02"},null,null,{"$f":"E266+1","v":"2021-02-03"},null,null,{"$f":"H266+1","v":"2021-02-04"},null,null,{"$f":"K266+1","v":"2021-02-05"}]
[null,{"$f":"B257","v":0},null,null,{"$f":"E257","v":0},null,null,{"$f":"H257","v":0},null,null,{"$f":"K257","v":0},null,null,{"$f":"N257","v":0}]
[27,0,null,null,0,null,null,0,null,null,0,null,null,0]
[null,0,null,null,0,null,null,0,null,null,0,null,null,0]
[null,0,null,null,0,null,null,0,null,null,0,null,null,0]
[null,0,null,null,0,null,null,0,null,null,{"$f":"K261","v":0},null,null,0]
[null,0,null,null,0,null,null,0,null,null,0,null,null,0]
[]
[]
[null,null,{"$f":"'1-2a'!$C$275","v":0},null,null,{"$f":"'1-2a'!$F$275","v":0},null,null,{"$f":"'1-2a'!$I$275","v":0},null,null,{"$f":"'1-2a'!$L$275","v":0},null,null,{"$f":"'1-2a'!$O$275","v":0}]
[{"$f":"IF(A266=52,1,A266+1)","v":7},{"$f":"N266+3","v":"2021-02-08"},null,null,{"$f":"B276+1","v":"2021-02-09"},null,null,{"$f":"E276+1","v":"2021-02-10"},null,null,{"$f":"H276+1","v":"2021-02-11"},null,null,{"$f":"K276+1","v":"2021-02-12"}]
[null,{"$f":"B267","v":0},null,null,{"$f":"E267","v":0},null,null,{"$f":"H267","v":0},null,null,{"$f":"K267","v":0},null,null,{"$f":"N267","v":0}]
[28,0,null,null,0,null,null,0,null,null,0,null,null,0]
[null,0,null,null,0,null,null,0,null,null,0,null,null,0]
[null,0,null,null,0,null,null,0,null,null,0,null,null,0]
[null,0,null,null,0,null,null,0,null,null,{"$f":"K271","v":0},null,null,0]
[null,0,null,null,0,null,null,0,null,null,0,null,null,0]
[]
[]
[null,null,{"$f":"'1-2a'!$C$285","v":0},null,null,{"$f":"'1-2a'!$F$285","v":0},null,null,{"$f":"'1-2a'!$I$285","v":0},null,null,{"$f":"'1-2a'!$L$285","v":0},null,null,{"$f":"'1-2a'!$O$285","v":0}]
[{"$f":"IF(A276=52,1,A276+1)","v":8},{"$f":"N276+3","v":"2021-02-15"},null,null,{"$f":"B286+1","v":"2021-02-16"},null,null,{"$f":"E286+1","v":"2021-02-17"},null,null,{"$f":"H286+1","v":"2021-02-18"},null,null,{"$f":"K286+1","v":"2021-02-19"}]
[null,{"$f":"B277","v":0},null,null,{"$f":"E277","v":0},null,null,{"$f":"H277","v":0},null,null,{"$f":"K277","v":0},null,null,{"$f":"N277","v":0}]
[29,0,null,null,0,null,null,0,null,null,0,null,null,0]
[null,0,null,null,0,null,null,0,null,null,0,null,null,0]
[null,0,null,null,0,null,null,0,null,null,0,null,null,0]
[null,0,null,null,0,null,null,0,null,null,{"$f":"K281","v":0},null,null,0]
[null,0,null,null,0,null,null,0,null,null,0,null,null,0]
[]
[]
[null,null,{"$f":"'1-2a'!$C$295","v":0},null,null,{"$f":"'1-2a'!$F$295","v":0},null,null,{"$f":"'1-2a'!$I$295","v":0},null,null,{"$f":"'1-2a'!$L$295","v":0},null,null,{"$f":"'1-2a'!$O$295","v":0}]
[{"$f":"IF(A286=52,1,A286+1)","v":9},{"$f":"N286+3","v":"2021-02-22"},null,null,{"$f":"B296+1","v":"2021-02-23"},null,null,{"$f":"E296+1","v":"2021-02-24"},null,null,{"$f":"H296+1","v":"2021-02-25"},null,null,{"$f":"K296+1","v":"2021-02-26"}]
[null,{"$f":"B287","v":0},null,null,{"$f":"E287","v":0},null,null,{"$f":"H287","v":0},null,null,{"$f":"K287","v":0},null,null,{"$f":"N287","v":0}]
[30,0,null,null,0,null,null,0,null,null,0,null,null,0]
[null,0,null,null,0,null,null,0,null,null,0,null,null,0]
[null,0,null,null,0,null,null,0,null,null,0,null,null,0]
[null,0,null,null,0,null,null,0,null,null,{"$f":"K291","v":0},null,null,0]
[null,0,null,null,0,null,null,0,null,null,0,null,null,0]
[]
[]
[null,null,{"$f":"'1-2a'!$C$305","v":0},null,null,{"$f":"'1-2a'!$F$305","v":0},null,null,{"$f":"'1-2a'!$I$305","v":0},null,null,{"$f":"'1-2a'!$L$305","v":0},null,null,{"$f":"'1-2a'!$O$305","v":0}]
[{"$f":"IF(A296=52,1,A296+1)","v":10},{"$f":"N296+3","v":"2021-03-01"},null,null,{"$f":"B306+1","v":"2021-03-02"},null,null,{"$f":"E306+1","v":"2021-03-03"},null,null,{"$f":"H306+1","v":"2021-03-04"},null,null,{"$f":"K306+1","v":"2021-03-05"}]
[null,{"$f":"B297","v":0},null,null,{"$f":"E297","v":0},null,null,{"$f":"H297","v":0},null,null,{"$f":"K297","v":0},null,null,{"$f":"N297","v":0}]
[31,0,null,null,0,null,null,0,null,null,0,null,null,0]
[null,0,null,null,0,null,null,0,null,null,0,null,null,0]
[null,0,null,null,0,null,null,0,null,null,0,null,null,0]
[null,0,null,null,0,null,null,0,null,null,{"$f":"K301","v":0},null,null,0]
[null,0,null,null,0,null,null,0,null,null,0,null,null,0]
[]
[]
[null,null,{"$f":"'1-2a'!$C$315","v":0},null,null,{"$f":"'1-2a'!$F$315","v":0},null,null,{"$f":"'1-2a'!$I$315","v":0},null,null,{"$f":"'1-2a'!$L$315","v":0},null,null,{"$f":"'1-2a'!$O$315","v":0}]
[{"$f":"IF(A306=52,1,A306+1)","v":11},{"$f":"N306+3","v":"2021-03-08"},null,null,{"$f":"B316+1","v":"2021-03-09"},null,null,{"$f":"E316+1","v":"2021-03-10"},null,null,{"$f":"H316+1","v":"2021-03-11"},null,null,{"$f":"K316+1","v":"2021-03-12"}]
[null,{"$f":"B307","v":0},null,null,{"$f":"E307","v":0},null,null,{"$f":"H307","v":0},null,null,{"$f":"K307","v":0},null,null,{"$f":"N307","v":0}]
[32,0,null,null,0,null,null,0,null,null,0,null,null,0]
[null,0,null,null,0,null,null,0,null,null,0,null,null,0]
[null,0,null,null,0,null,null,0,null,null,0,null,null,0]
[null,0,null,null,0,null,null,0,null,null,{"$f":"K311","v":0},null,null,0]
[null,0,null,null,0,null,null,0,null,null,0,null,null,0]
[]
[]
[null,null,{"$f":"'1-2a'!$C$325","v":0},null,null,{"$f":"'1-2a'!$F$325","v":0},null,null,{"$f":"'1-2a'!$I$325","v":0},null,null,{"$f":"'1-2a'!$L$325","v":0},null,null,{"$f":"'1-2a'!$O$325","v":0}]
[{"$f":"IF(A316=52,1,A316+1)","v":12},{"$f":"N316+3","v":"2021-03-15"},null,null,{"$f":"B326+1","v":"2021-03-16"},null,null,{"$f":"E326+1","v":"2021-03-17"},null,null,{"$f":"H326+1","v":"2021-03-18"},null,null,{"$f":"K326+1","v":"2021-03-19"}]
[null,{"$f":"B317","v":0},null,null,{"$f":"E317","v":0},null,null,{"$f":"H317","v":0},null,null,{"$f":"K317","v":0},null,null,{"$f":"N317","v":0}]
[33,0,null,null,0,null,null,0,null,null,0,null,null,0]
[null,0,null,null,0,null,null,0,null,null,0,null,null,0]
[null,0,null,null,0,null,null,0,null,null,0,null,null,0]
[null,0,null,null,0,null,null,0,null,null,0,null,null,0]
[null,0,null,null,0,null,null,0,null,null,0,null,null,0]
[]
[]
[null,null,{"$f":"'1-2a'!$C$335","v":0},null,null,{"$f":"'1-2a'!$F$335","v":0},null,null,{"$f":"'1-2a'!$I$335","v":0},null,null,{"$f":"'1-2a'!$L$335","v":0},null,null,{"$f":"'1-2a'!$O$335","v":0}]
[{"$f":"IF(A326=52,1,A326+1)","v":13},{"$f":"N326+3","v":"2021-03-22"},null,null,{"$f":"B336+1","v":"2021-03-23"},null,null,{"$f":"E336+1","v":"2021-03-24"},null,null,{"$f":"H336+1","v":"2021-03-25"},null,null,{"$f":"K336+1","v":"2021-03-26"}]
[null,{"$f":"B327","v":0},null,null,{"$f":"E327","v":0},null,null,{"$f":"H327","v":0},null,null,{"$f":"K327","v":0},null,null,{"$f":"N327","v":0}]
[34,0,null,null,0,null,null,0,null,null,0,null,null,0]
[null,0,null,null,0,null,null,0,null,null,0,null,null,0]
[null,0,null,null,0,null,null,0,null,null,0,null,null,0]
[null,0,null,null,0,null,null,0,null,null,{"$f":"K331","v":0},null,null,0]
[null,0,null,null,0,null,null,0,null,null,0,null,null,0]
[]
[]
[null,null,{"$f":"'1-2a'!$C$345","v":0},null,null,{"$f":"'1-2a'!$F$345","v":0},null,null,{"$f":"'1-2a'!$I$345","v":0},null,null,{"$f":"'1-2a'!$L$345","v":0},null,null,{"$f":"'1-2a'!$O$345","v":0}]
[{"$f":"IF(A336=52,1,A336+1)","v":14},{"$f":"N336+3","v":"2021-03-29"},null,null,{"$f":"B346+1","v":"2021-03-30"},null,null,{"$f":"E346+1","v":"2021-03-31"},null,null,{"$f":"H346+1","v":"2021-04-01"},null,null,{"$f":"K346+1","v":"2021-04-02"}]
[null,{"$f":"B337","v":0},null,null,{"$f":"E337","v":0},null,null,{"$f":"H337","v":0},null,null,{"$f":"K337","v":0},null,null,{"$f":"N337","v":0}]
[35,0,null,null,0,null,null,0,null,null,0,null,null,0]
[null,0,null,null,0,null,null,0,null,null,0,null,null,0]
[null,0,null,null,0,null,null,0,null,null,0,null,null,0]
[null,0,null,null,0,null,null,0,null,null,{"$f":"K341","v":0},null,null,0]
[null,0,null,null,0,null,null,0,null,null,0,null,null,0]
[]
[]
[null,null,{"$f":"'1-2a'!$C$355","v":0},null,null,{"$f":"'1-2a'!$F$355","v":0},null,null,{"$f":"'1-2a'!$I$355","v":0},null,null,{"$f":"'1-2a'!$L$355","v":0},null,null,{"$f":"'1-2a'!$O$355","v":0}]
[{"$f":"IF(A346=52,1,A346+1)","v":15},{"$f":"N346+3","v":"2021-04-05"},null,null,{"$f":"B356+1","v":"2021-04-06"},null,null,{"$f":"E356+1","v":"2021-04-07"},null,null,{"$f":"H356+1","v":"2021-04-08"},null,null,{"$f":"K356+1","v":"2021-04-09"}]
[null,{"$f":"B347","v":0},null,null,{"$f":"E347","v":0},null,null,{"$f":"H347","v":0},null,null,{"$f":"K347","v":0},null,null,{"$f":"N347","v":0}]
[36,0,null,null,0,null,null,0,null,null,0,null,null,0]
[null,0,null,null,0,null,null,0,null,null,0,null,null,0]
[null,0,null,null,0,null,null,0,null,null,0,null,null,0]
[null,0,null,null,0,null,null,0,null,null,{"$f":"K351","v":0},null,null,0]
[null,0,null,null,0,null,null,0,null,null,0,null,null,0]
[]
[]
[null,null,{"$f":"'1-2a'!$C$365","v":0},null,null,{"$f":"'1-2a'!$F$365","v":0},null,null,{"$f":"'1-2a'!$I$365","v":0},null,null,{"$f":"'1-2a'!$L$365","v":0},null,null,{"$f":"'1-2a'!$O$365","v":0}]
[{"$f":"IF(A356=52,1,A356+1)","v":16},{"$f":"N356+3","v":"2021-04-12"},null,null,{"$f":"B366+1","v":"2021-04-13"},null,null,{"$f":"E366+1","v":"2021-04-14"},null,null,{"$f":"H366+1","v":"2021-04-15"},null,null,{"$f":"K366+1","v":"2021-04-16"}]
[null,{"$f":"B357","v":0},null,null,{"$f":"E357","v":0},null,null,{"$f":"H357","v":0},null,null,{"$f":"K357","v":0},null,null,{"$f":"N357","v":0}]
[37,0,null,null,0,null,null,0,null,null,0,null,null,0]
[null,0,null,null,0,null,null,0,null,null,0,null,null,0]
[null,0,null,null,0,null,null,0,null,null,0,null,null,0]
[null,0,null,null,0,null,null,0,null,null,{"$f":"K361","v":0},null,null,0]
[null,0,null,null,0,null,null,0,null,null,0,null,null,0]
[]
[]
[null,null,{"$f":"'1-2a'!$C$375","v":0},null,null,{"$f":"'1-2a'!$F$375","v":0},null,null,{"$f":"'1-2a'!$I$375","v":0},null,null,{"$f":"'1-2a'!$L$375","v":0},null,null,{"$f":"'1-2a'!$O$375","v":0}]
[{"$f":"IF(A366=52,1,A366+1)","v":17},{"$f":"N366+3","v":"2021-04-19"},null,null,{"$f":"B376+1","v":"2021-04-20"},null,null,{"$f":"E376+1","v":"2021-04-21"},null,null,{"$f":"H376+1","v":"2021-04-22"},null,null,{"$f":"K376+1","v":"2021-04-23"}]
[null,{"$f":"B367","v":0},null,null,{"$f":"E367","v":0},null,null,{"$f":"H367","v":0},null,null,{"$f":"K367","v":0},null,null,{"$f":"N367","v":0}]
[38,0,null,null,0,null,null,0,null,null,0,null,null,0]
[null,0,null,null,0,null,null,0,null,null,0,null,null,0]
[null,0,null,null,0,null,null,0,null,null,0,null,null,0]
[null,0,null,null,0,null,null,0,null,null,{"$f":"K371","v":0},null,null,0]
[null,0,null,null,0,null,null,0,null,null,0,null,null,0]
[]
[]
[null,null,{"$f":"'1-2a'!$C$385","v":0},null,null,{"$f":"'1-2a'!$F$385","v":0},null,null,{"$f":"'1-2a'!$I$385","v":0},null,null,{"$f":"'1-2a'!$L$385","v":0},null,null,{"$f":"'1-2a'!$O$385","v":0}]
[{"$f":"IF(A376=52,1,A376+1)","v":18},{"$f":"N376+3","v":"2021-04-26"},null,null,{"$f":"B386+1","v":"2021-04-27"},null,null,{"$f":"E386+1","v":"2021-04-28"},null,null,{"$f":"H386+1","v":"2021-04-29"},null,null,{"$f":"K386+1","v":"2021-04-30"}]
[null,{"$f":"B377","v":0},null,null,{"$f":"E377","v":0},null,null,{"$f":"H377","v":0},null,null,{"$f":"K377","v":0},null,null,{"$f":"N377","v":0}]
[39,0,null,null,0,null,null,0,null,null,0,null,null,0]
[null,0,null,null,0,null,null,0,null,null,0,null,null,0]
[null,0,null,null,0,null,null,0,null,null,0,null,null,0]
[null,0,null,null,0,null,null,0,null,null,{"$f":"K381","v":0},null,null,0]
[null,0,null,null,0,null,null,0,null,null,0,null,null,0]
[]
[]
[null,null,{"$f":"'1-2a'!$C$395","v":0},null,null,{"$f":"'1-2a'!$F$395","v":0},null,null,{"$f":"'1-2a'!$I$395","v":0},null,null,{"$f":"'1-2a'!$L$395","v":0},null,null,{"$f":"'1-2a'!$O$395","v":0}]
[{"$f":"IF(A386=52,1,A386+1)","v":19},{"$f":"N386+3","v":"2021-05-03"},null,null,{"$f":"B396+1","v":"2021-05-04"},null,null,{"$f":"E396+1","v":"2021-05-05"},null,null,{"$f":"H396+1","v":"2021-05-06"},null,null,{"$f":"K396+1","v":"2021-05-07"}]
[null,{"$f":"B387","v":0},null,null,{"$f":"E387","v":0},null,null,{"$f":"H387","v":0},null,null,{"$f":"K387","v":0},null,null,{"$f":"N387","v":0}]
[40,0,null,null,0,null,null,0,null,null,0,null,null,0]
[null,0,null,null,0,null,null,0,null,null,0,null,null,0]
[null,0,null,null,0,null,null,0,null,null,0,null,null,0]
[null,0,null,null,0,null,null,0,null,null,{"$f":"K391","v":0},null,null,0]
[null,0,null,null,0,null,null,0,null,null,0,null,null,0]
[]
[]
[null,null,{"$f":"'1-2a'!$C$405","v":0},null,null,{"$f":"'1-2a'!$F$405","v":0},null,null,{"$f":"'1-2a'!$I$405","v":0},null,null,{"$f":"'1-2a'!$L$405","v":0},null,null,{"$f":"'1-2a'!$O$405","v":0}]
[{"$f":"IF(A396=52,1,A396+1)","v":20},{"$f":"N396+3","v":"2021-05-10"},null,null,{"$f":"B406+1","v":"2021-05-11"},null,null,{"$f":"E406+1","v":"2021-05-12"},null,null,{"$f":"H406+1","v":"2021-05-13"},null,null,{"$f":"K406+1","v":"2021-05-14"}]
[null,{"$f":"B397","v":0},null,null,{"$f":"E397","v":0},null,null,{"$f":"H397","v":0},null,null,{"$f":"K397","v":0},null,null,{"$f":"N397","v":0}]
[41,0,null,null,0,null,null,0,null,null,0,null,null,0]
[null,0,null,null,0,null,null,0,null,null,0,null,null,0]
[null,0,null,null,0,null,null,0,null,null,0,null,null,0]
[null,0,null,null,0,null,null,0,null,null,0,null,null,0]
[null,0,null,null,0,null,null,0,null,null,0,null,null,0]
[]
[]
[null,null,{"$f":"'1-2a'!$C$415","v":0},null,null,{"$f":"'1-2a'!$F$415","v":0},null,null,{"$f":"'1-2a'!$I$415","v":0},null,null,{"$f":"'1-2a'!$L$415","v":0},null,null,{"$f":"'1-2a'!$O$415","v":0}]
[{"$f":"IF(A406=52,1,A406+1)","v":21},{"$f":"N406+3","v":"2021-05-17"},null,null,{"$f":"B416+1","v":"2021-05-18"},null,null,{"$f":"E416+1","v":"2021-05-19"},null,null,{"$f":"H416+1","v":"2021-05-20"},null,null,{"$f":"K416+1","v":"2021-05-21"}]
[null,{"$f":"B407","v":0},null,null,{"$f":"E407","v":0},null,null,{"$f":"H407","v":0},null,null,{"$f":"K407","v":0},null,null,{"$f":"N407","v":0}]
[42,0,null,null,0,null,null,0,null,null,0,null,null,0]
[null,0,null,null,0,null,null,0,null,null,0,null,null,0]
[null,0,null,null,0,null,null,0,null,null,0,null,null,0]
[null,0,null,null,0,null,null,0,null,null,{"$f":"K411","v":0},null,null,0]
[null,0,null,null,0,null,null,0,null,null,0,null,null,0]
[]
[]
[null,null,{"$f":"'1-2a'!$C$425","v":0},null,null,{"$f":"'1-2a'!$F$425","v":0},null,null,{"$f":"'1-2a'!$I$425","v":0},null,null,{"$f":"'1-2a'!$L$425","v":0},null,null,{"$f":"'1-2a'!$O$425","v":0}]
[{"$f":"IF(A416=52,1,A416+1)","v":22},{"$f":"N416+3","v":"2021-05-24"},null,null,{"$f":"B426+1","v":"2021-05-25"},null,null,{"$f":"E426+1","v":"2021-05-26"},null,null,{"$f":"H426+1","v":"2021-05-27"},null,null,{"$f":"K426+1","v":"2021-05-28"}]
[null,{"$f":"B417","v":0},null,null,{"$f":"E417","v":0},null,null,{"$f":"H417","v":0},null,null,{"$f":"K417","v":0},null,null,{"$f":"N417","v":0}]
[43,0,null,null,0,null,null,0,null,null,0,null,null,0]
[null,0,null,null,0,null,null,0,null,null,0,null,null,0]
[null,0,null,null,0,null,null,0,null,null,0,null,null,0]
[null,0,null,null,0,null,null,0,null,null,{"$f":"K421","v":0},null,null,0]
[null,0,null,null,0,null,null,0,null,null,0,null,null,0]
[]
[]
[null,null,{"$f":"'1-2a'!$C$435","v":0},null,null,{"$f":"'1-2a'!$F$435","v":0},null,null,{"$f":"'1-2a'!$I$435","v":0},null,null,{"$f":"'1-2a'!$L$435","v":0},null,null,{"$f":"'1-2a'!$O$435","v":0}]
[{"$f":"IF(A426=52,1,A426+1)","v":23},{"$f":"N426+3","v":"2021-05-31"},null,null,{"$f":"B436+1","v":"2021-06-01"},null,null,{"$f":"E436+1","v":"2021-06-02"},null,null,{"$f":"H436+1","v":"2021-06-03"},null,null,{"$f":"K436+1","v":"2021-06-04"}]
[null,{"$f":"B427","v":0},null,null,{"$f":"E427","v":0},null,null,{"$f":"H427","v":0},null,null,{"$f":"K427","v":0},null,null,{"$f":"N427","v":0}]
[44,0,null,null,0,null,null,0,null,null,0,null,null,0]
[null,0,null,null,0,null,null,0,null,null,0,null,null,0]
[null,0,null,null,0,null,null,0,null,null,0,null,null,0]
[null,0,null,null,0,null,null,0,null,null,{"$f":"K431","v":0},null,null,0]
[null,0,null,null,0,null,null,0,null,null,0,null,null,0]
[]
[]
[null,null,{"$f":"'1-2a'!$C$445","v":0},null,null,{"$f":"'1-2a'!$F$445","v":0},null,null,{"$f":"'1-2a'!$I$445","v":0},null,null,{"$f":"'1-2a'!$L$445","v":0},null,null,{"$f":"'1-2a'!$O$445","v":0}]
[{"$f":"IF(A436=52,1,A436+1)","v":24},{"$f":"N436+3","v":"2021-06-07"},null,null,{"$f":"B446+1","v":"2021-06-08"},null,null,{"$f":"E446+1","v":"2021-06-09"},null,null,{"$f":"H446+1","v":"2021-06-10"},null,null,{"$f":"K446+1","v":"2021-06-11"}]
[null,{"$f":"B437","v":0},null,null,{"$f":"E437","v":0},null,null,{"$f":"H437","v":0},null,null,{"$f":"K437","v":0},null,null,{"$f":"N437","v":0}]
[45,0,null,null,0,null,null,0,null,null,0,null,null,0]
[null,0,null,null,0,null,null,0,null,null,0,null,null,0]
[null,0,null,null,0,null,null,0,null,null,0,null,null,0]
[null,0,null,null,0,null,null,0,null,null,{"$f":"K441","v":0},null,null,0]
[null,0,null,null,0,null,null,0,null,null,0,null,null,0]
[]
[]
[null,null,{"$f":"'1-2a'!$C$455","v":0},null,null,{"$f":"'1-2a'!$F$455","v":0},null,null,{"$f":"'1-2a'!$I$455","v":0},null,null,{"$f":"'1-2a'!$L$455","v":0},null,null,{"$f":"'1-2a'!$O$455","v":0}]
[{"$f":"IF(A446=52,1,A446+1)","v":25},{"$f":"N446+3","v":"2021-06-14"},null,null,{"$f":"B456+1","v":"2021-06-15"},null,null,{"$f":"E456+1","v":"2021-06-16"},null,null,{"$f":"H456+1","v":"2021-06-17"},null,null,{"$f":"K456+1","v":"2021-06-18"}]
[null,{"$f":"B447","v":0},null,null,{"$f":"E447","v":0},null,null,{"$f":"H447","v":0},null,null,{"$f":"K447","v":0},null,null,{"$f":"N447","v":0}]
[46,0,null,null,0,null,null,0,null,null,0,null,null,0]
[null,0,null,null,0,null,null,0,null,null,0,null,null,0]
[null,0,null,null,0,null,null,0,null,null,0,null,null,0]
[null,0,null,null,0,null,null,0,null,null,{"$f":"K451","v":0},null,null,0]
[null,0,null,null,0,null,null,0,null,null,0,null,null,0]
[]
[]
[null,null,{"$f":"'1-2a'!$C$465","v":0},null,null,{"$f":"'1-2a'!$F$465","v":0},null,null,{"$f":"'1-2a'!$I$465","v":0},null,null,{"$f":"'1-2a'!$L$465","v":0},null,null,{"$f":"'1-2a'!$O$465","v":0}]
[{"$f":"IF(A456=52,1,A456+1)","v":26},{"$f":"N456+3","v":"2021-06-21"},null,null,{"$f":"B466+1","v":"2021-06-22"},null,null,{"$f":"E466+1","v":"2021-06-23"},null,null,{"$f":"H466+1","v":"2021-06-24"},null,null,{"$f":"K466+1","v":"2021-06-25"}]
[null,{"$f":"B457","v":0},null,null,{"$f":"E457","v":0},null,null,{"$f":"H457","v":0},null,null,{"$f":"K457","v":0},null,null,{"$f":"N457","v":0}]
[47,0,null,null,0,null,null,0,null,null,0,null,null,0]
[null,0,null,null,0,null,null,0,null,null,0,null,null,0]
[null,0,null,null,0,null,null,0,null,null,0,null,null,0]
[null,0,null,null,0,null,null,0,null,null,{"$f":"K461","v":0},null,null,0]
[null,0,null,null,0,null,null,0,null,null,0,null,null,0]
[]
[]
[null,null,{"$f":"'1-2a'!$C$475","v":0},null,null,{"$f":"'1-2a'!$F$475","v":0},null,null,{"$f":"'1-2a'!$I$475","v":0},null,null,{"$f":"'1-2a'!$L$475","v":0},null,null,{"$f":"'1-2a'!$O$475","v":0}]
[{"$f":"IF(A466=52,1,A466+1)","v":27},{"$f":"N466+3","v":"2021-06-28"},null,null,{"$f":"B476+1","v":"2021-06-29"},null,null,{"$f":"E476+1","v":"2021-06-30"},null,null,{"$f":"H476+1","v":"2021-07-01"},null,null,{"$f":"K476+1","v":"2021-07-02"}]
[null,{"$f":"B467","v":0},null,null,{"$f":"E467","v":0},null,null,{"$f":"H467","v":0},null,null,{"$f":"K467","v":0},null,null,{"$f":"N467","v":0}]
[48,0,null,null,0,null,null,0,null,null,0,null,null,0]
[null,0,null,null,0,null,null,0,null,null,0,null,null,0]
[null,0,null,null,0,null,null,0,null,null,0,null,null,0]
[null,0,null,null,0,null,null,0,null,null,{"$f":"K471","v":0},null,null,0]
[null,0,null,null,0,null,null,0,null,null,0,null,null,0]
[]
[]
[null,null,{"$f":"'1-2a'!$C$485","v":0},null,null,{"$f":"'1-2a'!$F$485","v":0},null,null,{"$f":"'1-2a'!$I$485","v":0},null,null,{"$f":"'1-2a'!$L$485","v":0},null,null,{"$f":"'1-2a'!$O$485","v":0}]
[{"$f":"IF(A476=52,1,A476+1)","v":28},{"$f":"N476+3","v":"2021-07-05"},null,null,{"$f":"B486+1","v":"2021-07-06"},null,null,{"$f":"E486+1","v":"2021-07-07"},null,null,{"$f":"H486+1","v":"2021-07-08"},null,null,{"$f":"K486+1","v":"2021-07-09"}]
[null,{"$f":"B477","v":0},null,null,{"$f":"E477","v":0},null,null,{"$f":"H477","v":0},null,null,{"$f":"K477","v":0},null,null,{"$f":"N477","v":0}]
[49,0,null,null,0,null,null,0,null,null,0,null,null,0]
[null,0,null,null,0,null,null,0,null,null,0,null,null,0]
[null,0,null,null,0,null,null,0,null,null,0,null,null,0]
[null,0,null,null,0,null,null,0,null,null,0,null,null,0]
[null,0,null,null,0,null,null,0,null,null,0,null,null,0]
[]
[]
[null,null,{"$f":"'1-2a'!$C$495","v":0},null,null,{"$f":"'1-2a'!$F$495","v":0},null,null,{"$f":"'1-2a'!$I$495","v":0},null,null,{"$f":"'1-2a'!$L$495","v":0},null,null,{"$f":"'1-2a'!$O$495","v":0}]
[{"$f":"IF(A486=52,1,A486+1)","v":29},{"$f":"N486+3","v":"2021-07-12"},null,null,{"$f":"B496+1","v":"2021-07-13"},null,null,{"$f":"E496+1","v":"2021-07-14"},null,null,{"$f":"H496+1","v":"2021-07-15"},null,null,{"$f":"K496+1","v":"2021-07-16"}]
[null,{"$f":"B487","v":0},null,null,{"$f":"E487","v":0},null,null,{"$f":"H487","v":0},null,null,{"$f":"K487","v":0},null,null,{"$f":"N487","v":0}]
[50,0,null,null,0,null,null,0,null,null,0]
[null,0,null,null,0,null,null,0,null,null,0,null,null,0]
[null,0,null,null,0,null,null,0,null,null,0,null,null,0]
[null,0,null,null,0,null,null,0,null,null,{"$f":"K491","v":0},null,null,0]
[null,0,null,null,0,null,null,0,null,null,0]

{"sheet":"30","index":30,"n_rows":502,"n_cols":15,"rows_kept":502,"cut":false,"hidden":false,"merged":[[5,1,5,3],[5,4,5,6],[5,7,5,9],[5,10,5,12],[5,13,5,15],[7,0,8,0],[1,1,2,7],[1,9,2,12],[1,13,2,15],[3,1,3,3],[3,4,3,6],[3,7,3,9],[3,10,3,12],[3,13,3,15],[12,1,13,3],[12,4,13,6],[12,7,13,9],[12,10,13,12],[12,13,13,15],[15,1,15,3],[15,4,15,6],[15,7,15,9],[15,10,15,12],[15,13,15,15],[25,1,25,3],[25,4,25,6],[25,7,25,9],[25,10,25,12],[25,13,25,15],[27,0,28,0],[17,0,18,0],[22,1,23,3],[22,4,23,6],[22,7,23,9],[22,10,23,12],[22,13,23,15],[32,1,33,3],[32,4,33,6],[32,7,33,9],[32,10,33,12],[32,13,33,15],[35,1,35,3],[35,4,35,6],[35,7,35,9],[35,10,35,12],[35,13,35,15],[45,1,45,3],[45,4,45,6],[45,7,45,9],[45,10,45,12],[45,13,45,15],[47,0,48,0],[37,0,38,0],[42,1,43,3],[42,4,43,6],[42,7,43,9],[42,10,43,12],[42,13,43,15],[52,1,53,3],[52,4,53,6],[52,7,53,9],[52,10,53,12],[52,13,53,15],[55,1,55,3],[55,4,55,6],[55,7,55,9],[55,10,55,12],[55,13,55,15],[65,1,65,3],[65,4,65,6],[65,7,65,9],[65,10,65,12],[65,13,65,15],[67,0,68,0],[57,0,58,0],[62,1,63,3],[62,4,63,6],[62,7,63,9],[62,10,63,12],[62,13,63,15],[72,1,73,3],[72,4,73,6],[72,7,73,9],[72,10,73,12],[72,13,73,15],[75,1,75,3],[75,4,75,6],[75,7,75,9],[75,10,75,12],[75,13,75,15],[85,1,85,3],[85,4,85,6],[85,7,85,9],[85,10,85,12],[85,13,85,15],[87,0,88,0],[77,0,78,0],[82,1,83,3],[82,4,83,6],[82,7,83,9],[82,10,83,12],[82,13,83,15],[92,1,93,3],[92,4,93,6],[92,7,93,9],[92,10,93,12],[92,13,93,15],[95,1,95,3],[95,4,95,6],[95,7,95,9],[95,10,95,12],[95,13,95,15],[105,1,105,3],[105,4,105,6],[105,7,105,9],[105,10,105,12],[105,13,105,15],[107,0,108,0],[97,0,98,0],[99,16,100,19],[102,1,103,3],[102,4,103,6],[102,7,103,9],[102,10,103,12],[102,13,103,15],[112,1,113,3],[112,4,113,6],[112,7,113,9],[112,10,113,12],[112,13,113,15],[115,1,115,3],[115,4,115,6],[115,7,115,9],[115,10,115,12],[115,13,115,15],[125,1,125,3],[125,4,125,6],[125,7,125,9],[125,10,125,12],[125,13,125,15],[127,0,128,0],[117,0,118,0],[122,1,123,3],[122,4,123,6],[122,7,123,9],[122,10,123,12],[122,13,123,15],[132,1,133,3],[132,4,133,6],[132,7,133,9],[132,10,133,12],[132,13,133,15],[135,1,135,3],[135,4,135,6],[135,7,135,9],[135,10,135,12],[135,13,135,15],[145,1,145,3],[145,4,145,6],[145,7,145,9],[145,10,145,12],[145,13,145,15],[147,0,148,0],[137,0,138,0],[142,1,143,3],[142,4,143,6],[142,7,143,9],[142,10,143,12],[142,13,143,15],[152,1,153,3],[152,4,153,6],[152,7,153,9],[152,10,153,12],[152,13,153,15],[155,1,155,3],[155,4,155,6],[155,7,155,9],[155,10,155,12],[155,13,155,15],[165,1,165,3],[165,4,165,6],[165,7,165,9],[165,10,165,12],[165,13,165,15],[167,0,168,0],[157,0,158,0],[162,1,163,3],[162,4,163,6],[162,7,163,9],[162,10,163,12],[162,13,163,15],[172,1,173,3],[172,4,173,6],[172,7,173,9],[172,10,173,12],[172,13,173,15],[175,1,175,3],[175,4,175,6],[175,7,175,9],[175,10,175,12],[175,13,175,15],[185,1,185,3],[185,4,185,6],[185,7,185,9],[185,10,185,12],[185,13,185,15],[187,0,188,0],[177,0,178,0],[179,16,180,19],[182,1,183,3],[182,4,183,6],[182,7,183,9],[182,10,183,12],[182,13,183,15],[192,1,193,3],[192,4,193,6],[192,7,193,9],[192,10,193,12],[192,13,193,15],[195,1,195,3],[195,4,195,6],[195,7,195,9],[195,10,195,12],[195,13,195,15],[205,1,205,3],[205,4,205,6],[205,7,205,9],[205,10,205,12],[205,13,205,15],[207,0,208,0],[197,0,198,0],[202,1,203,3],[202,4,203,6],[202,7,203,9],[202,10,203,12],[202,13,203,15],[212,1,213,3],[212,4,213,6],[212,7,213,9],[212,10,213,12],[212,13,213,15],[215,1,215,3],[215,4,215,6],[215,7,215,9],[215,10,215,12],[215,13,215,15],[225,1,225,3],[225,4,225,6],[225,7,225,9],[225,10,225,12],[225,13,225,15],[227,0,228,0],[217,0,218,0],[222,1,223,3],[222,4,223,6],[222,7,223,9],[222,10,223,12],[222,13,223,15],[232,1,233,3],[232,4,233,6],[232,7,233,9],[232,10,233,12],[232,13,233,15],[235,1,235,3],[235,4,235,6],[235,7,235,9],[235,10,235,12],[235,13,235,15],[245,1,245,3],[245,4,245,6],[245,7,245,9],[245,10,245,12],[245,13,245,15],[247,0,248,0],[237,0,238,0],[242,1,243,3],[242,4,243,6],[242,7,243,9],[242,10,243,12],[242,13,243,15],[252,1,253,3],[252,4,253,6],[252,7,253,9],[252,10,253,12],[252,13,253,15],[255,1,255,3],[255,4,255,6],[255,7,255,9],[255,10,255,12],[255,13,255,15],[265,1,265,3],[265,4,265,6],[265,7,265,9],[265,10,265,12],[265,13,265,15],[267,0,268,0],[257,0,258,0],[259,16,260,19],[262,1,263,3],[262,4,263,6],[262,7,263,9],[262,10,263,12],[262,13,263,15],[272,1,273,3],[272,4,273,6],[272,7,273,9],[272,10,273,12],[272,13,273,15],[275,1,275,3],[275,4,275,6],[275,7,275,9],[275,10,275,12],[275,13,275,15],[285,1,285,3],[285,4,285,6],[285,7,285,9],[285,10,285,12],[285,13,285,15],[287,0,288,0],[277,0,278,0],[282,1,283,3],[282,4,283,6],[282,7,283,9],[282,10,283,12],[282,13,283,15],[292,1,293,3],[292,4,293,6],[292,7,293,9],[292,10,293,12],[292,13,293,15],[295,1,295,3],[295,4,295,6],[295,7,295,9],[295,10,295,12],[295,13,295,15],[305,1,305,3],[305,4,305,6],[305,7,305,9],[305,10,305,12],[305,13,305,15],[307,0,308,0],[297,0,298,0],[302,1,303,3],[302,4,303,6],[302,7,303,9],[302,10,303,12],[302,13,303,15],[312,1,313,3],[312,4,313,6],[312,7,313,9],[312,10,313,12],[312,13,313,15],[315,1,315,3],[315,4,315,6],[315,7,315,9],[315,10,315,12],[315,13,315,15],[325,1,325,3],[325,4,325,6],[325,7,325,9],[325,10,325,12],[325,13,325,15],[327,0,328,0],[317,0,318,0],[322,1,323,3],[322,4,323,6],[322,7,323,9],[322,10,323,12],[322,13,323,15],[332,1,333,3],[332,4,333,6],[332,7,333,9],[332,10,333,12],[332,13,333,15],[335,1,335,3],[335,4,335,6],[335,7,335,9],[335,10,335,12],[335,13,335,15],[345,1,345,3],[345,4,345,6],[345,7,345,9],[345,10,345,12],[345,13,345,15],[347,0,348,0],[337,0,338,0],[339,16,340,19],[342,1,343,3],[342,4,343,6],[342,7,343,9],[342,10,343,12],[342,13,343,15],[352,1,353,3],[352,4,353,6],[352,7,353,9],[352,10,353,12],[352,13,353,15],[355,1,355,3],[355,4,355,6],[355,7,355,9],[355,10,355,12],[355,13,355,15],[365,1,365,3],[365,4,365,6],[365,7,365,9],[365,10,365,12],[365,13,365,15],[367,0,368,0],[357,0,358,0],[362,1,363,3],[362,4,363,6],[362,7,363,9],[362,10,363,12],[362,13,363,15],[372,1,373,3],[372,4,373,6],[372,7,373,9],[372,10,373,12],[372,13,373,15],[375,1,375,3],[375,4,375,6],[375,7,375,9],[375,10,375,12],[375,13,375,15],[385,1,385,3],[385,4,385,6],[385,7,385,9],[385,10,385,12],[385,13,385,15],[387,0,388,0],[377,0,378,0],[382,1,383,3],[382,4,383,6],[382,7,383,9],[382,10,383,12],[382,13,383,15],[392,1,393,3],[392,4,393,6],[392,7,393,9],[392,10,393,12],[392,13,393,15],[395,1,395,3],[395,4,395,6],[395,7,395,9],[395,10,395,12],[395,13,395,15],[405,1,405,3],[405,4,405,6],[405,7,405,9],[405,10,405,12],[405,13,405,15],[407,0,408,0],[397,0,398,0],[402,1,403,3],[402,4,403,6],[402,7,403,9],[402,10,403,12],[402,13,403,15],[412,1,413,3],[412,4,413,6],[412,7,413,9],[412,10,413,12],[412,13,413,15],[415,1,415,3],[415,4,415,6],[415,7,415,9],[415,10,415,12],[415,13,415,15],[425,1,425,3],[425,4,425,6],[425,7,425,9],[425,10,425,12],[425,13,425,15],[427,0,428,0],[417,0,418,0],[419,16,420,19],[422,1,423,3],[422,4,423,6],[422,7,423,9],[422,10,423,12],[422,13,423,15],[432,1,433,3],[432,4,433,6],[432,7,433,9],[432,10,433,12],[432,13,433,15],[435,1,435,3],[435,4,435,6],[435,7,435,9],[435,10,435,12],[435,13,435,15],[445,1,445,3],[445,4,445,6],[445,7,445,9],[445,10,445,12],[445,13,445,15],[447,0,448,0],[437,0,438,0],[442,1,443,3],[442,4,443,6],[442,7,443,9],[442,10,443,12],[442,13,443,15],[452,1,453,3],[452,4,453,6],[452,7,453,9],[452,10,453,12],[452,13,453,15],[455,1,455,3],[455,4,455,6],[455,7,455,9],[455,10,455,12],[455,13,455,15],[465,1,465,3],[465,4,465,6],[465,7,465,9],[465,10,465,12],[465,13,465,15],[467,0,468,0],[457,0,458,0],[462,1,463,3],[462,4,463,6],[462,7,463,9],[462,10,463,12],[462,13,463,15],[472,1,473,3],[472,4,473,6],[472,7,473,9],[472,10,473,12],[472,13,473,15],[475,1,475,3],[475,4,475,6],[475,7,475,9],[475,10,475,12],[475,13,475,15],[485,1,485,3],[485,4,485,6],[485,7,485,9],[485,10,485,12],[485,13,485,15],[487,0,488,0],[477,0,478,0],[482,1,483,3],[482,4,483,6],[482,7,483,9],[482,10,483,12],[482,13,483,15],[497,0,498,0],[499,16,500,19],[502,1,503,3],[502,4,503,6],[502,7,503,9],[502,10,503,12],[502,13,503,15],[492,1,493,3],[492,4,493,6],[492,7,493,9],[492,10,493,12],[492,13,493,15],[495,1,495,3],[495,4,495,6],[495,7,495,9],[495,10,495,12],[495,13,495,15]]}
[]
[null,{"$f":"'1-2a'!B2:H3","v":"Basisschool De Grote Beer        schooljaar 2020/2021"},null,null,null,null,null,null,null,"Groepsplanner van groep:",null,null,null,"30"]
[]
[null,"maandag 1e schoolweek",null,null,"dinsdag",null,null,"woensdag",null,null,"donderdag",null,null,"vrijdag"]
[null,null,{"$f":"'1-2a'!C$5","v":0},null,null,{"$f":"'1-2a'!F5","v":0},null,null,{"$f":"'1-2a'!I$5","v":0},null,null,{"$f":"'1-2a'!L$5","v":"s"},null,null,{"$f":"'1-2a'!O$5","v":0}]
[{"$f":"(B6-WEEKDAY(B6-1)+4-(TRUNC(DATE(YEAR(B6-WEEKDAY(B6-1)+4),1,2)/7)*7-2))/7","v":32},{"$f":"'1-2a'!B6:D6","v":"2020-08-03"},null,null,{"$f":"B6+1","v":"2020-08-04"},null,null,{"$f":"E6+1","v":"2020-08-05"},null,null,{"$f":"H6+1","v":"2020-08-06"},null,null,{"$f":"K6+1","v":"2020-08-07"}]
[]
[1]
[]
[]
[]
[]
[]
[]
[null,null,{"$f":"'1-2a'!C$15","v":0},null,null,{"$f":"'1-2a'!F$15","v":0},null,null,{"$f":"'1-2a'!I$15","v":0},null,null,{"$f":"'1-2a'!L$15","v":0},null,null,{"$f":"'1-2a'!O15","v":0}]
[{"$f":"IF(A6=52,1,A6+1)","v":33},{"$f":"N6+3","v":"2020-08-10"},null,null,{"$f":"B16+1","v":"2020-08-11"},null,null,{"$f":"E16+1","v":"2020-08-12"},null,null,{"$f":"H16+1","v":"2020-08-13"},null,null,{"$f":"K16+1","v":"2020-08-14"}]
[null,{"$f":"B7","v":0},null,null,{"$f":"E7","v":0},null,null,{"$f":"H7","v":0},null,null,{"$f":"K7","v":0},null,null,{"$f":"N7","v":0}]
[2,0,null,null,0,null,null,0,null,null,0,null,null,0]
[null,0,null,null,0,null,null,0,null,null,0,null,null,0]
[null,0,null,null,0,null,null,0,null,null,0,null,null,0]
[null,0,null,null,0,null,null,0,null,null,0,null,null,0]
[null,0,null,null,0,null,null,0,null,null,0,null,null,0]
[]
[]
[null,null,{"$f":"'1-2a'!C$25","v":0},null,null,{"$f":"'1-2a'!F$25","v":0},null,null,{"$f":"'1-2a'!I25","v":0},null,null,{"$f":"'1-2a'!L25","v":0},null,null,{"$f":"'1-2a'!O25","v":0}]
[{"$f":"IF(A16=52,1,A16+1)","v":34},{"$f":"N16+3","v":"2020-08-17"},null,null,{"$f":"B26+1","v":"2020-08-18"},null,null,{"$f":"E26+1","v":"2020-08-19"},null,null,{"$f":"H26+1","v":"2020-08-20"},null,null,{"$f":"K26+1","v":"2020-08-21"}]
[null,{"$f":"B17","v":0},null,null,{"$f":"E17","v":0},null,null,{"$f":"H17","v":0},null,null,{"$f":"K17","v":0},null,null,{"$f":"N17","v":0}]
[3,0,null,null,0,null,null,0,null,null,0,null,null,0]
[null,0,null,null,0,null,null,0,null,null,0,null,null,0]
[null,0,null,null,0,null,null,0,null,null,0,null,null,0]
[null,0,null,null,0,null,null,0,null,null,{"$f":"K21","v":0},null,null,0]
[null,0,null,null,0,null,null,0,null,null,0,null,null,0]
[]
[]
[null,null,{"$f":"'1-2a'!$C$35","v":0},null,null,{"$f":"'1-2a'!$F$35","v":0},null,null,{"$f":"'1-2a'!$I$35","v":0},null,null,{"$f":"'1-2a'!$L$35","v":0},null,null,{"$f":"'1-2a'!$O$35","v":0}]
[{"$f":"IF(A26=52,1,A26+1)","v":35},{"$f":"N26+3","v":"2020-08-24"},null,null,{"$f":"B36+1","v":"2020-08-25"},null,null,{"$f":"E36+1","v":"2020-08-26"},null,null,{"$f":"H36+1","v":"2020-08-27"},null,null,{"$f":"K36+1","v":"2020-08-28"}]
[null,{"$f":"B27","v":0},null,null,{"$f":"E27","v":0},null,null,{"$f":"H27","v":0},null,null,{"$f":"K27","v":0},null,null,{"$f":"N27","v":0}]
[4,0,null,null,0,null,null,0,null,null,0,null,null,0]
[null,0,null,null,0,null,null,0,null,null,0,null,null,0]
[null,0,null,null,0,null,null,0,null,null,0,null,null,0]
[null,0,null,null,0,null,null,0,null,null,{"$f":"K31","v":0},null,null,0]
[null,0,null,null,0,null,null,0,null,null,0,null,null,0]
[]
[]
[null,null,{"$f":"'1-2a'!$C$45","v":0},null,null,{"$f":"'1-2a'!$F$45","v":0},null,null,{"$f":"'1-2a'!$I$45","v":0},null,null,{"$f":"'1-2a'!$L$45","v":0},null,null,{"$f":"'1-2a'!$O$45","v":0}]
[{"$f":"IF(A36=52,1,A36+1)","v":36},{"$f":"N36+3","v":"2020-08-31"},null,null,{"$f":"B46+1","v":"2020-09-01"},null,null,{"$f":"E46+1","v":"2020-09-02"},null,null,{"$f":"H46+1","v":"2020-09-03"},null,null,{"$f":"K46+1","v":"2020-09-04"}]
[null,{"$f":"B37","v":0},null,null,{"$f":"E37","v":0},null,null,{"$f":"H37","v":0},null,null,{"$f":"K37","v":0},null,null,{"$f":"N37","v":0}]
[5,0,null,null,0,null,null,0,null,null,0,null,null,0]
[null,0,null,null,0,null,null,0,null,null,0,null,null,0]
[null,0,null,null,0,null,null,0,null,null,0,null,null,0]
[null,0,null,null,0,null,null,0,null,null,{"$f":"K41","v":0},null,null,0]
[null,0,null,null,0,null,null,0,null,null,0,null,null,0]
[]
[]
[null,null,{"$f":"'1-2a'!$C$55","v":0},null,null,{"$f":"'1-2a'!$F$55","v":0},null,null,{"$f":"'1-2a'!$I$55","v":0},null,null,{"$f":"'1-2a'!$L$55","v":0},null,null,{"$f":"'1-2a'!O55","v":0}]
[{"$f":"IF(A46=52,1,A46+1)","v":37},{"$f":"N46+3","v":"2020-09-07"},null,null,{"$f":"B56+1","v":"2020-09-08"},null,null,{"$f":"E56+1","v":"2020-09-09"},null,null,{"$f":"H56+1","v":"2020-09-10"},null,null,{"$f":"K56+1","v":"2020-09-11"}]
[null,{"$f":"B47","v":0},null,null,{"$f":"E47","v":0},null,null,{"$f":"H47","v":0},null,null,{"$f":"K47","v":0},null,null,{"$f":"N47","v":0}]
[6,0,null,null,0,null,null,0,null,null,0,null,null,0]
[null,0,null,null,0,null,null,0,null,null,0,null,null,0]
[null,0,null,null,0,null,null,0,null,null,0,null,null,0]
[null,0,null,null,0,null,null,0,null,null,{"$f":"K51","v":0},null,null,0]
[null,0,null,null,0,null,null,0,null,null,0,null,null,0]
[]
[]
[null,null,{"$f":"'1-2a'!$C$65","v":0},null,null,{"$f":"'1-2a'!$F$65","v":0},null,null,{"$f":"'1-2a'!$I$65","v":0},null,null,{"$f":"'1-2a'!$L$65","v":0},null,null,{"$f":"'1-2a'!$O$65","v":0}]
[{"$f":"IF(A56=52,1,A56+1)","v":38},{"$f":"N56+3","v":"2020-09-14"},null,null,{"$f":"B66+1","v":"2020-09-15"},null,null,{"$f":"E66+1","v":"2020-09-16"},null,null,{"$f":"H66+1","v":"2020-09-17"},null,null,{"$f":"K66+1","v":"2020-09-18"}]
[null,{"$f":"B57","v":0},null,null,{"$f":"E57","v":0},null,null,{"$f":"H57","v":0},null,null,{"$f":"K57","v":0},null,null,{"$f":"N57","v":0}]
[7,0,null,null,0,null,null,0,null,null,0,null,null,0]
[null,0,null,null,0,null,null,0,null,null,0,null,null,0]
[null,0,null,null,0,null,null,0,null,null,0,null,null,0]
[null,0,null,null,0,null,null,0,null,null,{"$f":"K61","v":0},null,null,0]
[null,0,null,null,0,null,null,0,null,null,0,null,null,0]
[]
[]
[null,null,{"$f":"'1-2a'!$C$75","v":0},null,null,{"$f":"'1-2a'!$F$75","v":0},null,null,{"$f":"'1-2a'!$I$75","v":0},null,null,{"$f":"'1-2a'!$L$75","v":0},null,null,{"$f":"'1-2a'!$O$75","v":0}]
[{"$f":"IF(A66=52,1,A66+1)","v":39},{"$f":"N66+3","v":"2020-09-21"},null,null,{"$f":"B76+1","v":"2020-09-22"},null,null,{"$f":"E76+1","v":"2020-09-23"},null,null,{"$f":"H76+1","v":"2020-09-24"},null,null,{"$f":"K76+1","v":"2020-09-25"}]
[null,{"$f":"B67","v":0},null,null,{"$f":"E67","v":0},null,null,{"$f":"H67","v":0},null,null,{"$f":"K67","v":0},null,null,{"$f":"N67","v":0}]
[8,0,null,null,0,null,null,0,null,null,0,null,null,0]
[null,0,null,null,0,null,null,0,null,null,0,null,null,0]
[null,0,null,null,0,null,null,0,null,null,0,null,null,0]
[null,0,null,null,0,null,null,0,null,null,{"$f":"K71","v":0},null,null,0]
[null,0,null,null,0,null,null,0,null,null,0,null,null,0]
[]
[]
[null,null,{"$f":"'1-2a'!$C$85","v":0},null,null,{"$f":"'1-2a'!$F$85","v":0},null,null,{"$f":"'1-2a'!$I$85","v":0},null,null,{"$f":"'1-2a'!$L$85","v":0},null,null,{"$f":"'1-2a'!$O$85","v":0}]
[{"$f":"IF(A76=52,1,A76+1)","v":40},{"$f":"N76+3","v":"2020-09-28"},null,null,{"$f":"B86+1","v":"2020-09-29"},null,null,{"$f":"E86+1","v":"2020-09-30"},null,null,{"$f":"H86+1","v":"2020-10-01"},null,null,{"$f":"K86+1","v":"2020-10-02"}]
[null,{"$f":"B77","v":0},null,null,{"$f":"E77","v":0},null,null,{"$f":"H77","v":0},null,null,{"$f":"K77","v":0},null,null,{"$f":"N77","v":0}]
[9,0,null,null,0,null,null,0,null,null,0,null,null,0]
[null,0,null,null,0,null,null,0,null,null,0,null,null,0]
[null,0,null,null,0,null,null,0,null,null,0,null,null,0]
[null,0,null,null,0,null,null,0,null,null,0,null,null,0]
[null,0,null,null,0,null,null,0,null,null,0,null,null,0]
[]
[]
[null,null,{"$f":"'1-2a'!$C$95","v":0},null,null,{"$f":"'1-2a'!$F$95","v":0},null,null,{"$f":"'1-2a'!$I$95","v":0},null,null,{"$f":"'1-2a'!$L$95","v":0},null,null,{"$f":"'1-2a'!$O$95","v":0}]
[{"$f":"IF(A86=52,1,A86+1)","v":41},{"$f":"N86+3","v":"2020-10-05"},null,null,{"$f":"B96+1","v":"2020-10-06"},null,null,{"$f":"E96+1","v":"2020-10-07"},null,null,{"$f":"H96+1","v":"2020-10-08"},null,null,{"$f":"K96+1","v":"2020-10-09"}]
[null,{"$f":"B87","v":0},null,null,{"$f":"E87","v":0},null,null,{"$f":"H87","v":0},null,null,{"$f":"K87","v":0},null,null,{"$f":"N87","v":0}]
[10,0,null,null,0,null,null,0,null,null,0,null,null,0]
[null,0,null,null,0,null,null,0,null,null,0,null,null,0]
[null,0,null,null,0,null,null,0,null,null,0,null,null,0]
[null,0,null,null,0,null,null,0,null,null,{"$f":"K91","v":0},null,null,0]
[null,0,null,null,0,null,null,0,null,null,0,null,null,0]
[]
[]
[null,null,{"$f":"'1-2a'!$C$105","v":0},null,null,{"$f":"'1-2a'!$F$105","v":0},null,null,{"$f":"'1-2a'!$I$105","v":0},null,null,{"$f":"'1-2a'!$L$105","v":0},null,null,{"$f":"'1-2a'!$O$105","v":0}]
[{"$f":"IF(A96=52,1,A96+1)","v":42},{"$f":"N96+3","v":"2020-10-12"},null,null,{"$f":"B106+1","v":"2020-10-13"},null,null,{"$f":"E106+1","v":"2020-10-14"},null,null,{"$f":"H106+1","v":"2020-10-15"},null,null,{"$f":"K106+1","v":"2020-10-16"}]
[null,{"$f":"B97","v":0},null,null,{"$f":"E97","v":0},null,null,{"$f":"H97","v":0},null,null,{"$f":"K97","v":0},null,null,{"$f":"N97","v":0}]
[11,0,null,null,0,null,null,0,null,null,0,null,null,0]
[null,0,null,null,0,null,null,0,null,null,0,null,null,0]
[null,0,null,null,0,null,null,0,null,null,0,null,null,0]
[null,0,null,null,0,null,null,0,null,null,{"$f":"K101","v":0},null,null,0]
[null,0,null,null,0,null,null,0,null,null,0,null,null,0]
[]
[]
[null,null,{"$f":"'1-2a'!$C$115","v":0},null,null,{"$f":"'1-2a'!$F$115","v":0},null,null,{"$f":"'1-2a'!$I$115","v":0},null,null,{"$f":"'1-2a'!$L$115","v":0},null,null,{"$f":"'1-2a'!$O$115","v":0}]
[{"$f":"IF(A106=52,1,A106+1)","v":43},{"$f":"N106+3","v":"2020-10-19"},null,null,{"$f":"B116+1","v":"2020-10-20"},null,null,{"$f":"E116+1","v":"2020-10-21"},null,null,{"$f":"H116+1","v":"2020-10-22"},null,null,{"$f":"K116+1","v":"2020-10-23"}]
[null,{"$f":"B107","v":0},null,null,{"$f":"E107","v":0},null,null,{"$f":"H107","v":0},null,null,{"$f":"K107","v":0},null,null,{"$f":"N107","v":0}]
[12,0,null,null,0,null,null,0,null,null,0,null,null,0]
[null,0,null,null,0,null,null,0,null,null,0,null,null,0]
[null,0,null,null,0,null,null,0,null,null,0,null,null,0]
[null,0,null,null,0,null,null,0,null,null,{"$f":"K111","v":0},null,null,0]
[null,0,null,null,0,null,null,0,null,null,0,null,null,0]
[]
[]
[null,null,{"$f":"'1-2a'!$C$125","v":0},null,null,{"$f":"'1-2a'!$F$125","v":0},null,null,{"$f":"'1-2a'!$I$125","v":0},null,null,{"$f":"'1-2a'!$L$125","v":0},null,null,{"$f":"'1-2a'!$O$125","v":0}]
[{"$f":"IF(A116=52,1,A116+1)","v":44},{"$f":"N116+3","v":"2020-10-26"},null,null,{"$f":"B126+1","v":"2020-10-27"},null,null,{"$f":"E126+1","v":"2020-10-28"},null,null,{"$f":"H126+1","v":"2020-10-29"},null,null,{"$f":"K126+1","v":"2020-10-30"}]
[null,{"$f":"B117","v":0},null,null,{"$f":"E117","v":0},null,null,{"$f":"H117","v":0},null,null,{"$f":"K117","v":0},null,null,{"$f":"N117","v":0}]
[13,0,null,null,0,null,null,0,null,null,0,null,null,0]
[null,0,null,null,0,null,null,0,null,null,0,null,null,0]
[null,0,null,null,0,null,null,0,null,null,0,null,null,0]
[null,0,null,null,0,null,null,0,null,null,{"$f":"K121","v":0},null,null,0]
[null,0,null,null,0,null,null,0,null,null,0,null,null,0]
[]
[]
[null,null,{"$f":"'1-2a'!$C$135","v":0},null,null,{"$f":"'1-2a'!$F$135","v":0},null,null,{"$f":"'1-2a'!$I$135","v":0},null,null,{"$f":"'1-2a'!$L$135","v":0},null,null,{"$f":"'1-2a'!$O$135","v":0}]
[{"$f":"IF(A126=52,1,A126+1)","v":45},{"$f":"N126+3","v":"2020-11-02"},null,null,{"$f":"B136+1","v":"2020-11-03"},null,null,{"$f":"E136+1","v":"2020-11-04"},null,null,{"$f":"H136+1","v":"2020-11-05"},null,null,{"$f":"K136+1","v":"2020-11-06"}]
[null,{"$f":"B127","v":0},null,null,{"$f":"E127","v":0},null,null,{"$f":"H127","v":0},null,null,{"$f":"K127","v":0},null,null,{"$f":"N127","v":0}]
[14,0,null,null,0,null,null,0,null,null,0,null,null,0]
[null,0,null,null,0,null,null,0,null,null,0,null,null,0]
[null,0,null,null,0,null,null,0,null,null,0,null,null,0]
[null,0,null,null,0,null,null,0,null,null,{"$f":"K131","v":0},null,null,0]
[null,0,null,null,0,null,null,0,null,null,0,null,null,0]
[]
[]
[null,null,{"$f":"'1-2a'!$C$145","v":0},null,null,{"$f":"'1-2a'!$F$145","v":0},null,null,{"$f":"'1-2a'!$I$145","v":0},null,null,{"$f":"'1-2a'!$L$145","v":0},null,null,{"$f":"'1-2a'!$O$145","v":0}]
[{"$f":"IF(A136=52,1,A136+1)","v":46},{"$f":"N136+3","v":"2020-11-09"},null,null,{"$f":"B146+1","v":"2020-11-10"},null,null,{"$f":"E146+1","v":"2020-11-11"},null,null,{"$f":"H146+1","v":"2020-11-12"},null,null,{"$f":"K146+1","v":"2020-11-13"}]
[null,{"$f":"B137","v":0},null,null,{"$f":"E137","v":0},null,null,{"$f":"H137","v":0},null,null,{"$f":"K137","v":0},null,null,{"$f":"N137","v":0}]
[15,0,null,null,0,null,null,0,null,null,0,null,null,0]
[null,0,null,null,0,null,null,0,null,null,0,null,null,0]
[null,0,null,null,0,null,null,0,null,null,0,null,null,0]
[null,0,null,null,0,null,null,0,null,null,{"$f":"K141","v":0},null,null,0]
[null,0,null,null,0,null,null,0,null,null,0,null,null,0]
[]
[]
[null,null,{"$f":"'1-2a'!$C$155","v":0},null,null,{"$f":"'1-2a'!$F$155","v":0},null,null,{"$f":"'1-2a'!$I$155","v":0},null,null,{"$f":"'1-2a'!$L$155","v":0},null,null,{"$f":"'1-2a'!$O$155","v":0}]
[{"$f":"IF(A146=52,1,A146+1)","v":47},{"$f":"N146+3","v":"2020-11-16"},null,null,{"$f":"B156+1","v":"2020-11-17"},null,null,{"$f":"E156+1","v":"2020-11-18"},null,null,{"$f":"H156+1","v":"2020-11-19"},null,null,{"$f":"K156+1","v":"2020-11-20"}]
[null,{"$f":"B147","v":0},null,null,{"$f":"E147","v":0},null,null,{"$f":"H147","v":0},null,null,{"$f":"K147","v":0},null,null,{"$f":"N147","v":0}]
[16,0,null,null,0,null,null,0,null,null,0,null,null,0]
[null,0,null,null,0,null,null,0,null,null,0,null,null,0]
[null,0,null,null,0,null,null,0,null,null,0,null,null,0]
[null,0,null,null,0,null,null,0,null,null,{"$f":"K151","v":0},null,null,0]
[null,0,null,null,0,null,null,0,null,null,0,null,null,0]
[]
[]
[null,null,{"$f":"'1-2a'!$C$165","v":0},null,null,{"$f":"'1-2a'!$F$165","v":0},null,null,{"$f":"'1-2a'!$I$165","v":0},null,null,{"$f":"'1-2a'!$L$165","v":0},null,null,{"$f":"'1-2a'!$O$165","v":0}]
[{"$f":"IF(A156=52,1,A156+1)","v":48},{"$f":"N156+3","v":"2020-11-23"},null,null,{"$f":"B166+1","v":"2020-11-24"},null,null,{"$f":"E166+1","v":"2020-11-25"},null,null,{"$f":"H166+1","v":"2020-11-26"},null,null,{"$f":"K166+1","v":"2020-11-27"}]
[null,{"$f":"B157","v":0},null,null,{"$f":"E157","v":0},null,null,{"$f":"H157","v":0},null,null,{"$f":"K157","v":0},null,null,{"$f":"N157","v":0}]
[17,0,null,null,0,null,null,0,null,null,0,null,null,0]
[null,0,null,null,0,null,null,0,null,null,0,null,null,0]
[null,0,null,null,0,null,null,0,null,null,0,null,null,0]
[null,0,null,null,0,null,null,0,null,null,0,null,null,0]
[null,0,null,null,0,null,null,0,null,null,0,null,null,0]
[]
[]
[null,null,{"$f":"'1-2a'!$C$175","v":0},null,null,{"$f":"'1-2a'!$F$175","v":0},null,null,{"$f":"'1-2a'!$I$175","v":0},null,null,{"$f":"'1-2a'!$L$175","v":0},null,null,{"$f":"'1-2a'!$O$175","v":0}]
[{"$f":"IF(A166=52,1,A166+1)","v":49},{"$f":"N166+3","v":"2020-11-30"},null,null,{"$f":"B176+1","v":"2020-12-01"},null,null,{"$f":"E176+1","v":"2020-12-02"},null,null,{"$f":"H176+1","v":"2020-12-03"},null,null,{"$f":"K176+1","v":"2020-12-04"}]
[null,{"$f":"B167","v":0},null,null,{"$f":"E167","v":0},null,null,{"$f":"H167","v":0},null,null,{"$f":"K167","v":0},null,null,{"$f":"N167","v":0}]
[18,0,null,null,0,null,null,0,null,null,0,null,null,0]
[null,0,null,null,0,null,null,0,null,null,0,null,null,0]
[null,0,null,null,0,null,null,0,null,null,0,null,null,0]
[null,0,null,null,0,null,null,0,null,null,{"$f":"K171","v":0},null,null,0]
[null,0,null,null,0,null,null,0,null,null,0,null,null,0]
[]
[]
[null,null,{"$f":"'1-2a'!$C$185","v":0},null,null,{"$f":"'1-2a'!$F$185","v":0},null,null,{"$f":"'1-2a'!$I$185","v":0},null,null,{"$f":"'1-2a'!$L$185","v":0},null,null,{"$f":"'1-2a'!$O$185","v":0}]
[{"$f":"IF(A176=52,1,A176+1)","v":50},{"$f":"N176+3","v":"2020-12-07"},null,null,{"$f":"B186+1","v":"2020-12-08"},null,null,{"$f":"E186+1","v":"2020-12-09"},null,null,{"$f":"H186+1","v":"2020-12-10"},null,null,{"$f":"K186+1","v":"2020-12-11"}]
[null,{"$f":"B177","v":0},null,null,{"$f":"E177","v":0},null,null,{"$f":"H177","v":0},null,null,{"$f":"K177","v":0},null,null,{"$f":"N177","v":0}]
[19,0,null,null,0,null,null,0,null,null,0,null,null,0]
[null,0,null,null,0,null,null,0,null,null,0,null,null,0]
[null,0,null,null,0,null,null,0,null,null,0,null,null,0]
[null,0,null,null,0,null,null,0,null,null,{"$f":"K181","v":0},null,null,0]
[null,0,null,null,0,null,null,0,null,null,0,null,null,0]
[]
[]
[null,null,{"$f":"'1-2a'!$C$195","v":0},null,null,{"$f":"'1-2a'!$F$195","v":0},null,null,{"$f":"'1-2a'!$I$195","v":0},null,null,{"$f":"'1-2a'!$L$195","v":0},null,null,{"$f":"'1-2a'!$O$195","v":0}]
[{"$f":"IF(A186=52,1,A186+1)","v":51},{"$f":"N186+3","v":"2020-12-14"},null,null,{"$f":"B196+1","v":"2020-12-15"},null,null,{"$f":"E196+1","v":"2020-12-16"},null,null,{"$f":"H196+1","v":"2020-12-17"},null,null,{"$f":"K196+1","v":"2020-12-18"}]
[null,{"$f":"B187","v":0},null,null,{"$f":"E187","v":0},null,null,{"$f":"H187","v":0},null,null,{"$f":"K187","v":0},null,null,{"$f":"N187","v":0}]
[20,0,null,null,0,null,null,0,null,null,0,null,null,0]
[null,0,null,null,0,null,null,0,null,null,0,null,null,0]
[null,0,null,null,0,null,null,0,null,null,0,null,null,0]
[null,0,null,null,0,null,null,0,null,null,{"$f":"K191","v":0},null,null,0]
[null,0,null,null,0,null,null,0,null,null,0,null,null,0]
[]
[]
[null,null,{"$f":"'1-2a'!$C$205","v":0},null,null,{"$f":"'1-2a'!$F$205","v":0},null,null,{"$f":"'1-2a'!$I$205","v":0},null,null,{"$f":"'1-2a'!$L$205","v":0},null,null,{"$f":"'1-2a'!$O$205","v":0}]
[{"$f":"IF(A196=52,1,A196+1)","v":52},{"$f":"N196+3","v":"2020-12-21"},null,null,{"$f":"B206+1","v":"2020-12-22"},null,null,{"$f":"E206+1","v":"2020-12-23"},null,null,{"$f":"H206+1","v":"2020-12-24"},null,null,{"$f":"K206+1","v":"2020-12-25"}]
[null,{"$f":"B197","v":0},null,null,{"$f":"E197","v":0},null,null,{"$f":"H197","v":0},null,null,{"$f":"K197","v":0},null,null,{"$f":"N197","v":0}]
[21,0,null,null,0,null,null,0,null,null,0,null,null,0]
[null,0,null,null,0,null,null,0,null,null,0,null,null,0]
[null,0,null,null,0,null,null,0,null,null,0,null,null,0]
[null,0,null,null,0,null,null,0,null,null,{"$f":"K201","v":0},null,null,0]
[null,0,null,null,0,null,null,0,null,null,0,null,null,0]
[]
[]
[null,null,{"$f":"'1-2a'!$C$215","v":0},null,null,{"$f":"'1-2a'!$F$215","v":0},null,null,{"$f":"'1-2a'!$I$215","v":0},null,null,{"$f":"'1-2a'!$L$215","v":0},null,null,{"$f":"'1-2a'!$O$215","v":0}]
[{"$f":"IF(A206=52,1,A206+1)","v":1},{"$f":"N206+3","v":"2020-12-28"},null,null,{"$f":"B216+1","v":"2020-12-29"},null,null,{"$f":"E216+1","v":"2020-12-30"},null,null,{"$f":"H216+1","v":"2020-12-31"},null,null,{"$f":"K216+1","v":"2021-01-01"}]
[null,{"$f":"B207","v":0},null,null,{"$f":"E207","v":0},null,null,{"$f":"H207","v":0},null,null,{"$f":"K207","v":0},null,null,{"$f":"N207","v":0}]
[22,0,null,null,0,null,null,0,null,null,0,null,null,0]
[null,0,null,null,0,null,null,0,null,null,0,null,null,0]
[null,0,null,null,0,null,null,0,null,null,0,null,null,0]
[null,0,null,null,0,null,null,0,null,null,{"$f":"K211","v":0},null,null,0]
[null,0,null,null,0,null,null,0,null,null,0,null,null,0]
[]
[]
[null,null,{"$f":"'1-2a'!$C$225","v":0},null,null,{"$f":"'1-2a'!$F$225","v":0},null,null,{"$f":"'1-2a'!$I$225","v":0},null,null,{"$f":"'1-2a'!$L$225","v":0},null,null,{"$f":"'1-2a'!$O$225","v":0}]
[{"$f":"IF(A216=52,1,A216+1)","v":2},{"$f":"N216+3","v":"2021-01-04"},null,null,{"$f":"B226+1","v":"2021-01-05"},null,null,{"$f":"E226+1","v":"2021-01-06"},null,null,{"$f":"H226+1","v":"2021-01-07"},null,null,{"$f":"K226+1","v":"2021-01-08"}]
[null,{"$f":"B217","v":0},null,null,{"$f":"E217","v":0},null,null,{"$f":"H217","v":0},null,null,{"$f":"K217","v":0},null,null,{"$f":"N217","v":0}]
[23,0,null,null,0,null,null,0,null,null,0,null,null,0]
[null,0,null,null,0,null,null,0,null,null,0,null,null,0]
[null,0,null,null,0,null,null,0,null,null,0,null,null,0]
[null,0,null,null,0,null,null,0,null,null,{"$f":"K221","v":0},null,null,0]
[null,0,null,null,0,null,null,0,null,null,0,null,null,0]
[]
[]
[null,null,{"$f":"'1-2a'!$C$235","v":0},null,null,{"$f":"'1-2a'!$F$235","v":0},null,null,{"$f":"'1-2a'!$I$235","v":0},null,null,{"$f":"'1-2a'!$L$235","v":0},null,null,{"$f":"'1-2a'!$O$235","v":0}]
[{"$f":"IF(A226=52,1,A226+1)","v":3},{"$f":"N226+3","v":"2021-01-11"},null,null,{"$f":"B236+1","v":"2021-01-12"},null,null,{"$f":"E236+1","v":"2021-01-13"},null,null,{"$f":"H236+1","v":"2021-01-14"},null,null,{"$f":"K236+1","v":"2021-01-15"}]
[null,{"$f":"B227","v":0},null,null,{"$f":"E227","v":0},null,null,{"$f":"H227","v":0},null,null,{"$f":"K227","v":0},null,null,{"$f":"N227","v":0}]
[24,0,null,null,0,null,null,0,null,null,0,null,null,0]
[null,0,null,null,0,null,null,0,null,null,0,null,null,0]
[null,0,null,null,0,null,null,0,null,null,0,null,null,0]
[null,0,null,null,0,null,null,0,null,null,{"$f":"K231","v":0},null,null,0]
[null,0,null,null,0,null,null,0,null,null,0,null,null,0]
[]
[]
[null,null,{"$f":"'1-2a'!$C$245","v":0},null,null,{"$f":"'1-2a'!$F$245","v":0},null,null,{"$f":"'1-2a'!$I$245","v":0},null,null,{"$f":"'1-2a'!$L$245","v":0},null,null,{"$f":"'1-2a'!$O$245","v":0}]
[{"$f":"IF(A236=52,1,A236+1)","v":4},{"$f":"N236+3","v":"2021-01-18"},null,null,{"$f":"B246+1","v":"2021-01-19"},null,null,{"$f":"E246+1","v":"2021-01-20"},null,null,{"$f":"H246+1","v":"2021-01-21"},null,null,{"$f":"K246+1","v":"2021-01-22"}]
[null,{"$f":"B237","v":0},null,null,{"$f":"E237","v":0},null,null,{"$f":"H237","v":0},null,null,{"$f":"K237","v":0},null,null,{"$f":"N237","v":0}]
[25,0,null,null,0,null,null,0,null,null,0,null,null,0]
[null,0,null,null,0,null,null,0,null,null,0,null,null,0]
[null,0,null,null,0,null,null,0,null,null,0,null,null,0]
[null,0,null,null,0,null,null,0,null,null,0,null,null,0]
[null,0,null,null,0,null,null,0,null,null,0,null,null,0]
[]
[]
[null,null,{"$f":"'1-2a'!$C$255","v":0},null,null,{"$f":"'1-2a'!$F$255","v":0},null,null,{"$f":"'1-2a'!$I$255","v":0},null,null,{"$f":"'1-2a'!$L$255","v":0},null,null,{"$f":"'1-2a'!$O$255","v":0}]
[{"$f":"IF(A246=52,1,A246+1)","v":5},{"$f":"N246+3","v":"2021-01-25"},null,null,{"$f":"B256+1","v":"2021-01-26"},null,null,{"$f":"E256+1","v":"2021-01-27"},null,null,{"$f":"H256+1","v":"2021-01-28"},null,null,{"$f":"K256+1","v":"2021-01-29"}]
[null,{"$f":"B247","v":0},null,null,{"$f":"E247","v":0},null,null,{"$f":"H247","v":0},null,null,{"$f":"K247","v":0},null,null,{"$f":"N247","v":0}]
[26,0,null,null,0,null,null,0,null,null,0,null,null,0]
[null,0,null,null,0,null,null,0,null,null,0,null,null,0]
[null,0,null,null,0,null,null,0,null,null,0,null,null,0]
[null,0,null,null,0,null,null,0,null,null,{"$f":"K251","v":0},null,null,0]
[null,0,null,null,0,null,null,0,null,null,0,null,null,0]
[]
[]
[null,null,{"$f":"'1-2a'!$C$265","v":0},null,null,{"$f":"'1-2a'!$F$265","v":0},null,null,{"$f":"'1-2a'!$I$265","v":0},null,null,{"$f":"'1-2a'!$L$265","v":0},null,null,{"$f":"'1-2a'!$O$265","v":0}]
[{"$f":"IF(A256=52,1,A256+1)","v":6},{"$f":"N256+3","v":"2021-02-01"},null,null,{"$f":"B266+1","v":"2021-02-02"},null,null,{"$f":"E266+1","v":"2021-02-03"},null,null,{"$f":"H266+1","v":"2021-02-04"},null,null,{"$f":"K266+1","v":"2021-02-05"}]
[null,{"$f":"B257","v":0},null,null,{"$f":"E257","v":0},null,null,{"$f":"H257","v":0},null,null,{"$f":"K257","v":0},null,null,{"$f":"N257","v":0}]
[27,0,null,null,0,null,null,0,null,null,0,null,null,0]
[null,0,null,null,0,null,null,0,null,null,0,null,null,0]
[null,0,null,null,0,null,null,0,null,null,0,null,null,0]
[null,0,null,null,0,null,null,0,null,null,{"$f":"K261","v":0},null,null,0]
[null,0,null,null,0,null,null,0,null,null,0,null,null,0]
[]
[]
[null,null,{"$f":"'1-2a'!$C$275","v":0},null,null,{"$f":"'1-2a'!$F$275","v":0},null,null,{"$f":"'1-2a'!$I$275","v":0},null,null,{"$f":"'1-2a'!$L$275","v":0},null,null,{"$f":"'1-2a'!$O$275","v":0}]
[{"$f":"IF(A266=52,1,A266+1)","v":7},{"$f":"N266+3","v":"2021-02-08"},null,null,{"$f":"B276+1","v":"2021-02-09"},null,null,{"$f":"E276+1","v":"2021-02-10"},null,null,{"$f":"H276+1","v":"2021-02-11"},null,null,{"$f":"K276+1","v":"2021-02-12"}]
[null,{"$f":"B267","v":0},null,null,{"$f":"E267","v":0},null,null,{"$f":"H267","v":0},null,null,{"$f":"K267","v":0},null,null,{"$f":"N267","v":0}]
[28,0,null,null,0,null,null,0,null,null,0,null,null,0]
[null,0,null,null,0,null,null,0,null,null,0,null,null,0]
[null,0,null,null,0,null,null,0,null,null,0,null,null,0]
[null,0,null,null,0,null,null,0,null,null,{"$f":"K271","v":0},null,null,0]
[null,0,null,null,0,null,null,0,null,null,0,null,null,0]
[]
[]
[null,null,{"$f":"'1-2a'!$C$285","v":0},null,null,{"$f":"'1-2a'!$F$285","v":0},null,null,{"$f":"'1-2a'!$I$285","v":0},null,null,{"$f":"'1-2a'!$L$285","v":0},null,null,{"$f":"'1-2a'!$O$285","v":0}]
[{"$f":"IF(A276=52,1,A276+1)","v":8},{"$f":"N276+3","v":"2021-02-15"},null,null,{"$f":"B286+1","v":"2021-02-16"},null,null,{"$f":"E286+1","v":"2021-02-17"},null,null,{"$f":"H286+1","v":"2021-02-18"},null,null,{"$f":"K286+1","v":"2021-02-19"}]
[null,{"$f":"B277","v":0},null,null,{"$f":"E277","v":0},null,null,{"$f":"H277","v":0},null,null,{"$f":"K277","v":0},null,null,{"$f":"N277","v":0}]
[29,0,null,null,0,null,null,0,null,null,0,null,null,0]
[null,0,null,null,0,null,null,0,null,null,0,null,null,0]
[null,0,null,null,0,null,null,0,null,null,0,null,null,0]
[null,0,null,null,0,null,null,0,null,null,{"$f":"K281","v":0},null,null,0]
[null,0,null,null,0,null,null,0,null,null,0,null,null,0]
[]
[]
[null,null,{"$f":"'1-2a'!$C$295","v":0},null,null,{"$f":"'1-2a'!$F$295","v":0},null,null,{"$f":"'1-2a'!$I$295","v":0},null,null,{"$f":"'1-2a'!$L$295","v":0},null,null,{"$f":"'1-2a'!$O$295","v":0}]
[{"$f":"IF(A286=52,1,A286+1)","v":9},{"$f":"N286+3","v":"2021-02-22"},null,null,{"$f":"B296+1","v":"2021-02-23"},null,null,{"$f":"E296+1","v":"2021-02-24"},null,null,{"$f":"H296+1","v":"2021-02-25"},null,null,{"$f":"K296+1","v":"2021-02-26"}]
[null,{"$f":"B287","v":0},null,null,{"$f":"E287","v":0},null,null,{"$f":"H287","v":0},null,null,{"$f":"K287","v":0},null,null,{"$f":"N287","v":0}]
[30,0,null,null,0,null,null,0,null,null,0,null,null,0]
[null,0,null,null,0,null,null,0,null,null,0,null,null,0]
[null,0,null,null,0,null,null,0,null,null,0,null,null,0]
[null,0,null,null,0,null,null,0,null,null,{"$f":"K291","v":0},null,null,0]
[null,0,null,null,0,null,null,0,null,null,0,null,null,0]
[]
[]
[null,null,{"$f":"'1-2a'!$C$305","v":0},null,null,{"$f":"'1-2a'!$F$305","v":0},null,null,{"$f":"'1-2a'!$I$305","v":0},null,null,{"$f":"'1-2a'!$L$305","v":0},null,null,{"$f":"'1-2a'!$O$305","v":0}]
[{"$f":"IF(A296=52,1,A296+1)","v":10},{"$f":"N296+3","v":"2021-03-01"},null,null,{"$f":"B306+1","v":"2021-03-02"},null,null,{"$f":"E306+1","v":"2021-03-03"},null,null,{"$f":"H306+1","v":"2021-03-04"},null,null,{"$f":"K306+1","v":"2021-03-05"}]
[null,{"$f":"B297","v":0},null,null,{"$f":"E297","v":0},null,null,{"$f":"H297","v":0},null,null,{"$f":"K297","v":0},null,null,{"$f":"N297","v":0}]
[31,0,null,null,0,null,null,0,null,null,0,null,null,0]
[null,0,null,null,0,null,null,0,null,null,0,null,null,0]
[null,0,null,null,0,null,null,0,null,null,0,null,null,0]
[null,0,null,null,0,null,null,0,null,null,{"$f":"K301","v":0},null,null,0]
[null,0,null,null,0,null,null,0,null,null,0,null,null,0]
[]
[]
[null,null,{"$f":"'1-2a'!$C$315","v":0},null,null,{"$f":"'1-2a'!$F$315","v":0},null,null,{"$f":"'1-2a'!$I$315","v":0},null,null,{"$f":"'1-2a'!$L$315","v":0},null,null,{"$f":"'1-2a'!$O$315","v":0}]
[{"$f":"IF(A306=52,1,A306+1)","v":11},{"$f":"N306+3","v":"2021-03-08"},null,null,{"$f":"B316+1","v":"2021-03-09"},null,null,{"$f":"E316+1","v":"2021-03-10"},null,null,{"$f":"H316+1","v":"2021-03-11"},null,null,{"$f":"K316+1","v":"2021-03-12"}]
[null,{"$f":"B307","v":0},null,null,{"$f":"E307","v":0},null,null,{"$f":"H307","v":0},null,null,{"$f":"K307","v":0},null,null,{"$f":"N307","v":0}]
[32,0,null,null,0,null,null,0,null,null,0,null,null,0]
[null,0,null,null,0,null,null,0,null,null,0,null,null,0]
[null,0,null,null,0,null,null,0,null,null,0,null,null,0]
[null,0,null,null,0,null,null,0,null,null,{"$f":"K311","v":0},null,null,0]
[null,0,null,null,0,null,null,0,null,null,0,null,null,0]
[]
[]
[null,null,{"$f":"'1-2a'!$C$325","v":0},null,null,{"$f":"'1-2a'!$F$325","v":0},null,null,{"$f":"'1-2a'!$I$325","v":0},null,null,{"$f":"'1-2a'!$L$325","v":0},null,null,{"$f":"'1-2a'!$O$325","v":0}]
[{"$f":"IF(A316=52,1,A316+1)","v":12},{"$f":"N316+3","v":"2021-03-15"},null,null,{"$f":"B326+1","v":"2021-03-16"},null,null,{"$f":"E326+1","v":"2021-03-17"},null,null,{"$f":"H326+1","v":"2021-03-18"},null,null,{"$f":"K326+1","v":"2021-03-19"}]
[null,{"$f":"B317","v":0},null,null,{"$f":"E317","v":0},null,null,{"$f":"H317","v":0},null,null,{"$f":"K317","v":0},null,null,{"$f":"N317","v":0}]
[33,0,null,null,0,null,null,0,null,null,0,null,null,0]
[null,0,null,null,0,null,null,0,null,null,0,null,null,0]
[null,0,null,null,0,null,null,0,null,null,0,null,null,0]
[null,0,null,null,0,null,null,0,null,null,0,null,null,0]
[null,0,null,null,0,null,null,0,null,null,0,null,null,0]
[]
[]
[null,null,{"$f":"'1-2a'!$C$335","v":0},null,null,{"$f":"'1-2a'!$F$335","v":0},null,null,{"$f":"'1-2a'!$I$335","v":0},null,null,{"$f":"'1-2a'!$L$335","v":0},null,null,{"$f":"'1-2a'!$O$335","v":0}]
[{"$f":"IF(A326=52,1,A326+1)","v":13},{"$f":"N326+3","v":"2021-03-22"},null,null,{"$f":"B336+1","v":"2021-03-23"},null,null,{"$f":"E336+1","v":"2021-03-24"},null,null,{"$f":"H336+1","v":"2021-03-25"},null,null,{"$f":"K336+1","v":"2021-03-26"}]
[null,{"$f":"B327","v":0},null,null,{"$f":"E327","v":0},null,null,{"$f":"H327","v":0},null,null,{"$f":"K327","v":0},null,null,{"$f":"N327","v":0}]
[34,0,null,null,0,null,null,0,null,null,0,null,null,0]
[null,0,null,null,0,null,null,0,null,null,0,null,null,0]
[null,0,null,null,0,null,null,0,null,null,0,null,null,0]
[null,0,null,null,0,null,null,0,null,null,{"$f":"K331","v":0},null,null,0]
[null,0,null,null,0,null,null,0,null,null,0,null,null,0]
[]
[]
[null,null,{"$f":"'1-2a'!$C$345","v":0},null,null,{"$f":"'1-2a'!$F$345","v":0},null,null,{"$f":"'1-2a'!$I$345","v":0},null,null,{"$f":"'1-2a'!$L$345","v":0},null,null,{"$f":"'1-2a'!$O$345","v":0}]
[{"$f":"IF(A336=52,1,A336+1)","v":14},{"$f":"N336+3","v":"2021-03-29"},null,null,{"$f":"B346+1","v":"2021-03-30"},null,null,{"$f":"E346+1","v":"2021-03-31"},null,null,{"$f":"H346+1","v":"2021-04-01"},null,null,{"$f":"K346+1","v":"2021-04-02"}]
[null,{"$f":"B337","v":0},null,null,{"$f":"E337","v":0},null,null,{"$f":"H337","v":0},null,null,{"$f":"K337","v":0},null,null,{"$f":"N337","v":0}]
[35,0,null,null,0,null,null,0,null,null,0,null,null,0]
[null,0,null,null,0,null,null,0,null,null,0,null,null,0]
[null,0,null,null,0,null,null,0,null,null,0,null,null,0]
[null,0,null,null,0,null,null,0,null,null,{"$f":"K341","v":0},null,null,0]
[null,0,null,null,0,null,null,0,null,null,0,null,null,0]
[]
[]
[null,null,{"$f":"'1-2a'!$C$355","v":0},null,null,{"$f":"'1-2a'!$F$355","v":0},null,null,{"$f":"'1-2a'!$I$355","v":0},null,null,{"$f":"'1-2a'!$L$355","v":0},null,null,{"$f":"'1-2a'!$O$355","v":0}]
[{"$f":"IF(A346=52,1,A346+1)","v":15},{"$f":"N346+3","v":"2021-04-05"},null,null,{"$f":"B356+1","v":"2021-04-06"},null,null,{"$f":"E356+1","v":"2021-04-07"},null,null,{"$f":"H356+1","v":"2021-04-08"},null,null,{"$f":"K356+1","v":"2021-04-09"}]
[null,{"$f":"B347","v":0},null,null,{"$f":"E347","v":0},null,null,{"$f":"H347","v":0},null,null,{"$f":"K347","v":0},null,null,{"$f":"N347","v":0}]
[36,0,null,null,0,null,null,0,null,null,0,null,null,0]
[null,0,null,null,0,null,null,0,null,null,0,null,null,0]
[null,0,null,null,0,null,null,0,null,null,0,null,null,0]
[null,0,null,null,0,null,null,0,null,null,{"$f":"K351","v":0},null,null,0]
[null,0,null,null,0,null,null,0,null,null,0,null,null,0]
[]
[]
[null,null,{"$f":"'1-2a'!$C$365","v":0},null,null,{"$f":"'1-2a'!$F$365","v":0},null,null,{"$f":"'1-2a'!$I$365","v":0},null,null,{"$f":"'1-2a'!$L$365","v":0},null,null,{"$f":"'1-2a'!$O$365","v":0}]
[{"$f":"IF(A356=52,1,A356+1)","v":16},{"$f":"N356+3","v":"2021-04-12"},null,null,{"$f":"B366+1","v":"2021-04-13"},null,null,{"$f":"E366+1","v":"2021-04-14"},null,null,{"$f":"H366+1","v":"2021-04-15"},null,null,{"$f":"K366+1","v":"2021-04-16"}]
[null,{"$f":"B357","v":0},null,null,{"$f":"E357","v":0},null,null,{"$f":"H357","v":0},null,null,{"$f":"K357","v":0},null,null,{"$f":"N357","v":0}]
[37,0,null,null,0,null,null,0,null,null,0,null,null,0]
[null,0,null,null,0,null,null,0,null,null,0,null,null,0]
[null,0,null,null,0,null,null,0,null,null,0,null,null,0]
[null,0,null,null,0,null,null,0,null,null,{"$f":"K361","v":0},null,null,0]
[null,0,null,null,0,null,null,0,null,null,0,null,null,0]
[]
[]
[null,null,{"$f":"'1-2a'!$C$375","v":0},null,null,{"$f":"'1-2a'!$F$375","v":0},null,null,{"$f":"'1-2a'!$I$375","v":0},null,null,{"$f":"'1-2a'!$L$375","v":0},null,null,{"$f":"'1-2a'!$O$375","v":0}]
[{"$f":"IF(A366=52,1,A366+1)","v":17},{"$f":"N366+3","v":"2021-04-19"},null,null,{"$f":"B376+1","v":"2021-04-20"},null,null,{"$f":"E376+1","v":"2021-04-21"},null,null,{"$f":"H376+1","v":"2021-04-22"},null,null,{"$f":"K376+1","v":"2021-04-23"}]
[null,{"$f":"B367","v":0},null,null,{"$f":"E367","v":0},null,null,{"$f":"H367","v":0},null,null,{"$f":"K367","v":0},null,null,{"$f":"N367","v":0}]
[38,0,null,null,0,null,null,0,null,null,0,null,null,0]
[null,0,null,null,0,null,null,0,null,null,0,null,null,0]
[null,0,null,null,0,null,null,0,null,null,0,null,null,0]
[null,0,null,null,0,null,null,0,null,null,{"$f":"K371","v":0},null,null,0]
[null,0,null,null,0,null,null,0,null,null,0,null,null,0]
[]
[]
[null,null,{"$f":"'1-2a'!$C$385","v":0},null,null,{"$f":"'1-2a'!$F$385","v":0},null,null,{"$f":"'1-2a'!$I$385","v":0},null,null,{"$f":"'1-2a'!$L$385","v":0},null,null,{"$f":"'1-2a'!$O$385","v":0}]
[{"$f":"IF(A376=52,1,A376+1)","v":18},{"$f":"N376+3","v":"2021-04-26"},null,null,{"$f":"B386+1","v":"2021-04-27"},null,null,{"$f":"E386+1","v":"2021-04-28"},null,null,{"$f":"H386+1","v":"2021-04-29"},null,null,{"$f":"K386+1","v":"2021-04-30"}]
[null,{"$f":"B377","v":0},null,null,{"$f":"E377","v":0},null,null,{"$f":"H377","v":0},null,null,{"$f":"K377","v":0},null,null,{"$f":"N377","v":0}]
[39,0,null,null,0,null,null,0,null,null,0,null,null,0]
[null,0,null,null,0,null,null,0,null,null,0,null,null,0]
[null,0,null,null,0,null,null,0,null,null,0,null,null,0]
[null,0,null,null,0,null,null,0,null,null,{"$f":"K381","v":0},null,null,0]
[null,0,null,null,0,null,null,0,null,null,0,null,null,0]
[]
[]
[null,null,{"$f":"'1-2a'!$C$395","v":0},null,null,{"$f":"'1-2a'!$F$395","v":0},null,null,{"$f":"'1-2a'!$I$395","v":0},null,null,{"$f":"'1-2a'!$L$395","v":0},null,null,{"$f":"'1-2a'!$O$395","v":0}]
[{"$f":"IF(A386=52,1,A386+1)","v":19},{"$f":"N386+3","v":"2021-05-03"},null,null,{"$f":"B396+1","v":"2021-05-04"},null,null,{"$f":"E396+1","v":"2021-05-05"},null,null,{"$f":"H396+1","v":"2021-05-06"},null,null,{"$f":"K396+1","v":"2021-05-07"}]
[null,{"$f":"B387","v":0},null,null,{"$f":"E387","v":0},null,null,{"$f":"H387","v":0},null,null,{"$f":"K387","v":0},null,null,{"$f":"N387","v":0}]
[40,0,null,null,0,null,null,0,null,null,0,null,null,0]
[null,0,null,null,0,null,null,0,null,null,0,null,null,0]
[null,0,null,null,0,null,null,0,null,null,0,null,null,0]
[null,0,null,null,0,null,null,0,null,null,{"$f":"K391","v":0},null,null,0]
[null,0,null,null,0,null,null,0,null,null,0,null,null,0]
[]
[]
[null,null,{"$f":"'1-2a'!$C$405","v":0},null,null,{"$f":"'1-2a'!$F$405","v":0},null,null,{"$f":"'1-2a'!$I$405","v":0},null,null,{"$f":"'1-2a'!$L$405","v":0},null,null,{"$f":"'1-2a'!$O$405","v":0}]
[{"$f":"IF(A396=52,1,A396+1)","v":20},{"$f":"N396+3","v":"2021-05-10"},null,null,{"$f":"B406+1","v":"2021-05-11"},null,null,{"$f":"E406+1","v":"2021-05-12"},null,null,{"$f":"H406+1","v":"2021-05-13"},null,null,{"$f":"K406+1","v":"2021-05-14"}]
[null,{"$f":"B397","v":0},null,null,{"$f":"E397","v":0},null,null,{"$f":"H397","v":0},null,null,{"$f":"K397","v":0},null,null,{"$f":"N397","v":0}]
[41,0,null,null,0,null,null,0,null,null,0,null,null,0]
[null,0,null,null,0,null,null,0,null,null,0,null,null,0]
[null,0,null,null,0,null,null,0,null,null,0,null,null,0]
[null,0,null,null,0,null,null,0,null,null,0,null,null,0]
[null,0,null,null,0,null,null,0,null,null,0,null,null,0]
[]
[]
[null,null,{"$f":"'1-2a'!$C$415","v":0},null,null,{"$f":"'1-2a'!$F$415","v":0},null,null,{"$f":"'1-2a'!$I$415","v":0},null,null,{"$f":"'1-2a'!$L$415","v":0},null,null,{"$f":"'1-2a'!$O$415","v":0}]
[{"$f":"IF(A406=52,1,A406+1)","v":21},{"$f":"N406+3","v":"2021-05-17"},null,null,{"$f":"B416+1","v":"2021-05-18"},null,null,{"$f":"E416+1","v":"2021-05-19"},null,null,{"$f":"H416+1","v":"2021-05-20"},null,null,{"$f":"K416+1","v":"2021-05-21"}]
[null,{"$f":"B407","v":0},null,null,{"$f":"E407","v":0},null,null,{"$f":"H407","v":0},null,null,{"$f":"K407","v":0},null,null,{"$f":"N407","v":0}]
[42,0,null,null,0,null,null,0,null,null,0,null,null,0]
[null,0,null,null,0,null,null,0,null,null,0,null,null,0]
[null,0,null,null,0,null,null,0,null,null,0,null,null,0]
[null,0,null,null,0,null,null,0,null,null,{"$f":"K411","v":0},null,null,0]
[null,0,null,null,0,null,null,0,null,null,0,null,null,0]
[]
[]
[null,null,{"$f":"'1-2a'!$C$425","v":0},null,null,{"$f":"'1-2a'!$F$425","v":0},null,null,{"$f":"'1-2a'!$I$425","v":0},null,null,{"$f":"'1-2a'!$L$425","v":0},null,null,{"$f":"'1-2a'!$O$425","v":0}]
[{"$f":"IF(A416=52,1,A416+1)","v":22},{"$f":"N416+3","v":"2021-05-24"},null,null,{"$f":"B426+1","v":"2021-05-25"},null,null,{"$f":"E426+1","v":"2021-05-26"},null,null,{"$f":"H426+1","v":"2021-05-27"},null,null,{"$f":"K426+1","v":"2021-05-28"}]
[null,{"$f":"B417","v":0},null,null,{"$f":"E417","v":0},null,null,{"$f":"H417","v":0},null,null,{"$f":"K417","v":0},null,null,{"$f":"N417","v":0}]
[43,0,null,null,0,null,null,0,null,null,0,null,null,0]
[null,0,null,null,0,null,null,0,null,null,0,null,null,0]
[null,0,null,null,0,null,null,0,null,null,0,null,null,0]
[null,0,null,null,0,null,null,0,null,null,{"$f":"K421","v":0},null,null,0]
[null,0,null,null,0,null,null,0,null,null,0,null,null,0]
[]
[]
[null,null,{"$f":"'1-2a'!$C$435","v":0},null,null,{"$f":"'1-2a'!$F$435","v":0},null,null,{"$f":"'1-2a'!$I$435","v":0},null,null,{"$f":"'1-2a'!$L$435","v":0},null,null,{"$f":"'1-2a'!$O$435","v":0}]
[{"$f":"IF(A426=52,1,A426+1)","v":23},{"$f":"N426+3","v":"2021-05-31"},null,null,{"$f":"B436+1","v":"2021-06-01"},null,null,{"$f":"E436+1","v":"2021-06-02"},null,null,{"$f":"H436+1","v":"2021-06-03"},null,null,{"$f":"K436+1","v":"2021-06-04"}]
[null,{"$f":"B427","v":0},null,null,{"$f":"E427","v":0},null,null,{"$f":"H427","v":0},null,null,{"$f":"K427","v":0},null,null,{"$f":"N427","v":0}]
[44,0,null,null,0,null,null,0,null,null,0,null,null,0]
[null,0,null,null,0,null,null,0,null,null,0,null,null,0]
[null,0,null,null,0,null,null,0,null,null,0,null,null,0]
[null,0,null,null,0,null,null,0,null,null,{"$f":"K431","v":0},null,null,0]
[null,0,null,null,0,null,null,0,null,null,0,null,null,0]
[]
[]
[null,null,{"$f":"'1-2a'!$C$445","v":0},null,null,{"$f":"'1-2a'!$F$445","v":0},null,null,{"$f":"'1-2a'!$I$445","v":0},null,null,{"$f":"'1-2a'!$L$445","v":0},null,null,{"$f":"'1-2a'!$O$445","v":0}]
[{"$f":"IF(A436=52,1,A436+1)","v":24},{"$f":"N436+3","v":"2021-06-07"},null,null,{"$f":"B446+1","v":"2021-06-08"},null,null,{"$f":"E446+1","v":"2021-06-09"},null,null,{"$f":"H446+1","v":"2021-06-10"},null,null,{"$f":"K446+1","v":"2021-06-11"}]
[null,{"$f":"B437","v":0},null,null,{"$f":"E437","v":0},null,null,{"$f":"H437","v":0},null,null,{"$f":"K437","v":0},null,null,{"$f":"N437","v":0}]
[45,0,null,null,0,null,null,0,null,null,0,null,null,0]
[null,0,null,null,0,null,null,0,null,null,0,null,null,0]
[null,0,null,null,0,null,null,0,null,null,0,null,null,0]
[null,0,null,null,0,null,null,0,null,null,{"$f":"K441","v":0},null,null,0]
[null,0,null,null,0,null,null,0,null,null,0,null,null,0]
[]
[]
[null,null,{"$f":"'1-2a'!$C$455","v":0},null,null,{"$f":"'1-2a'!$F$455","v":0},null,null,{"$f":"'1-2a'!$I$455","v":0},null,null,{"$f":"'1-2a'!$L$455","v":0},null,null,{"$f":"'1-2a'!$O$455","v":0}]
[{"$f":"IF(A446=52,1,A446+1)","v":25},{"$f":"N446+3","v":"2021-06-14"},null,null,{"$f":"B456+1","v":"2021-06-15"},null,null,{"$f":"E456+1","v":"2021-06-16"},null,null,{"$f":"H456+1","v":"2021-06-17"},null,null,{"$f":"K456+1","v":"2021-06-18"}]
[null,{"$f":"B447","v":0},null,null,{"$f":"E447","v":0},null,null,{"$f":"H447","v":0},null,null,{"$f":"K447","v":0},null,null,{"$f":"N447","v":0}]
[46,0,null,null,0,null,null,0,null,null,0,null,null,0]
[null,0,null,null,0,null,null,0,null,null,0,null,null,0]
[null,0,null,null,0,null,null,0,null,null,0,null,null,0]
[null,0,null,null,0,null,null,0,null,null,{"$f":"K451","v":0},null,null,0]
[null,0,null,null,0,null,null,0,null,null,0,null,null,0]
[]
[]
[null,null,{"$f":"'1-2a'!$C$465","v":0},null,null,{"$f":"'1-2a'!$F$465","v":0},null,null,{"$f":"'1-2a'!$I$465","v":0},null,null,{"$f":"'1-2a'!$L$465","v":0},null,null,{"$f":"'1-2a'!$O$465","v":0}]
[{"$f":"IF(A456=52,1,A456+1)","v":26},{"$f":"N456+3","v":"2021-06-21"},null,null,{"$f":"B466+1","v":"2021-06-22"},null,null,{"$f":"E466+1","v":"2021-06-23"},null,null,{"$f":"H466+1","v":"2021-06-24"},null,null,{"$f":"K466+1","v":"2021-06-25"}]
[null,{"$f":"B457","v":0},null,null,{"$f":"E457","v":0},null,null,{"$f":"H457","v":0},null,null,{"$f":"K457","v":0},null,null,{"$f":"N457","v":0}]
[47,0,null,null,0,null,null,0,null,null,0,null,null,0]
[null,0,null,null,0,null,null,0,null,null,0,null,null,0]
[null,0,null,null,0,null,null,0,null,null,0,null,null,0]
[null,0,null,null,0,null,null,0,null,null,{"$f":"K461","v":0},null,null,0]
[null,0,null,null,0,null,null,0,null,null,0,null,null,0]
[]
[]
[null,null,{"$f":"'1-2a'!$C$475","v":0},null,null,{"$f":"'1-2a'!$F$475","v":0},null,null,{"$f":"'1-2a'!$I$475","v":0},null,null,{"$f":"'1-2a'!$L$475","v":0},null,null,{"$f":"'1-2a'!$O$475","v":0}]
[{"$f":"IF(A466=52,1,A466+1)","v":27},{"$f":"N466+3","v":"2021-06-28"},null,null,{"$f":"B476+1","v":"2021-06-29"},null,null,{"$f":"E476+1","v":"2021-06-30"},null,null,{"$f":"H476+1","v":"2021-07-01"},null,null,{"$f":"K476+1","v":"2021-07-02"}]
[null,{"$f":"B467","v":0},null,null,{"$f":"E467","v":0},null,null,{"$f":"H467","v":0},null,null,{"$f":"K467","v":0},null,null,{"$f":"N467","v":0}]
[48,0,null,null,0,null,null,0,null,null,0,null,null,0]
[null,0,null,null,0,null,null,0,null,null,0,null,null,0]
[null,0,null,null,0,null,null,0,null,null,0,null,null,0]
[null,0,null,null,0,null,null,0,null,null,{"$f":"K471","v":0},null,null,0]
[null,0,null,null,0,null,null,0,null,null,0,null,null,0]
[]
[]
[null,null,{"$f":"'1-2a'!$C$485","v":0},null,null,{"$f":"'1-2a'!$F$485","v":0},null,null,{"$f":"'1-2a'!$I$485","v":0},null,null,{"$f":"'1-2a'!$L$485","v":0},null,null,{"$f":"'1-2a'!$O$485","v":0}]
[{"$f":"IF(A476=52,1,A476+1)","v":28},{"$f":"N476+3","v":"2021-07-05"},null,null,{"$f":"B486+1","v":"2021-07-06"},null,null,{"$f":"E486+1","v":"2021-07-07"},null,null,{"$f":"H486+1","v":"2021-07-08"},null,null,{"$f":"K486+1","v":"2021-07-09"}]
[null,{"$f":"B477","v":0},null,null,{"$f":"E477","v":0},null,null,{"$f":"H477","v":0},null,null,{"$f":"K477","v":0},null,null,{"$f":"N477","v":0}]
[49,0,null,null,0,null,null,0,null,null,0,null,null,0]
[null,0,null,null,0,null,null,0,null,null,0,null,null,0]
[null,0,null,null,0,null,null,0,null,null,0,null,null,0]
[null,0,null,null,0,null,null,0,null,null,0,null,null,0]
[null,0,null,null,0,null,null,0,null,null,0,null,null,0]
[]
[]
[null,null,{"$f":"'1-2a'!$C$495","v":0},null,null,{"$f":"'1-2a'!$F$495","v":0},null,null,{"$f":"'1-2a'!$I$495","v":0},null,null,{"$f":"'1-2a'!$L$495","v":0},null,null,{"$f":"'1-2a'!$O$495","v":0}]
[{"$f":"IF(A486=52,1,A486+1)","v":29},{"$f":"N486+3","v":"2021-07-12"},null,null,{"$f":"B496+1","v":"2021-07-13"},null,null,{"$f":"E496+1","v":"2021-07-14"},null,null,{"$f":"H496+1","v":"2021-07-15"},null,null,{"$f":"K496+1","v":"2021-07-16"}]
[null,{"$f":"B487","v":0},null,null,{"$f":"E487","v":0},null,null,{"$f":"H487","v":0},null,null,{"$f":"K487","v":0},null,null,{"$f":"N487","v":0}]
[50,0,null,null,0,null,null,0,null,null,0]
[null,0,null,null,0,null,null,0,null,null,0,null,null,0]
[null,0,null,null,0,null,null,0,null,null,0,null,null,0]
[null,0,null,null,0,null,null,0,null,null,{"$f":"K491","v":0},null,null,0]
[null,0,null,null,0,null,null,0,null,null,0]